BEGIN:VCALENDAR
VERSION:2.0
PRODID:-//เว็บไซต์ศูนย์บริการโลหิตแห่งชาติ - ECPv6.11.2.1//NONSGML v1.0//EN
CALSCALE:GREGORIAN
METHOD:PUBLISH
X-ORIGINAL-URL:https://thaibloodcentre.redcross.or.th
X-WR-CALDESC:Events for เว็บไซต์ศูนย์บริการโลหิตแห่งชาติ
REFRESH-INTERVAL;VALUE=DURATION:PT1H
X-Robots-Tag:noindex
X-PUBLISHED-TTL:PT1H
BEGIN:VTIMEZONE
TZID:Asia/Krasnoyarsk
BEGIN:STANDARD
TZOFFSETFROM:+0700
TZOFFSETTO:+0700
TZNAME:+07
DTSTART:20250101T000000
END:STANDARD
END:VTIMEZONE
BEGIN:VTIMEZONE
TZID:Asia/Bangkok
BEGIN:STANDARD
TZOFFSETFROM:+0700
TZOFFSETTO:+0700
TZNAME:+07
DTSTART:20250101T000000
END:STANDARD
END:VTIMEZONE
BEGIN:VEVENT
DTSTART;TZID=Asia/Krasnoyarsk:20260316T090000
DTEND;TZID=Asia/Krasnoyarsk:20260316T150000
DTSTAMP:20260425T184931
CREATED:20260312T030439Z
LAST-MODIFIED:20260312T030439Z
UID:10006075-1773651600-1773673200@thaibloodcentre.redcross.or.th
SUMMARY:บริษัท ทีคิวเอ็ม อินชัวร์รันส์ โบรคเกอร์ จำกัด []
DESCRIPTION:สถานที่เจาะ : ระหว่างอาคารพรรณนิภา 1 และ 2 (พัก 11.30-12.30 น.)
URL:https://thaibloodcentre.redcross.or.th/event/%e0%b8%9a%e0%b8%a3%e0%b8%b4%e0%b8%a9%e0%b8%b1%e0%b8%97-%e0%b8%97%e0%b8%b5%e0%b8%84%e0%b8%b4%e0%b8%a7%e0%b9%80%e0%b8%ad%e0%b9%87%e0%b8%a1-%e0%b8%ad%e0%b8%b4%e0%b8%99%e0%b8%8a%e0%b8%b1%e0%b8%a7-6/
LOCATION:บริษัท ทีคิวเอ็ม อินชัวร์รันส์ โบรคเกอร์ จำกัด\, บริษัท ทีคิวเอ็ม อินชัวร์รันส์ โบรคเกอร์ จำกัด 123 ถนนลาดปลาเค้า แขวงจรเข้บัว เขตลาดพร้าว กรุงเทพมหานคร 10230
CATEGORIES:ปฏิทินตารางหน่วยเคลื่อนที่
END:VEVENT
BEGIN:VEVENT
DTSTART;TZID=Asia/Krasnoyarsk:20251217T090000
DTEND;TZID=Asia/Krasnoyarsk:20251217T150000
DTSTAMP:20260425T184931
CREATED:20251215T115303Z
LAST-MODIFIED:20251215T115303Z
UID:10004726-1765962000-1765983600@thaibloodcentre.redcross.or.th
SUMMARY:บริษัท ทีคิวเอ็ม อินชัวร์รันส์ โบรคเกอร์ จำกัด [0M0429]
DESCRIPTION:สถานที่เจาะ : ระหว่างอาคารพรรณนิภา 1 และ 2 (พัก 11.30-12.30 น.) \nที่อยู่ : 123 ถนนลาดปลาเค้า แขวงจรเข้บัว เขตลาดพร้าว กรุงเทพฯ 0 2119 8888
URL:https://thaibloodcentre.redcross.or.th/event/%e0%b8%9a%e0%b8%a3%e0%b8%b4%e0%b8%a9%e0%b8%b1%e0%b8%97-%e0%b8%97%e0%b8%b5%e0%b8%84%e0%b8%b4%e0%b8%a7%e0%b9%80%e0%b8%ad%e0%b9%87%e0%b8%a1-%e0%b8%ad%e0%b8%b4%e0%b8%99%e0%b8%8a%e0%b8%b1%e0%b8%a7-4/
LOCATION:บริษัท ทีคิวเอ็ม อินชัวร์รันส์ โบรคเกอร์ จำกัด\, บริษัท ทีคิวเอ็ม อินชัวร์รันส์ โบรคเกอร์ จำกัด 123 ถนนลาดปลาเค้า แขวงจรเข้บัว เขตลาดพร้าว กรุงเทพมหานคร 10230
CATEGORIES:ปฏิทินตารางหน่วยเคลื่อนที่
END:VEVENT
BEGIN:VEVENT
DTSTART;TZID=Asia/Bangkok:20250917T090000
DTEND;TZID=Asia/Bangkok:20250917T150000
DTSTAMP:20260425T184931
CREATED:20250908T064607Z
LAST-MODIFIED:20250908T064607Z
UID:10003262-1758099600-1758121200@thaibloodcentre.redcross.or.th
SUMMARY:บริษัท ทีคิวเอ็ม อินชัวร์รันส์ โบรคเกอร์ จำกัด [0M0429]
DESCRIPTION:สถานที่เจาะ : ระหว่างอาคารพรรณนิภา 1 และ 2 (พัก 11.30-12.30 น.) \nที่อยู่ : 123 ถนนลาดปลาเค้า แขวงจรเข้บัว เขตลาดพร้าว กรุงเทพฯ 0 2119 8888
URL:https://thaibloodcentre.redcross.or.th/event/%e0%b8%9a%e0%b8%a3%e0%b8%b4%e0%b8%a9%e0%b8%b1%e0%b8%97-%e0%b8%97%e0%b8%b5%e0%b8%84%e0%b8%b4%e0%b8%a7%e0%b9%80%e0%b8%ad%e0%b9%87%e0%b8%a1-%e0%b8%ad%e0%b8%b4%e0%b8%99%e0%b8%8a%e0%b8%b1%e0%b8%a7-3/
LOCATION:บริษัท ทีคิวเอ็ม อินชัวร์รันส์ โบรคเกอร์ จำกัด\, บริษัท ทีคิวเอ็ม อินชัวร์รันส์ โบรคเกอร์ จำกัด 123 ถนนลาดปลาเค้า แขวงจรเข้บัว เขตลาดพร้าว กรุงเทพมหานคร 10230
CATEGORIES:ปฏิทินตารางหน่วยเคลื่อนที่
END:VEVENT
BEGIN:VEVENT
DTSTART;TZID=Asia/Bangkok:20250617T090000
DTEND;TZID=Asia/Bangkok:20250617T150000
DTSTAMP:20260425T184931
CREATED:20250612T090156Z
LAST-MODIFIED:20250619T031012Z
UID:10002122-1750150800-1750172400@thaibloodcentre.redcross.or.th
SUMMARY:บริษัท ทีคิวเอ็ม อินชัวร์รันส์ โบรคเกอร์ จำกัด []
DESCRIPTION:สถานที่เจาะ : ระหว่างอาคารพรรณนิภา 1 และ 2 (พัก 11.30-12.30 น.) \nที่อยู่ : 123 ถนนลาดปลาเค้า แขวงจรเข้บัว เขตลาดพร้าว กรุงเทพฯ 0 2119 8888
URL:https://thaibloodcentre.redcross.or.th/event/%e0%b8%9a%e0%b8%a3%e0%b8%b4%e0%b8%a9%e0%b8%b1%e0%b8%97-%e0%b8%97%e0%b8%b5%e0%b8%84%e0%b8%b4%e0%b8%a7%e0%b9%80%e0%b8%ad%e0%b9%87%e0%b8%a1-%e0%b8%ad%e0%b8%b4%e0%b8%99%e0%b8%8a%e0%b8%b1%e0%b8%a7-2/
LOCATION:บริษัท ทีคิวเอ็ม อินชัวร์รันส์ โบรคเกอร์ จำกัด\, บริษัท ทีคิวเอ็ม อินชัวร์รันส์ โบรคเกอร์ จำกัด 123 ถนนลาดปลาเค้า แขวงจรเข้บัว เขตลาดพร้าว กรุงเทพมหานคร 10230
CATEGORIES:ปฏิทินตารางหน่วยเคลื่อนที่
END:VEVENT
BEGIN:VEVENT
DTSTART;TZID=Asia/Bangkok:20250317T090000
DTEND;TZID=Asia/Bangkok:20250317T150000
DTSTAMP:20260425T184931
CREATED:20250309T142531Z
LAST-MODIFIED:20250309T142531Z
UID:10000914-1742202000-1742223600@thaibloodcentre.redcross.or.th
SUMMARY:บริษัท ทีคิวเอ็ม อินชัวร์รันส์ โบรคเกอร์ จำกัด [0M0429]
DESCRIPTION:สถานที่เจาะ : ระหว่างอาคารพรรณนิภา 1 และ 2 (พัก 11.30-12.30 น.) \nที่อยู่ : 123 ถนนลาดปลาเค้า แขวงจรเข้บัว เขตลาดพร้าว กรุงเทพฯ 0 2119 8888
URL:https://thaibloodcentre.redcross.or.th/event/%e0%b8%9a%e0%b8%a3%e0%b8%b4%e0%b8%a9%e0%b8%b1%e0%b8%97-%e0%b8%97%e0%b8%b5%e0%b8%84%e0%b8%b4%e0%b8%a7%e0%b9%80%e0%b8%ad%e0%b9%87%e0%b8%a1-%e0%b8%ad%e0%b8%b4%e0%b8%99%e0%b8%8a%e0%b8%b1%e0%b8%a7%e0%b8%a3/
LOCATION:บริษัท ทีคิวเอ็ม อินชัวร์รันส์ โบรคเกอร์ จำกัด\, บริษัท ทีคิวเอ็ม อินชัวร์รันส์ โบรคเกอร์ จำกัด 123 ถนนลาดปลาเค้า แขวงจรเข้บัว เขตลาดพร้าว กรุงเทพมหานคร 10230
CATEGORIES:ปฏิทินตารางหน่วยเคลื่อนที่
END:VEVENT
END:VCALENDAR