BEGIN:VCALENDAR
VERSION:2.0
PRODID:-//เว็บไซต์ศูนย์บริการโลหิตแห่งชาติ - ECPv6.11.2.1//NONSGML v1.0//EN
CALSCALE:GREGORIAN
METHOD:PUBLISH
X-WR-CALNAME:เว็บไซต์ศูนย์บริการโลหิตแห่งชาติ
X-ORIGINAL-URL:https://thaibloodcentre.redcross.or.th
X-WR-CALDESC:Events for เว็บไซต์ศูนย์บริการโลหิตแห่งชาติ
REFRESH-INTERVAL;VALUE=DURATION:PT1H
X-Robots-Tag:noindex
X-PUBLISHED-TTL:PT1H
BEGIN:VTIMEZONE
TZID:Asia/Krasnoyarsk
BEGIN:STANDARD
TZOFFSETFROM:+0700
TZOFFSETTO:+0700
TZNAME:+07
DTSTART:20260101T000000
END:STANDARD
END:VTIMEZONE
BEGIN:VTIMEZONE
TZID:Asia/Bangkok
BEGIN:STANDARD
TZOFFSETFROM:+0700
TZOFFSETTO:+0700
TZNAME:+07
DTSTART:20250101T000000
END:STANDARD
END:VTIMEZONE
BEGIN:VEVENT
DTSTART;TZID=Asia/Krasnoyarsk:20260409T090000
DTEND;TZID=Asia/Krasnoyarsk:20260409T150000
DTSTAMP:20260423T101127
CREATED:20260408T072716Z
LAST-MODIFIED:20260408T072716Z
UID:10006425-1775725200-1775746800@thaibloodcentre.redcross.or.th
SUMMARY:บริษัท ทิงค์เน็ต จำกัด [0M0650]
DESCRIPTION:สถานที่เจาะ : ห้องประชุมชั้น 12 อาคารยูไนเต็ดเซ็นเตอร์ (พัก 12-13 น.) \nที่อยู่ : 323 อาคารยูไนเต็ดเซ็นเตอร์ ชั้น 6 ห้อง 601 ถนนสีลม แขวงสีลม เขตบางรัก กรุงเทพฯ  \nโทร : 0 2480 9990
URL:https://thaibloodcentre.redcross.or.th/event/%e0%b8%9a%e0%b8%a3%e0%b8%b4%e0%b8%a9%e0%b8%b1%e0%b8%97-%e0%b8%97%e0%b8%b4%e0%b8%87%e0%b8%84%e0%b9%8c%e0%b9%80%e0%b8%99%e0%b9%87%e0%b8%95-%e0%b8%88%e0%b8%b3%e0%b8%81%e0%b8%b1%e0%b8%94-0m0650-4/
LOCATION:บริษัท ทิงค์เน็ต จำกัด\, บริษัท ทิงค์เน็ต จำกัด 323 อาคารยูไนเต็ดเซ็นเตอร์ ชั้น 6 ห้อง 601 ถนนสีลม แขวงสีลม เขตบางรัก กรุงเทพมหานคร 10500
CATEGORIES:ปฏิทินตารางหน่วยเคลื่อนที่
END:VEVENT
BEGIN:VEVENT
DTSTART;TZID=Asia/Krasnoyarsk:20260109T090000
DTEND;TZID=Asia/Krasnoyarsk:20260109T150000
DTSTAMP:20260423T101128
CREATED:20260106T124749Z
LAST-MODIFIED:20260106T133158Z
UID:10005018-1767949200-1767970800@thaibloodcentre.redcross.or.th
SUMMARY:บริษัท ทิงค์เน็ต จำกัด [0M0650]
DESCRIPTION:สถานที่เจาะ : ห้องประชุมชั้น 12 อาคารยูไนเต็ดเซ็นเตอร์ (พัก 12.00-13.00 น.) \nที่อยู่ : 323 อาคารยูไนเต็ดเซ็นเตอร์ ชั้น 6 ห้อง 601 ถนนสีลม แขวงสีลม เขตบางรัก กรุงเทพฯ 0 2480 9990
URL:https://thaibloodcentre.redcross.or.th/event/%e0%b8%9a%e0%b8%a3%e0%b8%b4%e0%b8%a9%e0%b8%b1%e0%b8%97-%e0%b8%97%e0%b8%b4%e0%b8%87%e0%b8%84%e0%b9%8c%e0%b9%80%e0%b8%99%e0%b9%87%e0%b8%95-%e0%b8%88%e0%b8%b3%e0%b8%81%e0%b8%b1%e0%b8%94-0m0650-3/
LOCATION:บริษัท ทิงค์เน็ต จำกัด\, บริษัท ทิงค์เน็ต จำกัด 323 อาคารยูไนเต็ดเซ็นเตอร์ ชั้น 6 ห้อง 601 ถนนสีลม แขวงสีลม เขตบางรัก กรุงเทพมหานคร 10500
CATEGORIES:ปฏิทินตารางหน่วยเคลื่อนที่
END:VEVENT
BEGIN:VEVENT
DTSTART;TZID=Asia/Bangkok:20251009T090000
DTEND;TZID=Asia/Bangkok:20251009T150000
DTSTAMP:20260423T101128
CREATED:20250925T043036Z
LAST-MODIFIED:20250925T043036Z
UID:10003562-1760000400-1760022000@thaibloodcentre.redcross.or.th
SUMMARY:บริษัท ทิงค์เน็ต จำกัด [0M0650]
DESCRIPTION:สถานที่เจาะ : ห้องประชุมชั้น 12 อาคารยูไนเต็ดเซ็นเตอร์ (พัก 12-13 น.) \nที่อยู่ : 323 อาคารยูไนเต็ดเซ็นเตอร์ ชั้น 6 ห้อง 601 ถนนสีลม แขวงสีลม เขตบางรัก กรุงเทพฯ 0 2480 9990
URL:https://thaibloodcentre.redcross.or.th/event/%e0%b8%9a%e0%b8%a3%e0%b8%b4%e0%b8%a9%e0%b8%b1%e0%b8%97-%e0%b8%97%e0%b8%b4%e0%b8%87%e0%b8%84%e0%b9%8c%e0%b9%80%e0%b8%99%e0%b9%87%e0%b8%95-%e0%b8%88%e0%b8%b3%e0%b8%81%e0%b8%b1%e0%b8%94-0m0650-2/
LOCATION:บริษัท ทิงค์เน็ต จำกัด\, บริษัท ทิงค์เน็ต จำกัด 323 อาคารยูไนเต็ดเซ็นเตอร์ ชั้น 6 ห้อง 601 ถนนสีลม แขวงสีลม เขตบางรัก กรุงเทพมหานคร 10500
CATEGORIES:ปฏิทินตารางหน่วยเคลื่อนที่
END:VEVENT
BEGIN:VEVENT
DTSTART;TZID=Asia/Bangkok:20250409T090000
DTEND;TZID=Asia/Bangkok:20250409T150000
DTSTAMP:20260423T101128
CREATED:20250404T145636Z
LAST-MODIFIED:20250404T145636Z
UID:10001244-1744189200-1744210800@thaibloodcentre.redcross.or.th
SUMMARY:บริษัท ทิงค์เน็ต จำกัด [0M0650]
DESCRIPTION:สถานที่เจาะ : ห้องประชุมชั้น 12 อาคารยูไนเต็ดเซ็นเตอร์ (พัก 12.00-13.00น.) \nที่อยู่ : 323 อาคารยูไนเต็ดเซ็นเตอร์ ชั้น 6 ห้อง 601 ถนนสีลม แขวงสีลม เขตบางรัก กรุงเทพฯ 0 2480 9990
URL:https://thaibloodcentre.redcross.or.th/event/%e0%b8%9a%e0%b8%a3%e0%b8%b4%e0%b8%a9%e0%b8%b1%e0%b8%97-%e0%b8%97%e0%b8%b4%e0%b8%87%e0%b8%84%e0%b9%8c%e0%b9%80%e0%b8%99%e0%b9%87%e0%b8%95-%e0%b8%88%e0%b8%b3%e0%b8%81%e0%b8%b1%e0%b8%94-0m0650/
LOCATION:บริษัท ทิงค์เน็ต จำกัด\, บริษัท ทิงค์เน็ต จำกัด 323 อาคารยูไนเต็ดเซ็นเตอร์ ชั้น 6 ห้อง 601 ถนนสีลม แขวงสีลม เขตบางรัก กรุงเทพมหานคร 10500
CATEGORIES:ปฏิทินตารางหน่วยเคลื่อนที่
END:VEVENT
END:VCALENDAR