BEGIN:VCALENDAR
VERSION:2.0
PRODID:-//เว็บไซต์ศูนย์บริการโลหิตแห่งชาติ - ECPv6.11.2.1//NONSGML v1.0//EN
CALSCALE:GREGORIAN
METHOD:PUBLISH
X-ORIGINAL-URL:https://thaibloodcentre.redcross.or.th
X-WR-CALDESC:Events for เว็บไซต์ศูนย์บริการโลหิตแห่งชาติ
REFRESH-INTERVAL;VALUE=DURATION:PT1H
X-Robots-Tag:noindex
X-PUBLISHED-TTL:PT1H
BEGIN:VTIMEZONE
TZID:Asia/Krasnoyarsk
BEGIN:STANDARD
TZOFFSETFROM:+0700
TZOFFSETTO:+0700
TZNAME:+07
DTSTART:20250101T000000
END:STANDARD
END:VTIMEZONE
BEGIN:VTIMEZONE
TZID:Asia/Bangkok
BEGIN:STANDARD
TZOFFSETFROM:+0700
TZOFFSETTO:+0700
TZNAME:+07
DTSTART:20250101T000000
END:STANDARD
END:VTIMEZONE
BEGIN:VEVENT
DTSTART;TZID=Asia/Krasnoyarsk:20260320T090000
DTEND;TZID=Asia/Krasnoyarsk:20260320T113000
DTSTAMP:20260425T092456
CREATED:20260318T121812Z
LAST-MODIFIED:20260318T121812Z
UID:10006136-1773997200-1774006200@thaibloodcentre.redcross.or.th
SUMMARY:บริษัท ซีพี แอ็กซ์ตร้า จำกัด (มหาชน) สาขาลำลูกกา []
DESCRIPTION:สถานที่เจาะ : ด้านหน้าห้าง \nที่อยู่ : 222 ม.3 ต.คูคต อ.ลำลูกกา ปทุมธานี
URL:https://thaibloodcentre.redcross.or.th/event/%e0%b8%9a%e0%b8%a3%e0%b8%b4%e0%b8%a9%e0%b8%b1%e0%b8%97-%e0%b8%8b%e0%b8%b5%e0%b8%9e%e0%b8%b5-%e0%b9%81%e0%b8%ad%e0%b9%87%e0%b8%81%e0%b8%8b%e0%b9%8c%e0%b8%95%e0%b8%a3%e0%b9%89%e0%b8%b2-%e0%b8%88-50/
LOCATION:บริษัท ซีพี แอ็กซ์ตร้า จำกัด (มหาชน) สาขาลำลูกกา\, บริษัท ซีพี แอ็กซ์ตร้า จำกัด (มหาชน) สาขาลำลูกกา 222 ม.3 ถ.ลำลูกกา ต.คูคต อ.ลำลูกกา จ.ปทุมธานี 12130
CATEGORIES:ปฏิทินตารางหน่วยเคลื่อนที่
END:VEVENT
BEGIN:VEVENT
DTSTART;TZID=Asia/Krasnoyarsk:20260313T090000
DTEND;TZID=Asia/Krasnoyarsk:20260313T113000
DTSTAMP:20260425T092456
CREATED:20260312T025215Z
LAST-MODIFIED:20260312T025215Z
UID:10006031-1773392400-1773401400@thaibloodcentre.redcross.or.th
SUMMARY:บริษัท ซีพี แอ็กซ์ตร้า จำกัด (มหาชน) สาขาลำลูกกา []
DESCRIPTION:สถานที่เจาะ : ด้านหน้าห้าง
URL:https://thaibloodcentre.redcross.or.th/event/%e0%b8%9a%e0%b8%a3%e0%b8%b4%e0%b8%a9%e0%b8%b1%e0%b8%97-%e0%b8%8b%e0%b8%b5%e0%b8%9e%e0%b8%b5-%e0%b9%81%e0%b8%ad%e0%b9%87%e0%b8%81%e0%b8%8b%e0%b9%8c%e0%b8%95%e0%b8%a3%e0%b9%89%e0%b8%b2-%e0%b8%88-48/
LOCATION:บริษัท ซีพี แอ็กซ์ตร้า จำกัด (มหาชน) สาขาลำลูกกา\, บริษัท ซีพี แอ็กซ์ตร้า จำกัด (มหาชน) สาขาลำลูกกา 222 ม.3 ถ.ลำลูกกา ต.คูคต อ.ลำลูกกา จ.ปทุมธานี 12130
CATEGORIES:ปฏิทินตารางหน่วยเคลื่อนที่
END:VEVENT
BEGIN:VEVENT
DTSTART;TZID=Asia/Krasnoyarsk:20251218T090000
DTEND;TZID=Asia/Krasnoyarsk:20251218T113000
DTSTAMP:20260425T092456
CREATED:20251215T115453Z
LAST-MODIFIED:20251215T115453Z
UID:10004745-1766048400-1766057400@thaibloodcentre.redcross.or.th
SUMMARY:บริษัท ซีพี แอ็กซ์ตร้า จำกัด (มหาชน) สาขาลำลูกกา [0M1029]
DESCRIPTION:สถานที่เจาะ : ด้านหน้าห้าง \nที่อยู่ : 222 ม.3 ต.คูคต อ.ลำลูกกา ปทุมธานี
URL:https://thaibloodcentre.redcross.or.th/event/%e0%b8%9a%e0%b8%a3%e0%b8%b4%e0%b8%a9%e0%b8%b1%e0%b8%97-%e0%b8%8b%e0%b8%b5%e0%b8%9e%e0%b8%b5-%e0%b9%81%e0%b8%ad%e0%b9%87%e0%b8%81%e0%b8%8b%e0%b9%8c%e0%b8%95%e0%b8%a3%e0%b9%89%e0%b8%b2-%e0%b8%88-39/
LOCATION:บริษัท ซีพี แอ็กซ์ตร้า จำกัด (มหาชน) สาขาลำลูกกา\, บริษัท ซีพี แอ็กซ์ตร้า จำกัด (มหาชน) สาขาลำลูกกา 222 ม.3 ถ.ลำลูกกา ต.คูคต อ.ลำลูกกา จ.ปทุมธานี 12130
CATEGORIES:ปฏิทินตารางหน่วยเคลื่อนที่
END:VEVENT
BEGIN:VEVENT
DTSTART;TZID=Asia/Krasnoyarsk:20251211T090000
DTEND;TZID=Asia/Krasnoyarsk:20251211T113000
DTSTAMP:20260425T092456
CREATED:20251208T072954Z
LAST-MODIFIED:20251208T072954Z
UID:10004628-1765443600-1765452600@thaibloodcentre.redcross.or.th
SUMMARY:บริษัท ซีพี แอ็กซ์ตร้า จำกัด (มหาชน) สาขาลำลูกกา []
DESCRIPTION:สถานที่เจาะ : ด้านหน้าห้าง \nที่อยู่ : 222 ม.3 ต.คูคต อ.ลำลูกกา ปทุมธานี
URL:https://thaibloodcentre.redcross.or.th/event/%e0%b8%9a%e0%b8%a3%e0%b8%b4%e0%b8%a9%e0%b8%b1%e0%b8%97-%e0%b8%8b%e0%b8%b5%e0%b8%9e%e0%b8%b5-%e0%b9%81%e0%b8%ad%e0%b9%87%e0%b8%81%e0%b8%8b%e0%b9%8c%e0%b8%95%e0%b8%a3%e0%b9%89%e0%b8%b2-%e0%b8%88-38/
LOCATION:บริษัท ซีพี แอ็กซ์ตร้า จำกัด (มหาชน) สาขาลำลูกกา\, บริษัท ซีพี แอ็กซ์ตร้า จำกัด (มหาชน) สาขาลำลูกกา 222 ม.3 ถ.ลำลูกกา ต.คูคต อ.ลำลูกกา จ.ปทุมธานี 12130
CATEGORIES:ปฏิทินตารางหน่วยเคลื่อนที่
END:VEVENT
BEGIN:VEVENT
DTSTART;TZID=Asia/Bangkok:20250917T090000
DTEND;TZID=Asia/Bangkok:20250917T113000
DTSTAMP:20260425T092456
CREATED:20250908T064601Z
LAST-MODIFIED:20250908T064601Z
UID:10003260-1758099600-1758108600@thaibloodcentre.redcross.or.th
SUMMARY:บริษัท ซีพี แอ็กซ์ตร้า จำกัด (มหาชน) สาขาลำลูกกา [0M1029]
DESCRIPTION:สถานที่เจาะ : ด้านหน้าห้าง \nที่อยู่ : 222 ม.3 ต.คูคต อ.ลำลูกกา ปทุมธานี
URL:https://thaibloodcentre.redcross.or.th/event/%e0%b8%9a%e0%b8%a3%e0%b8%b4%e0%b8%a9%e0%b8%b1%e0%b8%97-%e0%b8%8b%e0%b8%b5%e0%b8%9e%e0%b8%b5-%e0%b9%81%e0%b8%ad%e0%b9%87%e0%b8%81%e0%b8%8b%e0%b9%8c%e0%b8%95%e0%b8%a3%e0%b9%89%e0%b8%b2-%e0%b8%88-28/
LOCATION:บริษัท ซีพี แอ็กซ์ตร้า จำกัด (มหาชน) สาขาลำลูกกา\, บริษัท ซีพี แอ็กซ์ตร้า จำกัด (มหาชน) สาขาลำลูกกา 222 ม.3 ถ.ลำลูกกา ต.คูคต อ.ลำลูกกา จ.ปทุมธานี 12130
CATEGORIES:ปฏิทินตารางหน่วยเคลื่อนที่
END:VEVENT
BEGIN:VEVENT
DTSTART;TZID=Asia/Bangkok:20250911T090000
DTEND;TZID=Asia/Bangkok:20250911T113000
DTSTAMP:20260425T092456
CREATED:20250903T072015Z
LAST-MODIFIED:20250903T072015Z
UID:10003162-1757581200-1757590200@thaibloodcentre.redcross.or.th
SUMMARY:บริษัท ซีพี แอ็กซ์ตร้า จำกัด (มหาชน) สาขาลำลูกกา [0M1029]
DESCRIPTION:สถานที่เจาะ : ด้านหน้าห้าง \nที่อยู่ : 222 ม.3 ต.คูคต อ.ลำลูกกา ปทุมธานี
URL:https://thaibloodcentre.redcross.or.th/event/%e0%b8%9a%e0%b8%a3%e0%b8%b4%e0%b8%a9%e0%b8%b1%e0%b8%97-%e0%b8%8b%e0%b8%b5%e0%b8%9e%e0%b8%b5-%e0%b9%81%e0%b8%ad%e0%b9%87%e0%b8%81%e0%b8%8b%e0%b9%8c%e0%b8%95%e0%b8%a3%e0%b9%89%e0%b8%b2-%e0%b8%88-26/
LOCATION:บริษัท ซีพี แอ็กซ์ตร้า จำกัด (มหาชน) สาขาลำลูกกา\, บริษัท ซีพี แอ็กซ์ตร้า จำกัด (มหาชน) สาขาลำลูกกา 222 ม.3 ถ.ลำลูกกา ต.คูคต อ.ลำลูกกา จ.ปทุมธานี 12130
CATEGORIES:ปฏิทินตารางหน่วยเคลื่อนที่
END:VEVENT
BEGIN:VEVENT
DTSTART;TZID=Asia/Bangkok:20250619T090000
DTEND;TZID=Asia/Bangkok:20250619T113000
DTSTAMP:20260425T092456
CREATED:20250612T093134Z
LAST-MODIFIED:20250619T032411Z
UID:10002153-1750323600-1750332600@thaibloodcentre.redcross.or.th
SUMMARY:บริษัท ซีพี แอ็กซ์ตร้า จำกัด (มหาชน) สาขาลำลูกกา []
DESCRIPTION:สถานที่เจาะ : ด้านหน้าห้าง \nที่อยู่ : 222 ม.3 ต.คูคต อ.ลำลูกกา ปทุมธานี
URL:https://thaibloodcentre.redcross.or.th/event/%e0%b8%9a%e0%b8%a3%e0%b8%b4%e0%b8%a9%e0%b8%b1%e0%b8%97-%e0%b8%8b%e0%b8%b5%e0%b8%9e%e0%b8%b5-%e0%b9%81%e0%b8%ad%e0%b9%87%e0%b8%81%e0%b8%8b%e0%b9%8c%e0%b8%95%e0%b8%a3%e0%b9%89%e0%b8%b2-%e0%b8%88-17/
LOCATION:บริษัท ซีพี แอ็กซ์ตร้า จำกัด (มหาชน) สาขาลำลูกกา\, บริษัท ซีพี แอ็กซ์ตร้า จำกัด (มหาชน) สาขาลำลูกกา 222 ม.3 ถ.ลำลูกกา ต.คูคต อ.ลำลูกกา จ.ปทุมธานี 12130
CATEGORIES:ปฏิทินตารางหน่วยเคลื่อนที่
END:VEVENT
BEGIN:VEVENT
DTSTART;TZID=Asia/Bangkok:20250612T090000
DTEND;TZID=Asia/Bangkok:20250612T113000
DTSTAMP:20260425T092456
CREATED:20250604T044818Z
LAST-MODIFIED:20250604T044818Z
UID:10002046-1749718800-1749727800@thaibloodcentre.redcross.or.th
SUMMARY:บริษัท ซีพี แอ็กซ์ตร้า จำกัด (มหาชน) สาขาลำลูกกา []
DESCRIPTION:สถานที่เจาะ : ด้านหน้าห้าง \nที่อยู่ : 222 ม.3 ต.คูคต อ.ลำลูกกา ปทุมธานี
URL:https://thaibloodcentre.redcross.or.th/event/%e0%b8%9a%e0%b8%a3%e0%b8%b4%e0%b8%a9%e0%b8%b1%e0%b8%97-%e0%b8%8b%e0%b8%b5%e0%b8%9e%e0%b8%b5-%e0%b9%81%e0%b8%ad%e0%b9%87%e0%b8%81%e0%b8%8b%e0%b9%8c%e0%b8%95%e0%b8%a3%e0%b9%89%e0%b8%b2-%e0%b8%88-14/
LOCATION:บริษัท ซีพี แอ็กซ์ตร้า จำกัด (มหาชน) สาขาลำลูกกา\, บริษัท ซีพี แอ็กซ์ตร้า จำกัด (มหาชน) สาขาลำลูกกา 222 ม.3 ถ.ลำลูกกา ต.คูคต อ.ลำลูกกา จ.ปทุมธานี 12130
CATEGORIES:ปฏิทินตารางหน่วยเคลื่อนที่
END:VEVENT
BEGIN:VEVENT
DTSTART;TZID=Asia/Bangkok:20250313T090000
DTEND;TZID=Asia/Bangkok:20250313T113000
DTSTAMP:20260425T092456
CREATED:20250309T135702Z
LAST-MODIFIED:20250309T135702Z
UID:10000850-1741856400-1741865400@thaibloodcentre.redcross.or.th
SUMMARY:บริษัท ซีพี แอ็กซ์ตร้า จำกัด (มหาชน) สาขาลำลูกกา [0M1029]
DESCRIPTION:สถานที่เจาะ : ด้านหน้าห้าง \nที่อยู่ : 222 ม.3 ต.คูคต อ.ลำลูกกา ปทุมธานี
URL:https://thaibloodcentre.redcross.or.th/event/%e0%b8%9a%e0%b8%a3%e0%b8%b4%e0%b8%a9%e0%b8%b1%e0%b8%97-%e0%b8%8b%e0%b8%b5%e0%b8%9e%e0%b8%b5-%e0%b9%81%e0%b8%ad%e0%b9%87%e0%b8%81%e0%b8%8b%e0%b9%8c%e0%b8%95%e0%b8%a3%e0%b9%89%e0%b8%b2-%e0%b8%88-3/
LOCATION:บริษัท ซีพี แอ็กซ์ตร้า จำกัด (มหาชน) สาขาลำลูกกา\, บริษัท ซีพี แอ็กซ์ตร้า จำกัด (มหาชน) สาขาลำลูกกา 222 ม.3 ถ.ลำลูกกา ต.คูคต อ.ลำลูกกา จ.ปทุมธานี 12130
CATEGORIES:ปฏิทินตารางหน่วยเคลื่อนที่
END:VEVENT
END:VCALENDAR