BEGIN:VCALENDAR
VERSION:2.0
PRODID:-//เว็บไซต์ศูนย์บริการโลหิตแห่งชาติ - ECPv6.11.2.1//NONSGML v1.0//EN
CALSCALE:GREGORIAN
METHOD:PUBLISH
X-WR-CALNAME:เว็บไซต์ศูนย์บริการโลหิตแห่งชาติ
X-ORIGINAL-URL:https://thaibloodcentre.redcross.or.th
X-WR-CALDESC:Events for เว็บไซต์ศูนย์บริการโลหิตแห่งชาติ
REFRESH-INTERVAL;VALUE=DURATION:PT1H
X-Robots-Tag:noindex
X-PUBLISHED-TTL:PT1H
BEGIN:VTIMEZONE
TZID:Asia/Krasnoyarsk
BEGIN:STANDARD
TZOFFSETFROM:+0700
TZOFFSETTO:+0700
TZNAME:+07
DTSTART:20250101T000000
END:STANDARD
END:VTIMEZONE
BEGIN:VTIMEZONE
TZID:Asia/Bangkok
BEGIN:STANDARD
TZOFFSETFROM:+0700
TZOFFSETTO:+0700
TZNAME:+07
DTSTART:20250101T000000
END:STANDARD
END:VTIMEZONE
BEGIN:VEVENT
DTSTART;TZID=Asia/Krasnoyarsk:20251124T090000
DTEND;TZID=Asia/Krasnoyarsk:20251124T150000
DTSTAMP:20260424T215001
CREATED:20251124T025200Z
LAST-MODIFIED:20251124T025200Z
UID:10004377-1763974800-1763996400@thaibloodcentre.redcross.or.th
SUMMARY:บริษัท ซี.บี.แทค (ประเทศไทย) จำกัด []
DESCRIPTION:สถานที่เจาะ : หน้าตึก 133 \, 135 \nที่อยู่ : 109/108-111 ม.2 ถ.เทพารักษ์ กม.26 ต.บางเสาธง อ.บางเสาธง จ.สมุทรปราการ 0 2708 1062
URL:https://thaibloodcentre.redcross.or.th/event/%e0%b8%9a%e0%b8%a3%e0%b8%b4%e0%b8%a9%e0%b8%b1%e0%b8%97-%e0%b8%8b%e0%b8%b5-%e0%b8%9a%e0%b8%b5-%e0%b9%81%e0%b8%97%e0%b8%84-%e0%b8%9b%e0%b8%a3%e0%b8%b0%e0%b9%80%e0%b8%97%e0%b8%a8%e0%b9%84%e0%b8%97-3/
LOCATION:บริษัท ซี.บี.แทค (ประเทศไทย) จำกัด\, บริษัท ซี.บี.แทค (ประเทศไทย) จำกัด 109/108-111 ถ. เทพารักษ์ ต.บางเสาธง อ.บางเสาธง สมุทรปราการ 10570
CATEGORIES:ปฏิทินตารางหน่วยเคลื่อนที่
END:VEVENT
BEGIN:VEVENT
DTSTART;TZID=Asia/Bangkok:20250526T090000
DTEND;TZID=Asia/Bangkok:20250526T150000
DTSTAMP:20260424T215001
CREATED:20250515T102404Z
LAST-MODIFIED:20250515T102404Z
UID:10001893-1748250000-1748271600@thaibloodcentre.redcross.or.th
SUMMARY:บริษัท ซี.บี.แทค (ประเทศไทย) จำกัด []
DESCRIPTION:สถานที่เจาะ : หน้าตึก 133 \, 134 \nที่อยู่ : 109/108-111 ม.2 ถ.เทพารักษ์ กม.26 ต.บางเสาธง อ.บางเสาธง จ.สมุทรปราการ 0 2708 1062
URL:https://thaibloodcentre.redcross.or.th/event/%e0%b8%9a%e0%b8%a3%e0%b8%b4%e0%b8%a9%e0%b8%b1%e0%b8%97-%e0%b8%8b%e0%b8%b5-%e0%b8%9a%e0%b8%b5-%e0%b9%81%e0%b8%97%e0%b8%84-%e0%b8%9b%e0%b8%a3%e0%b8%b0%e0%b9%80%e0%b8%97%e0%b8%a8%e0%b9%84%e0%b8%97-2/
LOCATION:บริษัท ซี.บี.แทค (ประเทศไทย) จำกัด\, บริษัท ซี.บี.แทค (ประเทศไทย) จำกัด 109/108-111 ถ. เทพารักษ์ ต.บางเสาธง อ.บางเสาธง สมุทรปราการ 10570
CATEGORIES:ปฏิทินตารางหน่วยเคลื่อนที่
END:VEVENT
BEGIN:VEVENT
DTSTART;TZID=Asia/Bangkok:20250526T090000
DTEND;TZID=Asia/Bangkok:20250526T150000
DTSTAMP:20260424T215001
CREATED:20250515T102401Z
LAST-MODIFIED:20250515T102401Z
UID:10001892-1748250000-1748271600@thaibloodcentre.redcross.or.th
SUMMARY:บริษัท ซี.บี.แทค (ประเทศไทย) จำกัด []
DESCRIPTION:สถานที่เจาะ : หน้าตึก 133 \, 134 \nที่อยู่ : 109/108-111 ม.2 ถ.เทพารักษ์ กม.26 ต.บางเสาธง อ.บางเสาธง จ.สมุทรปราการ 0 2708 1062
URL:https://thaibloodcentre.redcross.or.th/event/%e0%b8%9a%e0%b8%a3%e0%b8%b4%e0%b8%a9%e0%b8%b1%e0%b8%97-%e0%b8%8b%e0%b8%b5-%e0%b8%9a%e0%b8%b5-%e0%b9%81%e0%b8%97%e0%b8%84-%e0%b8%9b%e0%b8%a3%e0%b8%b0%e0%b9%80%e0%b8%97%e0%b8%a8%e0%b9%84%e0%b8%97/
LOCATION:บริษัท ซี.บี.แทค (ประเทศไทย) จำกัด\, บริษัท ซี.บี.แทค (ประเทศไทย) จำกัด 109/108-111 ถ. เทพารักษ์ ต.บางเสาธง อ.บางเสาธง สมุทรปราการ 10570
CATEGORIES:ปฏิทินตารางหน่วยเคลื่อนที่
END:VEVENT
END:VCALENDAR