BEGIN:VCALENDAR
VERSION:2.0
PRODID:-//เว็บไซต์ศูนย์บริการโลหิตแห่งชาติ - ECPv6.11.2.1//NONSGML v1.0//EN
CALSCALE:GREGORIAN
METHOD:PUBLISH
X-ORIGINAL-URL:https://thaibloodcentre.redcross.or.th
X-WR-CALDESC:Events for เว็บไซต์ศูนย์บริการโลหิตแห่งชาติ
REFRESH-INTERVAL;VALUE=DURATION:PT1H
X-Robots-Tag:noindex
X-PUBLISHED-TTL:PT1H
BEGIN:VTIMEZONE
TZID:Asia/Krasnoyarsk
BEGIN:STANDARD
TZOFFSETFROM:+0700
TZOFFSETTO:+0700
TZNAME:+07
DTSTART:20260101T000000
END:STANDARD
END:VTIMEZONE
BEGIN:VTIMEZONE
TZID:Asia/Bangkok
BEGIN:STANDARD
TZOFFSETFROM:+0700
TZOFFSETTO:+0700
TZNAME:+07
DTSTART:20250101T000000
END:STANDARD
END:VTIMEZONE
BEGIN:VEVENT
DTSTART;TZID=Asia/Krasnoyarsk:20260403T090000
DTEND;TZID=Asia/Krasnoyarsk:20260403T150000
DTSTAMP:20260424T041922
CREATED:20260401T020445Z
LAST-MODIFIED:20260401T020445Z
UID:10006344-1775206800-1775228400@thaibloodcentre.redcross.or.th
SUMMARY:บริษัท ซินเน็ค (ประเทศไทย) จำกัด (มหาชน) [0M0255]
DESCRIPTION:สถานที่เจาะ : หน้าอาคาร (พัก 11.30-12.30 น.) \nที่อยู่ : 433 ถนนสุคนธสวัสดิ์ แขวงลาดพร้าว เขตลาดพร้าว กรุงเทพฯ  \nโทร : 0 2553 8888
URL:https://thaibloodcentre.redcross.or.th/event/%e0%b8%9a%e0%b8%a3%e0%b8%b4%e0%b8%a9%e0%b8%b1%e0%b8%97-%e0%b8%8b%e0%b8%b4%e0%b8%99%e0%b9%80%e0%b8%99%e0%b9%87%e0%b8%84-%e0%b8%9b%e0%b8%a3%e0%b8%b0%e0%b9%80%e0%b8%97%e0%b8%a8%e0%b9%84%e0%b8%97-5/
LOCATION:บริษัท ซินเน็ค (ประเทศไทย) จำกัด (มหาชน)\, บริษัท ซินเน็ค (ประเทศไทย) จำกัด (มหาชน) 433 ถนนสุคนธสวัสดิ์ แขวงลาดพร้าว เขตลาดพร้าว กรุงเทพมหานคร 10230
CATEGORIES:ปฏิทินตารางหน่วยเคลื่อนที่
END:VEVENT
BEGIN:VEVENT
DTSTART;TZID=Asia/Krasnoyarsk:20260109T090000
DTEND;TZID=Asia/Krasnoyarsk:20260109T150000
DTSTAMP:20260424T041922
CREATED:20260106T130052Z
LAST-MODIFIED:20260106T133325Z
UID:10005022-1767949200-1767970800@thaibloodcentre.redcross.or.th
SUMMARY:บริษัท ซินเน็ค (ประเทศไทย) จำกัด (มหาชน) [0M0255]
DESCRIPTION:สถานที่เจาะ : หน้าอาคาร (11.30-12.30 น.) \nที่อยู่ : 433 ถนนสุคนธสวัสดิ์ แขวงลาดพร้าว เขตลาดพร้าว กรุงเทพฯ 0 2553 8888
URL:https://thaibloodcentre.redcross.or.th/event/%e0%b8%9a%e0%b8%a3%e0%b8%b4%e0%b8%a9%e0%b8%b1%e0%b8%97-%e0%b8%8b%e0%b8%b4%e0%b8%99%e0%b9%80%e0%b8%99%e0%b9%87%e0%b8%84-%e0%b8%9b%e0%b8%a3%e0%b8%b0%e0%b9%80%e0%b8%97%e0%b8%a8%e0%b9%84%e0%b8%97-4/
LOCATION:บริษัท ซินเน็ค (ประเทศไทย) จำกัด (มหาชน)\, บริษัท ซินเน็ค (ประเทศไทย) จำกัด (มหาชน) 433 ถนนสุคนธสวัสดิ์ แขวงลาดพร้าว เขตลาดพร้าว กรุงเทพมหานคร 10230
CATEGORIES:ปฏิทินตารางหน่วยเคลื่อนที่
END:VEVENT
BEGIN:VEVENT
DTSTART;TZID=Asia/Bangkok:20251001T090000
DTEND;TZID=Asia/Bangkok:20251001T150000
DTSTAMP:20260424T041922
CREATED:20250925T015118Z
LAST-MODIFIED:20250925T015118Z
UID:10003478-1759309200-1759330800@thaibloodcentre.redcross.or.th
SUMMARY:บริษัท ซินเน็ค (ประเทศไทย) จำกัด (มหาชน) [0M0255]
DESCRIPTION:สถานที่เจาะ : หน้าอาคาร (11.30-12.30 น.) \nที่อยู่ : 433 ถนนสุคนธสวัสดิ์ แขวงลาดพร้าว เขตลาดพร้าว กรุงเทพฯ 0 2553 8888
URL:https://thaibloodcentre.redcross.or.th/event/%e0%b8%9a%e0%b8%a3%e0%b8%b4%e0%b8%a9%e0%b8%b1%e0%b8%97-%e0%b8%8b%e0%b8%b4%e0%b8%99%e0%b9%80%e0%b8%99%e0%b9%87%e0%b8%84-%e0%b8%9b%e0%b8%a3%e0%b8%b0%e0%b9%80%e0%b8%97%e0%b8%a8%e0%b9%84%e0%b8%97-3/
LOCATION:บริษัท ซินเน็ค (ประเทศไทย) จำกัด (มหาชน)\, บริษัท ซินเน็ค (ประเทศไทย) จำกัด (มหาชน) 433 ถนนสุคนธสวัสดิ์ แขวงลาดพร้าว เขตลาดพร้าว กรุงเทพมหานคร 10230
CATEGORIES:ปฏิทินตารางหน่วยเคลื่อนที่
END:VEVENT
BEGIN:VEVENT
DTSTART;TZID=Asia/Bangkok:20250701T090000
DTEND;TZID=Asia/Bangkok:20250701T150000
DTSTAMP:20260424T041922
CREATED:20250623T030902Z
LAST-MODIFIED:20250623T030902Z
UID:10002225-1751360400-1751382000@thaibloodcentre.redcross.or.th
SUMMARY:บริษัท ซินเน็ค (ประเทศไทย) จำกัด (มหาชน) []
DESCRIPTION:สถานที่เจาะ : หน้าอาคาร (11.30-12.30 น.) \nที่อยู่ : 433 ถนนสุคนธสวัสดิ์ แขวงลาดพร้าว เขตลาดพร้าว กรุงเทพฯ 0 2553 8888
URL:https://thaibloodcentre.redcross.or.th/event/%e0%b8%9a%e0%b8%a3%e0%b8%b4%e0%b8%a9%e0%b8%b1%e0%b8%97-%e0%b8%8b%e0%b8%b4%e0%b8%99%e0%b9%80%e0%b8%99%e0%b9%87%e0%b8%84-%e0%b8%9b%e0%b8%a3%e0%b8%b0%e0%b9%80%e0%b8%97%e0%b8%a8%e0%b9%84%e0%b8%97-2/
LOCATION:บริษัท ซินเน็ค (ประเทศไทย) จำกัด (มหาชน)\, บริษัท ซินเน็ค (ประเทศไทย) จำกัด (มหาชน) 433 ถนนสุคนธสวัสดิ์ แขวงลาดพร้าว เขตลาดพร้าว กรุงเทพมหานคร 10230
CATEGORIES:ปฏิทินตารางหน่วยเคลื่อนที่
END:VEVENT
BEGIN:VEVENT
DTSTART;TZID=Asia/Bangkok:20250404T090000
DTEND;TZID=Asia/Bangkok:20250404T150000
DTSTAMP:20260424T041922
CREATED:20250328T032843Z
LAST-MODIFIED:20250328T032843Z
UID:10001176-1743757200-1743778800@thaibloodcentre.redcross.or.th
SUMMARY:บริษัท ซินเน็ค (ประเทศไทย) จำกัด (มหาชน) [0M0255]
DESCRIPTION:สถานที่เจาะ : หน้าอาคาร (11.30-12.30 น.) \nที่อยู่ : 433 ถนนสุคนธสวัสดิ์ แขวงลาดพร้าว เขตลาดพร้าว กรุงเทพฯ 0 2553 8888
URL:https://thaibloodcentre.redcross.or.th/event/%e0%b8%9a%e0%b8%a3%e0%b8%b4%e0%b8%a9%e0%b8%b1%e0%b8%97-%e0%b8%8b%e0%b8%b4%e0%b8%99%e0%b9%80%e0%b8%99%e0%b9%87%e0%b8%84-%e0%b8%9b%e0%b8%a3%e0%b8%b0%e0%b9%80%e0%b8%97%e0%b8%a8%e0%b9%84%e0%b8%97/
LOCATION:บริษัท ซินเน็ค (ประเทศไทย) จำกัด (มหาชน)\, บริษัท ซินเน็ค (ประเทศไทย) จำกัด (มหาชน) 433 ถนนสุคนธสวัสดิ์ แขวงลาดพร้าว เขตลาดพร้าว กรุงเทพมหานคร 10230
CATEGORIES:ปฏิทินตารางหน่วยเคลื่อนที่
END:VEVENT
END:VCALENDAR