BEGIN:VCALENDAR
VERSION:2.0
PRODID:-//เว็บไซต์ศูนย์บริการโลหิตแห่งชาติ - ECPv6.11.2.1//NONSGML v1.0//EN
CALSCALE:GREGORIAN
METHOD:PUBLISH
X-WR-CALNAME:เว็บไซต์ศูนย์บริการโลหิตแห่งชาติ
X-ORIGINAL-URL:https://thaibloodcentre.redcross.or.th
X-WR-CALDESC:Events for เว็บไซต์ศูนย์บริการโลหิตแห่งชาติ
REFRESH-INTERVAL;VALUE=DURATION:PT1H
X-Robots-Tag:noindex
X-PUBLISHED-TTL:PT1H
BEGIN:VTIMEZONE
TZID:Asia/Krasnoyarsk
BEGIN:STANDARD
TZOFFSETFROM:+0700
TZOFFSETTO:+0700
TZNAME:+07
DTSTART:20260101T000000
END:STANDARD
END:VTIMEZONE
BEGIN:VTIMEZONE
TZID:Asia/Bangkok
BEGIN:STANDARD
TZOFFSETFROM:+0700
TZOFFSETTO:+0700
TZNAME:+07
DTSTART:20250101T000000
END:STANDARD
END:VTIMEZONE
BEGIN:VEVENT
DTSTART;TZID=Asia/Krasnoyarsk:20260417T090000
DTEND;TZID=Asia/Krasnoyarsk:20260417T150000
DTSTAMP:20260423T055752
CREATED:20260416T100725Z
LAST-MODIFIED:20260416T100725Z
UID:10006489-1776416400-1776438000@thaibloodcentre.redcross.or.th
SUMMARY:บริษัท การบินไทย จำกัด (มหาชน) []
DESCRIPTION:สถานที่เจาะ : ห้องโถงชั้น 1 อาคาร 3 (พัก 12.00-13.00 น.) \nที่อยู่ : 89 ถนนวิภาวดีรังสิต แขวงจอมพล เขตจตุจักร กรุงเทพฯ 0 2545 1421
URL:https://thaibloodcentre.redcross.or.th/event/%e0%b8%9a%e0%b8%a3%e0%b8%b4%e0%b8%a9%e0%b8%b1%e0%b8%97-%e0%b8%81%e0%b8%b2%e0%b8%a3%e0%b8%9a%e0%b8%b4%e0%b8%99%e0%b9%84%e0%b8%97%e0%b8%a2-%e0%b8%88%e0%b8%b3%e0%b8%81%e0%b8%b1%e0%b8%94-%e0%b8%a1-6/
LOCATION:บริษัท การบินไทย จำกัด (มหาชน)\, บริษัท การบินไทย จำกัด (มหาชน) 89 ถนน วิภาวดีรังสิต แขวงจอมพล เขตจตุจักร กรุงเทพมหานคร 10900
CATEGORIES:ปฏิทินตารางหน่วยเคลื่อนที่
END:VEVENT
BEGIN:VEVENT
DTSTART;TZID=Asia/Krasnoyarsk:20260116T090000
DTEND;TZID=Asia/Krasnoyarsk:20260116T150000
DTSTAMP:20260423T055752
CREATED:20260113T115804Z
LAST-MODIFIED:20260113T115804Z
UID:10005124-1768554000-1768575600@thaibloodcentre.redcross.or.th
SUMMARY:บริษัท การบินไทย จำกัด (มหาชน) []
DESCRIPTION:สถานที่เจาะ : ห้องโถงชั้น 1 อาคาร 3 (พัก 12.00-13.00 น.) \nที่อยู่ : 89 ถนนวิภาวดีรังสิต แขวงจอมพล เขตจตุจักร กรุงเทพฯ 0 2545 1421
URL:https://thaibloodcentre.redcross.or.th/event/%e0%b8%9a%e0%b8%a3%e0%b8%b4%e0%b8%a9%e0%b8%b1%e0%b8%97-%e0%b8%81%e0%b8%b2%e0%b8%a3%e0%b8%9a%e0%b8%b4%e0%b8%99%e0%b9%84%e0%b8%97%e0%b8%a2-%e0%b8%88%e0%b8%b3%e0%b8%81%e0%b8%b1%e0%b8%94-%e0%b8%a1-5/
LOCATION:บริษัท การบินไทย จำกัด (มหาชน)\, บริษัท การบินไทย จำกัด (มหาชน) 89 ถนน วิภาวดีรังสิต แขวงจอมพล เขตจตุจักร กรุงเทพมหานคร 10900
CATEGORIES:ปฏิทินตารางหน่วยเคลื่อนที่
END:VEVENT
BEGIN:VEVENT
DTSTART;TZID=Asia/Bangkok:20251010T090000
DTEND;TZID=Asia/Bangkok:20251010T150000
DTSTAMP:20260423T055752
CREATED:20251003T084503Z
LAST-MODIFIED:20251003T084503Z
UID:10003583-1760086800-1760108400@thaibloodcentre.redcross.or.th
SUMMARY:บริษัท การบินไทย จำกัด (มหาชน) [0E0257]
DESCRIPTION:สถานที่เจาะ : ห้องโถงชั้น 1 อาคาร 3 (พัก 12-13 น.) \nที่อยู่ : 89 ถนนวิภาวดีรังสิต แขวงจอมพล เขตจตุจักร กรุงเทพฯ 0 2545 1421
URL:https://thaibloodcentre.redcross.or.th/event/%e0%b8%9a%e0%b8%a3%e0%b8%b4%e0%b8%a9%e0%b8%b1%e0%b8%97-%e0%b8%81%e0%b8%b2%e0%b8%a3%e0%b8%9a%e0%b8%b4%e0%b8%99%e0%b9%84%e0%b8%97%e0%b8%a2-%e0%b8%88%e0%b8%b3%e0%b8%81%e0%b8%b1%e0%b8%94-%e0%b8%a1-4/
LOCATION:บริษัท การบินไทย จำกัด (มหาชน)\, บริษัท การบินไทย จำกัด (มหาชน) 89 ถนน วิภาวดีรังสิต แขวงจอมพล เขตจตุจักร กรุงเทพมหานคร 10900
CATEGORIES:ปฏิทินตารางหน่วยเคลื่อนที่
END:VEVENT
BEGIN:VEVENT
DTSTART;TZID=Asia/Bangkok:20250718T090000
DTEND;TZID=Asia/Bangkok:20250718T150000
DTSTAMP:20260423T055752
CREATED:20250716T114421Z
LAST-MODIFIED:20250716T114421Z
UID:10002590-1752829200-1752850800@thaibloodcentre.redcross.or.th
SUMMARY:บริษัท การบินไทย จำกัด (มหาชน) []
DESCRIPTION:สถานที่เจาะ : ห้องโถงชั้น 1 อาคาร 3 (พัก 12-13 น.) \nที่อยู่ : 89 ถนนวิภาวดีรังสิต แขวงจอมพล เขตจตุจักร กรุงเทพฯ 0 2545 1421
URL:https://thaibloodcentre.redcross.or.th/event/%e0%b8%9a%e0%b8%a3%e0%b8%b4%e0%b8%a9%e0%b8%b1%e0%b8%97-%e0%b8%81%e0%b8%b2%e0%b8%a3%e0%b8%9a%e0%b8%b4%e0%b8%99%e0%b9%84%e0%b8%97%e0%b8%a2-%e0%b8%88%e0%b8%b3%e0%b8%81%e0%b8%b1%e0%b8%94-%e0%b8%a1-3/
LOCATION:บริษัท การบินไทย จำกัด (มหาชน)\, บริษัท การบินไทย จำกัด (มหาชน) 89 ถนน วิภาวดีรังสิต แขวงจอมพล เขตจตุจักร กรุงเทพมหานคร 10900
CATEGORIES:ปฏิทินตารางหน่วยเคลื่อนที่
END:VEVENT
BEGIN:VEVENT
DTSTART;TZID=Asia/Bangkok:20250418T090000
DTEND;TZID=Asia/Bangkok:20250418T150000
DTSTAMP:20260423T055752
CREATED:20250410T083233Z
LAST-MODIFIED:20250410T083233Z
UID:10001341-1744966800-1744988400@thaibloodcentre.redcross.or.th
SUMMARY:บริษัท การบินไทย จำกัด (มหาชน) [0E0257]
DESCRIPTION:สถานที่เจาะ : ห้องโถงชั้น 1 อาคาร 3 (พัก 12.00-13.00 น.) \nที่อยู่ : 89 ถนนวิภาวดีรังสิต แขวงจอมพล เขตจตุจักร กรุงเทพฯ 0 2545 1421
URL:https://thaibloodcentre.redcross.or.th/event/%e0%b8%9a%e0%b8%a3%e0%b8%b4%e0%b8%a9%e0%b8%b1%e0%b8%97-%e0%b8%81%e0%b8%b2%e0%b8%a3%e0%b8%9a%e0%b8%b4%e0%b8%99%e0%b9%84%e0%b8%97%e0%b8%a2-%e0%b8%88%e0%b8%b3%e0%b8%81%e0%b8%b1%e0%b8%94-%e0%b8%a1-2/
LOCATION:บริษัท การบินไทย จำกัด (มหาชน)\, บริษัท การบินไทย จำกัด (มหาชน) 89 ถนน วิภาวดีรังสิต แขวงจอมพล เขตจตุจักร กรุงเทพมหานคร 10900
CATEGORIES:ปฏิทินตารางหน่วยเคลื่อนที่
END:VEVENT
BEGIN:VEVENT
DTSTART;TZID=Asia/Bangkok:20250117T090000
DTEND;TZID=Asia/Bangkok:20250117T150000
DTSTAMP:20260423T055752
CREATED:20250114T105000Z
LAST-MODIFIED:20250114T105000Z
UID:10000256-1737104400-1737126000@thaibloodcentre.redcross.or.th
SUMMARY:บริษัท การบินไทย จำกัด (มหาชน) [0E0257]
DESCRIPTION:สถานที่เจาะ : ห้องโถงชั้น 1 อาคาร 3 (พัก 12.00-13.00 น.) \nที่อยู่ : 89 ถนนวิภาวดีรังสิต แขวงจอมพล เขตจตุจักร กรุงเทพฯ  \nโทร : 0 2545 1421
URL:https://thaibloodcentre.redcross.or.th/event/%e0%b8%9a%e0%b8%a3%e0%b8%b4%e0%b8%a9%e0%b8%b1%e0%b8%97-%e0%b8%81%e0%b8%b2%e0%b8%a3%e0%b8%9a%e0%b8%b4%e0%b8%99%e0%b9%84%e0%b8%97%e0%b8%a2-%e0%b8%88%e0%b8%b3%e0%b8%81%e0%b8%b1%e0%b8%94-%e0%b8%a1/
LOCATION:บริษัท การบินไทย จำกัด (มหาชน)\, บริษัท การบินไทย จำกัด (มหาชน) 89 ถนน วิภาวดีรังสิต แขวงจอมพล เขตจตุจักร กรุงเทพมหานคร 10900
CATEGORIES:ปฏิทินตารางหน่วยเคลื่อนที่
END:VEVENT
END:VCALENDAR