BEGIN:VCALENDAR
VERSION:2.0
PRODID:-//เว็บไซต์ศูนย์บริการโลหิตแห่งชาติ - ECPv6.11.2.1//NONSGML v1.0//EN
CALSCALE:GREGORIAN
METHOD:PUBLISH
X-ORIGINAL-URL:https://thaibloodcentre.redcross.or.th
X-WR-CALDESC:Events for เว็บไซต์ศูนย์บริการโลหิตแห่งชาติ
REFRESH-INTERVAL;VALUE=DURATION:PT1H
X-Robots-Tag:noindex
X-PUBLISHED-TTL:PT1H
BEGIN:VTIMEZONE
TZID:Asia/Krasnoyarsk
BEGIN:STANDARD
TZOFFSETFROM:+0700
TZOFFSETTO:+0700
TZNAME:+07
DTSTART:20260101T000000
END:STANDARD
END:VTIMEZONE
BEGIN:VTIMEZONE
TZID:Asia/Bangkok
BEGIN:STANDARD
TZOFFSETFROM:+0700
TZOFFSETTO:+0700
TZNAME:+07
DTSTART:20250101T000000
END:STANDARD
END:VTIMEZONE
BEGIN:VEVENT
DTSTART;TZID=Asia/Krasnoyarsk:20260125T110000
DTEND;TZID=Asia/Krasnoyarsk:20260125T150000
DTSTAMP:20260424T004843
CREATED:20260120T104635Z
LAST-MODIFIED:20260120T104635Z
UID:10005247-1769338800-1769353200@thaibloodcentre.redcross.or.th
SUMMARY:นิติบุคคลอาคารชุด ลุมพินีคอนโดทาวน์ ร่มเกล้า-สุวรรณภูมิ []
DESCRIPTION:สถานที่เจาะ : ห้องสมุด \nที่อยู่ : 164/274 ถนนร่มเกล้า แขวงคลองสามประเวศ เขตลาดกระบัง กรุงเทพฯ 0 21717711-12
URL:https://thaibloodcentre.redcross.or.th/event/%e0%b8%99%e0%b8%b4%e0%b8%95%e0%b8%b4%e0%b8%9a%e0%b8%b8%e0%b8%84%e0%b8%84%e0%b8%a5%e0%b8%ad%e0%b8%b2%e0%b8%84%e0%b8%b2%e0%b8%a3%e0%b8%8a%e0%b8%b8%e0%b8%94-%e0%b8%a5%e0%b8%b8%e0%b8%a1%e0%b8%9e-3/
LOCATION:นิติบุคคลอาคารชุด ลุมพินีคอนโดทาวน์ ร่มเกล้า-สุวรรณภูมิ\, ลุมพินี คอนโดทาวน์ ร่มเกล้า-สุวรรณภูมิ 164/274 ถนนร่มเกล้า แขวงคลองสามประเวศ เขตลาดกระบัง กรุงเทพมหานคร 10520
CATEGORIES:ปฏิทินตารางหน่วยเคลื่อนที่
END:VEVENT
BEGIN:VEVENT
DTSTART;TZID=Asia/Bangkok:20250727T110000
DTEND;TZID=Asia/Bangkok:20250727T150000
DTSTAMP:20260424T004843
CREATED:20250716T111252Z
LAST-MODIFIED:20250716T111252Z
UID:10002501-1753614000-1753628400@thaibloodcentre.redcross.or.th
SUMMARY:นิติบุคคลอาคารชุด ลุมพินีคอนโดทาวน์ ร่มเกล้า-สุวรรณภูมิ []
DESCRIPTION:สถานที่เจาะ : ห้องสมุด \nที่อยู่ : 164/274 ถนนร่มเกล้า แขวงคลองสามประเวศ เขตลาดกระบัง กรุงเทพฯ 0 21717711-12
URL:https://thaibloodcentre.redcross.or.th/event/%e0%b8%99%e0%b8%b4%e0%b8%95%e0%b8%b4%e0%b8%9a%e0%b8%b8%e0%b8%84%e0%b8%84%e0%b8%a5%e0%b8%ad%e0%b8%b2%e0%b8%84%e0%b8%b2%e0%b8%a3%e0%b8%8a%e0%b8%b8%e0%b8%94-%e0%b8%a5%e0%b8%b8%e0%b8%a1%e0%b8%9e-2/
LOCATION:นิติบุคคลอาคารชุด ลุมพินีคอนโดทาวน์ ร่มเกล้า-สุวรรณภูมิ\, ลุมพินี คอนโดทาวน์ ร่มเกล้า-สุวรรณภูมิ 164/274 ถนนร่มเกล้า แขวงคลองสามประเวศ เขตลาดกระบัง กรุงเทพมหานคร 10520
CATEGORIES:ปฏิทินตารางหน่วยเคลื่อนที่
END:VEVENT
BEGIN:VEVENT
DTSTART;TZID=Asia/Bangkok:20250420T110000
DTEND;TZID=Asia/Bangkok:20250420T150000
DTSTAMP:20260424T004843
CREATED:20250410T083725Z
LAST-MODIFIED:20250410T083725Z
UID:10001372-1745146800-1745161200@thaibloodcentre.redcross.or.th
SUMMARY:นิติบุคคลอาคารชุด ลุมพินีคอนโดทาวน์ ร่มเกล้า-สุวรรณภูมิ [0J0454]
DESCRIPTION:สถานที่เจาะ : ห้องสมุด \nที่อยู่ : 164/274 ถนนร่มเกล้า แขวงคลองสามประเวศ เขตลาดกระบัง กรุงเทพฯ 0 21717711-12
URL:https://thaibloodcentre.redcross.or.th/event/%e0%b8%99%e0%b8%b4%e0%b8%95%e0%b8%b4%e0%b8%9a%e0%b8%b8%e0%b8%84%e0%b8%84%e0%b8%a5%e0%b8%ad%e0%b8%b2%e0%b8%84%e0%b8%b2%e0%b8%a3%e0%b8%8a%e0%b8%b8%e0%b8%94-%e0%b8%a5%e0%b8%b8%e0%b8%a1%e0%b8%9e%e0%b8%b4/
LOCATION:นิติบุคคลอาคารชุด ลุมพินีคอนโดทาวน์ ร่มเกล้า-สุวรรณภูมิ\, ลุมพินี คอนโดทาวน์ ร่มเกล้า-สุวรรณภูมิ 164/274 ถนนร่มเกล้า แขวงคลองสามประเวศ เขตลาดกระบัง กรุงเทพมหานคร 10520
CATEGORIES:ปฏิทินตารางหน่วยเคลื่อนที่
END:VEVENT
END:VCALENDAR