BEGIN:VCALENDAR
VERSION:2.0
PRODID:-//เว็บไซต์ศูนย์บริการโลหิตแห่งชาติ - ECPv6.11.2.1//NONSGML v1.0//EN
CALSCALE:GREGORIAN
METHOD:PUBLISH
X-WR-CALNAME:เว็บไซต์ศูนย์บริการโลหิตแห่งชาติ
X-ORIGINAL-URL:https://thaibloodcentre.redcross.or.th
X-WR-CALDESC:Events for เว็บไซต์ศูนย์บริการโลหิตแห่งชาติ
REFRESH-INTERVAL;VALUE=DURATION:PT1H
X-Robots-Tag:noindex
X-PUBLISHED-TTL:PT1H
BEGIN:VTIMEZONE
TZID:Asia/Krasnoyarsk
BEGIN:STANDARD
TZOFFSETFROM:+0700
TZOFFSETTO:+0700
TZNAME:+07
DTSTART:20260101T000000
END:STANDARD
END:VTIMEZONE
BEGIN:VEVENT
DTSTART;TZID=Asia/Krasnoyarsk:20260427T090000
DTEND;TZID=Asia/Krasnoyarsk:20260427T150000
DTSTAMP:20260423T185245
CREATED:20260420T062817Z
LAST-MODIFIED:20260420T062817Z
UID:10006602-1777280400-1777302000@thaibloodcentre.redcross.or.th
SUMMARY:นิติบุคคลอาคารชุด RS ทาวเวอร์ []
DESCRIPTION:สถานที่เจาะ : หน้าอาคาร (พัก 11.00-12.00 น.) \nที่อยู่ : 121 ถนนรัชดาภิเษก แขวงดินแดง เขตดินแดง กรุงเทพฯ 0 2641 2174-5
URL:https://thaibloodcentre.redcross.or.th/event/%e0%b8%99%e0%b8%b4%e0%b8%95%e0%b8%b4%e0%b8%9a%e0%b8%b8%e0%b8%84%e0%b8%84%e0%b8%a5%e0%b8%ad%e0%b8%b2%e0%b8%84%e0%b8%b2%e0%b8%a3%e0%b8%8a%e0%b8%b8%e0%b8%94-rs-%e0%b8%97%e0%b8%b2%e0%b8%a7%e0%b9%80-4/
LOCATION:นิติบุคคลอาคารชุด RS ทาวเวอร์\, RS Tower 121 ถนนรัชดาภิเษก แขวงดินแดง เขตดินแดง กรุงเทพมหานคร 10400
CATEGORIES:ปฏิทินตารางหน่วยเคลื่อนที่
END:VEVENT
END:VCALENDAR