BEGIN:VCALENDAR
VERSION:2.0
PRODID:-//เว็บไซต์ศูนย์บริการโลหิตแห่งชาติ - ECPv6.11.2.1//NONSGML v1.0//EN
CALSCALE:GREGORIAN
METHOD:PUBLISH
X-ORIGINAL-URL:https://thaibloodcentre.redcross.or.th
X-WR-CALDESC:Events for เว็บไซต์ศูนย์บริการโลหิตแห่งชาติ
REFRESH-INTERVAL;VALUE=DURATION:PT1H
X-Robots-Tag:noindex
X-PUBLISHED-TTL:PT1H
BEGIN:VTIMEZONE
TZID:Asia/Krasnoyarsk
BEGIN:STANDARD
TZOFFSETFROM:+0700
TZOFFSETTO:+0700
TZNAME:+07
DTSTART:20260101T000000
END:STANDARD
END:VTIMEZONE
BEGIN:VTIMEZONE
TZID:Asia/Bangkok
BEGIN:STANDARD
TZOFFSETFROM:+0700
TZOFFSETTO:+0700
TZNAME:+07
DTSTART:20250101T000000
END:STANDARD
END:VTIMEZONE
BEGIN:VEVENT
DTSTART;TZID=Asia/Krasnoyarsk:20260126T090000
DTEND;TZID=Asia/Krasnoyarsk:20260126T150000
DTSTAMP:20260423T092219
CREATED:20260120T104807Z
LAST-MODIFIED:20260120T104807Z
UID:10005260-1769418000-1769439600@thaibloodcentre.redcross.or.th
SUMMARY:นิติบุคคลอาคารชุด RS ทาวเวอร์ []
DESCRIPTION:สถานที่เจาะ : หน้าอาคาร (พัก 11.00-12.00 น.) \nที่อยู่ : 121 ถนนรัชดาภิเษก แขวงดินแดง เขตดินแดง กรุงเทพฯ 0 2641 2174-5
URL:https://thaibloodcentre.redcross.or.th/event/%e0%b8%99%e0%b8%b4%e0%b8%95%e0%b8%b4%e0%b8%9a%e0%b8%b8%e0%b8%84%e0%b8%84%e0%b8%a5%e0%b8%ad%e0%b8%b2%e0%b8%84%e0%b8%b2%e0%b8%a3%e0%b8%8a%e0%b8%b8%e0%b8%94-rs-%e0%b8%97%e0%b8%b2%e0%b8%a7%e0%b9%80-3/
LOCATION:นิติบุคคลอาคารชุด RS ทาวเวอร์\, RS Tower 121 ถนนรัชดาภิเษก แขวงดินแดง เขตดินแดง กรุงเทพมหานคร 10400
CATEGORIES:ปฏิทินตารางหน่วยเคลื่อนที่
END:VEVENT
BEGIN:VEVENT
DTSTART;TZID=Asia/Bangkok:20250730T090000
DTEND;TZID=Asia/Bangkok:20250730T150000
DTSTAMP:20260423T092219
CREATED:20250716T111635Z
LAST-MODIFIED:20250716T111635Z
UID:10002543-1753866000-1753887600@thaibloodcentre.redcross.or.th
SUMMARY:นิติบุคคลอาคารชุด RS ทาวเวอร์ []
DESCRIPTION:สถานที่เจาะ : หน้าอาคาร (พัก 11-12 น.) \nที่อยู่ : 121 ถนนรัชดาภิเษก แขวงดินแดง เขตดินแดง กรุงเทพฯ 0 2641 2174-5
URL:https://thaibloodcentre.redcross.or.th/event/%e0%b8%99%e0%b8%b4%e0%b8%95%e0%b8%b4%e0%b8%9a%e0%b8%b8%e0%b8%84%e0%b8%84%e0%b8%a5%e0%b8%ad%e0%b8%b2%e0%b8%84%e0%b8%b2%e0%b8%a3%e0%b8%8a%e0%b8%b8%e0%b8%94-rs-%e0%b8%97%e0%b8%b2%e0%b8%a7%e0%b9%80-2/
LOCATION:นิติบุคคลอาคารชุด RS ทาวเวอร์\, RS Tower 121 ถนนรัชดาภิเษก แขวงดินแดง เขตดินแดง กรุงเทพมหานคร 10400
CATEGORIES:ปฏิทินตารางหน่วยเคลื่อนที่
END:VEVENT
BEGIN:VEVENT
DTSTART;TZID=Asia/Bangkok:20250430T090000
DTEND;TZID=Asia/Bangkok:20250430T150000
DTSTAMP:20260423T092219
CREATED:20250424T064829Z
LAST-MODIFIED:20250424T064829Z
UID:10001537-1746003600-1746025200@thaibloodcentre.redcross.or.th
SUMMARY:นิติบุคคลอาคารชุด RS ทาวเวอร์ []
DESCRIPTION:สถานที่เจาะ : หน้าอาคาร (พัก 11-12 น.) \nที่อยู่ : 121 ถนนรัชดาภิเษก แขวงดินแดง เขตดินแดง กรุงเทพฯ 0 2641 2174-5
URL:https://thaibloodcentre.redcross.or.th/event/%e0%b8%99%e0%b8%b4%e0%b8%95%e0%b8%b4%e0%b8%9a%e0%b8%b8%e0%b8%84%e0%b8%84%e0%b8%a5%e0%b8%ad%e0%b8%b2%e0%b8%84%e0%b8%b2%e0%b8%a3%e0%b8%8a%e0%b8%b8%e0%b8%94-rs-%e0%b8%97%e0%b8%b2%e0%b8%a7%e0%b9%80/
LOCATION:นิติบุคคลอาคารชุด RS ทาวเวอร์\, RS Tower 121 ถนนรัชดาภิเษก แขวงดินแดง เขตดินแดง กรุงเทพมหานคร 10400
CATEGORIES:ปฏิทินตารางหน่วยเคลื่อนที่
END:VEVENT
END:VCALENDAR