BEGIN:VCALENDAR
VERSION:2.0
PRODID:-//เว็บไซต์ศูนย์บริการโลหิตแห่งชาติ - ECPv6.11.2.1//NONSGML v1.0//EN
CALSCALE:GREGORIAN
METHOD:PUBLISH
X-WR-CALNAME:เว็บไซต์ศูนย์บริการโลหิตแห่งชาติ
X-ORIGINAL-URL:https://thaibloodcentre.redcross.or.th
X-WR-CALDESC:Events for เว็บไซต์ศูนย์บริการโลหิตแห่งชาติ
REFRESH-INTERVAL;VALUE=DURATION:PT1H
X-Robots-Tag:noindex
X-PUBLISHED-TTL:PT1H
BEGIN:VTIMEZONE
TZID:Asia/Krasnoyarsk
BEGIN:STANDARD
TZOFFSETFROM:+0700
TZOFFSETTO:+0700
TZNAME:+07
DTSTART:20250101T000000
END:STANDARD
END:VTIMEZONE
BEGIN:VTIMEZONE
TZID:Asia/Bangkok
BEGIN:STANDARD
TZOFFSETFROM:+0700
TZOFFSETTO:+0700
TZNAME:+07
DTSTART:20250101T000000
END:STANDARD
END:VTIMEZONE
BEGIN:VEVENT
DTSTART;TZID=Asia/Krasnoyarsk:20260219T090000
DTEND;TZID=Asia/Krasnoyarsk:20260219T150000
DTSTAMP:20260426T030258
CREATED:20260217T091240Z
LAST-MODIFIED:20260217T091240Z
UID:10005572-1771491600-1771513200@thaibloodcentre.redcross.or.th
SUMMARY:ธนาคารไทยพาณิชย์ จำกัด (มหาชน) []
DESCRIPTION:สถานที่เจาะ : ห้องประชุมมหิศร \nที่อยู่ : 9 ถนนรัชดาภิเษก แขวงลาดยาว เขตจตุจักร กรุงเทพฯ 0 2544 7037
URL:https://thaibloodcentre.redcross.or.th/event/%e0%b8%98%e0%b8%99%e0%b8%b2%e0%b8%84%e0%b8%b2%e0%b8%a3%e0%b9%84%e0%b8%97%e0%b8%a2%e0%b8%9e%e0%b8%b2%e0%b8%93%e0%b8%b4%e0%b8%8a%e0%b8%a2%e0%b9%8c-%e0%b8%88%e0%b8%b3%e0%b8%81%e0%b8%b1%e0%b8%94-19/
LOCATION:ธนาคารไทยพาณิชย์ จำกัด (มหาชน)\, ธนาคารไทยพาณิชย์ จำกัด (มหาชน) สำนักงานใหญ่ 9 ถนนรัชดาภิเษก เขตจตุจักร กรุงเทพฯ 10900
CATEGORIES:ปฏิทินตารางหน่วยเคลื่อนที่
END:VEVENT
BEGIN:VEVENT
DTSTART;TZID=Asia/Krasnoyarsk:20251113T090000
DTEND;TZID=Asia/Krasnoyarsk:20251113T150000
DTSTAMP:20260426T030258
CREATED:20251111T050336Z
LAST-MODIFIED:20251111T050336Z
UID:10004225-1763024400-1763046000@thaibloodcentre.redcross.or.th
SUMMARY:ธนาคารไทยพาณิชย์ จำกัด (มหาชน) []
DESCRIPTION:สถานที่เจาะ : ห้องประชุมมหิศร \nที่อยู่ : 9 ถนนรัชดาภิเษก แขวงลาดยาว เขตจตุจักร กรุงเทพฯ  \nโทร : 0 2544 7037
URL:https://thaibloodcentre.redcross.or.th/event/%e0%b8%98%e0%b8%99%e0%b8%b2%e0%b8%84%e0%b8%b2%e0%b8%a3%e0%b9%84%e0%b8%97%e0%b8%a2%e0%b8%9e%e0%b8%b2%e0%b8%93%e0%b8%b4%e0%b8%8a%e0%b8%a2%e0%b9%8c-%e0%b8%88%e0%b8%b3%e0%b8%81%e0%b8%b1%e0%b8%94-14/
LOCATION:ธนาคารไทยพาณิชย์ จำกัด (มหาชน)\, ธนาคารไทยพาณิชย์ จำกัด (มหาชน) สำนักงานใหญ่ 9 ถนนรัชดาภิเษก เขตจตุจักร กรุงเทพฯ 10900
CATEGORIES:ปฏิทินตารางหน่วยเคลื่อนที่
END:VEVENT
BEGIN:VEVENT
DTSTART;TZID=Asia/Bangkok:20250813T090000
DTEND;TZID=Asia/Bangkok:20250813T150000
DTSTAMP:20260426T030258
CREATED:20250801T041324Z
LAST-MODIFIED:20250801T041324Z
UID:10002746-1755075600-1755097200@thaibloodcentre.redcross.or.th
SUMMARY:ธนาคารไทยพาณิชย์ จำกัด (มหาชน) [0G0008]
DESCRIPTION:สถานที่เจาะ : ห้องประชุมมหิศร \nที่อยู่ : 9 ถนนรัชดาภิเษก แขวงลาดยาว เขตจตุจักร กรุงเทพฯ 0 2544 7037
URL:https://thaibloodcentre.redcross.or.th/event/%e0%b8%98%e0%b8%99%e0%b8%b2%e0%b8%84%e0%b8%b2%e0%b8%a3%e0%b9%84%e0%b8%97%e0%b8%a2%e0%b8%9e%e0%b8%b2%e0%b8%93%e0%b8%b4%e0%b8%8a%e0%b8%a2%e0%b9%8c-%e0%b8%88%e0%b8%b3%e0%b8%81%e0%b8%b1%e0%b8%94-7/
LOCATION:ธนาคารไทยพาณิชย์ จำกัด (มหาชน)\, ธนาคารไทยพาณิชย์ จำกัด (มหาชน) สำนักงานใหญ่ 9 ถนนรัชดาภิเษก เขตจตุจักร กรุงเทพฯ 10900
CATEGORIES:ปฏิทินตารางหน่วยเคลื่อนที่
END:VEVENT
BEGIN:VEVENT
DTSTART;TZID=Asia/Bangkok:20250513T090000
DTEND;TZID=Asia/Bangkok:20250513T150000
DTSTAMP:20260426T030258
CREATED:20250508T112352Z
LAST-MODIFIED:20250508T112352Z
UID:10001705-1747126800-1747148400@thaibloodcentre.redcross.or.th
SUMMARY:ธนาคารไทยพาณิชย์ จำกัด (มหาชน) []
DESCRIPTION:สถานที่เจาะ : ห้องประชุมมหิศร \nที่อยู่ : 9 ถนนรัชดาภิเษก แขวงลาดยาว เขตจตุจักร กรุงเทพฯ 0 2544 7037
URL:https://thaibloodcentre.redcross.or.th/event/%e0%b8%98%e0%b8%99%e0%b8%b2%e0%b8%84%e0%b8%b2%e0%b8%a3%e0%b9%84%e0%b8%97%e0%b8%a2%e0%b8%9e%e0%b8%b2%e0%b8%93%e0%b8%b4%e0%b8%8a%e0%b8%a2%e0%b9%8c-%e0%b8%88%e0%b8%b3%e0%b8%81%e0%b8%b1%e0%b8%94-6/
LOCATION:ธนาคารไทยพาณิชย์ จำกัด (มหาชน)\, ธนาคารไทยพาณิชย์ จำกัด (มหาชน) สำนักงานใหญ่ 9 ถนนรัชดาภิเษก เขตจตุจักร กรุงเทพฯ 10900
CATEGORIES:ปฏิทินตารางหน่วยเคลื่อนที่
END:VEVENT
BEGIN:VEVENT
DTSTART;TZID=Asia/Bangkok:20250213T090000
DTEND;TZID=Asia/Bangkok:20250213T150000
DTSTAMP:20260426T030258
CREATED:20250209T122912Z
LAST-MODIFIED:20250209T122912Z
UID:10000499-1739437200-1739458800@thaibloodcentre.redcross.or.th
SUMMARY:ธนาคารไทยพาณิชย์ จำกัด (มหาชน) [0G0008]
DESCRIPTION:สถานที่เจาะ : ห้องประชุมมหิศร \nที่อยู่ : 9 ถนนรัชดาภิเษก แขวงลาดยาว เขตจตุจักร กรุงเทพฯ  \nโทร : 0 2544 7037
URL:https://thaibloodcentre.redcross.or.th/event/%e0%b8%98%e0%b8%99%e0%b8%b2%e0%b8%84%e0%b8%b2%e0%b8%a3%e0%b9%84%e0%b8%97%e0%b8%a2%e0%b8%9e%e0%b8%b2%e0%b8%93%e0%b8%b4%e0%b8%8a%e0%b8%a2%e0%b9%8c-%e0%b8%88%e0%b8%b3%e0%b8%81%e0%b8%b1%e0%b8%94/
LOCATION:ธนาคารไทยพาณิชย์ จำกัด (มหาชน)\, ธนาคารไทยพาณิชย์ จำกัด (มหาชน) สำนักงานใหญ่ 9 ถนนรัชดาภิเษก เขตจตุจักร กรุงเทพฯ 10900
CATEGORIES:ปฏิทินตารางหน่วยเคลื่อนที่
END:VEVENT
END:VCALENDAR