BEGIN:VCALENDAR
VERSION:2.0
PRODID:-//เว็บไซต์ศูนย์บริการโลหิตแห่งชาติ - ECPv6.11.2.1//NONSGML v1.0//EN
CALSCALE:GREGORIAN
METHOD:PUBLISH
X-WR-CALNAME:เว็บไซต์ศูนย์บริการโลหิตแห่งชาติ
X-ORIGINAL-URL:https://thaibloodcentre.redcross.or.th
X-WR-CALDESC:Events for เว็บไซต์ศูนย์บริการโลหิตแห่งชาติ
REFRESH-INTERVAL;VALUE=DURATION:PT1H
X-Robots-Tag:noindex
X-PUBLISHED-TTL:PT1H
BEGIN:VTIMEZONE
TZID:Asia/Krasnoyarsk
BEGIN:STANDARD
TZOFFSETFROM:+0700
TZOFFSETTO:+0700
TZNAME:+07
DTSTART:20260101T000000
END:STANDARD
END:VTIMEZONE
BEGIN:VTIMEZONE
TZID:Asia/Bangkok
BEGIN:STANDARD
TZOFFSETFROM:+0700
TZOFFSETTO:+0700
TZNAME:+07
DTSTART:20250101T000000
END:STANDARD
END:VTIMEZONE
BEGIN:VEVENT
DTSTART;TZID=Asia/Krasnoyarsk:20260408T090000
DTEND;TZID=Asia/Krasnoyarsk:20260408T150000
DTSTAMP:20260423T230741
CREATED:20260401T022114Z
LAST-MODIFIED:20260401T022114Z
UID:10006411-1775638800-1775660400@thaibloodcentre.redcross.or.th
SUMMARY:ธนาคารไทยพาณิชย์ จำกัด (มหาชน) สาขาถนนเสรีไทย (สวนสยาม) [0G0059]
DESCRIPTION:สถานที่เจาะ : บริเวณลานจอดรถ (พัก 11.30-12.30 น.) \nที่อยู่ : 99/2 ถนนเสรีไทย แขวงคันนายาว เขตคันนายาว กรุงเทพฯ  \nโทร : 0 2906 0515
URL:https://thaibloodcentre.redcross.or.th/event/%e0%b8%98%e0%b8%99%e0%b8%b2%e0%b8%84%e0%b8%b2%e0%b8%a3%e0%b9%84%e0%b8%97%e0%b8%a2%e0%b8%9e%e0%b8%b2%e0%b8%93%e0%b8%b4%e0%b8%8a%e0%b8%a2%e0%b9%8c-%e0%b8%88%e0%b8%b3%e0%b8%81%e0%b8%b1%e0%b8%94-22/
LOCATION:ธนาคารไทยพาณิชย์ จำกัด (มหาชน) สาขาถนนเสรีไทย (สวนสยาม)\, ธนาคารไทยพาณิชย์ จำกัด (มหาชน) สาขาถนนเสรีไทย (สวนสยาม) เลขที่ 137 หมู่ที่ 3 ถ.เสรีไทย แขวงคันนายาว เขตคันนายาว กรุงเทพมหานคร 10230
CATEGORIES:ปฏิทินตารางหน่วยเคลื่อนที่
END:VEVENT
BEGIN:VEVENT
DTSTART;TZID=Asia/Krasnoyarsk:20260108T090000
DTEND;TZID=Asia/Krasnoyarsk:20260108T150000
DTSTAMP:20260423T230741
CREATED:20260106T124134Z
LAST-MODIFIED:20260106T132736Z
UID:10005002-1767862800-1767884400@thaibloodcentre.redcross.or.th
SUMMARY:ธนาคารไทยพาณิชย์ จำกัด (มหาชน) สาขาถนนเสรีไทย (สวนสยาม) [0G0059]
DESCRIPTION:สถานที่เจาะ : บริเวณลานจอดรถ (พัก 11.30-12.30 น.) \nที่อยู่ : 99/2 ถนนเสรีไทย แขวงคันนายาว เขตคันนายาว กรุงเทพฯ 0 2906 0515
URL:https://thaibloodcentre.redcross.or.th/event/%e0%b8%98%e0%b8%99%e0%b8%b2%e0%b8%84%e0%b8%b2%e0%b8%a3%e0%b9%84%e0%b8%97%e0%b8%a2%e0%b8%9e%e0%b8%b2%e0%b8%93%e0%b8%b4%e0%b8%8a%e0%b8%a2%e0%b9%8c-%e0%b8%88%e0%b8%b3%e0%b8%81%e0%b8%b1%e0%b8%94-17/
LOCATION:ธนาคารไทยพาณิชย์ จำกัด (มหาชน) สาขาถนนเสรีไทย (สวนสยาม)\, ธนาคารไทยพาณิชย์ จำกัด (มหาชน) สาขาถนนเสรีไทย (สวนสยาม) เลขที่ 137 หมู่ที่ 3 ถ.เสรีไทย แขวงคันนายาว เขตคันนายาว กรุงเทพมหานคร 10230
CATEGORIES:ปฏิทินตารางหน่วยเคลื่อนที่
END:VEVENT
BEGIN:VEVENT
DTSTART;TZID=Asia/Bangkok:20251009T090000
DTEND;TZID=Asia/Bangkok:20251009T150000
DTSTAMP:20260423T230741
CREATED:20250925T043059Z
LAST-MODIFIED:20250925T043059Z
UID:10003566-1760000400-1760022000@thaibloodcentre.redcross.or.th
SUMMARY:ธนาคารไทยพาณิชย์ จำกัด (มหาชน) สาขาถนนเสรีไทย (สวนสยาม) [0G0059]
DESCRIPTION:สถานที่เจาะ : บริเวณลานจอดรถ (พัก 12-13 น.) \nที่อยู่ : 99/2 ถนนเสรีไทย แขวงคันนายาว เขตคันนายาว กรุงเทพฯ 0 2906 0515
URL:https://thaibloodcentre.redcross.or.th/event/%e0%b8%98%e0%b8%99%e0%b8%b2%e0%b8%84%e0%b8%b2%e0%b8%a3%e0%b9%84%e0%b8%97%e0%b8%a2%e0%b8%9e%e0%b8%b2%e0%b8%93%e0%b8%b4%e0%b8%8a%e0%b8%a2%e0%b9%8c-%e0%b8%88%e0%b8%b3%e0%b8%81%e0%b8%b1%e0%b8%94-10/
LOCATION:ธนาคารไทยพาณิชย์ จำกัด (มหาชน) สาขาถนนเสรีไทย (สวนสยาม)\, ธนาคารไทยพาณิชย์ จำกัด (มหาชน) สาขาถนนเสรีไทย (สวนสยาม) เลขที่ 137 หมู่ที่ 3 ถ.เสรีไทย แขวงคันนายาว เขตคันนายาว กรุงเทพมหานคร 10230
CATEGORIES:ปฏิทินตารางหน่วยเคลื่อนที่
END:VEVENT
BEGIN:VEVENT
DTSTART;TZID=Asia/Bangkok:20250409T090000
DTEND;TZID=Asia/Bangkok:20250409T150000
DTSTAMP:20260423T230741
CREATED:20250404T145650Z
LAST-MODIFIED:20250404T145650Z
UID:10001247-1744189200-1744210800@thaibloodcentre.redcross.or.th
SUMMARY:ธนาคารไทยพาณิชย์ จำกัด (มหาชน) สาขาถนนเสรีไทย (สวนสยาม) [0G0059]
DESCRIPTION:สถานที่เจาะ : บริเวณลานจอดรถ (พัก 12.00-13.00 น.) \nที่อยู่ : 99/2 ถนนเสรีไทย แขวงคันนายาว เขตคันนายาว กรุงเทพฯ 0 2906 0515
URL:https://thaibloodcentre.redcross.or.th/event/%e0%b8%98%e0%b8%99%e0%b8%b2%e0%b8%84%e0%b8%b2%e0%b8%a3%e0%b9%84%e0%b8%97%e0%b8%a2%e0%b8%9e%e0%b8%b2%e0%b8%93%e0%b8%b4%e0%b8%8a%e0%b8%a2%e0%b9%8c-%e0%b8%88%e0%b8%b3%e0%b8%81%e0%b8%b1%e0%b8%94-4/
LOCATION:ธนาคารไทยพาณิชย์ จำกัด (มหาชน) สาขาถนนเสรีไทย (สวนสยาม)\, ธนาคารไทยพาณิชย์ จำกัด (มหาชน) สาขาถนนเสรีไทย (สวนสยาม) เลขที่ 137 หมู่ที่ 3 ถ.เสรีไทย แขวงคันนายาว เขตคันนายาว กรุงเทพมหานคร 10230
CATEGORIES:ปฏิทินตารางหน่วยเคลื่อนที่
END:VEVENT
END:VCALENDAR