BEGIN:VCALENDAR
VERSION:2.0
PRODID:-//เว็บไซต์ศูนย์บริการโลหิตแห่งชาติ - ECPv6.11.2.1//NONSGML v1.0//EN
CALSCALE:GREGORIAN
METHOD:PUBLISH
X-ORIGINAL-URL:https://thaibloodcentre.redcross.or.th
X-WR-CALDESC:Events for เว็บไซต์ศูนย์บริการโลหิตแห่งชาติ
REFRESH-INTERVAL;VALUE=DURATION:PT1H
X-Robots-Tag:noindex
X-PUBLISHED-TTL:PT1H
BEGIN:VTIMEZONE
TZID:Asia/Krasnoyarsk
BEGIN:STANDARD
TZOFFSETFROM:+0700
TZOFFSETTO:+0700
TZNAME:+07
DTSTART:20250101T000000
END:STANDARD
END:VTIMEZONE
BEGIN:VTIMEZONE
TZID:Asia/Bangkok
BEGIN:STANDARD
TZOFFSETFROM:+0700
TZOFFSETTO:+0700
TZNAME:+07
DTSTART:20250101T000000
END:STANDARD
END:VTIMEZONE
BEGIN:VEVENT
DTSTART;TZID=Asia/Krasnoyarsk:20260304T090000
DTEND;TZID=Asia/Krasnoyarsk:20260304T150000
DTSTAMP:20260424T133134
CREATED:20260224T101551Z
LAST-MODIFIED:20260224T101551Z
UID:10005770-1772614800-1772636400@thaibloodcentre.redcross.or.th
SUMMARY:ธนาคารไทยพาณิชย์ จำกัด (มหาชน) อาคารจี ทาวเวอร์ []
DESCRIPTION:สถานที่เจาะ : ด้านหน้าอาคารยูนิลิเวอร์เฮาส์ (พัก 11.30-12.30 น.) \nที่อยู่ : 161 ถ. พระราม 9 แขวงห้วยขวาง เขตห้วยขวาง กรุงเทพฯ
URL:https://thaibloodcentre.redcross.or.th/event/%e0%b8%98%e0%b8%99%e0%b8%b2%e0%b8%84%e0%b8%b2%e0%b8%a3%e0%b9%84%e0%b8%97%e0%b8%a2%e0%b8%9e%e0%b8%b2%e0%b8%93%e0%b8%b4%e0%b8%8a%e0%b8%a2%e0%b9%8c-%e0%b8%88%e0%b8%b3%e0%b8%81%e0%b8%b1%e0%b8%94-20/
LOCATION:ธนาคารไทยพาณิชย์ จำกัด (มหาชน) อาคารจี ทาวเวอร์\, อาคารยูนิลิเวอร์เฮาส์ 161 ถนนพระราม 9 แขวงห้วยขวาง เขตห้วยขวาง กรุงเทพมหานคร 10310
CATEGORIES:ปฏิทินตารางหน่วยเคลื่อนที่
END:VEVENT
BEGIN:VEVENT
DTSTART;TZID=Asia/Krasnoyarsk:20251204T090000
DTEND;TZID=Asia/Krasnoyarsk:20251204T150000
DTSTAMP:20260424T133134
CREATED:20251128T090802Z
LAST-MODIFIED:20251128T110309Z
UID:10004537-1764838800-1764860400@thaibloodcentre.redcross.or.th
SUMMARY:ธนาคารไทยพาณิชย์ จำกัด (มหาชน) อาคารจี ทาวเวอร์ []
DESCRIPTION:สถานที่เจาะ : ด้านหน้าอาคารยูนิลิเวอร์เฮาส์ (พัก 11.30-12.30 น.) \nที่อยู่ : 161 ถ. พระราม 9 แขวงห้วยขวาง เขตห้วยขวาง กรุงเทพฯ
URL:https://thaibloodcentre.redcross.or.th/event/%e0%b8%98%e0%b8%99%e0%b8%b2%e0%b8%84%e0%b8%b2%e0%b8%a3%e0%b9%84%e0%b8%97%e0%b8%a2%e0%b8%9e%e0%b8%b2%e0%b8%93%e0%b8%b4%e0%b8%8a%e0%b8%a2%e0%b9%8c-%e0%b8%88%e0%b8%b3%e0%b8%81%e0%b8%b1%e0%b8%94-15/
LOCATION:ธนาคารไทยพาณิชย์ จำกัด (มหาชน) อาคารจี ทาวเวอร์\, อาคารยูนิลิเวอร์เฮาส์ 161 ถนนพระราม 9 แขวงห้วยขวาง เขตห้วยขวาง กรุงเทพมหานคร 10310
CATEGORIES:ปฏิทินตารางหน่วยเคลื่อนที่
END:VEVENT
BEGIN:VEVENT
DTSTART;TZID=Asia/Bangkok:20250904T090000
DTEND;TZID=Asia/Bangkok:20250904T150000
DTSTAMP:20260424T133134
CREATED:20250825T085338Z
LAST-MODIFIED:20250825T085338Z
UID:10003034-1756976400-1756998000@thaibloodcentre.redcross.or.th
SUMMARY:ธนาคารไทยพาณิชย์ จำกัด (มหาชน) อาคารจี ทาวเวอร์ [0G0057]
DESCRIPTION:สถานที่เจาะ : ด้านหน้าอาคารยูนิลิเวอร์เฮาส์ (พัก 11.30-12.30 น.) \nที่อยู่ : 161 ถ. พระราม 9 แขวงห้วยขวาง เขตห้วยขวาง กรุงเทพฯ
URL:https://thaibloodcentre.redcross.or.th/event/%e0%b8%98%e0%b8%99%e0%b8%b2%e0%b8%84%e0%b8%b2%e0%b8%a3%e0%b9%84%e0%b8%97%e0%b8%a2%e0%b8%9e%e0%b8%b2%e0%b8%93%e0%b8%b4%e0%b8%8a%e0%b8%a2%e0%b9%8c-%e0%b8%88%e0%b8%b3%e0%b8%81%e0%b8%b1%e0%b8%94-8/
LOCATION:ธนาคารไทยพาณิชย์ จำกัด (มหาชน) อาคารจี ทาวเวอร์\, อาคารยูนิลิเวอร์เฮาส์ 161 ถนนพระราม 9 แขวงห้วยขวาง เขตห้วยขวาง กรุงเทพมหานคร 10310
CATEGORIES:ปฏิทินตารางหน่วยเคลื่อนที่
END:VEVENT
BEGIN:VEVENT
DTSTART;TZID=Asia/Bangkok:20250304T090000
DTEND;TZID=Asia/Bangkok:20250304T150000
DTSTAMP:20260424T133134
CREATED:20250303T093242Z
LAST-MODIFIED:20250303T093242Z
UID:10000699-1741078800-1741100400@thaibloodcentre.redcross.or.th
SUMMARY:ธนาคารไทยพาณิชย์ จำกัด (มหาชน) อาคารจี ทาวเวอร์ [0G0057]
DESCRIPTION:สถานที่เจาะ : ด้านหน้าอาคารยูนิลิเวอร์เฮาส์ (พัก 11.30-12.30 น.) \nที่อยู่ : 161 ถ. พระราม 9 แขวงห้วยขวาง เขตห้วยขวาง กรุงเทพฯ
URL:https://thaibloodcentre.redcross.or.th/event/%e0%b8%98%e0%b8%99%e0%b8%b2%e0%b8%84%e0%b8%b2%e0%b8%a3%e0%b9%84%e0%b8%97%e0%b8%a2%e0%b8%9e%e0%b8%b2%e0%b8%93%e0%b8%b4%e0%b8%8a%e0%b8%a2%e0%b9%8c-%e0%b8%88%e0%b8%b3%e0%b8%81%e0%b8%b1%e0%b8%94-2/
LOCATION:ธนาคารไทยพาณิชย์ จำกัด (มหาชน) อาคารจี ทาวเวอร์\, อาคารยูนิลิเวอร์เฮาส์ 161 ถนนพระราม 9 แขวงห้วยขวาง เขตห้วยขวาง กรุงเทพมหานคร 10310
CATEGORIES:ปฏิทินตารางหน่วยเคลื่อนที่
END:VEVENT
END:VCALENDAR