BEGIN:VCALENDAR
VERSION:2.0
PRODID:-//เว็บไซต์ศูนย์บริการโลหิตแห่งชาติ - ECPv6.11.2.1//NONSGML v1.0//EN
CALSCALE:GREGORIAN
METHOD:PUBLISH
X-WR-CALNAME:เว็บไซต์ศูนย์บริการโลหิตแห่งชาติ
X-ORIGINAL-URL:https://thaibloodcentre.redcross.or.th
X-WR-CALDESC:Events for เว็บไซต์ศูนย์บริการโลหิตแห่งชาติ
REFRESH-INTERVAL;VALUE=DURATION:PT1H
X-Robots-Tag:noindex
X-PUBLISHED-TTL:PT1H
BEGIN:VTIMEZONE
TZID:Asia/Krasnoyarsk
BEGIN:STANDARD
TZOFFSETFROM:+0700
TZOFFSETTO:+0700
TZNAME:+07
DTSTART:20260101T000000
END:STANDARD
END:VTIMEZONE
BEGIN:VTIMEZONE
TZID:Asia/Bangkok
BEGIN:STANDARD
TZOFFSETFROM:+0700
TZOFFSETTO:+0700
TZNAME:+07
DTSTART:20250101T000000
END:STANDARD
END:VTIMEZONE
BEGIN:VEVENT
DTSTART;TZID=Asia/Krasnoyarsk:20260409T090000
DTEND;TZID=Asia/Krasnoyarsk:20260409T150000
DTSTAMP:20260420T201235
CREATED:20260408T072852Z
LAST-MODIFIED:20260408T072852Z
UID:10006427-1775725200-1775746800@thaibloodcentre.redcross.or.th
SUMMARY:ธนาคารออมสิน [0G0002]
DESCRIPTION:สถานที่เจาะ : หอประชุมเพชรรัตน์ \nที่อยู่ : 470 ถนนพหลโยธิน แขวงสามเสนใน เขตพญาไท กรุงเทพฯ  \nโทร : 0 2299 8000
URL:https://thaibloodcentre.redcross.or.th/event/%e0%b8%98%e0%b8%99%e0%b8%b2%e0%b8%84%e0%b8%b2%e0%b8%a3%e0%b8%ad%e0%b8%ad%e0%b8%a1%e0%b8%aa%e0%b8%b4%e0%b8%99-0g0002-4/
LOCATION:ธนาคารออมสิน\, ธนาคารออมสิน 470 ถนนพหลโยธิน แขวงสามเสนใน เขตพญาไท กรุงเทพมหานคร 10400
CATEGORIES:ปฏิทินตารางหน่วยเคลื่อนที่
END:VEVENT
BEGIN:VEVENT
DTSTART;TZID=Asia/Krasnoyarsk:20260109T090000
DTEND;TZID=Asia/Krasnoyarsk:20260109T150000
DTSTAMP:20260420T201235
CREATED:20260106T130049Z
LAST-MODIFIED:20260106T133324Z
UID:10005021-1767949200-1767970800@thaibloodcentre.redcross.or.th
SUMMARY:ธนาคารออมสิน [0G0002]
DESCRIPTION:สถานที่เจาะ : หอประชุมเพชรรัตน์ \nที่อยู่ : 470 ถนนพหลโยธิน แขวงสามเสนใน เขตพญาไท กรุงเทพฯ 0 2299 8000
URL:https://thaibloodcentre.redcross.or.th/event/%e0%b8%98%e0%b8%99%e0%b8%b2%e0%b8%84%e0%b8%b2%e0%b8%a3%e0%b8%ad%e0%b8%ad%e0%b8%a1%e0%b8%aa%e0%b8%b4%e0%b8%99-0g0002-3/
LOCATION:ธนาคารออมสิน\, ธนาคารออมสิน 470 ถนนพหลโยธิน แขวงสามเสนใน เขตพญาไท กรุงเทพมหานคร 10400
CATEGORIES:ปฏิทินตารางหน่วยเคลื่อนที่
END:VEVENT
BEGIN:VEVENT
DTSTART;TZID=Asia/Bangkok:20251009T090000
DTEND;TZID=Asia/Bangkok:20251009T150000
DTSTAMP:20260420T201235
CREATED:20250925T043053Z
LAST-MODIFIED:20250925T043053Z
UID:10003564-1760000400-1760022000@thaibloodcentre.redcross.or.th
SUMMARY:ธนาคารออมสิน [0G0002]
DESCRIPTION:สถานที่เจาะ : หอประชุมเพชรรัตน์ \nที่อยู่ : 470 ถนนพหลโยธิน แขวงสามเสนใน เขตพญาไท กรุงเทพฯ 0 2299 8000
URL:https://thaibloodcentre.redcross.or.th/event/%e0%b8%98%e0%b8%99%e0%b8%b2%e0%b8%84%e0%b8%b2%e0%b8%a3%e0%b8%ad%e0%b8%ad%e0%b8%a1%e0%b8%aa%e0%b8%b4%e0%b8%99-0g0002-2/
LOCATION:ธนาคารออมสิน\, ธนาคารออมสิน 470 ถนนพหลโยธิน แขวงสามเสนใน เขตพญาไท กรุงเทพมหานคร 10400
CATEGORIES:ปฏิทินตารางหน่วยเคลื่อนที่
END:VEVENT
BEGIN:VEVENT
DTSTART;TZID=Asia/Bangkok:20250409T090000
DTEND;TZID=Asia/Bangkok:20250409T150000
DTSTAMP:20260420T201235
CREATED:20250404T145645Z
LAST-MODIFIED:20250408T023513Z
UID:10001245-1744189200-1744210800@thaibloodcentre.redcross.or.th
SUMMARY:ธนาคารออมสิน [0G0002]
DESCRIPTION:สถานที่เจาะ : ห้องประชุมบูรฉัตร \nที่อยู่ : 470 ถนนพหลโยธิน แขวงสามเสนใน เขตพญาไท กรุงเทพฯ 0 2299 8000
URL:https://thaibloodcentre.redcross.or.th/event/%e0%b8%98%e0%b8%99%e0%b8%b2%e0%b8%84%e0%b8%b2%e0%b8%a3%e0%b8%ad%e0%b8%ad%e0%b8%a1%e0%b8%aa%e0%b8%b4%e0%b8%99-0g0002/
LOCATION:ธนาคารออมสิน\, ธนาคารออมสิน 470 ถนนพหลโยธิน แขวงสามเสนใน เขตพญาไท กรุงเทพมหานคร 10400
CATEGORIES:ปฏิทินตารางหน่วยเคลื่อนที่
END:VEVENT
END:VCALENDAR