BEGIN:VCALENDAR
VERSION:2.0
PRODID:-//เว็บไซต์ศูนย์บริการโลหิตแห่งชาติ - ECPv6.11.2.1//NONSGML v1.0//EN
CALSCALE:GREGORIAN
METHOD:PUBLISH
X-ORIGINAL-URL:https://thaibloodcentre.redcross.or.th
X-WR-CALDESC:Events for เว็บไซต์ศูนย์บริการโลหิตแห่งชาติ
REFRESH-INTERVAL;VALUE=DURATION:PT1H
X-Robots-Tag:noindex
X-PUBLISHED-TTL:PT1H
BEGIN:VTIMEZONE
TZID:Asia/Krasnoyarsk
BEGIN:STANDARD
TZOFFSETFROM:+0700
TZOFFSETTO:+0700
TZNAME:+07
DTSTART:20250101T000000
END:STANDARD
END:VTIMEZONE
BEGIN:VTIMEZONE
TZID:Asia/Bangkok
BEGIN:STANDARD
TZOFFSETFROM:+0700
TZOFFSETTO:+0700
TZNAME:+07
DTSTART:20250101T000000
END:STANDARD
END:VTIMEZONE
BEGIN:VEVENT
DTSTART;TZID=Asia/Krasnoyarsk:20260318T090000
DTEND;TZID=Asia/Krasnoyarsk:20260318T150000
DTSTAMP:20260426T001419
CREATED:20260312T032546Z
LAST-MODIFIED:20260312T032546Z
UID:10006108-1773824400-1773846000@thaibloodcentre.redcross.or.th
SUMMARY:ธนาคารทหารไทยธนชาต จำกัด (มหาชน) []
DESCRIPTION:สถานที่เจาะ : ชั้น 1
URL:https://thaibloodcentre.redcross.or.th/event/%e0%b8%98%e0%b8%99%e0%b8%b2%e0%b8%84%e0%b8%b2%e0%b8%a3%e0%b8%97%e0%b8%ab%e0%b8%b2%e0%b8%a3%e0%b9%84%e0%b8%97%e0%b8%a2%e0%b8%98%e0%b8%99%e0%b8%8a%e0%b8%b2%e0%b8%95-%e0%b8%88%e0%b8%b3%e0%b8%81-6/
LOCATION:ธนาคารทหารไทยธนชาต จำกัด (มหาชน)\, ธนาคารทหารไทยธนชาต จำกัด (มหาชน) 3000 ถนนพหลโยธิน แขวงจอมพล เขตจตุจักร กรุงเทพมหานคร 10900
CATEGORIES:ปฏิทินตารางหน่วยเคลื่อนที่
END:VEVENT
BEGIN:VEVENT
DTSTART;TZID=Asia/Krasnoyarsk:20251217T090000
DTEND;TZID=Asia/Krasnoyarsk:20251217T150000
DTSTAMP:20260426T001419
CREATED:20251215T115258Z
LAST-MODIFIED:20251215T115258Z
UID:10004724-1765962000-1765983600@thaibloodcentre.redcross.or.th
SUMMARY:ธนาคารทหารไทยธนชาต จำกัด (มหาชน) [0G0019]
DESCRIPTION:สถานที่เจาะ : ชั้น 1 \nที่อยู่ : 3000 ถนนพหลโยธิน แขวงลาดยาว เขตจตุจักร กรุงเทพฯ 0 2299 1366
URL:https://thaibloodcentre.redcross.or.th/event/%e0%b8%98%e0%b8%99%e0%b8%b2%e0%b8%84%e0%b8%b2%e0%b8%a3%e0%b8%97%e0%b8%ab%e0%b8%b2%e0%b8%a3%e0%b9%84%e0%b8%97%e0%b8%a2%e0%b8%98%e0%b8%99%e0%b8%8a%e0%b8%b2%e0%b8%95-%e0%b8%88%e0%b8%b3%e0%b8%81-4/
LOCATION:ธนาคารทหารไทยธนชาต จำกัด (มหาชน)\, ธนาคารทหารไทยธนชาต จำกัด (มหาชน) 3000 ถนนพหลโยธิน แขวงจอมพล เขตจตุจักร กรุงเทพมหานคร 10900
CATEGORIES:ปฏิทินตารางหน่วยเคลื่อนที่
END:VEVENT
BEGIN:VEVENT
DTSTART;TZID=Asia/Bangkok:20250917T090000
DTEND;TZID=Asia/Bangkok:20250917T150000
DTSTAMP:20260426T001419
CREATED:20250908T064556Z
LAST-MODIFIED:20250908T064556Z
UID:10003258-1758099600-1758121200@thaibloodcentre.redcross.or.th
SUMMARY:ธนาคารทหารไทยธนชาต จำกัด (มหาชน) [0G0019]
DESCRIPTION:สถานที่เจาะ : ชั้น 1 \nที่อยู่ : 3000 ถนนพหลโยธิน แขวงลาดยาว เขตจตุจักร กรุงเทพฯ 0 2299 1366
URL:https://thaibloodcentre.redcross.or.th/event/%e0%b8%98%e0%b8%99%e0%b8%b2%e0%b8%84%e0%b8%b2%e0%b8%a3%e0%b8%97%e0%b8%ab%e0%b8%b2%e0%b8%a3%e0%b9%84%e0%b8%97%e0%b8%a2%e0%b8%98%e0%b8%99%e0%b8%8a%e0%b8%b2%e0%b8%95-%e0%b8%88%e0%b8%b3%e0%b8%81-3/
LOCATION:ธนาคารทหารไทยธนชาต จำกัด (มหาชน)\, ธนาคารทหารไทยธนชาต จำกัด (มหาชน) 3000 ถนนพหลโยธิน แขวงจอมพล เขตจตุจักร กรุงเทพมหานคร 10900
CATEGORIES:ปฏิทินตารางหน่วยเคลื่อนที่
END:VEVENT
BEGIN:VEVENT
DTSTART;TZID=Asia/Bangkok:20250618T090000
DTEND;TZID=Asia/Bangkok:20250618T150000
DTSTAMP:20260426T001419
CREATED:20250612T090630Z
LAST-MODIFIED:20250619T031628Z
UID:10002137-1750237200-1750258800@thaibloodcentre.redcross.or.th
SUMMARY:ธนาคารทหารไทยธนชาต จำกัด (มหาชน) []
DESCRIPTION:สถานที่เจาะ : ชั้น 1 \nที่อยู่ : 3000 ถนนพหลโยธิน แขวงลาดยาว เขตจตุจักร กรุงเทพฯ 0 2299 1366
URL:https://thaibloodcentre.redcross.or.th/event/%e0%b8%98%e0%b8%99%e0%b8%b2%e0%b8%84%e0%b8%b2%e0%b8%a3%e0%b8%97%e0%b8%ab%e0%b8%b2%e0%b8%a3%e0%b9%84%e0%b8%97%e0%b8%a2%e0%b8%98%e0%b8%99%e0%b8%8a%e0%b8%b2%e0%b8%95-%e0%b8%88%e0%b8%b3%e0%b8%81-2/
LOCATION:ธนาคารทหารไทยธนชาต จำกัด (มหาชน)\, ธนาคารทหารไทยธนชาต จำกัด (มหาชน) 3000 ถนนพหลโยธิน แขวงจอมพล เขตจตุจักร กรุงเทพมหานคร 10900
CATEGORIES:ปฏิทินตารางหน่วยเคลื่อนที่
END:VEVENT
BEGIN:VEVENT
DTSTART;TZID=Asia/Bangkok:20250319T090000
DTEND;TZID=Asia/Bangkok:20250319T150000
DTSTAMP:20260426T001419
CREATED:20250315T041136Z
LAST-MODIFIED:20250315T041136Z
UID:10000949-1742374800-1742396400@thaibloodcentre.redcross.or.th
SUMMARY:ธนาคารทหารไทยธนชาต จำกัด (มหาชน) [0G0019]
DESCRIPTION:สถานที่เจาะ : ชั้น 1 \nที่อยู่ : 3000 ถนนพหลโยธิน แขวงลาดยาว เขตจตุจักร กรุงเทพฯ 0 2299 1366
URL:https://thaibloodcentre.redcross.or.th/event/%e0%b8%98%e0%b8%99%e0%b8%b2%e0%b8%84%e0%b8%b2%e0%b8%a3%e0%b8%97%e0%b8%ab%e0%b8%b2%e0%b8%a3%e0%b9%84%e0%b8%97%e0%b8%a2%e0%b8%98%e0%b8%99%e0%b8%8a%e0%b8%b2%e0%b8%95-%e0%b8%88%e0%b8%b3%e0%b8%81%e0%b8%b1/
LOCATION:ธนาคารทหารไทยธนชาต จำกัด (มหาชน)\, ธนาคารทหารไทยธนชาต จำกัด (มหาชน) 3000 ถนนพหลโยธิน แขวงจอมพล เขตจตุจักร กรุงเทพมหานคร 10900
CATEGORIES:ปฏิทินตารางหน่วยเคลื่อนที่
END:VEVENT
END:VCALENDAR