BEGIN:VCALENDAR
VERSION:2.0
PRODID:-//เว็บไซต์ศูนย์บริการโลหิตแห่งชาติ - ECPv6.11.2.1//NONSGML v1.0//EN
CALSCALE:GREGORIAN
METHOD:PUBLISH
X-WR-CALNAME:เว็บไซต์ศูนย์บริการโลหิตแห่งชาติ
X-ORIGINAL-URL:https://thaibloodcentre.redcross.or.th
X-WR-CALDESC:Events for เว็บไซต์ศูนย์บริการโลหิตแห่งชาติ
REFRESH-INTERVAL;VALUE=DURATION:PT1H
X-Robots-Tag:noindex
X-PUBLISHED-TTL:PT1H
BEGIN:VTIMEZONE
TZID:Asia/Krasnoyarsk
BEGIN:STANDARD
TZOFFSETFROM:+0700
TZOFFSETTO:+0700
TZNAME:+07
DTSTART:20250101T000000
END:STANDARD
END:VTIMEZONE
BEGIN:VTIMEZONE
TZID:Asia/Bangkok
BEGIN:STANDARD
TZOFFSETFROM:+0700
TZOFFSETTO:+0700
TZNAME:+07
DTSTART:20250101T000000
END:STANDARD
END:VTIMEZONE
BEGIN:VEVENT
DTSTART;TZID=Asia/Krasnoyarsk:20260219T090000
DTEND;TZID=Asia/Krasnoyarsk:20260219T150000
DTSTAMP:20260425T071859
CREATED:20260217T091305Z
LAST-MODIFIED:20260217T091305Z
UID:10005575-1771491600-1771513200@thaibloodcentre.redcross.or.th
SUMMARY:ธนาคาร ซีไอเอ็มบี ไทย จำกัด (มหาชน) []
DESCRIPTION:สถานที่เจาะ : ห้อง 1701B ชั้น 17 (พัก 11.30-12.30 น.) \nที่อยู่ : 44 ถนนหลังสวน แขวงลุมพินี เขตปทุมวัน กรุงเทพฯ 0 2638 8265
URL:https://thaibloodcentre.redcross.or.th/event/%e0%b8%98%e0%b8%99%e0%b8%b2%e0%b8%84%e0%b8%b2%e0%b8%a3-%e0%b8%8b%e0%b8%b5%e0%b9%84%e0%b8%ad%e0%b9%80%e0%b8%ad%e0%b9%87%e0%b8%a1%e0%b8%9a%e0%b8%b5-%e0%b9%84%e0%b8%97%e0%b8%a2-%e0%b8%88%e0%b8%b3-11/
LOCATION:ธนาคาร ซีไอเอ็มบี ไทย จำกัด (มหาชน)\, ธนาคาร ซีไอเอ็มบี ไทย จำกัด (มหาชน) 44 ถ.หลังสวน แขวงลุมพินี เขตปทุมวัน กรุงเทพมหานคร 10330
CATEGORIES:ปฏิทินตารางหน่วยเคลื่อนที่
END:VEVENT
BEGIN:VEVENT
DTSTART;TZID=Asia/Krasnoyarsk:20260218T090000
DTEND;TZID=Asia/Krasnoyarsk:20260218T150000
DTSTAMP:20260425T071859
CREATED:20260218T023318Z
LAST-MODIFIED:20260218T023318Z
UID:10005676-1771405200-1771426800@thaibloodcentre.redcross.or.th
SUMMARY:ธนาคาร ซีไอเอ็มบี ไทย จำกัด (มหาชน) []
DESCRIPTION:สถานที่เจาะ : ห้อง 1701B ชั้น 17 (พัก 11.30-12.30 น.) \nที่อยู่ : 44 ถนนหลังสวน แขวงลุมพินี เขตปทุมวัน กรุงเทพฯ 0 2638 8265
URL:https://thaibloodcentre.redcross.or.th/event/%e0%b8%98%e0%b8%99%e0%b8%b2%e0%b8%84%e0%b8%b2%e0%b8%a3-%e0%b8%8b%e0%b8%b5%e0%b9%84%e0%b8%ad%e0%b9%80%e0%b8%ad%e0%b9%87%e0%b8%a1%e0%b8%9a%e0%b8%b5-%e0%b9%84%e0%b8%97%e0%b8%a2-%e0%b8%88%e0%b8%b3-12/
LOCATION:ธนาคาร ซีไอเอ็มบี ไทย จำกัด (มหาชน)\, ธนาคาร ซีไอเอ็มบี ไทย จำกัด (มหาชน) 44 ถ.หลังสวน แขวงลุมพินี เขตปทุมวัน กรุงเทพมหานคร 10330
CATEGORIES:ปฏิทินตารางหน่วยเคลื่อนที่
END:VEVENT
BEGIN:VEVENT
DTSTART;TZID=Asia/Krasnoyarsk:20251120T090000
DTEND;TZID=Asia/Krasnoyarsk:20251120T150000
DTSTAMP:20260425T071859
CREATED:20251117T023230Z
LAST-MODIFIED:20251118T114506Z
UID:10004316-1763629200-1763650800@thaibloodcentre.redcross.or.th
SUMMARY:ธนาคาร ซีไอเอ็มบี ไทย จำกัด (มหาชน) []
DESCRIPTION:สถานที่เจาะ : ห้อง 1701B ชั้น 17 (พัก 11.30-12.30 น.) \nที่อยู่ : 44 ถนนหลังสวน แขวงลุมพินี เขตปทุมวัน กรุงเทพฯ 0 2638 8265
URL:https://thaibloodcentre.redcross.or.th/event/%e0%b8%98%e0%b8%99%e0%b8%b2%e0%b8%84%e0%b8%b2%e0%b8%a3-%e0%b8%8b%e0%b8%b5%e0%b9%84%e0%b8%ad%e0%b9%80%e0%b8%ad%e0%b9%87%e0%b8%a1%e0%b8%9a%e0%b8%b5-%e0%b9%84%e0%b8%97%e0%b8%a2-%e0%b8%88%e0%b8%b3-10/
LOCATION:ธนาคาร ซีไอเอ็มบี ไทย จำกัด (มหาชน)\, ธนาคาร ซีไอเอ็มบี ไทย จำกัด (มหาชน) 44 ถ.หลังสวน แขวงลุมพินี เขตปทุมวัน กรุงเทพมหานคร 10330
CATEGORIES:ปฏิทินตารางหน่วยเคลื่อนที่
END:VEVENT
BEGIN:VEVENT
DTSTART;TZID=Asia/Krasnoyarsk:20251119T090000
DTEND;TZID=Asia/Krasnoyarsk:20251119T150000
DTSTAMP:20260425T071859
CREATED:20251117T023113Z
LAST-MODIFIED:20251118T114501Z
UID:10004306-1763542800-1763564400@thaibloodcentre.redcross.or.th
SUMMARY:ธนาคาร ซีไอเอ็มบี ไทย จำกัด (มหาชน) []
DESCRIPTION:สถานที่เจาะ : ห้อง 1701B ชั้น 17 (พัก 11.30-12.30 น.) \nที่อยู่ : 44 ถนนหลังสวน แขวงลุมพินี เขตปทุมวัน กรุงเทพฯ 0 2638 8265
URL:https://thaibloodcentre.redcross.or.th/event/%e0%b8%98%e0%b8%99%e0%b8%b2%e0%b8%84%e0%b8%b2%e0%b8%a3-%e0%b8%8b%e0%b8%b5%e0%b9%84%e0%b8%ad%e0%b9%80%e0%b8%ad%e0%b9%87%e0%b8%a1%e0%b8%9a%e0%b8%b5-%e0%b9%84%e0%b8%97%e0%b8%a2-%e0%b8%88%e0%b8%b3-9/
LOCATION:ธนาคาร ซีไอเอ็มบี ไทย จำกัด (มหาชน)\, ธนาคาร ซีไอเอ็มบี ไทย จำกัด (มหาชน) 44 ถ.หลังสวน แขวงลุมพินี เขตปทุมวัน กรุงเทพมหานคร 10330
CATEGORIES:ปฏิทินตารางหน่วยเคลื่อนที่
END:VEVENT
BEGIN:VEVENT
DTSTART;TZID=Asia/Bangkok:20250821T090000
DTEND;TZID=Asia/Bangkok:20250821T150000
DTSTAMP:20260425T071859
CREATED:20250819T134718Z
LAST-MODIFIED:20250819T134718Z
UID:10002953-1755766800-1755788400@thaibloodcentre.redcross.or.th
SUMMARY:ธนาคาร ซีไอเอ็มบี ไทย จำกัด (มหาชน) [0G0050]
DESCRIPTION:สถานที่เจาะ : ห้อง 1701B ชั้น 17 (พัก 11.30-12.30 น.) \nที่อยู่ : 44 ถนนหลังสวน แขวงลุมพินี เขตปทุมวัน กรุงเทพฯ 0 2638 8265
URL:https://thaibloodcentre.redcross.or.th/event/%e0%b8%98%e0%b8%99%e0%b8%b2%e0%b8%84%e0%b8%b2%e0%b8%a3-%e0%b8%8b%e0%b8%b5%e0%b9%84%e0%b8%ad%e0%b9%80%e0%b8%ad%e0%b9%87%e0%b8%a1%e0%b8%9a%e0%b8%b5-%e0%b9%84%e0%b8%97%e0%b8%a2-%e0%b8%88%e0%b8%b3-6/
LOCATION:ธนาคาร ซีไอเอ็มบี ไทย จำกัด (มหาชน)\, ธนาคาร ซีไอเอ็มบี ไทย จำกัด (มหาชน) 44 ถ.หลังสวน แขวงลุมพินี เขตปทุมวัน กรุงเทพมหานคร 10330
CATEGORIES:ปฏิทินตารางหน่วยเคลื่อนที่
END:VEVENT
BEGIN:VEVENT
DTSTART;TZID=Asia/Bangkok:20250820T090000
DTEND;TZID=Asia/Bangkok:20250820T150000
DTSTAMP:20260425T071859
CREATED:20250805T054146Z
LAST-MODIFIED:20250805T054146Z
UID:10002834-1755680400-1755702000@thaibloodcentre.redcross.or.th
SUMMARY:ธนาคาร ซีไอเอ็มบี ไทย จำกัด (มหาชน) [0G0050]
DESCRIPTION:สถานที่เจาะ : ห้อง 1701B ชั้น 17 (พัก 11.30-12.30 น.) \nที่อยู่ : 44 ถนนหลังสวน แขวงลุมพินี เขตปทุมวัน กรุงเทพฯ 0 2638 8265
URL:https://thaibloodcentre.redcross.or.th/event/%e0%b8%98%e0%b8%99%e0%b8%b2%e0%b8%84%e0%b8%b2%e0%b8%a3-%e0%b8%8b%e0%b8%b5%e0%b9%84%e0%b8%ad%e0%b9%80%e0%b8%ad%e0%b9%87%e0%b8%a1%e0%b8%9a%e0%b8%b5-%e0%b9%84%e0%b8%97%e0%b8%a2-%e0%b8%88%e0%b8%b3-5/
LOCATION:ธนาคาร ซีไอเอ็มบี ไทย จำกัด (มหาชน)\, ธนาคาร ซีไอเอ็มบี ไทย จำกัด (มหาชน) 44 ถ.หลังสวน แขวงลุมพินี เขตปทุมวัน กรุงเทพมหานคร 10330
CATEGORIES:ปฏิทินตารางหน่วยเคลื่อนที่
END:VEVENT
BEGIN:VEVENT
DTSTART;TZID=Asia/Bangkok:20250522T090000
DTEND;TZID=Asia/Bangkok:20250522T150000
DTSTAMP:20260425T071859
CREATED:20250515T095451Z
LAST-MODIFIED:20250515T095451Z
UID:10001835-1747904400-1747926000@thaibloodcentre.redcross.or.th
SUMMARY:ธนาคาร ซีไอเอ็มบี ไทย จำกัด (มหาชน) []
DESCRIPTION:สถานที่เจาะ : ห้อง 1701B ชั้น 17 (พัก 11.30-12.30 น.) \nที่อยู่ : 44 ถนนหลังสวน แขวงลุมพินี เขตปทุมวัน กรุงเทพฯ 0 2638 8265
URL:https://thaibloodcentre.redcross.or.th/event/%e0%b8%98%e0%b8%99%e0%b8%b2%e0%b8%84%e0%b8%b2%e0%b8%a3-%e0%b8%8b%e0%b8%b5%e0%b9%84%e0%b8%ad%e0%b9%80%e0%b8%ad%e0%b9%87%e0%b8%a1%e0%b8%9a%e0%b8%b5-%e0%b9%84%e0%b8%97%e0%b8%a2-%e0%b8%88%e0%b8%b3-4/
LOCATION:ธนาคาร ซีไอเอ็มบี ไทย จำกัด (มหาชน)\, ธนาคาร ซีไอเอ็มบี ไทย จำกัด (มหาชน) 44 ถ.หลังสวน แขวงลุมพินี เขตปทุมวัน กรุงเทพมหานคร 10330
CATEGORIES:ปฏิทินตารางหน่วยเคลื่อนที่
END:VEVENT
BEGIN:VEVENT
DTSTART;TZID=Asia/Bangkok:20250521T090000
DTEND;TZID=Asia/Bangkok:20250521T150000
DTSTAMP:20260425T071859
CREATED:20250515T095003Z
LAST-MODIFIED:20250515T095003Z
UID:10001818-1747818000-1747839600@thaibloodcentre.redcross.or.th
SUMMARY:ธนาคาร ซีไอเอ็มบี ไทย จำกัด (มหาชน) []
DESCRIPTION:สถานที่เจาะ : ห้อง 1701B ชั้น 17 (พัก 11.30-12.30 น.) \nที่อยู่ : 44 ถนนหลังสวน แขวงลุมพินี เขตปทุมวัน กรุงเทพฯ 0 2638 8265
URL:https://thaibloodcentre.redcross.or.th/event/%e0%b8%98%e0%b8%99%e0%b8%b2%e0%b8%84%e0%b8%b2%e0%b8%a3-%e0%b8%8b%e0%b8%b5%e0%b9%84%e0%b8%ad%e0%b9%80%e0%b8%ad%e0%b9%87%e0%b8%a1%e0%b8%9a%e0%b8%b5-%e0%b9%84%e0%b8%97%e0%b8%a2-%e0%b8%88%e0%b8%b3-3/
LOCATION:ธนาคาร ซีไอเอ็มบี ไทย จำกัด (มหาชน)\, ธนาคาร ซีไอเอ็มบี ไทย จำกัด (มหาชน) 44 ถ.หลังสวน แขวงลุมพินี เขตปทุมวัน กรุงเทพมหานคร 10330
CATEGORIES:ปฏิทินตารางหน่วยเคลื่อนที่
END:VEVENT
BEGIN:VEVENT
DTSTART;TZID=Asia/Bangkok:20250220T090000
DTEND;TZID=Asia/Bangkok:20250220T150000
DTSTAMP:20260425T071859
CREATED:20250216T082337Z
LAST-MODIFIED:20250216T082337Z
UID:10000621-1740042000-1740063600@thaibloodcentre.redcross.or.th
SUMMARY:ธนาคาร ซีไอเอ็มบี ไทย จำกัด (มหาชน) [0G0050]
DESCRIPTION:สถานที่เจาะ : ห้อง 1701B ชั้น 17 (พัก 11.30-12.30 น.) \nที่อยู่ : 44 ถนนหลังสวน แขวงลุมพินี เขตปทุมวัน กรุงเทพฯ  \nโทร : 0 2638 8265
URL:https://thaibloodcentre.redcross.or.th/event/%e0%b8%98%e0%b8%99%e0%b8%b2%e0%b8%84%e0%b8%b2%e0%b8%a3-%e0%b8%8b%e0%b8%b5%e0%b9%84%e0%b8%ad%e0%b9%80%e0%b8%ad%e0%b9%87%e0%b8%a1%e0%b8%9a%e0%b8%b5-%e0%b9%84%e0%b8%97%e0%b8%a2-%e0%b8%88%e0%b8%b3-2/
LOCATION:ธนาคาร ซีไอเอ็มบี ไทย จำกัด (มหาชน)\, ธนาคาร ซีไอเอ็มบี ไทย จำกัด (มหาชน) 44 ถ.หลังสวน แขวงลุมพินี เขตปทุมวัน กรุงเทพมหานคร 10330
CATEGORIES:ปฏิทินตารางหน่วยเคลื่อนที่
END:VEVENT
BEGIN:VEVENT
DTSTART;TZID=Asia/Bangkok:20250219T090000
DTEND;TZID=Asia/Bangkok:20250219T150000
DTSTAMP:20260425T071859
CREATED:20250216T081538Z
LAST-MODIFIED:20250216T081538Z
UID:10000605-1739955600-1739977200@thaibloodcentre.redcross.or.th
SUMMARY:ธนาคาร ซีไอเอ็มบี ไทย จำกัด (มหาชน) [0G0050]
DESCRIPTION:สถานที่เจาะ : ห้อง 1701B ชั้น 17 (พัก 11.30-12.30 น.) \nที่อยู่ : 44 ถนนหลังสวน แขวงลุมพินี เขตปทุมวัน กรุงเทพฯ  \nโทร : 0 2638 8265
URL:https://thaibloodcentre.redcross.or.th/event/%e0%b8%98%e0%b8%99%e0%b8%b2%e0%b8%84%e0%b8%b2%e0%b8%a3-%e0%b8%8b%e0%b8%b5%e0%b9%84%e0%b8%ad%e0%b9%80%e0%b8%ad%e0%b9%87%e0%b8%a1%e0%b8%9a%e0%b8%b5-%e0%b9%84%e0%b8%97%e0%b8%a2-%e0%b8%88%e0%b8%b3/
LOCATION:ธนาคาร ซีไอเอ็มบี ไทย จำกัด (มหาชน)\, ธนาคาร ซีไอเอ็มบี ไทย จำกัด (มหาชน) 44 ถ.หลังสวน แขวงลุมพินี เขตปทุมวัน กรุงเทพมหานคร 10330
CATEGORIES:ปฏิทินตารางหน่วยเคลื่อนที่
END:VEVENT
END:VCALENDAR