BEGIN:VCALENDAR
VERSION:2.0
PRODID:-//เว็บไซต์ศูนย์บริการโลหิตแห่งชาติ - ECPv6.11.2.1//NONSGML v1.0//EN
CALSCALE:GREGORIAN
METHOD:PUBLISH
X-WR-CALNAME:เว็บไซต์ศูนย์บริการโลหิตแห่งชาติ
X-ORIGINAL-URL:https://thaibloodcentre.redcross.or.th
X-WR-CALDESC:Events for เว็บไซต์ศูนย์บริการโลหิตแห่งชาติ
REFRESH-INTERVAL;VALUE=DURATION:PT1H
X-Robots-Tag:noindex
X-PUBLISHED-TTL:PT1H
BEGIN:VTIMEZONE
TZID:Asia/Krasnoyarsk
BEGIN:STANDARD
TZOFFSETFROM:+0700
TZOFFSETTO:+0700
TZNAME:+07
DTSTART:20250101T000000
END:STANDARD
END:VTIMEZONE
BEGIN:VTIMEZONE
TZID:Asia/Bangkok
BEGIN:STANDARD
TZOFFSETFROM:+0700
TZOFFSETTO:+0700
TZNAME:+07
DTSTART:20250101T000000
END:STANDARD
END:VTIMEZONE
BEGIN:VEVENT
DTSTART;TZID=Asia/Krasnoyarsk:20260224T090000
DTEND;TZID=Asia/Krasnoyarsk:20260224T150000
DTSTAMP:20260425T093050
CREATED:20260217T092145Z
LAST-MODIFIED:20260217T092145Z
UID:10005648-1771923600-1771945200@thaibloodcentre.redcross.or.th
SUMMARY:ซีดีจี กรุ๊ป []
DESCRIPTION:สถานที่เจาะ : ห้องประชุม Learning 1-3 ชั้น 18 (พัก 12.00-13.00 น.) \nที่อยู่ : 202 ถนนนางลิ้นจี่ แขวงช่องนนทรี เขตยานนาวา กรุงเทพฯ 0 2678 0200
URL:https://thaibloodcentre.redcross.or.th/event/%e0%b8%8b%e0%b8%b5%e0%b8%94%e0%b8%b5%e0%b8%88%e0%b8%b5-%e0%b8%81%e0%b8%a3%e0%b8%b8%e0%b9%8a%e0%b8%9b-2/
LOCATION:ซีดีจี กรุ๊ป\, ซีดีจี กรุ๊ป 202 ถนนนางลิ้นจี่ แขวงช่องนนทรี เขตยานนาวา กรุงเทพมหานคร 10120
CATEGORIES:ปฏิทินตารางหน่วยเคลื่อนที่
END:VEVENT
BEGIN:VEVENT
DTSTART;TZID=Asia/Krasnoyarsk:20251126T090000
DTEND;TZID=Asia/Krasnoyarsk:20251126T150000
DTSTAMP:20260425T093050
CREATED:20251124T025530Z
LAST-MODIFIED:20251124T025530Z
UID:10004408-1764147600-1764169200@thaibloodcentre.redcross.or.th
SUMMARY:ซีดีจี กรุ๊ป []
DESCRIPTION:สถานที่เจาะ : ห้องประชุม Learning 1-3 ชั้น 18 (พัก 12.00-13.00 น.) \nที่อยู่ : 202 ถนนนางลิ้นจี่ แขวงช่องนนทรี เขตยานนาวา กรุงเทพฯ 0 2678 0200
URL:https://thaibloodcentre.redcross.or.th/event/%e0%b8%8b%e0%b8%b5%e0%b8%94%e0%b8%b5%e0%b8%88%e0%b8%b5-%e0%b8%81%e0%b8%a3%e0%b8%b8%e0%b9%8a%e0%b8%9b/
LOCATION:ซีดีจี กรุ๊ป\, ซีดีจี กรุ๊ป 202 ถนนนางลิ้นจี่ แขวงช่องนนทรี เขตยานนาวา กรุงเทพมหานคร 10120
CATEGORIES:ปฏิทินตารางหน่วยเคลื่อนที่
END:VEVENT
BEGIN:VEVENT
DTSTART;TZID=Asia/Bangkok:20250827T090000
DTEND;TZID=Asia/Bangkok:20250827T150000
DTSTAMP:20260425T093050
CREATED:20250817T105750Z
LAST-MODIFIED:20250817T105750Z
UID:10002891-1756285200-1756306800@thaibloodcentre.redcross.or.th
SUMMARY:ซีดีจี กรุ๊ป [0E0827]
DESCRIPTION:สถานที่เจาะ : ห้องประชุม Learning 1-3 ชั้น 18 (พัก 12-13 น.) \nที่อยู่ : 202 ถนนนางลิ้นจี่ แขวงช่องนนทรี เขตยานนาวา กรุงเทพฯ 0 2678 0200
URL:https://thaibloodcentre.redcross.or.th/event/%e0%b8%8b%e0%b8%b5%e0%b8%94%e0%b8%b5%e0%b8%88%e0%b8%b5-%e0%b8%81%e0%b8%a3%e0%b8%b8%e0%b9%8a%e0%b8%9b-0e0827/
LOCATION:ซีดีจี กรุ๊ป\, ซีดีจี กรุ๊ป 202 ถนนนางลิ้นจี่ แขวงช่องนนทรี เขตยานนาวา กรุงเทพมหานคร 10120
CATEGORIES:ปฏิทินตารางหน่วยเคลื่อนที่
END:VEVENT
END:VCALENDAR