BEGIN:VCALENDAR
VERSION:2.0
PRODID:-//เว็บไซต์ศูนย์บริการโลหิตแห่งชาติ - ECPv6.11.2.1//NONSGML v1.0//EN
CALSCALE:GREGORIAN
METHOD:PUBLISH
X-WR-CALNAME:เว็บไซต์ศูนย์บริการโลหิตแห่งชาติ
X-ORIGINAL-URL:https://thaibloodcentre.redcross.or.th
X-WR-CALDESC:Events for เว็บไซต์ศูนย์บริการโลหิตแห่งชาติ
REFRESH-INTERVAL;VALUE=DURATION:PT1H
X-Robots-Tag:noindex
X-PUBLISHED-TTL:PT1H
BEGIN:VTIMEZONE
TZID:Asia/Krasnoyarsk
BEGIN:STANDARD
TZOFFSETFROM:+0700
TZOFFSETTO:+0700
TZNAME:+07
DTSTART:20250101T000000
END:STANDARD
END:VTIMEZONE
BEGIN:VTIMEZONE
TZID:Asia/Bangkok
BEGIN:STANDARD
TZOFFSETFROM:+0700
TZOFFSETTO:+0700
TZNAME:+07
DTSTART:20250101T000000
END:STANDARD
END:VTIMEZONE
BEGIN:VEVENT
DTSTART;TZID=Asia/Krasnoyarsk:20260222T110000
DTEND;TZID=Asia/Krasnoyarsk:20260222T150000
DTSTAMP:20260425T111100
CREATED:20260217T091814Z
LAST-MODIFIED:20260217T091814Z
UID:10005614-1771758000-1771772400@thaibloodcentre.redcross.or.th
SUMMARY:ชุมชนหมู่บ้านนิรันดร์วิลล่า []
DESCRIPTION:สถานที่เจาะ : ลานกีฬาชุมชน \nที่อยู่ : 296/326 หมู่บ้านนิรันดร์วิลล่า ซอยพึ่งมี 50 แขวงบางจาก เขตพระโขนง กรุงเทพฯ 0 2741 0022
URL:https://thaibloodcentre.redcross.or.th/event/%e0%b8%8a%e0%b8%b8%e0%b8%a1%e0%b8%8a%e0%b8%99%e0%b8%ab%e0%b8%a1%e0%b8%b9%e0%b9%88%e0%b8%9a%e0%b9%89%e0%b8%b2%e0%b8%99%e0%b8%99%e0%b8%b4%e0%b8%a3%e0%b8%b1%e0%b8%99%e0%b8%94%e0%b8%a3%e0%b9%8c%e0%b8%a7-5/
LOCATION:ชุมชนหมู่บ้านนิรันดร์วิลล่า\, หมู่บ้านนิรันดร์วิลล่า 7\, 1 ซอย นิรันดร์คอนโด บางจาก เขตพระโขนง กรุงเทพมหานคร 10260
CATEGORIES:ปฏิทินตารางหน่วยเคลื่อนที่
END:VEVENT
BEGIN:VEVENT
DTSTART;TZID=Asia/Krasnoyarsk:20251123T110000
DTEND;TZID=Asia/Krasnoyarsk:20251123T150000
DTSTAMP:20260425T111100
CREATED:20251117T023800Z
LAST-MODIFIED:20251117T023800Z
UID:10004365-1763895600-1763910000@thaibloodcentre.redcross.or.th
SUMMARY:ชุมชนหมู่บ้านนิรันดร์วิลล่า []
DESCRIPTION:สถานที่เจาะ : ลานกีฬาชุมชน \nที่อยู่ : 296/326 หมู่บ้านนิรันดร์วิลล่า ซอยพึ่งมี 50 แขวงบางจาก เขตพระโขนง กรุงเทพฯ 0 2741 0022
URL:https://thaibloodcentre.redcross.or.th/event/%e0%b8%8a%e0%b8%b8%e0%b8%a1%e0%b8%8a%e0%b8%99%e0%b8%ab%e0%b8%a1%e0%b8%b9%e0%b9%88%e0%b8%9a%e0%b9%89%e0%b8%b2%e0%b8%99%e0%b8%99%e0%b8%b4%e0%b8%a3%e0%b8%b1%e0%b8%99%e0%b8%94%e0%b8%a3%e0%b9%8c%e0%b8%a7-4/
LOCATION:ชุมชนหมู่บ้านนิรันดร์วิลล่า\, หมู่บ้านนิรันดร์วิลล่า 7\, 1 ซอย นิรันดร์คอนโด บางจาก เขตพระโขนง กรุงเทพมหานคร 10260
CATEGORIES:ปฏิทินตารางหน่วยเคลื่อนที่
END:VEVENT
BEGIN:VEVENT
DTSTART;TZID=Asia/Bangkok:20250824T110000
DTEND;TZID=Asia/Bangkok:20250824T150000
DTSTAMP:20260425T111100
CREATED:20250817T112136Z
LAST-MODIFIED:20250817T112136Z
UID:10002938-1756033200-1756047600@thaibloodcentre.redcross.or.th
SUMMARY:ชุมชนหมู่บ้านนิรันดร์วิลล่า [0J0240]
DESCRIPTION:สถานที่เจาะ : ลานกีฬาชุมชน \nที่อยู่ : 296/326 หมู่บ้านนิรันดร์วิลล่า ซอยพึ่งมี 50 แขวงบางจาก เขตพระโขนง กรุงเทพฯ 0 2741 0022
URL:https://thaibloodcentre.redcross.or.th/event/%e0%b8%8a%e0%b8%b8%e0%b8%a1%e0%b8%8a%e0%b8%99%e0%b8%ab%e0%b8%a1%e0%b8%b9%e0%b9%88%e0%b8%9a%e0%b9%89%e0%b8%b2%e0%b8%99%e0%b8%99%e0%b8%b4%e0%b8%a3%e0%b8%b1%e0%b8%99%e0%b8%94%e0%b8%a3%e0%b9%8c%e0%b8%a7-3/
LOCATION:ชุมชนหมู่บ้านนิรันดร์วิลล่า\, หมู่บ้านนิรันดร์วิลล่า 7\, 1 ซอย นิรันดร์คอนโด บางจาก เขตพระโขนง กรุงเทพมหานคร 10260
CATEGORIES:ปฏิทินตารางหน่วยเคลื่อนที่
END:VEVENT
BEGIN:VEVENT
DTSTART;TZID=Asia/Bangkok:20250525T110000
DTEND;TZID=Asia/Bangkok:20250525T150000
DTSTAMP:20260425T111100
CREATED:20250515T100655Z
LAST-MODIFIED:20250515T100655Z
UID:10001881-1748170800-1748185200@thaibloodcentre.redcross.or.th
SUMMARY:ชุมชนหมู่บ้านนิรันดร์วิลล่า []
DESCRIPTION:สถานที่เจาะ : ลานกีฬาชุมชน \nที่อยู่ : 296/326 หมู่บ้านนิรันดร์วิลล่า ซอยพึ่งมี 50 แขวงบางจาก เขตพระโขนง กรุงเทพฯ 0 2741 0022
URL:https://thaibloodcentre.redcross.or.th/event/%e0%b8%8a%e0%b8%b8%e0%b8%a1%e0%b8%8a%e0%b8%99%e0%b8%ab%e0%b8%a1%e0%b8%b9%e0%b9%88%e0%b8%9a%e0%b9%89%e0%b8%b2%e0%b8%99%e0%b8%99%e0%b8%b4%e0%b8%a3%e0%b8%b1%e0%b8%99%e0%b8%94%e0%b8%a3%e0%b9%8c%e0%b8%a7-2/
LOCATION:ชุมชนหมู่บ้านนิรันดร์วิลล่า\, หมู่บ้านนิรันดร์วิลล่า 7\, 1 ซอย นิรันดร์คอนโด บางจาก เขตพระโขนง กรุงเทพมหานคร 10260
CATEGORIES:ปฏิทินตารางหน่วยเคลื่อนที่
END:VEVENT
BEGIN:VEVENT
DTSTART;TZID=Asia/Bangkok:20250223T110000
DTEND;TZID=Asia/Bangkok:20250223T150000
DTSTAMP:20260425T111100
CREATED:20250216T084356Z
LAST-MODIFIED:20250216T084356Z
UID:10000675-1740308400-1740322800@thaibloodcentre.redcross.or.th
SUMMARY:ชุมชนหมู่บ้านนิรันดร์วิลล่า [0J0240]
DESCRIPTION:สถานที่เจาะ : ลานกีฬาชุมชน \nที่อยู่ : 296/326 หมู่บ้านนิรันดร์วิลล่า ซอยพึ่งมี 50 แขวงบางจาก เขตพระโขนง กรุงเทพฯ  \nโทร : 0 2741 0022
URL:https://thaibloodcentre.redcross.or.th/event/%e0%b8%8a%e0%b8%b8%e0%b8%a1%e0%b8%8a%e0%b8%99%e0%b8%ab%e0%b8%a1%e0%b8%b9%e0%b9%88%e0%b8%9a%e0%b9%89%e0%b8%b2%e0%b8%99%e0%b8%99%e0%b8%b4%e0%b8%a3%e0%b8%b1%e0%b8%99%e0%b8%94%e0%b8%a3%e0%b9%8c%e0%b8%a7/
LOCATION:ชุมชนหมู่บ้านนิรันดร์วิลล่า\, หมู่บ้านนิรันดร์วิลล่า 7\, 1 ซอย นิรันดร์คอนโด บางจาก เขตพระโขนง กรุงเทพมหานคร 10260
CATEGORIES:ปฏิทินตารางหน่วยเคลื่อนที่
END:VEVENT
END:VCALENDAR