BEGIN:VCALENDAR
VERSION:2.0
PRODID:-//เว็บไซต์ศูนย์บริการโลหิตแห่งชาติ - ECPv6.11.2.1//NONSGML v1.0//EN
CALSCALE:GREGORIAN
METHOD:PUBLISH
X-WR-CALNAME:เว็บไซต์ศูนย์บริการโลหิตแห่งชาติ
X-ORIGINAL-URL:https://thaibloodcentre.redcross.or.th
X-WR-CALDESC:Events for เว็บไซต์ศูนย์บริการโลหิตแห่งชาติ
REFRESH-INTERVAL;VALUE=DURATION:PT1H
X-Robots-Tag:noindex
X-PUBLISHED-TTL:PT1H
BEGIN:VTIMEZONE
TZID:Asia/Krasnoyarsk
BEGIN:STANDARD
TZOFFSETFROM:+0700
TZOFFSETTO:+0700
TZNAME:+07
DTSTART:20250101T000000
END:STANDARD
END:VTIMEZONE
BEGIN:VTIMEZONE
TZID:Asia/Bangkok
BEGIN:STANDARD
TZOFFSETFROM:+0700
TZOFFSETTO:+0700
TZNAME:+07
DTSTART:20250101T000000
END:STANDARD
END:VTIMEZONE
BEGIN:VEVENT
DTSTART;TZID=Asia/Krasnoyarsk:20251125T090000
DTEND;TZID=Asia/Krasnoyarsk:20251125T150000
DTSTAMP:20260425T230054
CREATED:20251124T025335Z
LAST-MODIFIED:20251124T025335Z
UID:10004392-1764061200-1764082800@thaibloodcentre.redcross.or.th
SUMMARY:การเคหะแห่งชาติ []
DESCRIPTION:สถานที่เจาะ : หน้าอาคาร 1 (พัก 11.00-12.00 น.) \nที่อยู่ : 905 ถนนนวมินทร์ แขวงคลองจั่น เขตบางกะปิ กรุงเทพฯ 0 2351 6217
URL:https://thaibloodcentre.redcross.or.th/event/%e0%b8%81%e0%b8%b2%e0%b8%a3%e0%b9%80%e0%b8%84%e0%b8%ab%e0%b8%b0%e0%b9%81%e0%b8%ab%e0%b9%88%e0%b8%87%e0%b8%8a%e0%b8%b2%e0%b8%95%e0%b8%b4-2/
LOCATION:การเคหะแห่งชาติ\, การเคหะแห่งชาติ 905 ถนนนวมินทร์ แขวงคลองจั่น เขตบางกะปิ กรุงเทพมหานคร 10240
CATEGORIES:ปฏิทินตารางหน่วยเคลื่อนที่
END:VEVENT
BEGIN:VEVENT
DTSTART;TZID=Asia/Bangkok:20250826T090000
DTEND;TZID=Asia/Bangkok:20250826T150000
DTSTAMP:20260425T230054
CREATED:20250817T105342Z
LAST-MODIFIED:20250817T105342Z
UID:10002875-1756198800-1756220400@thaibloodcentre.redcross.or.th
SUMMARY:การเคหะแห่งชาติ [0D0030]
DESCRIPTION:สถานที่เจาะ : หน้าอาคาร 1 (พัก 11-12 น.) \nที่อยู่ : 905 ถนนนวมินทร์ แขวงคลองจั่น เขตบางกะปิ กรุงเทพฯ 0 2351 6217
URL:https://thaibloodcentre.redcross.or.th/event/%e0%b8%81%e0%b8%b2%e0%b8%a3%e0%b9%80%e0%b8%84%e0%b8%ab%e0%b8%b0%e0%b9%81%e0%b8%ab%e0%b9%88%e0%b8%87%e0%b8%8a%e0%b8%b2%e0%b8%95%e0%b8%b4-0d0030/
LOCATION:การเคหะแห่งชาติ\, การเคหะแห่งชาติ 905 ถนนนวมินทร์ แขวงคลองจั่น เขตบางกะปิ กรุงเทพมหานคร 10240
CATEGORIES:ปฏิทินตารางหน่วยเคลื่อนที่
END:VEVENT
BEGIN:VEVENT
DTSTART;TZID=Asia/Bangkok:20250527T090000
DTEND;TZID=Asia/Bangkok:20250527T150000
DTSTAMP:20260425T230054
CREATED:20250515T102705Z
LAST-MODIFIED:20250515T102705Z
UID:10001912-1748336400-1748358000@thaibloodcentre.redcross.or.th
SUMMARY:การเคหะแห่งชาติ []
DESCRIPTION:สถานที่เจาะ : หน้าอาคาร 1 (พัก 11-12 น.) \nที่อยู่ : 905 ถนนนวมินทร์ แขวงคลองจั่น เขตบางกะปิ กรุงเทพฯ 0 2351 6217
URL:https://thaibloodcentre.redcross.or.th/event/%e0%b8%81%e0%b8%b2%e0%b8%a3%e0%b9%80%e0%b8%84%e0%b8%ab%e0%b8%b0%e0%b9%81%e0%b8%ab%e0%b9%88%e0%b8%87%e0%b8%8a%e0%b8%b2%e0%b8%95%e0%b8%b4/
LOCATION:การเคหะแห่งชาติ\, การเคหะแห่งชาติ 905 ถนนนวมินทร์ แขวงคลองจั่น เขตบางกะปิ กรุงเทพมหานคร 10240
CATEGORIES:ปฏิทินตารางหน่วยเคลื่อนที่
END:VEVENT
END:VCALENDAR