BEGIN:VCALENDAR
VERSION:2.0
PRODID:-//เว็บไซต์ศูนย์บริการโลหิตแห่งชาติ - ECPv6.11.2.1//NONSGML v1.0//EN
CALSCALE:GREGORIAN
METHOD:PUBLISH
X-ORIGINAL-URL:https://thaibloodcentre.redcross.or.th
X-WR-CALDESC:Events for เว็บไซต์ศูนย์บริการโลหิตแห่งชาติ
REFRESH-INTERVAL;VALUE=DURATION:PT1H
X-Robots-Tag:noindex
X-PUBLISHED-TTL:PT1H
BEGIN:VTIMEZONE
TZID:Asia/Krasnoyarsk
BEGIN:STANDARD
TZOFFSETFROM:+0700
TZOFFSETTO:+0700
TZNAME:+07
DTSTART:20250101T000000
END:STANDARD
END:VTIMEZONE
BEGIN:VTIMEZONE
TZID:Asia/Bangkok
BEGIN:STANDARD
TZOFFSETFROM:+0700
TZOFFSETTO:+0700
TZNAME:+07
DTSTART:20250101T000000
END:STANDARD
END:VTIMEZONE
BEGIN:VEVENT
DTSTART;TZID=Asia/Krasnoyarsk:20260304T090000
DTEND;TZID=Asia/Krasnoyarsk:20260304T150000
DTSTAMP:20260425T092216
CREATED:20260224T101738Z
LAST-MODIFIED:20260224T101738Z
UID:10005772-1772614800-1772636400@thaibloodcentre.redcross.or.th
SUMMARY:การยาสูบแห่งประเทศไทย []
DESCRIPTION:สถานที่เจาะ : หน้าสหกรณ์ออมทรัพย์ (พัก 12.00-13.00 น.) \nที่อยู่ : 184 ถนพระราม 4 แขวงคลองเตย เขตคลองเตย กรุงเทพฯ
URL:https://thaibloodcentre.redcross.or.th/event/%e0%b8%81%e0%b8%b2%e0%b8%a3%e0%b8%a2%e0%b8%b2%e0%b8%aa%e0%b8%b9%e0%b8%9a%e0%b9%81%e0%b8%ab%e0%b9%88%e0%b8%87%e0%b8%9b%e0%b8%a3%e0%b8%b0%e0%b9%80%e0%b8%97%e0%b8%a8%e0%b9%84%e0%b8%97%e0%b8%a2-3/
LOCATION:การยาสูบแห่งประเทศไทย\, การยาสูบแห่งประเทศไทย 184 ถนนพระรามที่ 4 แขวงคลองเตย เขตคลองเตย กรุงเทพมหานคร 10110
CATEGORIES:ปฏิทินตารางหน่วยเคลื่อนที่
END:VEVENT
BEGIN:VEVENT
DTSTART;TZID=Asia/Krasnoyarsk:20251202T090000
DTEND;TZID=Asia/Krasnoyarsk:20251202T150000
DTSTAMP:20260425T092216
CREATED:20251128T085802Z
LAST-MODIFIED:20251128T110124Z
UID:10004502-1764666000-1764687600@thaibloodcentre.redcross.or.th
SUMMARY:การยาสูบแห่งประเทศไทย []
DESCRIPTION:สถานที่เจาะ : หน้าสหกรณ์ออมทรัพย์ (พัก 12.00-13.00 น.) \nที่อยู่ : 184 ถนพระราม 4 แขวงคลองเตย เขตคลองเตย กรุงเทพฯ
URL:https://thaibloodcentre.redcross.or.th/event/%e0%b8%81%e0%b8%b2%e0%b8%a3%e0%b8%a2%e0%b8%b2%e0%b8%aa%e0%b8%b9%e0%b8%9a%e0%b9%81%e0%b8%ab%e0%b9%88%e0%b8%87%e0%b8%9b%e0%b8%a3%e0%b8%b0%e0%b9%80%e0%b8%97%e0%b8%a8%e0%b9%84%e0%b8%97%e0%b8%a2-2/
LOCATION:การยาสูบแห่งประเทศไทย\, การยาสูบแห่งประเทศไทย 184 ถนนพระรามที่ 4 แขวงคลองเตย เขตคลองเตย กรุงเทพมหานคร 10110
CATEGORIES:ปฏิทินตารางหน่วยเคลื่อนที่
END:VEVENT
BEGIN:VEVENT
DTSTART;TZID=Asia/Bangkok:20250902T090000
DTEND;TZID=Asia/Bangkok:20250902T150000
DTSTAMP:20260425T092216
CREATED:20250825T093456Z
LAST-MODIFIED:20250825T093456Z
UID:10003047-1756803600-1756825200@thaibloodcentre.redcross.or.th
SUMMARY:การยาสูบแห่งประเทศไทย [0D0258]
DESCRIPTION:สถานที่เจาะ : หน้าสหกรณ์ออมทรัพย์ (พัก 12-13 น.) \nที่อยู่ : 184 ถนพระราม 4 แขวงคลองเตย เขตคลองเตย กรุงเทพฯ
URL:https://thaibloodcentre.redcross.or.th/event/%e0%b8%81%e0%b8%b2%e0%b8%a3%e0%b8%a2%e0%b8%b2%e0%b8%aa%e0%b8%b9%e0%b8%9a%e0%b9%81%e0%b8%ab%e0%b9%88%e0%b8%87%e0%b8%9b%e0%b8%a3%e0%b8%b0%e0%b9%80%e0%b8%97%e0%b8%a8%e0%b9%84%e0%b8%97%e0%b8%a2-0d0258-2/
LOCATION:การยาสูบแห่งประเทศไทย\, การยาสูบแห่งประเทศไทย 184 ถนนพระรามที่ 4 แขวงคลองเตย เขตคลองเตย กรุงเทพมหานคร 10110
CATEGORIES:ปฏิทินตารางหน่วยเคลื่อนที่
END:VEVENT
BEGIN:VEVENT
DTSTART;TZID=Asia/Bangkok:20250605T090000
DTEND;TZID=Asia/Bangkok:20250605T150000
DTSTAMP:20260425T092216
CREATED:20250530T122601Z
LAST-MODIFIED:20250707T034150Z
UID:10001933-1749114000-1749135600@thaibloodcentre.redcross.or.th
SUMMARY:การยาสูบแห่งประเทศไทย []
DESCRIPTION:สถานที่เจาะ : หน้าสหกรณ์ออมทรัพย์ (พัก 12-13 น.) \nที่อยู่ : 184 ถนพระราม 4 แขวงคลองเตย เขตคลองเตย กรุงเทพฯ
URL:https://thaibloodcentre.redcross.or.th/event/%e0%b8%81%e0%b8%b2%e0%b8%a3%e0%b8%a2%e0%b8%b2%e0%b8%aa%e0%b8%b9%e0%b8%9a%e0%b9%81%e0%b8%ab%e0%b9%88%e0%b8%87%e0%b8%9b%e0%b8%a3%e0%b8%b0%e0%b9%80%e0%b8%97%e0%b8%a8%e0%b9%84%e0%b8%97%e0%b8%a2/
LOCATION:การยาสูบแห่งประเทศไทย\, การยาสูบแห่งประเทศไทย 184 ถนนพระรามที่ 4 แขวงคลองเตย เขตคลองเตย กรุงเทพมหานคร 10110
CATEGORIES:ปฏิทินตารางหน่วยเคลื่อนที่
END:VEVENT
BEGIN:VEVENT
DTSTART;TZID=Asia/Bangkok:20250304T090000
DTEND;TZID=Asia/Bangkok:20250304T150000
DTSTAMP:20260425T092216
CREATED:20250303T093357Z
LAST-MODIFIED:20250303T093357Z
UID:10000705-1741078800-1741100400@thaibloodcentre.redcross.or.th
SUMMARY:การยาสูบแห่งประเทศไทย [0D0258]
DESCRIPTION:สถานที่เจาะ : หน้าสหกรณ์ออมทรัพย์ (พัก 12.00-13.00 น.) \nที่อยู่ : 184 ถนพระราม 4 แขวงคลองเตย เขตคลองเตย กรุงเทพฯ
URL:https://thaibloodcentre.redcross.or.th/event/%e0%b8%81%e0%b8%b2%e0%b8%a3%e0%b8%a2%e0%b8%b2%e0%b8%aa%e0%b8%b9%e0%b8%9a%e0%b9%81%e0%b8%ab%e0%b9%88%e0%b8%87%e0%b8%9b%e0%b8%a3%e0%b8%b0%e0%b9%80%e0%b8%97%e0%b8%a8%e0%b9%84%e0%b8%97%e0%b8%a2-0d0258/
LOCATION:การยาสูบแห่งประเทศไทย\, การยาสูบแห่งประเทศไทย 184 ถนนพระรามที่ 4 แขวงคลองเตย เขตคลองเตย กรุงเทพมหานคร 10110
CATEGORIES:ปฏิทินตารางหน่วยเคลื่อนที่
END:VEVENT
END:VCALENDAR