BEGIN:VCALENDAR
VERSION:2.0
PRODID:-//เว็บไซต์ศูนย์บริการโลหิตแห่งชาติ - ECPv6.11.2.1//NONSGML v1.0//EN
CALSCALE:GREGORIAN
METHOD:PUBLISH
X-ORIGINAL-URL:https://thaibloodcentre.redcross.or.th
X-WR-CALDESC:Events for เว็บไซต์ศูนย์บริการโลหิตแห่งชาติ
REFRESH-INTERVAL;VALUE=DURATION:PT1H
X-Robots-Tag:noindex
X-PUBLISHED-TTL:PT1H
BEGIN:VTIMEZONE
TZID:Asia/Krasnoyarsk
BEGIN:STANDARD
TZOFFSETFROM:+0700
TZOFFSETTO:+0700
TZNAME:+07
DTSTART:20250101T000000
END:STANDARD
END:VTIMEZONE
BEGIN:VTIMEZONE
TZID:Asia/Bangkok
BEGIN:STANDARD
TZOFFSETFROM:+0700
TZOFFSETTO:+0700
TZNAME:+07
DTSTART:20250101T000000
END:STANDARD
END:VTIMEZONE
BEGIN:VEVENT
DTSTART;TZID=Asia/Krasnoyarsk:20260310T090000
DTEND;TZID=Asia/Krasnoyarsk:20260310T150000
DTSTAMP:20260424T205103
CREATED:20260304T082135Z
LAST-MODIFIED:20260304T082135Z
UID:10005860-1773133200-1773154800@thaibloodcentre.redcross.or.th
SUMMARY:กองแพทย์ กรมชลประทาน สามเสน []
DESCRIPTION:สถานที่เจาะ : หน้าตึกกองแพทย์ (พัก 12.00-13.00 น.) \nที่อยู่ : 811 ถนนสามเสน แขวงสามเสน เขตดุสิต กรุงเทพฯ 0 2241 0741
URL:https://thaibloodcentre.redcross.or.th/event/%e0%b8%81%e0%b8%ad%e0%b8%87%e0%b9%81%e0%b8%9e%e0%b8%97%e0%b8%a2%e0%b9%8c-%e0%b8%81%e0%b8%a3%e0%b8%a1%e0%b8%8a%e0%b8%a5%e0%b8%9b%e0%b8%a3%e0%b8%b0%e0%b8%97%e0%b8%b2%e0%b8%99-%e0%b8%aa%e0%b8%b2-5/
LOCATION:กองแพทย์ กรมชลประทาน สามเสน\, กองแพทย์ กรมชลประทาน สามเสน 811 ถนนสามเสน แขวงถนนนครไชยศรี เขตดุสิต กรุงเทพมหานคร 10300
CATEGORIES:ปฏิทินตารางหน่วยเคลื่อนที่
END:VEVENT
BEGIN:VEVENT
DTSTART;TZID=Asia/Krasnoyarsk:20251208T090000
DTEND;TZID=Asia/Krasnoyarsk:20251208T150000
DTSTAMP:20260424T205103
CREATED:20251128T104522Z
LAST-MODIFIED:20251128T110539Z
UID:10004586-1765184400-1765206000@thaibloodcentre.redcross.or.th
SUMMARY:กองแพทย์ กรมชลประทาน สามเสน []
DESCRIPTION:สถานที่เจาะ : หน้าตึกกองแพทย์ (พัก 12.00-13.00 น.) \nที่อยู่ : 811 ถนนสามเสน แขวงสามเสน เขตดุสิต กรุงเทพฯ 0 2241 0741
URL:https://thaibloodcentre.redcross.or.th/event/%e0%b8%81%e0%b8%ad%e0%b8%87%e0%b9%81%e0%b8%9e%e0%b8%97%e0%b8%a2%e0%b9%8c-%e0%b8%81%e0%b8%a3%e0%b8%a1%e0%b8%8a%e0%b8%a5%e0%b8%9b%e0%b8%a3%e0%b8%b0%e0%b8%97%e0%b8%b2%e0%b8%99-%e0%b8%aa%e0%b8%b2-4/
LOCATION:กองแพทย์ กรมชลประทาน สามเสน\, กองแพทย์ กรมชลประทาน สามเสน 811 ถนนสามเสน แขวงถนนนครไชยศรี เขตดุสิต กรุงเทพมหานคร 10300
CATEGORIES:ปฏิทินตารางหน่วยเคลื่อนที่
END:VEVENT
BEGIN:VEVENT
DTSTART;TZID=Asia/Bangkok:20250908T090000
DTEND;TZID=Asia/Bangkok:20250908T150000
DTSTAMP:20260424T205103
CREATED:20250903T035238Z
LAST-MODIFIED:20250903T035238Z
UID:10003120-1757322000-1757343600@thaibloodcentre.redcross.or.th
SUMMARY:กองแพทย์ กรมชลประทาน สามเสน [0D0002]
DESCRIPTION:สถานที่เจาะ : หน้าตึกกองแพทย์ (พัก 12.00-13.00 น.) \nที่อยู่ : 811 ถนนสามเสน แขวงสามเสน เขตดุสิต กรุงเทพฯ 0 2241 0741
URL:https://thaibloodcentre.redcross.or.th/event/%e0%b8%81%e0%b8%ad%e0%b8%87%e0%b9%81%e0%b8%9e%e0%b8%97%e0%b8%a2%e0%b9%8c-%e0%b8%81%e0%b8%a3%e0%b8%a1%e0%b8%8a%e0%b8%a5%e0%b8%9b%e0%b8%a3%e0%b8%b0%e0%b8%97%e0%b8%b2%e0%b8%99-%e0%b8%aa%e0%b8%b2-3/
LOCATION:กองแพทย์ กรมชลประทาน สามเสน\, กองแพทย์ กรมชลประทาน สามเสน 811 ถนนสามเสน แขวงถนนนครไชยศรี เขตดุสิต กรุงเทพมหานคร 10300
CATEGORIES:ปฏิทินตารางหน่วยเคลื่อนที่
END:VEVENT
BEGIN:VEVENT
DTSTART;TZID=Asia/Bangkok:20250613T090000
DTEND;TZID=Asia/Bangkok:20250613T150000
DTSTAMP:20260424T205103
CREATED:20250604T044942Z
LAST-MODIFIED:20250604T045005Z
UID:10002063-1749805200-1749826800@thaibloodcentre.redcross.or.th
SUMMARY:กองแพทย์ กรมชลประทาน สามเสน []
DESCRIPTION:สถานที่เจาะ : หน้าตึกกองแพทย์ (พัก 12-13 น.) \nที่อยู่ : 811 ถนนสามเสน แขวงสามเสน เขตดุสิต กรุงเทพฯ 0 2241 0741
URL:https://thaibloodcentre.redcross.or.th/event/%e0%b8%81%e0%b8%ad%e0%b8%87%e0%b9%81%e0%b8%9e%e0%b8%97%e0%b8%a2%e0%b9%8c-%e0%b8%81%e0%b8%a3%e0%b8%a1%e0%b8%8a%e0%b8%a5%e0%b8%9b%e0%b8%a3%e0%b8%b0%e0%b8%97%e0%b8%b2%e0%b8%99-%e0%b8%aa%e0%b8%b2-2/
LOCATION:กองแพทย์ กรมชลประทาน สามเสน\, กองแพทย์ กรมชลประทาน สามเสน 811 ถนนสามเสน แขวงถนนนครไชยศรี เขตดุสิต กรุงเทพมหานคร 10300
CATEGORIES:ปฏิทินตารางหน่วยเคลื่อนที่
END:VEVENT
END:VCALENDAR