BEGIN:VCALENDAR
VERSION:2.0
PRODID:-//เว็บไซต์ศูนย์บริการโลหิตแห่งชาติ - ECPv6.11.2.1//NONSGML v1.0//EN
CALSCALE:GREGORIAN
METHOD:PUBLISH
X-ORIGINAL-URL:https://thaibloodcentre.redcross.or.th
X-WR-CALDESC:Events for เว็บไซต์ศูนย์บริการโลหิตแห่งชาติ
REFRESH-INTERVAL;VALUE=DURATION:PT1H
X-Robots-Tag:noindex
X-PUBLISHED-TTL:PT1H
BEGIN:VTIMEZONE
TZID:Asia/Krasnoyarsk
BEGIN:STANDARD
TZOFFSETFROM:+0700
TZOFFSETTO:+0700
TZNAME:+07
DTSTART:20260101T000000
END:STANDARD
END:VTIMEZONE
BEGIN:VTIMEZONE
TZID:Asia/Bangkok
BEGIN:STANDARD
TZOFFSETFROM:+0700
TZOFFSETTO:+0700
TZNAME:+07
DTSTART:20250101T000000
END:STANDARD
END:VTIMEZONE
BEGIN:VEVENT
DTSTART;TZID=Asia/Krasnoyarsk:20260420T090000
DTEND;TZID=Asia/Krasnoyarsk:20260420T150000
DTSTAMP:20260422T213149
CREATED:20260420T065012Z
LAST-MODIFIED:20260420T075239Z
UID:10006630-1776675600-1776697200@thaibloodcentre.redcross.or.th
SUMMARY:กองสถานพักผ่อน กรมพลาธิการทหารบก []
DESCRIPTION:สถานที่เจาะ : ห้องบางปู 3 (พัก 12.00-13.00 น.) \nที่อยู่ : 164 ม. 2 ถ.สุขุมวิท ต.บางปูใหม่ อ.เมือง จ.สมุทรปราการ 0 2323 1213
URL:https://thaibloodcentre.redcross.or.th/event/%e0%b8%81%e0%b8%ad%e0%b8%87%e0%b8%aa%e0%b8%96%e0%b8%b2%e0%b8%99%e0%b8%9e%e0%b8%b1%e0%b8%81%e0%b8%9c%e0%b9%88%e0%b8%ad%e0%b8%99-%e0%b8%81%e0%b8%a3%e0%b8%a1%e0%b8%9e%e0%b8%a5%e0%b8%b2%e0%b8%98-4/
LOCATION:กองสถานพักผ่อน กรมพลาธิการทหารบก\, กองสถานพักผ่อน กรมพลาธิการทหารบก 164 ม.2 ถ.สุขุมวิทต.บางปูใหม่ อ.เมือง จ.สมุทรปราการ 10280
CATEGORIES:ปฏิทินตารางหน่วยเคลื่อนที่
END:VEVENT
BEGIN:VEVENT
DTSTART;TZID=Asia/Krasnoyarsk:20260126T090000
DTEND;TZID=Asia/Krasnoyarsk:20260126T150000
DTSTAMP:20260422T213149
CREATED:20260120T104842Z
LAST-MODIFIED:20260120T104911Z
UID:10005268-1769418000-1769439600@thaibloodcentre.redcross.or.th
SUMMARY:กองสถานพักผ่อน กรมพลาธิการทหารบก []
DESCRIPTION:สถานที่เจาะ : ห้องบางปู 3 (พัก 12.00-13.00 น.) \nที่อยู่ : 164 ม. 2 ถ.สุขุมวิท ต.บางปูใหม่ อ.เมือง จ.สมุทรปราการ 0 2323 1213
URL:https://thaibloodcentre.redcross.or.th/event/%e0%b8%81%e0%b8%ad%e0%b8%87%e0%b8%aa%e0%b8%96%e0%b8%b2%e0%b8%99%e0%b8%9e%e0%b8%b1%e0%b8%81%e0%b8%9c%e0%b9%88%e0%b8%ad%e0%b8%99-%e0%b8%81%e0%b8%a3%e0%b8%a1%e0%b8%9e%e0%b8%a5%e0%b8%b2%e0%b8%98-3/
LOCATION:กองสถานพักผ่อน กรมพลาธิการทหารบก\, กองสถานพักผ่อน กรมพลาธิการทหารบก 164 ม.2 ถ.สุขุมวิทต.บางปูใหม่ อ.เมือง จ.สมุทรปราการ 10280
CATEGORIES:ปฏิทินตารางหน่วยเคลื่อนที่
END:VEVENT
BEGIN:VEVENT
DTSTART;TZID=Asia/Bangkok:20251020T150000
DTEND;TZID=Asia/Bangkok:20251020T150000
DTSTAMP:20260422T213149
CREATED:20251014T070032Z
LAST-MODIFIED:20251014T070032Z
UID:10003716-1760972400-1760972400@thaibloodcentre.redcross.or.th
SUMMARY:กองสถานพักผ่อน กรมพลาธิการทหารบก [กองสถานพักผ่อน กรมพลาธิการทหารบก]
DESCRIPTION:สถานที่เจาะ : 164 ม. 2 ถ.สุขุมวิท \nที่อยู่ : ต.บางปูใหม่ อ.เมือง จ.สมุทรปราการ 0 2323 1213
URL:https://thaibloodcentre.redcross.or.th/event/%e0%b8%81%e0%b8%ad%e0%b8%87%e0%b8%aa%e0%b8%96%e0%b8%b2%e0%b8%99%e0%b8%9e%e0%b8%b1%e0%b8%81%e0%b8%9c%e0%b9%88%e0%b8%ad%e0%b8%99-%e0%b8%81%e0%b8%a3%e0%b8%a1%e0%b8%9e%e0%b8%a5%e0%b8%b2%e0%b8%98-2/
LOCATION:กองสถานพักผ่อน กรมพลาธิการทหารบก\, กองสถานพักผ่อน กรมพลาธิการทหารบก 164 ม.2 ถ.สุขุมวิทต.บางปูใหม่ อ.เมือง จ.สมุทรปราการ 10280
CATEGORIES:ปฏิทินตารางหน่วยเคลื่อนที่
END:VEVENT
BEGIN:VEVENT
DTSTART;TZID=Asia/Bangkok:20250421T090000
DTEND;TZID=Asia/Bangkok:20250421T150000
DTSTAMP:20260422T213149
CREATED:20250417T091935Z
LAST-MODIFIED:20250417T091935Z
UID:10001384-1745226000-1745247600@thaibloodcentre.redcross.or.th
SUMMARY:กองสถานพักผ่อน กรมพลาธิการทหารบก []
DESCRIPTION:สถานที่เจาะ : ห้องบางปู 3 (พัก 12.00-13.00 น.) \nที่อยู่ : 164 ม. 2 ถ.สุขุมวิท ต.บางปูใหม่ อ.เมือง จ.สมุทรปราการ 0 2323 1213
URL:https://thaibloodcentre.redcross.or.th/event/%e0%b8%81%e0%b8%ad%e0%b8%87%e0%b8%aa%e0%b8%96%e0%b8%b2%e0%b8%99%e0%b8%9e%e0%b8%b1%e0%b8%81%e0%b8%9c%e0%b9%88%e0%b8%ad%e0%b8%99-%e0%b8%81%e0%b8%a3%e0%b8%a1%e0%b8%9e%e0%b8%a5%e0%b8%b2%e0%b8%98%e0%b8%b4/
LOCATION:กองสถานพักผ่อน กรมพลาธิการทหารบก\, กองสถานพักผ่อน กรมพลาธิการทหารบก 164 ม.2 ถ.สุขุมวิทต.บางปูใหม่ อ.เมือง จ.สมุทรปราการ 10280
CATEGORIES:ปฏิทินตารางหน่วยเคลื่อนที่
END:VEVENT
END:VCALENDAR