BEGIN:VCALENDAR
VERSION:2.0
PRODID:-//เว็บไซต์ศูนย์บริการโลหิตแห่งชาติ - ECPv6.11.2.1//NONSGML v1.0//EN
CALSCALE:GREGORIAN
METHOD:PUBLISH
X-ORIGINAL-URL:https://thaibloodcentre.redcross.or.th
X-WR-CALDESC:Events for เว็บไซต์ศูนย์บริการโลหิตแห่งชาติ
REFRESH-INTERVAL;VALUE=DURATION:PT1H
X-Robots-Tag:noindex
X-PUBLISHED-TTL:PT1H
BEGIN:VTIMEZONE
TZID:Asia/Krasnoyarsk
BEGIN:STANDARD
TZOFFSETFROM:+0700
TZOFFSETTO:+0700
TZNAME:+07
DTSTART:20250101T000000
END:STANDARD
END:VTIMEZONE
BEGIN:VTIMEZONE
TZID:Asia/Bangkok
BEGIN:STANDARD
TZOFFSETFROM:+0700
TZOFFSETTO:+0700
TZNAME:+07
DTSTART:20250101T000000
END:STANDARD
END:VTIMEZONE
BEGIN:VEVENT
DTSTART;TZID=Asia/Krasnoyarsk:20260401T090000
DTEND;TZID=Asia/Krasnoyarsk:20260401T150000
DTSTAMP:20260425T093021
CREATED:20260325T043609Z
LAST-MODIFIED:20260325T043609Z
UID:10006315-1775034000-1775055600@thaibloodcentre.redcross.or.th
SUMMARY:กองบัญชาการกองทัพไทย [0C0239]
DESCRIPTION:สถานที่เจาะ : ห้องประชุมสำนักงานแพทย์ \nที่อยู่ : 127 ถนนแจ้งวัฒนะ แขวงทุ่งสองห้อง เขตหลักสี่ กรุงเทพฯ  \nโทร : 0 2586 7360
URL:https://thaibloodcentre.redcross.or.th/event/%e0%b8%81%e0%b8%ad%e0%b8%87%e0%b8%9a%e0%b8%b1%e0%b8%8d%e0%b8%8a%e0%b8%b2%e0%b8%81%e0%b8%b2%e0%b8%a3%e0%b8%81%e0%b8%ad%e0%b8%87%e0%b8%97%e0%b8%b1%e0%b8%9e%e0%b9%84%e0%b8%97%e0%b8%a2-0c0239-4/
LOCATION:กองบัญชาการกองทัพไทย\, กองบัญชาการกองทัพไทย 127 ซอยแจ้งวัฒนะ 7 แขวงทุ่งสองห้อง เขตหลักสี่ กรุงเทพมหานคร 10210
CATEGORIES:ปฏิทินตารางหน่วยเคลื่อนที่
END:VEVENT
BEGIN:VEVENT
DTSTART;TZID=Asia/Krasnoyarsk:20260121T090000
DTEND;TZID=Asia/Krasnoyarsk:20260121T150000
DTSTAMP:20260425T093021
CREATED:20260120T103845Z
LAST-MODIFIED:20260120T103845Z
UID:10005189-1768986000-1769007600@thaibloodcentre.redcross.or.th
SUMMARY:กองบัญชาการกองทัพไทย []
DESCRIPTION:สถานที่เจาะ : ห้องประชุมสำนักงานแพทย์ \nที่อยู่ : 127 ถนนแจ้งวัฒนะ แขวงทุ่งสองห้อง เขตหลักสี่ กรุงเทพฯ 0 2586 7360
URL:https://thaibloodcentre.redcross.or.th/event/%e0%b8%81%e0%b8%ad%e0%b8%87%e0%b8%9a%e0%b8%b1%e0%b8%8d%e0%b8%8a%e0%b8%b2%e0%b8%81%e0%b8%b2%e0%b8%a3%e0%b8%81%e0%b8%ad%e0%b8%87%e0%b8%97%e0%b8%b1%e0%b8%9e%e0%b9%84%e0%b8%97%e0%b8%a2-4/
LOCATION:กองบัญชาการกองทัพไทย\, กองบัญชาการกองทัพไทย 127 ซอยแจ้งวัฒนะ 7 แขวงทุ่งสองห้อง เขตหลักสี่ กรุงเทพมหานคร 10210
CATEGORIES:ปฏิทินตารางหน่วยเคลื่อนที่
END:VEVENT
BEGIN:VEVENT
DTSTART;TZID=Asia/Krasnoyarsk:20251204T090000
DTEND;TZID=Asia/Krasnoyarsk:20251204T150000
DTSTAMP:20260425T093021
CREATED:20251128T090757Z
LAST-MODIFIED:20251128T110308Z
UID:10004535-1764838800-1764860400@thaibloodcentre.redcross.or.th
SUMMARY:กองบัญชาการกองทัพไทย []
DESCRIPTION:สถานที่เจาะ : ห้องประชุมสำนักงานแพทย์ \nที่อยู่ : 127 ถนนแจ้งวัฒนะ แขวงทุ่งสองห้อง เขตหลักสี่ กรุงเทพฯ 0 2586 7360
URL:https://thaibloodcentre.redcross.or.th/event/%e0%b8%81%e0%b8%ad%e0%b8%87%e0%b8%9a%e0%b8%b1%e0%b8%8d%e0%b8%8a%e0%b8%b2%e0%b8%81%e0%b8%b2%e0%b8%a3%e0%b8%81%e0%b8%ad%e0%b8%87%e0%b8%97%e0%b8%b1%e0%b8%9e%e0%b9%84%e0%b8%97%e0%b8%a2-3/
LOCATION:กองบัญชาการกองทัพไทย\, กองบัญชาการกองทัพไทย 127 ซอยแจ้งวัฒนะ 7 แขวงทุ่งสองห้อง เขตหลักสี่ กรุงเทพมหานคร 10210
CATEGORIES:ปฏิทินตารางหน่วยเคลื่อนที่
END:VEVENT
BEGIN:VEVENT
DTSTART;TZID=Asia/Bangkok:20251010T090000
DTEND;TZID=Asia/Bangkok:20251010T150000
DTSTAMP:20260425T093021
CREATED:20251003T084253Z
LAST-MODIFIED:20251003T084253Z
UID:10003578-1760086800-1760108400@thaibloodcentre.redcross.or.th
SUMMARY:กองบัญชาการกองทัพไทย [0C0239]
DESCRIPTION:สถานที่เจาะ : ห้องประชุมสำนักงานแพทย์ \nที่อยู่ : 127 ถนนแจ้งวัฒนะ แขวงทุ่งสองห้อง เขตหลักสี่ กรุงเทพฯ 0 2586 7360
URL:https://thaibloodcentre.redcross.or.th/event/%e0%b8%81%e0%b8%ad%e0%b8%87%e0%b8%9a%e0%b8%b1%e0%b8%8d%e0%b8%8a%e0%b8%b2%e0%b8%81%e0%b8%b2%e0%b8%a3%e0%b8%81%e0%b8%ad%e0%b8%87%e0%b8%97%e0%b8%b1%e0%b8%9e%e0%b9%84%e0%b8%97%e0%b8%a2-0c0239-3/
LOCATION:กองบัญชาการกองทัพไทย\, กองบัญชาการกองทัพไทย 127 ซอยแจ้งวัฒนะ 7 แขวงทุ่งสองห้อง เขตหลักสี่ กรุงเทพมหานคร 10210
CATEGORIES:ปฏิทินตารางหน่วยเคลื่อนที่
END:VEVENT
BEGIN:VEVENT
DTSTART;TZID=Asia/Bangkok:20250903T090000
DTEND;TZID=Asia/Bangkok:20250903T150000
DTSTAMP:20260425T093021
CREATED:20250825T094006Z
LAST-MODIFIED:20250825T094006Z
UID:10003065-1756890000-1756911600@thaibloodcentre.redcross.or.th
SUMMARY:กองบัญชาการกองทัพไทย [0C0239]
DESCRIPTION:สถานที่เจาะ : ห้องประชุมสำนักงานแพทย์ \nที่อยู่ : 127 ถนนแจ้งวัฒนะ แขวงทุ่งสองห้อง เขตหลักสี่ กรุงเทพฯ 0 2586 7360
URL:https://thaibloodcentre.redcross.or.th/event/%e0%b8%81%e0%b8%ad%e0%b8%87%e0%b8%9a%e0%b8%b1%e0%b8%8d%e0%b8%8a%e0%b8%b2%e0%b8%81%e0%b8%b2%e0%b8%a3%e0%b8%81%e0%b8%ad%e0%b8%87%e0%b8%97%e0%b8%b1%e0%b8%9e%e0%b9%84%e0%b8%97%e0%b8%a2-0c0239-2/
LOCATION:กองบัญชาการกองทัพไทย\, กองบัญชาการกองทัพไทย 127 ซอยแจ้งวัฒนะ 7 แขวงทุ่งสองห้อง เขตหลักสี่ กรุงเทพมหานคร 10210
CATEGORIES:ปฏิทินตารางหน่วยเคลื่อนที่
END:VEVENT
BEGIN:VEVENT
DTSTART;TZID=Asia/Bangkok:20250725T090000
DTEND;TZID=Asia/Bangkok:20250725T150000
DTSTAMP:20260425T093021
CREATED:20250716T111033Z
LAST-MODIFIED:20250716T111033Z
UID:10002472-1753434000-1753455600@thaibloodcentre.redcross.or.th
SUMMARY:กองบัญชาการกองทัพไทย []
DESCRIPTION:สถานที่เจาะ : ห้องประชุมสำนักงานแพทย์ \nที่อยู่ : 127 ถนนแจ้งวัฒนะ แขวงทุ่งสองห้อง เขตหลักสี่ กรุงเทพฯ 0 2586 7360
URL:https://thaibloodcentre.redcross.or.th/event/%e0%b8%81%e0%b8%ad%e0%b8%87%e0%b8%9a%e0%b8%b1%e0%b8%8d%e0%b8%8a%e0%b8%b2%e0%b8%81%e0%b8%b2%e0%b8%a3%e0%b8%81%e0%b8%ad%e0%b8%87%e0%b8%97%e0%b8%b1%e0%b8%9e%e0%b9%84%e0%b8%97%e0%b8%a2-2/
LOCATION:กองบัญชาการกองทัพไทย\, กองบัญชาการกองทัพไทย 127 ซอยแจ้งวัฒนะ 7 แขวงทุ่งสองห้อง เขตหลักสี่ กรุงเทพมหานคร 10210
CATEGORIES:ปฏิทินตารางหน่วยเคลื่อนที่
END:VEVENT
BEGIN:VEVENT
DTSTART;TZID=Asia/Bangkok:20250429T090000
DTEND;TZID=Asia/Bangkok:20250429T150000
DTSTAMP:20260425T093021
CREATED:20250424T063835Z
LAST-MODIFIED:20250424T063835Z
UID:10001514-1745917200-1745938800@thaibloodcentre.redcross.or.th
SUMMARY:กองบัญชาการกองทัพไทย []
DESCRIPTION:สถานที่เจาะ : ห้องประชุมสำนักงานแพทย์ \nที่อยู่ : 127 ถนนแจ้งวัฒนะ แขวงทุ่งสองห้อง เขตหลักสี่ กรุงเทพฯ 0 2586 7360
URL:https://thaibloodcentre.redcross.or.th/event/%e0%b8%81%e0%b8%ad%e0%b8%87%e0%b8%9a%e0%b8%b1%e0%b8%8d%e0%b8%8a%e0%b8%b2%e0%b8%81%e0%b8%b2%e0%b8%a3%e0%b8%81%e0%b8%ad%e0%b8%87%e0%b8%97%e0%b8%b1%e0%b8%9e%e0%b9%84%e0%b8%97%e0%b8%a2/
LOCATION:กองบัญชาการกองทัพไทย\, กองบัญชาการกองทัพไทย 127 ซอยแจ้งวัฒนะ 7 แขวงทุ่งสองห้อง เขตหลักสี่ กรุงเทพมหานคร 10210
CATEGORIES:ปฏิทินตารางหน่วยเคลื่อนที่
END:VEVENT
BEGIN:VEVENT
DTSTART;TZID=Asia/Bangkok:20250402T090000
DTEND;TZID=Asia/Bangkok:20250402T150000
DTSTAMP:20260425T093021
CREATED:20250328T031955Z
LAST-MODIFIED:20250328T031955Z
UID:10001138-1743584400-1743606000@thaibloodcentre.redcross.or.th
SUMMARY:กองบัญชาการกองทัพไทย [0C0239]
DESCRIPTION:สถานที่เจาะ : ห้องประชุมสำนักงานแพทย์ \nที่อยู่ : 127 ถนนแจ้งวัฒนะ แขวงทุ่งสองห้อง เขตหลักสี่ กรุงเทพฯ 0 2586 7360
URL:https://thaibloodcentre.redcross.or.th/event/%e0%b8%81%e0%b8%ad%e0%b8%87%e0%b8%9a%e0%b8%b1%e0%b8%8d%e0%b8%8a%e0%b8%b2%e0%b8%81%e0%b8%b2%e0%b8%a3%e0%b8%81%e0%b8%ad%e0%b8%87%e0%b8%97%e0%b8%b1%e0%b8%9e%e0%b9%84%e0%b8%97%e0%b8%a2-0c0239/
LOCATION:กองบัญชาการกองทัพไทย\, กองบัญชาการกองทัพไทย 127 ซอยแจ้งวัฒนะ 7 แขวงทุ่งสองห้อง เขตหลักสี่ กรุงเทพมหานคร 10210
CATEGORIES:ปฏิทินตารางหน่วยเคลื่อนที่
END:VEVENT
END:VCALENDAR