BEGIN:VCALENDAR
VERSION:2.0
PRODID:-//เว็บไซต์ศูนย์บริการโลหิตแห่งชาติ - ECPv6.11.2.1//NONSGML v1.0//EN
CALSCALE:GREGORIAN
METHOD:PUBLISH
X-ORIGINAL-URL:https://thaibloodcentre.redcross.or.th
X-WR-CALDESC:Events for เว็บไซต์ศูนย์บริการโลหิตแห่งชาติ
REFRESH-INTERVAL;VALUE=DURATION:PT1H
X-Robots-Tag:noindex
X-PUBLISHED-TTL:PT1H
BEGIN:VTIMEZONE
TZID:Asia/Krasnoyarsk
BEGIN:STANDARD
TZOFFSETFROM:+0700
TZOFFSETTO:+0700
TZNAME:+07
DTSTART:20250101T000000
END:STANDARD
END:VTIMEZONE
BEGIN:VTIMEZONE
TZID:Asia/Bangkok
BEGIN:STANDARD
TZOFFSETFROM:+0700
TZOFFSETTO:+0700
TZNAME:+07
DTSTART:20250101T000000
END:STANDARD
END:VTIMEZONE
BEGIN:VEVENT
DTSTART;TZID=Asia/Krasnoyarsk:20260311T090000
DTEND;TZID=Asia/Krasnoyarsk:20260311T150000
DTSTAMP:20260425T092557
CREATED:20260304T082317Z
LAST-MODIFIED:20260304T082327Z
UID:10005879-1773219600-1773241200@thaibloodcentre.redcross.or.th
SUMMARY:กลุ่มเซ็นทรัล ตึก JTC สีลม []
DESCRIPTION:สถานที่เจาะ : ลานจอดรถ (พัก 12.00-13.00 น.) \nที่อยู่ : 919/555 ถนนสีลม แขวงสีลม เขตบางรัก กรุงเทพฯ 0 2101 7819
URL:https://thaibloodcentre.redcross.or.th/event/%e0%b8%81%e0%b8%a5%e0%b8%b8%e0%b9%88%e0%b8%a1%e0%b9%80%e0%b8%8b%e0%b9%87%e0%b8%99%e0%b8%97%e0%b8%a3%e0%b8%b1%e0%b8%a5-%e0%b8%95%e0%b8%b6%e0%b8%81-jtc-%e0%b8%aa%e0%b8%b5%e0%b8%a5%e0%b8%a1-3/
LOCATION:กลุ่มเซ็นทรัล ตึก JTC สีลม\, อาคารจิวเวลรี่เทรดเซ็นเตอร์ 919/1 ถนนสีลม แขวงสีลม เขตบางรัก กรุงเทพมหานคร 10500
CATEGORIES:ปฏิทินตารางหน่วยเคลื่อนที่
END:VEVENT
BEGIN:VEVENT
DTSTART;TZID=Asia/Krasnoyarsk:20251211T090000
DTEND;TZID=Asia/Krasnoyarsk:20251211T150000
DTSTAMP:20260425T092557
CREATED:20251208T072951Z
LAST-MODIFIED:20251208T072951Z
UID:10004627-1765443600-1765465200@thaibloodcentre.redcross.or.th
SUMMARY:กลุ่มเซ็นทรัล ตึก JTC สีลม []
DESCRIPTION:สถานที่เจาะ : ลานจอดรถ (พัก 12.00-13.00 น.) \nที่อยู่ : 919/555 ถนนสีลม แขวงสีลม เขตบางรัก กรุงเทพฯ 0 2101 7819
URL:https://thaibloodcentre.redcross.or.th/event/%e0%b8%81%e0%b8%a5%e0%b8%b8%e0%b9%88%e0%b8%a1%e0%b9%80%e0%b8%8b%e0%b9%87%e0%b8%99%e0%b8%97%e0%b8%a3%e0%b8%b1%e0%b8%a5-%e0%b8%95%e0%b8%b6%e0%b8%81-jtc-%e0%b8%aa%e0%b8%b5%e0%b8%a5%e0%b8%a1-2/
LOCATION:กลุ่มเซ็นทรัล ตึก JTC สีลม\, อาคารจิวเวลรี่เทรดเซ็นเตอร์ 919/1 ถนนสีลม แขวงสีลม เขตบางรัก กรุงเทพมหานคร 10500
CATEGORIES:ปฏิทินตารางหน่วยเคลื่อนที่
END:VEVENT
BEGIN:VEVENT
DTSTART;TZID=Asia/Bangkok:20250911T090000
DTEND;TZID=Asia/Bangkok:20250911T150000
DTSTAMP:20260425T092557
CREATED:20250903T072012Z
LAST-MODIFIED:20250903T072012Z
UID:10003161-1757581200-1757602800@thaibloodcentre.redcross.or.th
SUMMARY:กลุ่มเซ็นทรัล ตึก JTC สีลม [0M0368]
DESCRIPTION:สถานที่เจาะ : ลานจอดรถ (พัก 12-13 น.) \nที่อยู่ : 919/555 ถนนสีลม แขวงสีลม เขตบางรัก กรุงเทพฯ 0 2101 7819
URL:https://thaibloodcentre.redcross.or.th/event/%e0%b8%81%e0%b8%a5%e0%b8%b8%e0%b9%88%e0%b8%a1%e0%b9%80%e0%b8%8b%e0%b9%87%e0%b8%99%e0%b8%97%e0%b8%a3%e0%b8%b1%e0%b8%a5-%e0%b8%95%e0%b8%b6%e0%b8%81-jtc-%e0%b8%aa%e0%b8%b5%e0%b8%a5%e0%b8%a1-0m0368-2/
LOCATION:กลุ่มเซ็นทรัล ตึก JTC สีลม\, อาคารจิวเวลรี่เทรดเซ็นเตอร์ 919/1 ถนนสีลม แขวงสีลม เขตบางรัก กรุงเทพมหานคร 10500
CATEGORIES:ปฏิทินตารางหน่วยเคลื่อนที่
END:VEVENT
BEGIN:VEVENT
DTSTART;TZID=Asia/Bangkok:20250611T090000
DTEND;TZID=Asia/Bangkok:20250611T150000
DTSTAMP:20260425T092557
CREATED:20250604T044640Z
LAST-MODIFIED:20250604T044640Z
UID:10002031-1749632400-1749654000@thaibloodcentre.redcross.or.th
SUMMARY:กลุ่มเซ็นทรัล ตึก JTC สีลม []
DESCRIPTION:สถานที่เจาะ : ลานจอดรถ (พัก 12-13 น.) \nที่อยู่ : 919/555 ถนนสีลม แขวงสีลม เขตบางรัก กรุงเทพฯ 0 2101 7819
URL:https://thaibloodcentre.redcross.or.th/event/%e0%b8%81%e0%b8%a5%e0%b8%b8%e0%b9%88%e0%b8%a1%e0%b9%80%e0%b8%8b%e0%b9%87%e0%b8%99%e0%b8%97%e0%b8%a3%e0%b8%b1%e0%b8%a5-%e0%b8%95%e0%b8%b6%e0%b8%81-jtc-%e0%b8%aa%e0%b8%b5%e0%b8%a5%e0%b8%a1/
LOCATION:กลุ่มเซ็นทรัล ตึก JTC สีลม\, อาคารจิวเวลรี่เทรดเซ็นเตอร์ 919/1 ถนนสีลม แขวงสีลม เขตบางรัก กรุงเทพมหานคร 10500
CATEGORIES:ปฏิทินตารางหน่วยเคลื่อนที่
END:VEVENT
BEGIN:VEVENT
DTSTART;TZID=Asia/Bangkok:20250311T090000
DTEND;TZID=Asia/Bangkok:20250311T150000
DTSTAMP:20260425T092557
CREATED:20250309T132306Z
LAST-MODIFIED:20250309T132306Z
UID:10000814-1741683600-1741705200@thaibloodcentre.redcross.or.th
SUMMARY:กลุ่มเซ็นทรัล ตึก JTC สีลม [0M0368]
DESCRIPTION:สถานที่เจาะ : ลานจอดรถ (พัก 12.00-13.00 น.) \nที่อยู่ : 919/555 ถนนสีลม แขวงสีลม เขตบางรัก กรุงเทพฯ 0 2101 7819
URL:https://thaibloodcentre.redcross.or.th/event/%e0%b8%81%e0%b8%a5%e0%b8%b8%e0%b9%88%e0%b8%a1%e0%b9%80%e0%b8%8b%e0%b9%87%e0%b8%99%e0%b8%97%e0%b8%a3%e0%b8%b1%e0%b8%a5-%e0%b8%95%e0%b8%b6%e0%b8%81-jtc-%e0%b8%aa%e0%b8%b5%e0%b8%a5%e0%b8%a1-0m0368/
LOCATION:กลุ่มเซ็นทรัล ตึก JTC สีลม\, อาคารจิวเวลรี่เทรดเซ็นเตอร์ 919/1 ถนนสีลม แขวงสีลม เขตบางรัก กรุงเทพมหานคร 10500
CATEGORIES:ปฏิทินตารางหน่วยเคลื่อนที่
END:VEVENT
END:VCALENDAR