BEGIN:VCALENDAR
VERSION:2.0
PRODID:-//เว็บไซต์ศูนย์บริการโลหิตแห่งชาติ - ECPv6.11.2.1//NONSGML v1.0//EN
CALSCALE:GREGORIAN
METHOD:PUBLISH
X-ORIGINAL-URL:https://thaibloodcentre.redcross.or.th
X-WR-CALDESC:Events for เว็บไซต์ศูนย์บริการโลหิตแห่งชาติ
REFRESH-INTERVAL;VALUE=DURATION:PT1H
X-Robots-Tag:noindex
X-PUBLISHED-TTL:PT1H
BEGIN:VTIMEZONE
TZID:Asia/Krasnoyarsk
BEGIN:STANDARD
TZOFFSETFROM:+0700
TZOFFSETTO:+0700
TZNAME:+07
DTSTART:20250101T000000
END:STANDARD
END:VTIMEZONE
BEGIN:VTIMEZONE
TZID:Asia/Bangkok
BEGIN:STANDARD
TZOFFSETFROM:+0700
TZOFFSETTO:+0700
TZNAME:+07
DTSTART:20250101T000000
END:STANDARD
END:VTIMEZONE
BEGIN:VEVENT
DTSTART;TZID=Asia/Krasnoyarsk:20260315T083000
DTEND;TZID=Asia/Krasnoyarsk:20260315T120000
DTSTAMP:20260422T230547
CREATED:20260312T030021Z
LAST-MODIFIED:20260312T030021Z
UID:10006059-1773563400-1773576000@thaibloodcentre.redcross.or.th
SUMMARY:กลุ่มปฏิบัติธรรม LDH วัดภาษี []
DESCRIPTION:สถานที่เจาะ : โรงเรียนวัดธาตุทอง ฝ่ายประถม
URL:https://thaibloodcentre.redcross.or.th/event/%e0%b8%81%e0%b8%a5%e0%b8%b8%e0%b9%88%e0%b8%a1%e0%b8%9b%e0%b8%8f%e0%b8%b4%e0%b8%9a%e0%b8%b1%e0%b8%95%e0%b8%b4%e0%b8%98%e0%b8%a3%e0%b8%a3%e0%b8%a1-ldh-%e0%b8%a7%e0%b8%b1%e0%b8%94%e0%b8%a0%e0%b8%b2-6/
LOCATION:กลุ่มปฏิบัติธรรม LDH วัดภาษี\, โรงเรียนวัดธาตุทอง ฝ่ายประถม 1325 ถนนสุขุมวิท แขวงพระโขนงเหนือ เขตวัฒนา กรุงเทพมหานคร 10110
CATEGORIES:ปฏิทินตารางหน่วยเคลื่อนที่
END:VEVENT
BEGIN:VEVENT
DTSTART;TZID=Asia/Krasnoyarsk:20251221T083000
DTEND;TZID=Asia/Krasnoyarsk:20251221T120000
DTSTAMP:20260422T230548
CREATED:20251215T120019Z
LAST-MODIFIED:20251215T120019Z
UID:10004786-1766305800-1766318400@thaibloodcentre.redcross.or.th
SUMMARY:กลุ่มปฏิบัติธรรม LDH วัดภาษี [0H0098]
DESCRIPTION:สถานที่เจาะ : โรงเรียนวัดธาตุทอง ฝ่ายประถม \nที่อยู่ : 154 ถนน สุขุมวิท แขวงพระโขนงเหนือ เขตวัฒนา กรุงเทพฯ
URL:https://thaibloodcentre.redcross.or.th/event/%e0%b8%81%e0%b8%a5%e0%b8%b8%e0%b9%88%e0%b8%a1%e0%b8%9b%e0%b8%8f%e0%b8%b4%e0%b8%9a%e0%b8%b1%e0%b8%95%e0%b8%b4%e0%b8%98%e0%b8%a3%e0%b8%a3%e0%b8%a1-ldh-%e0%b8%a7%e0%b8%b1%e0%b8%94%e0%b8%a0%e0%b8%b2-4/
LOCATION:กลุ่มปฏิบัติธรรม LDH วัดภาษี\, โรงเรียนวัดธาตุทอง ฝ่ายประถม 1325 ถนนสุขุมวิท แขวงพระโขนงเหนือ เขตวัฒนา กรุงเทพมหานคร 10110
CATEGORIES:ปฏิทินตารางหน่วยเคลื่อนที่
END:VEVENT
BEGIN:VEVENT
DTSTART;TZID=Asia/Bangkok:20250921T083000
DTEND;TZID=Asia/Bangkok:20250921T120000
DTSTAMP:20260422T230548
CREATED:20250911T033141Z
LAST-MODIFIED:20250911T033141Z
UID:10003303-1758443400-1758456000@thaibloodcentre.redcross.or.th
SUMMARY:กลุ่มปฏิบัติธรรม LDH วัดภาษี [0H0098]
DESCRIPTION:สถานที่เจาะ : โรงเรียนวัดธาตุทอง ฝ่ายประถม \nที่อยู่ : 154 ถนน สุขุมวิท แขวงพระโขนงเหนือ เขตวัฒนา กรุงเทพฯ
URL:https://thaibloodcentre.redcross.or.th/event/%e0%b8%81%e0%b8%a5%e0%b8%b8%e0%b9%88%e0%b8%a1%e0%b8%9b%e0%b8%8f%e0%b8%b4%e0%b8%9a%e0%b8%b1%e0%b8%95%e0%b8%b4%e0%b8%98%e0%b8%a3%e0%b8%a3%e0%b8%a1-ldh-%e0%b8%a7%e0%b8%b1%e0%b8%94%e0%b8%a0%e0%b8%b2-3/
LOCATION:กลุ่มปฏิบัติธรรม LDH วัดภาษี\, โรงเรียนวัดธาตุทอง ฝ่ายประถม 1325 ถนนสุขุมวิท แขวงพระโขนงเหนือ เขตวัฒนา กรุงเทพมหานคร 10110
CATEGORIES:ปฏิทินตารางหน่วยเคลื่อนที่
END:VEVENT
BEGIN:VEVENT
DTSTART;TZID=Asia/Bangkok:20250622T083000
DTEND;TZID=Asia/Bangkok:20250622T120000
DTSTAMP:20260422T230548
CREATED:20250612T094944Z
LAST-MODIFIED:20250619T034219Z
UID:10002198-1750581000-1750593600@thaibloodcentre.redcross.or.th
SUMMARY:กลุ่มปฏิบัติธรรม LDH วัดภาษี []
DESCRIPTION:สถานที่เจาะ : โรงเรียนวัดธาตุทอง ฝ่ายประถม \nที่อยู่ : 154 ถนน สุขุมวิท แขวงพระโขนงเหนือ เขตวัฒนา กรุงเทพฯ
URL:https://thaibloodcentre.redcross.or.th/event/%e0%b8%81%e0%b8%a5%e0%b8%b8%e0%b9%88%e0%b8%a1%e0%b8%9b%e0%b8%8f%e0%b8%b4%e0%b8%9a%e0%b8%b1%e0%b8%95%e0%b8%b4%e0%b8%98%e0%b8%a3%e0%b8%a3%e0%b8%a1-ldh-%e0%b8%a7%e0%b8%b1%e0%b8%94%e0%b8%a0%e0%b8%b2-2/
LOCATION:กลุ่มปฏิบัติธรรม LDH วัดภาษี\, โรงเรียนวัดธาตุทอง ฝ่ายประถม 1325 ถนนสุขุมวิท แขวงพระโขนงเหนือ เขตวัฒนา กรุงเทพมหานคร 10110
CATEGORIES:ปฏิทินตารางหน่วยเคลื่อนที่
END:VEVENT
BEGIN:VEVENT
DTSTART;TZID=Asia/Bangkok:20250323T083000
DTEND;TZID=Asia/Bangkok:20250323T120000
DTSTAMP:20260422T230548
CREATED:20250315T044258Z
LAST-MODIFIED:20250315T044258Z
UID:10000974-1742718600-1742731200@thaibloodcentre.redcross.or.th
SUMMARY:กลุ่มปฏิบัติธรรม LDH วัดภาษี [0H0098]
DESCRIPTION:สถานที่เจาะ : โรงเรียนวัดธาตุทอง ฝ่ายประถม \nที่อยู่ : 154 ถนน สุขุมวิท แขวงพระโขนงเหนือ เขตวัฒนา กรุงเทพฯ
URL:https://thaibloodcentre.redcross.or.th/event/%e0%b8%81%e0%b8%a5%e0%b8%b8%e0%b9%88%e0%b8%a1%e0%b8%9b%e0%b8%8f%e0%b8%b4%e0%b8%9a%e0%b8%b1%e0%b8%95%e0%b8%b4%e0%b8%98%e0%b8%a3%e0%b8%a3%e0%b8%a1-ldh-%e0%b8%a7%e0%b8%b1%e0%b8%94%e0%b8%a0%e0%b8%b2/
LOCATION:กลุ่มปฏิบัติธรรม LDH วัดภาษี\, โรงเรียนวัดธาตุทอง ฝ่ายประถม 1325 ถนนสุขุมวิท แขวงพระโขนงเหนือ เขตวัฒนา กรุงเทพมหานคร 10110
CATEGORIES:ปฏิทินตารางหน่วยเคลื่อนที่
END:VEVENT
END:VCALENDAR