BEGIN:VCALENDAR
VERSION:2.0
PRODID:-//เว็บไซต์ศูนย์บริการโลหิตแห่งชาติ - ECPv6.11.2.1//NONSGML v1.0//EN
CALSCALE:GREGORIAN
METHOD:PUBLISH
X-ORIGINAL-URL:https://thaibloodcentre.redcross.or.th
X-WR-CALDESC:Events for เว็บไซต์ศูนย์บริการโลหิตแห่งชาติ
REFRESH-INTERVAL;VALUE=DURATION:PT1H
X-Robots-Tag:noindex
X-PUBLISHED-TTL:PT1H
BEGIN:VTIMEZONE
TZID:Asia/Krasnoyarsk
BEGIN:STANDARD
TZOFFSETFROM:+0700
TZOFFSETTO:+0700
TZNAME:+07
DTSTART:20260101T000000
END:STANDARD
END:VTIMEZONE
BEGIN:VTIMEZONE
TZID:Asia/Bangkok
BEGIN:STANDARD
TZOFFSETFROM:+0700
TZOFFSETTO:+0700
TZNAME:+07
DTSTART:20250101T000000
END:STANDARD
END:VTIMEZONE
BEGIN:VEVENT
DTSTART;TZID=Asia/Krasnoyarsk:20260320T110000
DTEND;TZID=Asia/Krasnoyarsk:20260320T150000
DTSTAMP:20260424T032121
CREATED:20260318T121809Z
LAST-MODIFIED:20260318T121809Z
UID:10006135-1774004400-1774018800@thaibloodcentre.redcross.or.th
SUMMARY:กระทรวงการพัฒนาสังคมและความมั่นคงของมนุษย์ []
DESCRIPTION:สถานที่เจาะ : ชั้น 1 อาคารกรมพัฒนาสังคมและสวัสดิการ \nที่อยู่ : 1034 ถนนกรุงเกษม แขวงคลองมหานาค เขตป้อมปราบศัตรูพ่าย กรุงเทพฯ  \nโทร : 0 2659 6454
URL:https://thaibloodcentre.redcross.or.th/event/%e0%b8%81%e0%b8%a3%e0%b8%b0%e0%b8%97%e0%b8%a3%e0%b8%a7%e0%b8%87%e0%b8%81%e0%b8%b2%e0%b8%a3%e0%b8%9e%e0%b8%b1%e0%b8%92%e0%b8%99%e0%b8%b2%e0%b8%aa%e0%b8%b1%e0%b8%87%e0%b8%84%e0%b8%a1%e0%b9%81%e0%b8%a5-2/
LOCATION:กระทรวงการพัฒนาสังคมและความมั่นคงของมนุษย์\, กระทรวงการพัฒนาสังคมและความมั่นคงของมนุษย์ 1034 ถนนกรุงเกษม แขวงคลองมหานาค เขตป้อมปราบศัตรูพ่าย กรุงเทพมหานคร 10100
CATEGORIES:ปฏิทินตารางหน่วยเคลื่อนที่
END:VEVENT
BEGIN:VEVENT
DTSTART;TZID=Asia/Bangkok:20250919T110000
DTEND;TZID=Asia/Bangkok:20250919T150000
DTSTAMP:20260424T032121
CREATED:20250911T031415Z
LAST-MODIFIED:20250911T031415Z
UID:10003279-1758279600-1758294000@thaibloodcentre.redcross.or.th
SUMMARY:กระทรวงการพัฒนาสังคมและความมั่นคงของมนุษย์ [0D0497]
DESCRIPTION:สถานที่เจาะ : ประตูทางเข้ากรมฯ \nที่อยู่ : 1034 ถนนกรุงเกษม แขวงคลองมหานาค เขตป้อมปราบศัตรูพ่าย กรุงเทพฯ 0 2659 6454
URL:https://thaibloodcentre.redcross.or.th/event/%e0%b8%81%e0%b8%a3%e0%b8%b0%e0%b8%97%e0%b8%a3%e0%b8%a7%e0%b8%87%e0%b8%81%e0%b8%b2%e0%b8%a3%e0%b8%9e%e0%b8%b1%e0%b8%92%e0%b8%99%e0%b8%b2%e0%b8%aa%e0%b8%b1%e0%b8%87%e0%b8%84%e0%b8%a1%e0%b9%81%e0%b8%a5/
LOCATION:กระทรวงการพัฒนาสังคมและความมั่นคงของมนุษย์\, กระทรวงการพัฒนาสังคมและความมั่นคงของมนุษย์ 1034 ถนนกรุงเกษม แขวงคลองมหานาค เขตป้อมปราบศัตรูพ่าย กรุงเทพมหานคร 10100
CATEGORIES:ปฏิทินตารางหน่วยเคลื่อนที่
END:VEVENT
END:VCALENDAR