BEGIN:VCALENDAR
VERSION:2.0
PRODID:-//เว็บไซต์ศูนย์บริการโลหิตแห่งชาติ - ECPv6.11.2.1//NONSGML v1.0//EN
CALSCALE:GREGORIAN
METHOD:PUBLISH
X-ORIGINAL-URL:https://thaibloodcentre.redcross.or.th
X-WR-CALDESC:Events for เว็บไซต์ศูนย์บริการโลหิตแห่งชาติ
REFRESH-INTERVAL;VALUE=DURATION:PT1H
X-Robots-Tag:noindex
X-PUBLISHED-TTL:PT1H
BEGIN:VTIMEZONE
TZID:Asia/Krasnoyarsk
BEGIN:STANDARD
TZOFFSETFROM:+0700
TZOFFSETTO:+0700
TZNAME:+07
DTSTART:20250101T000000
END:STANDARD
END:VTIMEZONE
BEGIN:VTIMEZONE
TZID:Asia/Bangkok
BEGIN:STANDARD
TZOFFSETFROM:+0700
TZOFFSETTO:+0700
TZNAME:+07
DTSTART:20250101T000000
END:STANDARD
END:VTIMEZONE
BEGIN:VEVENT
DTSTART;TZID=Asia/Krasnoyarsk:20260312T090000
DTEND;TZID=Asia/Krasnoyarsk:20260312T150000
DTSTAMP:20260425T075501
CREATED:20260312T024922Z
LAST-MODIFIED:20260312T024922Z
UID:10006019-1773306000-1773327600@thaibloodcentre.redcross.or.th
SUMMARY:กรมที่ดิน []
DESCRIPTION:สถานที่เจาะ : ชั้น 2 ลานอเนกประสงค์
URL:https://thaibloodcentre.redcross.or.th/event/%e0%b8%81%e0%b8%a3%e0%b8%a1%e0%b8%97%e0%b8%b5%e0%b9%88%e0%b8%94%e0%b8%b4%e0%b8%99-4/
LOCATION:กรมที่ดิน\, กรมที่ดิน ศูนย์ราชการเฉลิมพระเกียรติ 80 พรรษาฯ ถนนแจ้งวัฒนะ แขวงทุ่งสองห้อง เขตหลักสี่ กรุงเทพมหานคร 10210
CATEGORIES:ปฏิทินตารางหน่วยเคลื่อนที่
END:VEVENT
BEGIN:VEVENT
DTSTART;TZID=Asia/Krasnoyarsk:20251209T090000
DTEND;TZID=Asia/Krasnoyarsk:20251209T150000
DTSTAMP:20260425T075501
CREATED:20251128T110624Z
LAST-MODIFIED:20251128T110624Z
UID:10004600-1765270800-1765292400@thaibloodcentre.redcross.or.th
SUMMARY:กรมที่ดิน []
DESCRIPTION:สถานที่เจาะ : ชั้น 2 ลานอเนกประสงค์ \nที่อยู่ : ศูนย์ราชการฯ อาคารรัฐประศาสนภักดี ถนนแจ้งวัฒนะ แขวงทุ่งสองห้อง เขตหลักสี่ กรุงเทพฯ 0 2141 5565
URL:https://thaibloodcentre.redcross.or.th/event/%e0%b8%81%e0%b8%a3%e0%b8%a1%e0%b8%97%e0%b8%b5%e0%b9%88%e0%b8%94%e0%b8%b4%e0%b8%99-2/
LOCATION:กรมที่ดิน\, กรมที่ดิน ศูนย์ราชการเฉลิมพระเกียรติ 80 พรรษาฯ ถนนแจ้งวัฒนะ แขวงทุ่งสองห้อง เขตหลักสี่ กรุงเทพมหานคร 10210
CATEGORIES:ปฏิทินตารางหน่วยเคลื่อนที่
END:VEVENT
BEGIN:VEVENT
DTSTART;TZID=Asia/Bangkok:20250612T090000
DTEND;TZID=Asia/Bangkok:20250612T150000
DTSTAMP:20260425T075501
CREATED:20250604T044835Z
LAST-MODIFIED:20250604T044835Z
UID:10002050-1749718800-1749740400@thaibloodcentre.redcross.or.th
SUMMARY:กรมที่ดิน []
DESCRIPTION:สถานที่เจาะ : ชั้น 2 ลานอเนกประสงค์ \nที่อยู่ : ศูนย์ราชการฯ อาคารรัฐประศาสนภักดี ถนนแจ้งวัฒนะ แขวงทุ่งสองห้อง เขตหลักสี่ กรุงเทพฯ 0 2141 5565
URL:https://thaibloodcentre.redcross.or.th/event/%e0%b8%81%e0%b8%a3%e0%b8%a1%e0%b8%97%e0%b8%b5%e0%b9%88%e0%b8%94%e0%b8%b4%e0%b8%99/
LOCATION:กรมที่ดิน\, กรมที่ดิน ศูนย์ราชการเฉลิมพระเกียรติ 80 พรรษาฯ ถนนแจ้งวัฒนะ แขวงทุ่งสองห้อง เขตหลักสี่ กรุงเทพมหานคร 10210
CATEGORIES:ปฏิทินตารางหน่วยเคลื่อนที่
END:VEVENT
BEGIN:VEVENT
DTSTART;TZID=Asia/Bangkok:20250313T090000
DTEND;TZID=Asia/Bangkok:20250313T150000
DTSTAMP:20260425T075501
CREATED:20250309T135756Z
LAST-MODIFIED:20250309T135756Z
UID:10000853-1741856400-1741878000@thaibloodcentre.redcross.or.th
SUMMARY:กรมที่ดิน [0D0320]
DESCRIPTION:สถานที่เจาะ : ชั้น 2 ลานอเนกประสงค์ \nที่อยู่ : ศูนย์ราชการฯ อาคารรัฐประศาสนภักดี ถนนแจ้งวัฒนะ แขวงทุ่งสองห้อง เขตหลักสี่ กรุงเทพฯ 0 2141 5565
URL:https://thaibloodcentre.redcross.or.th/event/%e0%b8%81%e0%b8%a3%e0%b8%a1%e0%b8%97%e0%b8%b5%e0%b9%88%e0%b8%94%e0%b8%b4%e0%b8%99-0d0320/
LOCATION:กรมที่ดิน\, กรมที่ดิน ศูนย์ราชการเฉลิมพระเกียรติ 80 พรรษาฯ ถนนแจ้งวัฒนะ แขวงทุ่งสองห้อง เขตหลักสี่ กรุงเทพมหานคร 10210
CATEGORIES:ปฏิทินตารางหน่วยเคลื่อนที่
END:VEVENT
END:VCALENDAR