BEGIN:VCALENDAR
VERSION:2.0
PRODID:-//เว็บไซต์ศูนย์บริการโลหิตแห่งชาติ - ECPv6.11.2.1//NONSGML v1.0//EN
CALSCALE:GREGORIAN
METHOD:PUBLISH
X-WR-CALNAME:เว็บไซต์ศูนย์บริการโลหิตแห่งชาติ
X-ORIGINAL-URL:https://thaibloodcentre.redcross.or.th
X-WR-CALDESC:Events for เว็บไซต์ศูนย์บริการโลหิตแห่งชาติ
REFRESH-INTERVAL;VALUE=DURATION:PT1H
X-Robots-Tag:noindex
X-PUBLISHED-TTL:PT1H
BEGIN:VTIMEZONE
TZID:Asia/Krasnoyarsk
BEGIN:STANDARD
TZOFFSETFROM:+0700
TZOFFSETTO:+0700
TZNAME:+07
DTSTART:20260101T000000
END:STANDARD
END:VTIMEZONE
BEGIN:VTIMEZONE
TZID:Asia/Bangkok
BEGIN:STANDARD
TZOFFSETFROM:+0700
TZOFFSETTO:+0700
TZNAME:+07
DTSTART:20250101T000000
END:STANDARD
END:VTIMEZONE
BEGIN:VEVENT
DTSTART;TZID=Asia/Krasnoyarsk:20260401T090000
DTEND;TZID=Asia/Krasnoyarsk:20260401T120000
DTSTAMP:20260420T143818
CREATED:20260325T043722Z
LAST-MODIFIED:20260325T043722Z
UID:10006321-1775034000-1775044800@thaibloodcentre.redcross.or.th
SUMMARY:กรมทางหลวง [0D0004]
DESCRIPTION:สถานที่เจาะ : ข้างอาคารกองบังคับการตำรวจทางหลวง \nที่อยู่ : 2/486 ถนนศรีอยุธยา แขวงทุ่งพญาไท เขตราชเทวี กรุงเทพฯ  \nโทร : 0 2354 6668-75
URL:https://thaibloodcentre.redcross.or.th/event/%e0%b8%81%e0%b8%a3%e0%b8%a1%e0%b8%97%e0%b8%b2%e0%b8%87%e0%b8%ab%e0%b8%a5%e0%b8%a7%e0%b8%87-0d0004-4/
LOCATION:กรมทางหลวง\, กรมทางหลวง 2/486 ถนนศรีอยุธยา แขวงทุ่งพญาไท เขตราชเทวี กรุงเทพมหานคร 10400
CATEGORIES:ปฏิทินตารางหน่วยเคลื่อนที่
END:VEVENT
BEGIN:VEVENT
DTSTART;TZID=Asia/Krasnoyarsk:20260109T090000
DTEND;TZID=Asia/Krasnoyarsk:20260109T120000
DTSTAMP:20260420T143818
CREATED:20260106T130301Z
LAST-MODIFIED:20260106T133346Z
UID:10005025-1767949200-1767960000@thaibloodcentre.redcross.or.th
SUMMARY:กรมทางหลวง [0D0004]
DESCRIPTION:สถานที่เจาะ : ข้างอาคารกองบังคับการตำรวจทางหลวง \nที่อยู่ : 2/486 ถนนศรีอยุธยา แขวงทุ่งพญาไท เขตราชเทวี กรุงเทพฯ 0 2354 6668-75
URL:https://thaibloodcentre.redcross.or.th/event/%e0%b8%81%e0%b8%a3%e0%b8%a1%e0%b8%97%e0%b8%b2%e0%b8%87%e0%b8%ab%e0%b8%a5%e0%b8%a7%e0%b8%87-0d0004-3/
LOCATION:กรมทางหลวง\, กรมทางหลวง 2/486 ถนนศรีอยุธยา แขวงทุ่งพญาไท เขตราชเทวี กรุงเทพมหานคร 10400
CATEGORIES:ปฏิทินตารางหน่วยเคลื่อนที่
END:VEVENT
BEGIN:VEVENT
DTSTART;TZID=Asia/Bangkok:20251002T090000
DTEND;TZID=Asia/Bangkok:20251002T120000
DTSTAMP:20260420T143818
CREATED:20250925T020635Z
LAST-MODIFIED:20250925T020635Z
UID:10003492-1759395600-1759406400@thaibloodcentre.redcross.or.th
SUMMARY:กรมทางหลวง [0D0004]
DESCRIPTION:สถานที่เจาะ : ข้างอาคารกองบังคับการตำรวจทางหลวง \nที่อยู่ : 2/486 ถนนศรีอยุธยา แขวงทุ่งพญาไท เขตราชเทวี กรุงเทพฯ 0 2354 6668-75
URL:https://thaibloodcentre.redcross.or.th/event/%e0%b8%81%e0%b8%a3%e0%b8%a1%e0%b8%97%e0%b8%b2%e0%b8%87%e0%b8%ab%e0%b8%a5%e0%b8%a7%e0%b8%87-0d0004-2/
LOCATION:กรมทางหลวง\, กรมทางหลวง 2/486 ถนนศรีอยุธยา แขวงทุ่งพญาไท เขตราชเทวี กรุงเทพมหานคร 10400
CATEGORIES:ปฏิทินตารางหน่วยเคลื่อนที่
END:VEVENT
BEGIN:VEVENT
DTSTART;TZID=Asia/Bangkok:20250703T090000
DTEND;TZID=Asia/Bangkok:20250703T120000
DTSTAMP:20260420T143818
CREATED:20250623T033441Z
LAST-MODIFIED:20250623T033441Z
UID:10002261-1751533200-1751544000@thaibloodcentre.redcross.or.th
SUMMARY:กรมทางหลวง []
DESCRIPTION:สถานที่เจาะ : ข้างอาคารกองบังคับการตำรวจทางหลวง \nที่อยู่ : 2/486 ถนนศรีอยุธยา แขวงทุ่งพญาไท เขตราชเทวี กรุงเทพฯ 0 2354 6668-75
URL:https://thaibloodcentre.redcross.or.th/event/%e0%b8%81%e0%b8%a3%e0%b8%a1%e0%b8%97%e0%b8%b2%e0%b8%87%e0%b8%ab%e0%b8%a5%e0%b8%a7%e0%b8%87/
LOCATION:กรมทางหลวง\, กรมทางหลวง 2/486 ถนนศรีอยุธยา แขวงทุ่งพญาไท เขตราชเทวี กรุงเทพมหานคร 10400
CATEGORIES:ปฏิทินตารางหน่วยเคลื่อนที่
END:VEVENT
BEGIN:VEVENT
DTSTART;TZID=Asia/Bangkok:20250401T090000
DTEND;TZID=Asia/Bangkok:20250401T120000
DTSTAMP:20260420T143818
CREATED:20250328T030823Z
LAST-MODIFIED:20250328T030823Z
UID:10001118-1743498000-1743508800@thaibloodcentre.redcross.or.th
SUMMARY:กรมทางหลวง [0D0004]
DESCRIPTION:สถานที่เจาะ : ข้างอาคารกองบังคับการตำรวจทางหลวง \nที่อยู่ : 2/486 ถนนศรีอยุธยา แขวงทุ่งพญาไท เขตราชเทวี กรุงเทพฯ 0 2354 6668-75
URL:https://thaibloodcentre.redcross.or.th/event/%e0%b8%81%e0%b8%a3%e0%b8%a1%e0%b8%97%e0%b8%b2%e0%b8%87%e0%b8%ab%e0%b8%a5%e0%b8%a7%e0%b8%87-0d0004/
LOCATION:กรมทางหลวง\, กรมทางหลวง 2/486 ถนนศรีอยุธยา แขวงทุ่งพญาไท เขตราชเทวี กรุงเทพมหานคร 10400
CATEGORIES:ปฏิทินตารางหน่วยเคลื่อนที่
END:VEVENT
END:VCALENDAR