BEGIN:VCALENDAR
VERSION:2.0
PRODID:-//เว็บไซต์ศูนย์บริการโลหิตแห่งชาติ - ECPv6.11.2.1//NONSGML v1.0//EN
CALSCALE:GREGORIAN
METHOD:PUBLISH
X-WR-CALNAME:เว็บไซต์ศูนย์บริการโลหิตแห่งชาติ
X-ORIGINAL-URL:https://thaibloodcentre.redcross.or.th
X-WR-CALDESC:Events for เว็บไซต์ศูนย์บริการโลหิตแห่งชาติ
REFRESH-INTERVAL;VALUE=DURATION:PT1H
X-Robots-Tag:noindex
X-PUBLISHED-TTL:PT1H
BEGIN:VTIMEZONE
TZID:Asia/Krasnoyarsk
BEGIN:STANDARD
TZOFFSETFROM:+0700
TZOFFSETTO:+0700
TZNAME:+07
DTSTART:20260101T000000
END:STANDARD
END:VTIMEZONE
BEGIN:VEVENT
DTSTART;TZID=Asia/Krasnoyarsk:20260421T090000
DTEND;TZID=Asia/Krasnoyarsk:20260421T150000
DTSTAMP:20260425T180228
CREATED:20260420T065827Z
LAST-MODIFIED:20260420T075339Z
UID:10006650-1776762000-1776783600@thaibloodcentre.redcross.or.th
SUMMARY:กรมการปกครอง กระทรวงมหาดไทย []
DESCRIPTION:สถานที่เจาะ : ห้องประชุม ชั้น 9 อาคารธนาลงกรณ์ ทาวเวอร์ (พัก 12.00-13.00 น.) \nที่อยู่ : ธนาลงกรณ์ ทาวเวอร์ 666 ถ. บรมราชชนนี แขวงบางบำหรุ บางพลัด กรุงเทพฯ
URL:https://thaibloodcentre.redcross.or.th/event/%e0%b8%81%e0%b8%a3%e0%b8%a1%e0%b8%81%e0%b8%b2%e0%b8%a3%e0%b8%9b%e0%b8%81%e0%b8%84%e0%b8%a3%e0%b8%ad%e0%b8%87-%e0%b8%81%e0%b8%a3%e0%b8%b0%e0%b8%97%e0%b8%a3%e0%b8%a7%e0%b8%87%e0%b8%a1%e0%b8%ab-3/
LOCATION:กรมการปกครอง กระทรวงมหาดไทย\, กรมการปกครอง 3 ถนนราชบพิธ แขวงวัดราชบพิธ เขตพระนคร กรุงเทพมหานคร 10200
CATEGORIES:ปฏิทินตารางหน่วยเคลื่อนที่
END:VEVENT
BEGIN:VEVENT
DTSTART;TZID=Asia/Krasnoyarsk:20260122T090000
DTEND;TZID=Asia/Krasnoyarsk:20260122T150000
DTSTAMP:20260425T180229
CREATED:20260120T104101Z
LAST-MODIFIED:20260120T104101Z
UID:10005204-1769072400-1769094000@thaibloodcentre.redcross.or.th
SUMMARY:กรมการปกครอง กระทรวงมหาดไทย []
DESCRIPTION:สถานที่เจาะ : ห้องประชุม ชั้น 9 อาคารธนาลงกรณ์ ทาวเวอร์ (พัก 12.00-13.00 น.) \nที่อยู่ : ธนาลงกรณ์ ทาวเวอร์ 666 ถ. บรมราชชนนี แขวงบางบำหรุ บางพลัด กรุงเทพฯ
URL:https://thaibloodcentre.redcross.or.th/event/%e0%b8%81%e0%b8%a3%e0%b8%a1%e0%b8%81%e0%b8%b2%e0%b8%a3%e0%b8%9b%e0%b8%81%e0%b8%84%e0%b8%a3%e0%b8%ad%e0%b8%87-%e0%b8%81%e0%b8%a3%e0%b8%b0%e0%b8%97%e0%b8%a3%e0%b8%a7%e0%b8%87%e0%b8%a1%e0%b8%ab-2/
LOCATION:กรมการปกครอง กระทรวงมหาดไทย\, กรมการปกครอง 3 ถนนราชบพิธ แขวงวัดราชบพิธ เขตพระนคร กรุงเทพมหานคร 10200
CATEGORIES:ปฏิทินตารางหน่วยเคลื่อนที่
END:VEVENT
END:VCALENDAR