BEGIN:VCALENDAR
VERSION:2.0
PRODID:-//เว็บไซต์ศูนย์บริการโลหิตแห่งชาติ - ECPv6.11.2.1//NONSGML v1.0//EN
CALSCALE:GREGORIAN
METHOD:PUBLISH
X-ORIGINAL-URL:https://thaibloodcentre.redcross.or.th
X-WR-CALDESC:Events for เว็บไซต์ศูนย์บริการโลหิตแห่งชาติ
REFRESH-INTERVAL;VALUE=DURATION:PT1H
X-Robots-Tag:noindex
X-PUBLISHED-TTL:PT1H
BEGIN:VTIMEZONE
TZID:Asia/Krasnoyarsk
BEGIN:STANDARD
TZOFFSETFROM:+0700
TZOFFSETTO:+0700
TZNAME:+07
DTSTART:20260101T000000
END:STANDARD
END:VTIMEZONE
BEGIN:VEVENT
DTSTART;TZID=Asia/Krasnoyarsk:20260423T090000
DTEND;TZID=Asia/Krasnoyarsk:20260423T150000
DTSTAMP:20260420T143802
CREATED:20260420T061852Z
LAST-MODIFIED:20260420T061852Z
UID:10006528-1776934800-1776956400@thaibloodcentre.redcross.or.th
SUMMARY:บริษัท อลิอันซ์ อยุธยา ประกันชีวิต จำกัด (มหาชน) []
DESCRIPTION:สถานที่เจาะ : ข้างอาคารเพลินจิตทาวเวอร์ (พัก 11.30-12.30 น.) \nที่อยู่ : 898 อาคารเพลินจิตทาวเวอร์ชั้น 6 ถนนเพลินจิต แขวงลุมพินี เขตปทุมวัน กรุงเทพฯ 0 2305 7768
URL:https://thaibloodcentre.redcross.or.th/event/%e0%b8%9a%e0%b8%a3%e0%b8%b4%e0%b8%a9%e0%b8%b1%e0%b8%97-%e0%b8%ad%e0%b8%a5%e0%b8%b4%e0%b8%ad%e0%b8%b1%e0%b8%99%e0%b8%8b%e0%b9%8c-%e0%b8%ad%e0%b8%a2%e0%b8%b8%e0%b8%98%e0%b8%a2%e0%b8%b2-%e0%b8%9b-3/
LOCATION:บริษัท อลิอันซ์ อยุธยา ประกันชีวิต จำกัด (มหาชน)\, อาคารเพลินจิตทาวเวอร์ 898 ชั้น7 ถนนเพลินจิต แขวงลุมพินี เขตปทุมวัน กรุงเทพมหานคร 10330
CATEGORIES:ปฏิทินตารางหน่วยเคลื่อนที่
END:VEVENT
BEGIN:VEVENT
DTSTART;TZID=Asia/Krasnoyarsk:20260423T090000
DTEND;TZID=Asia/Krasnoyarsk:20260423T150000
DTSTAMP:20260420T143802
CREATED:20260420T061855Z
LAST-MODIFIED:20260420T061855Z
UID:10006529-1776934800-1776956400@thaibloodcentre.redcross.or.th
SUMMARY:กลุ่มบีเจซี บิ๊กซี []
DESCRIPTION:สถานที่เจาะ : หน้าร้านหนังสือเอเชียบุ๊ค อาคาร BJC 2 (พัก 11.00-12.00 น.) \nที่อยู่ : 99 ซอยรูเบีย แขวงพระโขนง เขตคลองเตย กรุงเทพฯ
URL:https://thaibloodcentre.redcross.or.th/event/%e0%b8%81%e0%b8%a5%e0%b8%b8%e0%b9%88%e0%b8%a1%e0%b8%9a%e0%b8%b5%e0%b9%80%e0%b8%88%e0%b8%8b%e0%b8%b5-%e0%b8%9a%e0%b8%b4%e0%b9%8a%e0%b8%81%e0%b8%8b%e0%b8%b5-4/
LOCATION:กลุ่มบีเจซี บิ๊กซี\, อาคารเบอรี่ ยุคเกอร์ 99 ซอยรูเบีย แขวงพระโขนง เขตคลองเตย กรุงเทพมหานคร 10110
CATEGORIES:ปฏิทินตารางหน่วยเคลื่อนที่
END:VEVENT
BEGIN:VEVENT
DTSTART;TZID=Asia/Krasnoyarsk:20260423T090000
DTEND;TZID=Asia/Krasnoyarsk:20260423T150000
DTSTAMP:20260420T143802
CREATED:20260420T061858Z
LAST-MODIFIED:20260420T061858Z
UID:10006530-1776934800-1776956400@thaibloodcentre.redcross.or.th
SUMMARY:บริษัท ไทยสมุทรประกันชีวิต จำกัด (มหาชน) []
DESCRIPTION:สถานที่เจาะ : หน้าอาคารโอเชี่ยนทาวเวอร์ 1 (พัก 11.30-12.30 น.) \nที่อยู่ : 170/74-83 ถนนรัชดาภิเษก แขวงคลองเตย เขตคลองเตย กรุงเทพฯ 0 2261 2300
URL:https://thaibloodcentre.redcross.or.th/event/%e0%b8%9a%e0%b8%a3%e0%b8%b4%e0%b8%a9%e0%b8%b1%e0%b8%97-%e0%b9%84%e0%b8%97%e0%b8%a2%e0%b8%aa%e0%b8%a1%e0%b8%b8%e0%b8%97%e0%b8%a3%e0%b8%9b%e0%b8%a3%e0%b8%b0%e0%b8%81%e0%b8%b1%e0%b8%99%e0%b8%8a-4/
LOCATION:บริษัท ไทยสมุทรประกันชีวิต จำกัด (มหาชน)\, บริษัท ไทยสมุทรประกันชีวิต จำกัด (มหาชน) 170/74-83 อาคารโอเชี่ยนทาวเวอร์ 1 ถนนรัชดาภิเษก แขวงคลองเตย เขตคลองเตย กรุงเทพมหานคร 10110
CATEGORIES:ปฏิทินตารางหน่วยเคลื่อนที่
END:VEVENT
BEGIN:VEVENT
DTSTART;TZID=Asia/Krasnoyarsk:20260423T090000
DTEND;TZID=Asia/Krasnoyarsk:20260423T150000
DTSTAMP:20260420T143802
CREATED:20260420T061900Z
LAST-MODIFIED:20260420T061900Z
UID:10006531-1776934800-1776956400@thaibloodcentre.redcross.or.th
SUMMARY:กองทุนเงินให้กู้ยืมเพื่อการศึกษา []
DESCRIPTION:สถานที่เจาะ : หน้าอาคารเอไอเอ แคปปิตอล เซ็นเตอร์ (พัก 11.00-12.00 น.) \nที่อยู่ : 89 อาคารเอไอเอ แคปปิตอล เซ็นเตอร์ ชั้น 5-6 ถนนรัชดาภิเษก แขวงดินแดง เขตดินแดง กรุงเทพฯ 0 2016 4888
URL:https://thaibloodcentre.redcross.or.th/event/%e0%b8%81%e0%b8%ad%e0%b8%87%e0%b8%97%e0%b8%b8%e0%b8%99%e0%b9%80%e0%b8%87%e0%b8%b4%e0%b8%99%e0%b9%83%e0%b8%ab%e0%b9%89%e0%b8%81%e0%b8%b9%e0%b9%89%e0%b8%a2%e0%b8%b7%e0%b8%a1%e0%b9%80%e0%b8%9e%e0%b8%b7-4/
LOCATION:กองทุนเงินให้กู้ยืมเพื่อการศึกษา\, อาคารเอไอเอ แคปปิตอล เซ็นเตอร์ 89 ถนนรัชดาภิเษก แขวงดินแดง เขตดินแดง กรุงเทพมหานคร 10400
CATEGORIES:ปฏิทินตารางหน่วยเคลื่อนที่
END:VEVENT
BEGIN:VEVENT
DTSTART;TZID=Asia/Krasnoyarsk:20260423T120000
DTEND;TZID=Asia/Krasnoyarsk:20260423T180000
DTSTAMP:20260420T143802
CREATED:20260420T061656Z
LAST-MODIFIED:20260420T061755Z
UID:10006513-1776945600-1776967200@thaibloodcentre.redcross.or.th
SUMMARY:ศูนย์การค้าเดอะมอลล์ไลฟ์สโตร์ บางแค []
DESCRIPTION:สถานที่เจาะ : ชั้น 3 ตรงข้ามร้านโอ้กะจู๋ \nที่อยู่ : ถนนเพชรเกษม แขวงบางแคเหนือ เขตภาษีเจริญ กรุงเทพฯ 02 487 1221
URL:https://thaibloodcentre.redcross.or.th/event/%e0%b8%a8%e0%b8%b9%e0%b8%99%e0%b8%a2%e0%b9%8c%e0%b8%81%e0%b8%b2%e0%b8%a3%e0%b8%84%e0%b9%89%e0%b8%b2%e0%b9%80%e0%b8%94%e0%b8%ad%e0%b8%b0%e0%b8%a1%e0%b8%ad%e0%b8%a5%e0%b8%a5%e0%b9%8c%e0%b9%84-1695/
LOCATION:ศูนย์การค้าเดอะมอลล์ไลฟ์สโตร์ บางแค\, ศูนย์การค้าเดอะมอลล์ไลฟ์สโตร์ บางแค
CATEGORIES:ปฏิทินตารางหน่วยเคลื่อนที่
END:VEVENT
BEGIN:VEVENT
DTSTART;TZID=Asia/Krasnoyarsk:20260423T120000
DTEND;TZID=Asia/Krasnoyarsk:20260423T180000
DTSTAMP:20260420T143802
CREATED:20260420T061712Z
LAST-MODIFIED:20260420T061756Z
UID:10006514-1776945600-1776967200@thaibloodcentre.redcross.or.th
SUMMARY:ศูนย์การค้าเดอะมอลล์ไลฟ์สโตร์ บางกะปิ []
DESCRIPTION:สถานที่เจาะ : ชั้น 2 ทางออกลานจอดรถ \nที่อยู่ : ถนนลาดพร้าว แขวงคลองจั่น เขตบางกะปิ กรุงเทพฯ 0 2310 2278
URL:https://thaibloodcentre.redcross.or.th/event/%e0%b8%a8%e0%b8%b9%e0%b8%99%e0%b8%a2%e0%b9%8c%e0%b8%81%e0%b8%b2%e0%b8%a3%e0%b8%84%e0%b9%89%e0%b8%b2%e0%b9%80%e0%b8%94%e0%b8%ad%e0%b8%b0%e0%b8%a1%e0%b8%ad%e0%b8%a5%e0%b8%a5%e0%b9%8c%e0%b9%84-1696/
LOCATION:ศูนย์การค้าเดอะมอลล์ไลฟ์สโตร์ บางกะปิ\, เดอะมอลล์ไลฟ์สโตร์ บางกะปิ 3522 ถ. ลาดพร้าว แขวงคลองจั่น เขตบางกะปิ กรุงเทพมหานคร 10240
CATEGORIES:ปฏิทินตารางหน่วยเคลื่อนที่
END:VEVENT
BEGIN:VEVENT
DTSTART;TZID=Asia/Krasnoyarsk:20260423T120000
DTEND;TZID=Asia/Krasnoyarsk:20260423T180000
DTSTAMP:20260420T143802
CREATED:20260420T061728Z
LAST-MODIFIED:20260420T061757Z
UID:10006515-1776945600-1776967200@thaibloodcentre.redcross.or.th
SUMMARY:ศูนย์การค้าเดอะมอลล์ไลฟ์สโตร์ งามวงศ์วาน []
DESCRIPTION:สถานที่เจาะ : ชั้น 5 โซน Government Center \nที่อยู่ : ถนนงามวงศ์วาน ต.บางเขน อ.เมือง จ.นนทบุรี 0 2555 1550
URL:https://thaibloodcentre.redcross.or.th/event/%e0%b8%a8%e0%b8%b9%e0%b8%99%e0%b8%a2%e0%b9%8c%e0%b8%81%e0%b8%b2%e0%b8%a3%e0%b8%84%e0%b9%89%e0%b8%b2%e0%b9%80%e0%b8%94%e0%b8%ad%e0%b8%b0%e0%b8%a1%e0%b8%ad%e0%b8%a5%e0%b8%a5%e0%b9%8c%e0%b9%84-1697/
LOCATION:ศูนย์การค้าเดอะมอลล์ไลฟ์สโตร์ งามวงศ์วาน\, เดอะมอลล์ ไลฟ์สโตร์ งามวงศ์วาน 430 ถนน งามวงศ์วาน ตำบลบางเขน อำเภอเมืองนนทบุรี นนทบุรี 11000
CATEGORIES:ปฏิทินตารางหน่วยเคลื่อนที่
END:VEVENT
BEGIN:VEVENT
DTSTART;TZID=Asia/Krasnoyarsk:20260423T120000
DTEND;TZID=Asia/Krasnoyarsk:20260423T180000
DTSTAMP:20260420T143802
CREATED:20260420T061743Z
LAST-MODIFIED:20260420T061758Z
UID:10006516-1776945600-1776967200@thaibloodcentre.redcross.or.th
SUMMARY:ศูนย์การค้า เอ็มโพเรียม []
DESCRIPTION:สถานที่เจาะ : ชั้น M ศูนย์การค้า ดิ เอ็มโพเรียม เชื่อมลานจอดรถอาคาร B \nที่อยู่ : 622 ถนนสุขุมวิท แขวงคลองตัน เขตคลองเตย กรุงเทพฯ 0 2269 1515
URL:https://thaibloodcentre.redcross.or.th/event/%e0%b8%a8%e0%b8%b9%e0%b8%99%e0%b8%a2%e0%b9%8c%e0%b8%81%e0%b8%b2%e0%b8%a3%e0%b8%84%e0%b9%89%e0%b8%b2-%e0%b9%80%e0%b8%ad%e0%b9%87%e0%b8%a1%e0%b9%82%e0%b8%9e%e0%b9%80%e0%b8%a3%e0%b8%b5%e0%b8%a2-420/
LOCATION:ศูนย์การค้า เอ็มโพเรียม\, เอ็มโพเรียม 622 ถ. สุขุมวิท แขวงคลองตัน เขตคลองเตย กรุงเทพมหานคร 10110
CATEGORIES:ปฏิทินตารางหน่วยเคลื่อนที่
END:VEVENT
BEGIN:VEVENT
DTSTART;TZID=Asia/Krasnoyarsk:20260423T120000
DTEND;TZID=Asia/Krasnoyarsk:20260423T180000
DTSTAMP:20260420T143802
CREATED:20260420T061806Z
LAST-MODIFIED:20260420T061806Z
UID:10006518-1776945600-1776967200@thaibloodcentre.redcross.or.th
SUMMARY:ศูนย์การค้าเดอะมอลล์ไลฟ์สโตร์ ท่าพระ []
DESCRIPTION:สถานที่เจาะ : ชั้น 1 (ติดลานจอดรถ) \nที่อยู่ : 99 ถนนรัชดาท่าพระตัดใหม่ แขวงบุคคโล เขตธนบุรี กรุงเทพฯ 0 2469-1000
URL:https://thaibloodcentre.redcross.or.th/event/%e0%b8%a8%e0%b8%b9%e0%b8%99%e0%b8%a2%e0%b9%8c%e0%b8%81%e0%b8%b2%e0%b8%a3%e0%b8%84%e0%b9%89%e0%b8%b2%e0%b9%80%e0%b8%94%e0%b8%ad%e0%b8%b0%e0%b8%a1%e0%b8%ad%e0%b8%a5%e0%b8%a5%e0%b9%8c%e0%b9%84-1698/
LOCATION:ศูนย์การค้าเดอะมอลล์ไลฟ์สโตร์ ท่าพระ\, เดอะมอลล์ไลฟ์สโตร์ ท่าพระ 129 ถ. รัชดาภิเษก แขวงบุคคโล เขตธนบุรี กรุงเทพมหานคร 10600
CATEGORIES:ปฏิทินตารางหน่วยเคลื่อนที่
END:VEVENT
BEGIN:VEVENT
DTSTART;TZID=Asia/Krasnoyarsk:20260423T130000
DTEND;TZID=Asia/Krasnoyarsk:20260423T150000
DTSTAMP:20260420T143802
CREATED:20260420T061846Z
LAST-MODIFIED:20260420T061846Z
UID:10006527-1776949200-1776956400@thaibloodcentre.redcross.or.th
SUMMARY:บิ๊กซี ซูเปอร์เซ็นเตอร์ สาขารังสิตคลองหก []
DESCRIPTION:สถานที่เจาะ : ด้านหน้าห้าง \nที่อยู่ : 158/17 ม. 4 ต.รังสิต อ.ธัญญบุรี ปทุมธานี 0 2577 6200
URL:https://thaibloodcentre.redcross.or.th/event/%e0%b8%9a%e0%b8%b4%e0%b9%8a%e0%b8%81%e0%b8%8b%e0%b8%b5-%e0%b8%8b%e0%b8%b9%e0%b9%80%e0%b8%9b%e0%b8%ad%e0%b8%a3%e0%b9%8c%e0%b9%80%e0%b8%8b%e0%b9%87%e0%b8%99%e0%b9%80%e0%b8%95%e0%b8%ad%e0%b8%a3-42/
LOCATION:บิ๊กซี ซูเปอร์เซ็นเตอร์ สาขารังสิตคลองหก\, บิ๊กซี รังสิต คลอง 6 158/17 ม.4 ถ.รังสิต - นครนายก ต.รังสิต อ.ธัญบุรี จ.ปทุมธานี 12110
CATEGORIES:ปฏิทินตารางหน่วยเคลื่อนที่
END:VEVENT
BEGIN:VEVENT
DTSTART;TZID=Asia/Krasnoyarsk:20260424T073000
DTEND;TZID=Asia/Krasnoyarsk:20260424T193000
DTSTAMP:20260420T143802
CREATED:20260420T061903Z
LAST-MODIFIED:20260420T061903Z
UID:10006532-1777015800-1777059000@thaibloodcentre.redcross.or.th
SUMMARY:ศูนย์บริการโลหิตแห่งชาติ สภากาชาดไทย []
DESCRIPTION:ที่อยู่ : 1871 ถ. อังรีดูนังต์ แขวงปทุมวัน เขตปทุมวัน
URL:https://thaibloodcentre.redcross.or.th/event/%e0%b8%a8%e0%b8%b9%e0%b8%99%e0%b8%a2%e0%b9%8c%e0%b8%9a%e0%b8%a3%e0%b8%b4%e0%b8%81%e0%b8%b2%e0%b8%a3%e0%b9%82%e0%b8%a5%e0%b8%ab%e0%b8%b4%e0%b8%95%e0%b9%81%e0%b8%ab%e0%b9%88%e0%b8%87%e0%b8%8a-509/
LOCATION:ศูนย์บริการโลหิตแห่งชาติ สภากาชาดไทย\, ศูนย์บริการโลหิตแห่งชาติ สภากาชาดไทย 1871 ถ. อังรีดูนังต์ แขวงปทุมวัน เขตปทุมวัน กรุงเทพมหานคร 10330
CATEGORIES:ปฏิทินตารางหน่วยเคลื่อนที่
END:VEVENT
BEGIN:VEVENT
DTSTART;TZID=Asia/Krasnoyarsk:20260424T083000
DTEND;TZID=Asia/Krasnoyarsk:20260424T193000
DTSTAMP:20260420T143802
CREATED:20260420T062028Z
LAST-MODIFIED:20260420T062028Z
UID:10006538-1777019400-1777059000@thaibloodcentre.redcross.or.th
SUMMARY:สถานีกาชาด 11 วิเศษนิยม []
DESCRIPTION:สถานที่เจาะ : ชั้น 3 \nที่อยู่ : 33/3 ถนนเพชรเกษม แขวงบางหว้า เขตภาษีเจริญ กรุงเทพฯ 0633450711
URL:https://thaibloodcentre.redcross.or.th/event/%e0%b8%aa%e0%b8%96%e0%b8%b2%e0%b8%99%e0%b8%b5%e0%b8%81%e0%b8%b2%e0%b8%8a%e0%b8%b2%e0%b8%94-11-%e0%b8%a7%e0%b8%b4%e0%b9%80%e0%b8%a8%e0%b8%a9%e0%b8%99%e0%b8%b4%e0%b8%a2%e0%b8%a1-218/
LOCATION:สถานีกาชาด 11 วิเศษนิยม\, สถานีกาชาด 11 วิเศษนิยม 605 ถ.เพชรเกษม แขวงบางหว้า เขตภาษีเจริญ กรุงเทพมหานคร 10160
CATEGORIES:ปฏิทินตารางหน่วยเคลื่อนที่
END:VEVENT
BEGIN:VEVENT
DTSTART;TZID=Asia/Krasnoyarsk:20260424T090000
DTEND;TZID=Asia/Krasnoyarsk:20260424T103000
DTSTAMP:20260420T143802
CREATED:20260420T062108Z
LAST-MODIFIED:20260420T062126Z
UID:10006549-1777021200-1777026600@thaibloodcentre.redcross.or.th
SUMMARY:บริษัท วนวิทย์ แมนูแฟคเจอริ่ง จำกัด (สะแกงาม) []
DESCRIPTION:สถานที่เจาะ : หน้าห้องฝ่ายบริหารทรัพยากรมนุษย์ \nที่อยู่ : 4/632 ซอยวัดสะแกงาม ถนนพระราม 2 แขวงแสมดำ เขตบางขุนเทียน กรุงเทพฯ 0 2896 2390
URL:https://thaibloodcentre.redcross.or.th/event/%e0%b8%9a%e0%b8%a3%e0%b8%b4%e0%b8%a9%e0%b8%b1%e0%b8%97-%e0%b8%a7%e0%b8%99%e0%b8%a7%e0%b8%b4%e0%b8%97%e0%b8%a2%e0%b9%8c-%e0%b9%81%e0%b8%a1%e0%b8%99%e0%b8%b9%e0%b9%81%e0%b8%9f%e0%b8%84%e0%b9%80-8/
LOCATION:บริษัท วนวิทย์ แมนูแฟคเจอริ่ง จำกัด (สะแกงาม)\, บจก. วนวิทย์ แมนูแฟคเจอริ่ง 10 ซอยพระรามที่2ซอย94 ถนนพระรามที่2 แขวงแสมดำ เขตบางขุนเทียน กรุงเทพมหานคร 10150
CATEGORIES:ปฏิทินตารางหน่วยเคลื่อนที่
END:VEVENT
BEGIN:VEVENT
DTSTART;TZID=Asia/Krasnoyarsk:20260424T090000
DTEND;TZID=Asia/Krasnoyarsk:20260424T150000
DTSTAMP:20260420T143802
CREATED:20260420T062031Z
LAST-MODIFIED:20260420T062031Z
UID:10006539-1777021200-1777042800@thaibloodcentre.redcross.or.th
SUMMARY:บ้านทรงไทย (ย่านวงศ์สว่าง) []
DESCRIPTION:สถานที่เจาะ : (พัก 12.30-13.00 น.) \nที่อยู่ : 1423 ถนนกรุงเทพ – นนทบุรี แขวงวงศ์สว่าง เขตบางซื่อ กรุงเทพฯ 0 2256 4300
URL:https://thaibloodcentre.redcross.or.th/event/%e0%b8%9a%e0%b9%89%e0%b8%b2%e0%b8%99%e0%b8%97%e0%b8%a3%e0%b8%87%e0%b9%84%e0%b8%97%e0%b8%a2-%e0%b8%a2%e0%b9%88%e0%b8%b2%e0%b8%99%e0%b8%a7%e0%b8%87%e0%b8%a8%e0%b9%8c%e0%b8%aa%e0%b8%a7%e0%b9%88-419/
LOCATION:บ้านทรงไทย (ย่านวงศ์สว่าง)\, หน่วยรับบริจาคโลหิต บ้านทรงไทย(ย่านวงศ์สว่าง) 1423 ถนนกรุงเทพ-นนทบุรี แขวงวงศ์สว่าง เขตบางซื่อ กรุงเทพมหานคร 10800
CATEGORIES:ปฏิทินตารางหน่วยเคลื่อนที่
END:VEVENT
BEGIN:VEVENT
DTSTART;TZID=Asia/Krasnoyarsk:20260424T090000
DTEND;TZID=Asia/Krasnoyarsk:20260424T150000
DTSTAMP:20260420T143802
CREATED:20260420T062036Z
LAST-MODIFIED:20260420T062036Z
UID:10006540-1777021200-1777042800@thaibloodcentre.redcross.or.th
SUMMARY:บริษัท ธนารักษ์พัฒนาสินทรัพย์ จำกัด []
DESCRIPTION:สถานที่เจาะ : อาคาร B ชั้น 2 (พัก 11.00-12.00 น.) \nที่อยู่ : 120 ชั้น 1 อาคารศูนย์ประชุมฯ ถนนแจ้งวัฒนะ 7 แขวงทุ่งสองห้อง  เขตหลักสี่ กรุงเทพฯ 0 2142 2204
URL:https://thaibloodcentre.redcross.or.th/event/%e0%b8%9a%e0%b8%a3%e0%b8%b4%e0%b8%a9%e0%b8%b1%e0%b8%97-%e0%b8%98%e0%b8%99%e0%b8%b2%e0%b8%a3%e0%b8%b1%e0%b8%81%e0%b8%a9%e0%b9%8c%e0%b8%9e%e0%b8%b1%e0%b8%92%e0%b8%99%e0%b8%b2%e0%b8%aa%e0%b8%b4-18/
LOCATION:บริษัท ธนารักษ์พัฒนาสินทรัพย์ จำกัด\, ศูนย์ราชการฯ แจ้งวัฒนะ 120 หมู่ที่ 3 ถนนแจ้งวัฒนะ แขวงทุ่งสองห้อง เขตหลักสี่ กรุงเทพมหานคร 10210
CATEGORIES:ปฏิทินตารางหน่วยเคลื่อนที่
END:VEVENT
BEGIN:VEVENT
DTSTART;TZID=Asia/Krasnoyarsk:20260424T090000
DTEND;TZID=Asia/Krasnoyarsk:20260424T150000
DTSTAMP:20260420T143802
CREATED:20260420T062041Z
LAST-MODIFIED:20260420T062041Z
UID:10006542-1777021200-1777042800@thaibloodcentre.redcross.or.th
SUMMARY:บริษัท ไทยประกันชีวิต จำกัด (มหาชน) []
DESCRIPTION:สถานที่เจาะ : ชั้น 1 ตรงข้ามไปรษณีย์ (พัก 11.30-12.30 น.) \nที่อยู่ : 123 อาคารไทยประกันชีวิต ถนนรัชดาภิเษก แขวงดินแดง เขตดินแดง กรุงเทพฯ
URL:https://thaibloodcentre.redcross.or.th/event/%e0%b8%9a%e0%b8%a3%e0%b8%b4%e0%b8%a9%e0%b8%b1%e0%b8%97-%e0%b9%84%e0%b8%97%e0%b8%a2%e0%b8%9b%e0%b8%a3%e0%b8%b0%e0%b8%81%e0%b8%b1%e0%b8%99%e0%b8%8a%e0%b8%b5%e0%b8%a7%e0%b8%b4%e0%b8%95-%e0%b8%88-26/
LOCATION:บริษัท ไทยประกันชีวิต จำกัด (มหาชน)\, บริษัท ไทยประกันชีวิต จำกัด (มหาชน) ไทยประกันชีวิต 123 ถ. รัชดาภิเษก แขวงดินแดง เขตดินแดง กรุงเทพมหานคร 10400
CATEGORIES:ปฏิทินตารางหน่วยเคลื่อนที่
END:VEVENT
BEGIN:VEVENT
DTSTART;TZID=Asia/Krasnoyarsk:20260424T090000
DTEND;TZID=Asia/Krasnoyarsk:20260424T150000
DTSTAMP:20260420T143802
CREATED:20260420T062046Z
LAST-MODIFIED:20260420T062046Z
UID:10006543-1777021200-1777042800@thaibloodcentre.redcross.or.th
SUMMARY:บริษัท โนเบิล ดีเวลลอปเมนท์ จำกัด (มหาชน) []
DESCRIPTION:สถานที่เจาะ : หน้าอาคาร D (พัก 11.00-12.00 น.) \nที่อยู่ : 1035 อาคารโนเบิล ถนนเพลินจิต แขวงลุมพินี เขตปทุมวัน กรุงเทพฯ 0 2251 9955
URL:https://thaibloodcentre.redcross.or.th/event/%e0%b8%9a%e0%b8%a3%e0%b8%b4%e0%b8%a9%e0%b8%b1%e0%b8%97-%e0%b9%82%e0%b8%99%e0%b9%80%e0%b8%9a%e0%b8%b4%e0%b8%a5-%e0%b8%94%e0%b8%b5%e0%b9%80%e0%b8%a7%e0%b8%a5%e0%b8%a5%e0%b8%ad%e0%b8%9b%e0%b9%80-2/
LOCATION:บริษัท โนเบิล ดีเวลลอปเมนท์ จำกัด (มหาชน)\, อาคารโนเบิล 1035 ถนนเพลินจิต แขวงลุมพินี เขตปทุมวัน กรุงเทพฯ 10330
CATEGORIES:ปฏิทินตารางหน่วยเคลื่อนที่
END:VEVENT
BEGIN:VEVENT
DTSTART;TZID=Asia/Krasnoyarsk:20260424T090000
DTEND;TZID=Asia/Krasnoyarsk:20260424T150000
DTSTAMP:20260420T143802
CREATED:20260420T062049Z
LAST-MODIFIED:20260420T062049Z
UID:10006544-1777021200-1777042800@thaibloodcentre.redcross.or.th
SUMMARY:สำนักงานบริหารจัดการเขตปลอดอากร []
DESCRIPTION:สถานที่เจาะ : อาคาร BC – 1 ชั้น 3 \nที่อยู่ : 999 ม. 7 อาคารสำนักงานเขตปลอดอากร ต.ราชาเทวะ อ.บางพลี จ.สมุทรปราการ 0 2132 9832
URL:https://thaibloodcentre.redcross.or.th/event/%e0%b8%aa%e0%b8%b3%e0%b8%99%e0%b8%b1%e0%b8%81%e0%b8%87%e0%b8%b2%e0%b8%99%e0%b8%9a%e0%b8%a3%e0%b8%b4%e0%b8%ab%e0%b8%b2%e0%b8%a3%e0%b8%88%e0%b8%b1%e0%b8%94%e0%b8%81%e0%b8%b2%e0%b8%a3%e0%b9%80%e0%b8%82-4/
LOCATION:สำนักงานบริหารจัดการเขตปลอดอากร\, ศูนย์บริหารพื้นที่เขตปลอดอากรและคลังสินค้า 999 ม.7 ต.ราชาเทวะ อ.บางพลี จ.สมุทรปราการ 10540
CATEGORIES:ปฏิทินตารางหน่วยเคลื่อนที่
END:VEVENT
BEGIN:VEVENT
DTSTART;TZID=Asia/Krasnoyarsk:20260424T090000
DTEND;TZID=Asia/Krasnoyarsk:20260424T150000
DTSTAMP:20260420T143802
CREATED:20260420T062051Z
LAST-MODIFIED:20260420T062051Z
UID:10006545-1777021200-1777042800@thaibloodcentre.redcross.or.th
SUMMARY:บริษัท เคซีอี อีเลคโทรนิคส์ จำกัด (มหาชน) []
DESCRIPTION:สถานที่เจาะ : ด้านหน้าบริษัท (พัก 12.00-13.00 น.) \nที่อยู่ : 72-72/1-3 ซอยฉลองกรุง 31 แขวงลำปลาทิว เขตลาดกระบัง กรุงเทพฯ 0 2326 0196-9
URL:https://thaibloodcentre.redcross.or.th/event/%e0%b8%9a%e0%b8%a3%e0%b8%b4%e0%b8%a9%e0%b8%b1%e0%b8%97-%e0%b9%80%e0%b8%84%e0%b8%8b%e0%b8%b5%e0%b8%ad%e0%b8%b5-%e0%b8%ad%e0%b8%b5%e0%b9%80%e0%b8%a5%e0%b8%84%e0%b9%82%e0%b8%97%e0%b8%a3%e0%b8%99-4/
LOCATION:บริษัท เคซีอี อีเลคโทรนิคส์ จำกัด (มหาชน)\, บริษัท เคซีอี อีเลคโทรนิคส์ จำกัด ( มหาชน ) 72-72/1-3 ซอยฉลองกรุง 31 แขวงลำปลาทิว เขตลาดกระบัง กรุงเทพมหานคร 10520
CATEGORIES:ปฏิทินตารางหน่วยเคลื่อนที่
END:VEVENT
BEGIN:VEVENT
DTSTART;TZID=Asia/Krasnoyarsk:20260424T090000
DTEND;TZID=Asia/Krasnoyarsk:20260424T150000
DTSTAMP:20260420T143802
CREATED:20260420T062053Z
LAST-MODIFIED:20260420T062053Z
UID:10006546-1777021200-1777042800@thaibloodcentre.redcross.or.th
SUMMARY:มหาวิทยาลัยรามคำแหง []
DESCRIPTION:สถานที่เจาะ : ห้องศักดิ์ ผาสุขนิรันต์ หอประชุมพ่อขุนฯ (พัก 12.00-13.00 น.) \nที่อยู่ : ถนนรามคำแหง แขวงหัวหมาก เขตบางกะปิ กรุงเทพฯ 0 2310 8066-69
URL:https://thaibloodcentre.redcross.or.th/event/%e0%b8%a1%e0%b8%ab%e0%b8%b2%e0%b8%a7%e0%b8%b4%e0%b8%97%e0%b8%a2%e0%b8%b2%e0%b8%a5%e0%b8%b1%e0%b8%a2%e0%b8%a3%e0%b8%b2%e0%b8%a1%e0%b8%84%e0%b8%b3%e0%b9%81%e0%b8%ab%e0%b8%87-4/
LOCATION:มหาวิทยาลัยรามคำแหง\, มหาวิทยาลัยรามคำแหง 282 ถนน รามคำแหง แขวงหัวหมาก เขตบางกะปิ กรุงเทพมหานคร 10240
CATEGORIES:ปฏิทินตารางหน่วยเคลื่อนที่
END:VEVENT
BEGIN:VEVENT
DTSTART;TZID=Asia/Krasnoyarsk:20260424T090000
DTEND;TZID=Asia/Krasnoyarsk:20260424T150000
DTSTAMP:20260420T143802
CREATED:20260420T062055Z
LAST-MODIFIED:20260420T062055Z
UID:10006547-1777021200-1777042800@thaibloodcentre.redcross.or.th
SUMMARY:โรงพยาบาลนครธน []
DESCRIPTION:สถานที่เจาะ : หน้าโรงพยาบาล (พัก 11.30-12.30 น.) \nที่อยู่ : 1 พระรามที่ 2 ซอย 56 แขวงแสมดำ เขตบางขุนเทียน กรุงเทพฯ 0 2450 9999
URL:https://thaibloodcentre.redcross.or.th/event/%e0%b9%82%e0%b8%a3%e0%b8%87%e0%b8%9e%e0%b8%a2%e0%b8%b2%e0%b8%9a%e0%b8%b2%e0%b8%a5%e0%b8%99%e0%b8%84%e0%b8%a3%e0%b8%98%e0%b8%99-4/
LOCATION:โรงพยาบาลนครธน\, โรงพยาบาลนครธน 1 พระราม 2 ซอย 56 แขวงแสมดำ เขตบางขุนเทียน กรุงเทพมหานคร 10150
CATEGORIES:ปฏิทินตารางหน่วยเคลื่อนที่
END:VEVENT
BEGIN:VEVENT
DTSTART;TZID=Asia/Krasnoyarsk:20260424T090000
DTEND;TZID=Asia/Krasnoyarsk:20260424T150000
DTSTAMP:20260420T143802
CREATED:20260420T062105Z
LAST-MODIFIED:20260420T062125Z
UID:10006548-1777021200-1777042800@thaibloodcentre.redcross.or.th
SUMMARY:โรงพยาบาลวิชัยเวช อินเตอร์เนชั่นแนล หนองแขม []
DESCRIPTION:สถานที่เจาะ : ห้องประชุมวนดุรงค์วรรณ ชั้น 2 อาคาร 3 (พัก 12.00-13.00 น.) \nที่อยู่ : 456-456/8 ถนนเพชรเกษม หนองค้างพลู เขตหนองแขม กรุงเทพฯ 0 2441 6999
URL:https://thaibloodcentre.redcross.or.th/event/%e0%b9%82%e0%b8%a3%e0%b8%87%e0%b8%9e%e0%b8%a2%e0%b8%b2%e0%b8%9a%e0%b8%b2%e0%b8%a5%e0%b8%a7%e0%b8%b4%e0%b8%8a%e0%b8%b1%e0%b8%a2%e0%b9%80%e0%b8%a7%e0%b8%8a-%e0%b8%ad%e0%b8%b4%e0%b8%99%e0%b9%80-5/
LOCATION:โรงพยาบาลวิชัยเวช อินเตอร์เนชั่นแนล หนองแขม\, โรงพยาบาลวิชัยเวช อินเตอร์เนชั่นแนล หนองแขม 456-456/9 ถนนเพชรเกษม แขวงหนองค้างพลู เขตหนองแขม กรุงเทพฯ 10160
CATEGORIES:ปฏิทินตารางหน่วยเคลื่อนที่
END:VEVENT
BEGIN:VEVENT
DTSTART;TZID=Asia/Krasnoyarsk:20260424T110000
DTEND;TZID=Asia/Krasnoyarsk:20260424T150000
DTSTAMP:20260420T143802
CREATED:20260420T062038Z
LAST-MODIFIED:20260420T062038Z
UID:10006541-1777028400-1777042800@thaibloodcentre.redcross.or.th
SUMMARY:ศูนย์การค้าทรี ออน ธรี พระราม 3 []
DESCRIPTION:สถานที่เจาะ : ชั้น 1 \nที่อยู่ : 295 ถนนพระราม 3 แขวงบางคอแหลม เขตบางคอแหลม กรุงเทพฯ 0 2689 0917-9
URL:https://thaibloodcentre.redcross.or.th/event/%e0%b8%a8%e0%b8%b9%e0%b8%99%e0%b8%a2%e0%b9%8c%e0%b8%81%e0%b8%b2%e0%b8%a3%e0%b8%84%e0%b9%89%e0%b8%b2%e0%b8%97%e0%b8%a3%e0%b8%b5-%e0%b8%ad%e0%b8%ad%e0%b8%99-%e0%b8%98%e0%b8%a3%e0%b8%b5-%e0%b8%9e-13/
LOCATION:ศูนย์การค้าทรี ออน ธรี พระราม 3\, ทรี ออน ธรี 295 ถนนพระรามที่ 3 แขวงบางคอแหลม เขตบางคอแหลม กรุงเทพมหานคร 10120
CATEGORIES:ปฏิทินตารางหน่วยเคลื่อนที่
END:VEVENT
BEGIN:VEVENT
DTSTART;TZID=Asia/Krasnoyarsk:20260424T120000
DTEND;TZID=Asia/Krasnoyarsk:20260424T150000
DTSTAMP:20260420T143802
CREATED:20260420T062110Z
LAST-MODIFIED:20260420T062127Z
UID:10006550-1777032000-1777042800@thaibloodcentre.redcross.or.th
SUMMARY:บริษัท วนวิทย์ แมนูแฟคเจอริ่ง จำกัด (พระราม 2) []
DESCRIPTION:สถานที่เจาะ : หน้าคลังวัตถุดิบ \nที่อยู่ : 10 ถนนพระราม 2 ซอย 94 แขวงแสมดำ เขตบางขุนเทียน กรุงเทพฯ 0 2896 2390
URL:https://thaibloodcentre.redcross.or.th/event/%e0%b8%9a%e0%b8%a3%e0%b8%b4%e0%b8%a9%e0%b8%b1%e0%b8%97-%e0%b8%a7%e0%b8%99%e0%b8%a7%e0%b8%b4%e0%b8%97%e0%b8%a2%e0%b9%8c-%e0%b9%81%e0%b8%a1%e0%b8%99%e0%b8%b9%e0%b9%81%e0%b8%9f%e0%b8%84%e0%b9%80-9/
LOCATION:บริษัท วนวิทย์ แมนูแฟคเจอริ่ง จำกัด (พระราม 2)\, บริษัท วนวิทย์ แมนูแฟคเจอริ่ง จำกัด ( Hatari ) 10 ซอยพระรามที่ 2 ซอย 94 แขวงแสมดำ เขตบางขุนเทียน กรุงเทพมหานคร 10150
CATEGORIES:ปฏิทินตารางหน่วยเคลื่อนที่
END:VEVENT
BEGIN:VEVENT
DTSTART;TZID=Asia/Krasnoyarsk:20260424T120000
DTEND;TZID=Asia/Krasnoyarsk:20260424T180000
DTSTAMP:20260420T143802
CREATED:20260420T061913Z
LAST-MODIFIED:20260420T061913Z
UID:10006533-1777032000-1777053600@thaibloodcentre.redcross.or.th
SUMMARY:ศูนย์การค้าเดอะมอลล์ไลฟ์สโตร์ บางแค []
DESCRIPTION:สถานที่เจาะ : ชั้น 3 ตรงข้ามร้านโอ้กะจู๋ \nที่อยู่ : ถนนเพชรเกษม แขวงบางแคเหนือ เขตภาษีเจริญ กรุงเทพฯ 02 487 1221
URL:https://thaibloodcentre.redcross.or.th/event/%e0%b8%a8%e0%b8%b9%e0%b8%99%e0%b8%a2%e0%b9%8c%e0%b8%81%e0%b8%b2%e0%b8%a3%e0%b8%84%e0%b9%89%e0%b8%b2%e0%b9%80%e0%b8%94%e0%b8%ad%e0%b8%b0%e0%b8%a1%e0%b8%ad%e0%b8%a5%e0%b8%a5%e0%b9%8c%e0%b9%84-1699/
LOCATION:ศูนย์การค้าเดอะมอลล์ไลฟ์สโตร์ บางแค\, ศูนย์การค้าเดอะมอลล์ไลฟ์สโตร์ บางแค
CATEGORIES:ปฏิทินตารางหน่วยเคลื่อนที่
END:VEVENT
BEGIN:VEVENT
DTSTART;TZID=Asia/Krasnoyarsk:20260424T120000
DTEND;TZID=Asia/Krasnoyarsk:20260424T180000
DTSTAMP:20260420T143802
CREATED:20260420T061927Z
LAST-MODIFIED:20260420T061927Z
UID:10006534-1777032000-1777053600@thaibloodcentre.redcross.or.th
SUMMARY:ศูนย์การค้าเดอะมอลล์ไลฟ์สโตร์ บางกะปิ []
DESCRIPTION:สถานที่เจาะ : ชั้น 2 ทางออกลานจอดรถ \nที่อยู่ : ถนนลาดพร้าว แขวงคลองจั่น เขตบางกะปิ กรุงเทพฯ 0 2310 2278
URL:https://thaibloodcentre.redcross.or.th/event/%e0%b8%a8%e0%b8%b9%e0%b8%99%e0%b8%a2%e0%b9%8c%e0%b8%81%e0%b8%b2%e0%b8%a3%e0%b8%84%e0%b9%89%e0%b8%b2%e0%b9%80%e0%b8%94%e0%b8%ad%e0%b8%b0%e0%b8%a1%e0%b8%ad%e0%b8%a5%e0%b8%a5%e0%b9%8c%e0%b9%84-1701/
LOCATION:ศูนย์การค้าเดอะมอลล์ไลฟ์สโตร์ บางกะปิ\, เดอะมอลล์ไลฟ์สโตร์ บางกะปิ 3522 ถ. ลาดพร้าว แขวงคลองจั่น เขตบางกะปิ กรุงเทพมหานคร 10240
CATEGORIES:ปฏิทินตารางหน่วยเคลื่อนที่
END:VEVENT
BEGIN:VEVENT
DTSTART;TZID=Asia/Krasnoyarsk:20260424T120000
DTEND;TZID=Asia/Krasnoyarsk:20260424T180000
DTSTAMP:20260420T143802
CREATED:20260420T061941Z
LAST-MODIFIED:20260420T061941Z
UID:10006535-1777032000-1777053600@thaibloodcentre.redcross.or.th
SUMMARY:ศูนย์การค้าเดอะมอลล์ไลฟ์สโตร์ งามวงศ์วาน []
DESCRIPTION:สถานที่เจาะ : ชั้น 5 โซน Government Center \nที่อยู่ : ถนนงามวงศ์วาน ต.บางเขน อ.เมือง จ.นนทบุรี 0 2555 1550
URL:https://thaibloodcentre.redcross.or.th/event/%e0%b8%a8%e0%b8%b9%e0%b8%99%e0%b8%a2%e0%b9%8c%e0%b8%81%e0%b8%b2%e0%b8%a3%e0%b8%84%e0%b9%89%e0%b8%b2%e0%b9%80%e0%b8%94%e0%b8%ad%e0%b8%b0%e0%b8%a1%e0%b8%ad%e0%b8%a5%e0%b8%a5%e0%b9%8c%e0%b9%84-1703/
LOCATION:ศูนย์การค้าเดอะมอลล์ไลฟ์สโตร์ งามวงศ์วาน\, เดอะมอลล์ ไลฟ์สโตร์ งามวงศ์วาน 430 ถนน งามวงศ์วาน ตำบลบางเขน อำเภอเมืองนนทบุรี นนทบุรี 11000
CATEGORIES:ปฏิทินตารางหน่วยเคลื่อนที่
END:VEVENT
BEGIN:VEVENT
DTSTART;TZID=Asia/Krasnoyarsk:20260424T120000
DTEND;TZID=Asia/Krasnoyarsk:20260424T180000
DTSTAMP:20260420T143802
CREATED:20260420T061955Z
LAST-MODIFIED:20260420T061955Z
UID:10006536-1777032000-1777053600@thaibloodcentre.redcross.or.th
SUMMARY:ศูนย์การค้า เอ็มโพเรียม []
DESCRIPTION:สถานที่เจาะ : ชั้น M ศูนย์การค้า ดิ เอ็มโพเรียม เชื่อมลานจอดรถอาคาร B \nที่อยู่ : 622 ถนนสุขุมวิท แขวงคลองตัน เขตคลองเตย กรุงเทพฯ 0 2269 1515
URL:https://thaibloodcentre.redcross.or.th/event/%e0%b8%a8%e0%b8%b9%e0%b8%99%e0%b8%a2%e0%b9%8c%e0%b8%81%e0%b8%b2%e0%b8%a3%e0%b8%84%e0%b9%89%e0%b8%b2-%e0%b9%80%e0%b8%ad%e0%b9%87%e0%b8%a1%e0%b9%82%e0%b8%9e%e0%b9%80%e0%b8%a3%e0%b8%b5%e0%b8%a2-421/
LOCATION:ศูนย์การค้า เอ็มโพเรียม\, เอ็มโพเรียม 622 ถ. สุขุมวิท แขวงคลองตัน เขตคลองเตย กรุงเทพมหานคร 10110
CATEGORIES:ปฏิทินตารางหน่วยเคลื่อนที่
END:VEVENT
BEGIN:VEVENT
DTSTART;TZID=Asia/Krasnoyarsk:20260424T120000
DTEND;TZID=Asia/Krasnoyarsk:20260424T180000
DTSTAMP:20260420T143802
CREATED:20260420T062000Z
LAST-MODIFIED:20260420T062000Z
UID:10006537-1777032000-1777053600@thaibloodcentre.redcross.or.th
SUMMARY:ศูนย์การค้าเดอะมอลล์ไลฟ์สโตร์ ท่าพระ []
DESCRIPTION:สถานที่เจาะ : ชั้น 1 (ติดลานจอดรถ) \nที่อยู่ : 99 ถนนรัชดาท่าพระตัดใหม่ แขวงบุคคโล เขตธนบุรี กรุงเทพฯ 0 2469-1000
URL:https://thaibloodcentre.redcross.or.th/event/%e0%b8%a8%e0%b8%b9%e0%b8%99%e0%b8%a2%e0%b9%8c%e0%b8%81%e0%b8%b2%e0%b8%a3%e0%b8%84%e0%b9%89%e0%b8%b2%e0%b9%80%e0%b8%94%e0%b8%ad%e0%b8%b0%e0%b8%a1%e0%b8%ad%e0%b8%a5%e0%b8%a5%e0%b9%8c%e0%b9%84-1705/
LOCATION:ศูนย์การค้าเดอะมอลล์ไลฟ์สโตร์ ท่าพระ\, เดอะมอลล์ไลฟ์สโตร์ ท่าพระ 129 ถ. รัชดาภิเษก แขวงบุคคโล เขตธนบุรี กรุงเทพมหานคร 10600
CATEGORIES:ปฏิทินตารางหน่วยเคลื่อนที่
END:VEVENT
BEGIN:VEVENT
DTSTART;TZID=Asia/Krasnoyarsk:20260425T083000
DTEND;TZID=Asia/Krasnoyarsk:20260425T153000
DTSTAMP:20260420T143802
CREATED:20260420T062112Z
LAST-MODIFIED:20260420T062128Z
UID:10006551-1777105800-1777131000@thaibloodcentre.redcross.or.th
SUMMARY:ศูนย์บริการโลหิตแห่งชาติ สภากาชาดไทย []
DESCRIPTION:สถานที่เจาะ : ห้องเบอร์ 4 \nที่อยู่ : 1871 ถ. อังรีดูนังต์ แขวงปทุมวัน เขตปทุมวัน
URL:https://thaibloodcentre.redcross.or.th/event/%e0%b8%a8%e0%b8%b9%e0%b8%99%e0%b8%a2%e0%b9%8c%e0%b8%9a%e0%b8%a3%e0%b8%b4%e0%b8%81%e0%b8%b2%e0%b8%a3%e0%b9%82%e0%b8%a5%e0%b8%ab%e0%b8%b4%e0%b8%95%e0%b9%81%e0%b8%ab%e0%b9%88%e0%b8%87%e0%b8%8a-511/
LOCATION:ศูนย์บริการโลหิตแห่งชาติ สภากาชาดไทย\, ศูนย์บริการโลหิตแห่งชาติ สภากาชาดไทย 1871 ถ. อังรีดูนังต์ แขวงปทุมวัน เขตปทุมวัน กรุงเทพมหานคร 10330
CATEGORIES:ปฏิทินตารางหน่วยเคลื่อนที่
END:VEVENT
END:VCALENDAR