BEGIN:VCALENDAR
VERSION:2.0
PRODID:-//เว็บไซต์ศูนย์บริการโลหิตแห่งชาติ - ECPv6.11.2.1//NONSGML v1.0//EN
CALSCALE:GREGORIAN
METHOD:PUBLISH
X-WR-CALNAME:เว็บไซต์ศูนย์บริการโลหิตแห่งชาติ
X-ORIGINAL-URL:https://thaibloodcentre.redcross.or.th
X-WR-CALDESC:Events for เว็บไซต์ศูนย์บริการโลหิตแห่งชาติ
REFRESH-INTERVAL;VALUE=DURATION:PT1H
X-Robots-Tag:noindex
X-PUBLISHED-TTL:PT1H
BEGIN:VTIMEZONE
TZID:Asia/Krasnoyarsk
BEGIN:STANDARD
TZOFFSETFROM:+0700
TZOFFSETTO:+0700
TZNAME:+07
DTSTART:20260101T000000
END:STANDARD
END:VTIMEZONE
BEGIN:VEVENT
DTSTART;TZID=Asia/Krasnoyarsk:20260112T073000
DTEND;TZID=Asia/Krasnoyarsk:20260112T193000
DTSTAMP:20260426T073655
CREATED:20260106T131157Z
LAST-MODIFIED:20260106T131157Z
UID:10005052-1768203000-1768246200@thaibloodcentre.redcross.or.th
SUMMARY:ศูนย์บริการโลหิตแห่งชาติ สภากาชาดไทย [0A0000]
DESCRIPTION:ที่อยู่ : 1871 ถ. อังรีดูนังต์ แขวงปทุมวัน เขตปทุมวัน
URL:https://thaibloodcentre.redcross.or.th/event/%e0%b8%a8%e0%b8%b9%e0%b8%99%e0%b8%a2%e0%b9%8c%e0%b8%9a%e0%b8%a3%e0%b8%b4%e0%b8%81%e0%b8%b2%e0%b8%a3%e0%b9%82%e0%b8%a5%e0%b8%ab%e0%b8%b4%e0%b8%95%e0%b9%81%e0%b8%ab%e0%b9%88%e0%b8%87%e0%b8%8a-397/
LOCATION:ศูนย์บริการโลหิตแห่งชาติ สภากาชาดไทย\, ศูนย์บริการโลหิตแห่งชาติ สภากาชาดไทย 1871 ถ. อังรีดูนังต์ แขวงปทุมวัน เขตปทุมวัน กรุงเทพมหานคร 10330
CATEGORIES:ปฏิทินตารางหน่วยเคลื่อนที่
END:VEVENT
BEGIN:VEVENT
DTSTART;TZID=Asia/Krasnoyarsk:20260112T083000
DTEND;TZID=Asia/Krasnoyarsk:20260112T193000
DTSTAMP:20260426T073655
CREATED:20260106T131430Z
LAST-MODIFIED:20260106T131430Z
UID:10005058-1768206600-1768246200@thaibloodcentre.redcross.or.th
SUMMARY:สถานีกาชาด 11 วิเศษนิยม [0D0200]
DESCRIPTION:สถานที่เจาะ : ชั้น 3 \nที่อยู่ : 33/3 ถนนเพชรเกษม แขวงบางหว้า เขตภาษีเจริญ กรุงเทพฯ 0633450711
URL:https://thaibloodcentre.redcross.or.th/event/%e0%b8%aa%e0%b8%96%e0%b8%b2%e0%b8%99%e0%b8%b5%e0%b8%81%e0%b8%b2%e0%b8%8a%e0%b8%b2%e0%b8%94-11-%e0%b8%a7%e0%b8%b4%e0%b9%80%e0%b8%a8%e0%b8%a9%e0%b8%99%e0%b8%b4%e0%b8%a2%e0%b8%a1-0d0200-181/
LOCATION:สถานีกาชาด 11 วิเศษนิยม\, สถานีกาชาด 11 วิเศษนิยม 605 ถ.เพชรเกษม แขวงบางหว้า เขตภาษีเจริญ กรุงเทพมหานคร 10160
CATEGORIES:ปฏิทินตารางหน่วยเคลื่อนที่
END:VEVENT
BEGIN:VEVENT
DTSTART;TZID=Asia/Krasnoyarsk:20260112T090000
DTEND;TZID=Asia/Krasnoyarsk:20260112T150000
DTSTAMP:20260426T073655
CREATED:20260106T131552Z
LAST-MODIFIED:20260106T131552Z
UID:10005059-1768208400-1768230000@thaibloodcentre.redcross.or.th
SUMMARY:บ้านทรงไทย (ย่านวงศ์สว่าง) [0J0463]
DESCRIPTION:สถานที่เจาะ : (พัก 12.30-13.00 น.) \nที่อยู่ : 1423 ถนนกรุงเทพ – นนทบุรี แขวงวงศ์สว่าง เขตบางซื่อ กรุงเทพฯ 0 2256 4300
URL:https://thaibloodcentre.redcross.or.th/event/%e0%b8%9a%e0%b9%89%e0%b8%b2%e0%b8%99%e0%b8%97%e0%b8%a3%e0%b8%87%e0%b9%84%e0%b8%97%e0%b8%a2-%e0%b8%a2%e0%b9%88%e0%b8%b2%e0%b8%99%e0%b8%a7%e0%b8%87%e0%b8%a8%e0%b9%8c%e0%b8%aa%e0%b8%a7%e0%b9%88-315/
LOCATION:บ้านทรงไทย (ย่านวงศ์สว่าง)\, หน่วยรับบริจาคโลหิต บ้านทรงไทย(ย่านวงศ์สว่าง) 1423 ถนนกรุงเทพ-นนทบุรี แขวงวงศ์สว่าง เขตบางซื่อ กรุงเทพมหานคร 10800
CATEGORIES:ปฏิทินตารางหน่วยเคลื่อนที่
END:VEVENT
BEGIN:VEVENT
DTSTART;TZID=Asia/Krasnoyarsk:20260112T090000
DTEND;TZID=Asia/Krasnoyarsk:20260112T150000
DTSTAMP:20260426T073655
CREATED:20260106T131602Z
LAST-MODIFIED:20260106T131602Z
UID:10005062-1768208400-1768230000@thaibloodcentre.redcross.or.th
SUMMARY:สำนักงานนิคมอุตสาหกรรมบ้านหว้า (ไฮเทค) [0D0527]
DESCRIPTION:สถานที่เจาะ : ด้านหน้าอาคาร \nที่อยู่ : 99 ม.5 ต.บ้านหว้า อ.บางปะอิน จ.พระนครศรีอยุธยา 035 350 141
URL:https://thaibloodcentre.redcross.or.th/event/%e0%b8%aa%e0%b8%b3%e0%b8%99%e0%b8%b1%e0%b8%81%e0%b8%87%e0%b8%b2%e0%b8%99%e0%b8%99%e0%b8%b4%e0%b8%84%e0%b8%a1%e0%b8%ad%e0%b8%b8%e0%b8%95%e0%b8%aa%e0%b8%b2%e0%b8%ab%e0%b8%81%e0%b8%a3%e0%b8%a3-22/
LOCATION:สำนักงานนิคมอุตสาหกรรมบ้านหว้า (ไฮเทค)\, สำนักงานนิคมอุตสาหกรรมบ้านหว้า (ไฮเทค) 99 หมู่ 5 ถนนสายเอเซีย ตำบลบ้านหว้า อำเภอบางปะอิน จังหวัดพระนครศรีอยุธยา 13160
CATEGORIES:ปฏิทินตารางหน่วยเคลื่อนที่
END:VEVENT
BEGIN:VEVENT
DTSTART;TZID=Asia/Krasnoyarsk:20260112T090000
DTEND;TZID=Asia/Krasnoyarsk:20260112T150000
DTSTAMP:20260426T073655
CREATED:20260106T131650Z
LAST-MODIFIED:20260106T131650Z
UID:10005064-1768208400-1768230000@thaibloodcentre.redcross.or.th
SUMMARY:โรงเรียนราชินี [0B0468]
DESCRIPTION:สถานที่เจาะ : หน้าโรงเรียน \nที่อยู่ : 444 ถนนมหาราช แขวงพระบรมมหาราชวัง เขตพระนคร กรุงเทพฯ 0 2221 1501
URL:https://thaibloodcentre.redcross.or.th/event/%e0%b9%82%e0%b8%a3%e0%b8%87%e0%b9%80%e0%b8%a3%e0%b8%b5%e0%b8%a2%e0%b8%99%e0%b8%a3%e0%b8%b2%e0%b8%8a%e0%b8%b4%e0%b8%99%e0%b8%b5-0b0468/
LOCATION:โรงเรียนราชินี\, โรงเรียนราชินี 444 ถนนมหาราช แขวงพระบรมมหาราชวัง เขตพระนคร กรุงเทพฯ
CATEGORIES:ปฏิทินตารางหน่วยเคลื่อนที่
END:VEVENT
BEGIN:VEVENT
DTSTART;TZID=Asia/Krasnoyarsk:20260112T110000
DTEND;TZID=Asia/Krasnoyarsk:20260112T150000
DTSTAMP:20260426T073655
CREATED:20260106T131557Z
LAST-MODIFIED:20260106T131557Z
UID:10005060-1768215600-1768230000@thaibloodcentre.redcross.or.th
SUMMARY:ศูนย์การค้า ธัญญาพาร์ค ศรีนครินทร์ [0M0851]
DESCRIPTION:สถานที่เจาะ : อาคาร B ชั้น 2 \nที่อยู่ : บริษัท ธัญวิลล์ จำกัด 735\,735/1-8 ถนนศรีนครินทร์ แขวงพัฒนาการ เขตสวนหลวง กรุงเทพฯ 0 2108 6000
URL:https://thaibloodcentre.redcross.or.th/event/%e0%b8%a8%e0%b8%b9%e0%b8%99%e0%b8%a2%e0%b9%8c%e0%b8%81%e0%b8%b2%e0%b8%a3%e0%b8%84%e0%b9%89%e0%b8%b2-%e0%b8%98%e0%b8%b1%e0%b8%8d%e0%b8%8d%e0%b8%b2%e0%b8%9e%e0%b8%b2%e0%b8%a3%e0%b9%8c%e0%b8%84-12/
LOCATION:ศูนย์การค้า ธัญญาพาร์ค ศรีนครินทร์\, ศูนย์การค้า ธัญญาพาร์ค ศรีนครินทร์ 735\,1-8 ถ.ศรีนครินทร์ แขวงพัฒนาการ เขตสวนหลวง กรุงเทพมหานคร 10250
CATEGORIES:ปฏิทินตารางหน่วยเคลื่อนที่
END:VEVENT
BEGIN:VEVENT
DTSTART;TZID=Asia/Krasnoyarsk:20260112T110000
DTEND;TZID=Asia/Krasnoyarsk:20260112T150000
DTSTAMP:20260426T073655
CREATED:20260106T131600Z
LAST-MODIFIED:20260106T131600Z
UID:10005061-1768215600-1768230000@thaibloodcentre.redcross.or.th
SUMMARY:เซ็นทรัลพลาซา ลาดพร้าว [0E0021]
DESCRIPTION:สถานที่เจาะ : ลานด้านหน้าศูนย์การค้า \nที่อยู่ : 1691 ถนนพหลโยธิน แขวงจตุจักร เขตจตุจักร กรุงเทพฯ 0 2793 6000
URL:https://thaibloodcentre.redcross.or.th/event/%e0%b9%80%e0%b8%8b%e0%b9%87%e0%b8%99%e0%b8%97%e0%b8%a3%e0%b8%b1%e0%b8%a5%e0%b8%9e%e0%b8%a5%e0%b8%b2%e0%b8%8b%e0%b8%b2-%e0%b8%a5%e0%b8%b2%e0%b8%94%e0%b8%9e%e0%b8%a3%e0%b9%89%e0%b8%b2%e0%b8%a7-0e0021-7/
LOCATION:เซ็นทรัลพลาซา ลาดพร้าว\, เซ็นทรัลพลาซา ลาดพร้าว 1693 ถ.พหลโยธิน แขวงจตุจักร เขตจตุจักร กรุงเทพมหานคร 10900
CATEGORIES:ปฏิทินตารางหน่วยเคลื่อนที่
END:VEVENT
BEGIN:VEVENT
DTSTART;TZID=Asia/Krasnoyarsk:20260112T110000
DTEND;TZID=Asia/Krasnoyarsk:20260112T150000
DTSTAMP:20260426T073655
CREATED:20260106T131605Z
LAST-MODIFIED:20260106T131605Z
UID:10005063-1768215600-1768230000@thaibloodcentre.redcross.or.th
SUMMARY:อาคารสาทรสแควร์ ออฟฟิศ ทาวเวอร์ [0N0108]
DESCRIPTION:สถานที่เจาะ : หน้าอาคารสาทรสแควร์ \nที่อยู่ : 98 ถนนสาทรเหนือ แขวงสีลม เขตบางรัก กรุงเทพฯ 0 2483 0000
URL:https://thaibloodcentre.redcross.or.th/event/%e0%b8%ad%e0%b8%b2%e0%b8%84%e0%b8%b2%e0%b8%a3%e0%b8%aa%e0%b8%b2%e0%b8%97%e0%b8%a3%e0%b8%aa%e0%b9%81%e0%b8%84%e0%b8%a7%e0%b8%a3%e0%b9%8c-%e0%b8%ad%e0%b8%ad%e0%b8%9f%e0%b8%9f%e0%b8%b4%e0%b8%a8-6/
LOCATION:อาคารสาทรสแควร์ ออฟฟิศ ทาวเวอร์\, สาทรสแควร์ 98 ถนนสาทรเหนือ แขวงสีลม เขตบางรัก กรุงเทพมหานคร 10500
CATEGORIES:ปฏิทินตารางหน่วยเคลื่อนที่
END:VEVENT
BEGIN:VEVENT
DTSTART;TZID=Asia/Krasnoyarsk:20260112T120000
DTEND;TZID=Asia/Krasnoyarsk:20260112T180000
DTSTAMP:20260426T073655
CREATED:20260106T131202Z
LAST-MODIFIED:20260106T131202Z
UID:10005053-1768219200-1768240800@thaibloodcentre.redcross.or.th
SUMMARY:ศูนย์การค้าเดอะมอลล์ไลฟ์สโตร์ บางแค [0E0942]
DESCRIPTION:สถานที่เจาะ : ชั้น 3 ตรงข้ามร้านโอ้กะจู๋ \nที่อยู่ : ถนนเพชรเกษม แขวงบางแคเหนือ เขตภาษีเจริญ กรุงเทพฯ 02 487 1221
URL:https://thaibloodcentre.redcross.or.th/event/%e0%b8%a8%e0%b8%b9%e0%b8%99%e0%b8%a2%e0%b9%8c%e0%b8%81%e0%b8%b2%e0%b8%a3%e0%b8%84%e0%b9%89%e0%b8%b2%e0%b9%80%e0%b8%94%e0%b8%ad%e0%b8%b0%e0%b8%a1%e0%b8%ad%e0%b8%a5%e0%b8%a5%e0%b9%8c%e0%b9%84-1267/
LOCATION:ศูนย์การค้าเดอะมอลล์ไลฟ์สโตร์ บางแค\, ศูนย์การค้าเดอะมอลล์ไลฟ์สโตร์ บางแค
CATEGORIES:ปฏิทินตารางหน่วยเคลื่อนที่
END:VEVENT
BEGIN:VEVENT
DTSTART;TZID=Asia/Krasnoyarsk:20260112T120000
DTEND;TZID=Asia/Krasnoyarsk:20260112T180000
DTSTAMP:20260426T073655
CREATED:20260106T131351Z
LAST-MODIFIED:20260106T131351Z
UID:10005054-1768219200-1768240800@thaibloodcentre.redcross.or.th
SUMMARY:ศูนย์การค้าเดอะมอลล์ไลฟ์สโตร์ บางกะปิ [0E0941]
DESCRIPTION:สถานที่เจาะ : ชั้น 2 ทางออกลานจอดรถ \nที่อยู่ : ถนนลาดพร้าว แขวงคลองจั่น เขตบางกะปิ กรุงเทพฯ 0 2310 2278
URL:https://thaibloodcentre.redcross.or.th/event/%e0%b8%a8%e0%b8%b9%e0%b8%99%e0%b8%a2%e0%b9%8c%e0%b8%81%e0%b8%b2%e0%b8%a3%e0%b8%84%e0%b9%89%e0%b8%b2%e0%b9%80%e0%b8%94%e0%b8%ad%e0%b8%b0%e0%b8%a1%e0%b8%ad%e0%b8%a5%e0%b8%a5%e0%b9%8c%e0%b9%84-1268/
LOCATION:ศูนย์การค้าเดอะมอลล์ไลฟ์สโตร์ บางกะปิ\, เดอะมอลล์ไลฟ์สโตร์ บางกะปิ 3522 ถ. ลาดพร้าว แขวงคลองจั่น เขตบางกะปิ กรุงเทพมหานคร 10240
CATEGORIES:ปฏิทินตารางหน่วยเคลื่อนที่
END:VEVENT
BEGIN:VEVENT
DTSTART;TZID=Asia/Krasnoyarsk:20260112T120000
DTEND;TZID=Asia/Krasnoyarsk:20260112T180000
DTSTAMP:20260426T073655
CREATED:20260106T131403Z
LAST-MODIFIED:20260106T131403Z
UID:10005055-1768219200-1768240800@thaibloodcentre.redcross.or.th
SUMMARY:ศูนย์การค้าเดอะมอลล์ไลฟ์สโตร์ งามวงศ์วาน [0E0948]
DESCRIPTION:สถานที่เจาะ : ชั้น 5 โซน Government Center \nที่อยู่ : ถนนงามวงศ์วาน ต.บางเขน อ.เมือง จ.นนทบุรี 0 2555 1550
URL:https://thaibloodcentre.redcross.or.th/event/%e0%b8%a8%e0%b8%b9%e0%b8%99%e0%b8%a2%e0%b9%8c%e0%b8%81%e0%b8%b2%e0%b8%a3%e0%b8%84%e0%b9%89%e0%b8%b2%e0%b9%80%e0%b8%94%e0%b8%ad%e0%b8%b0%e0%b8%a1%e0%b8%ad%e0%b8%a5%e0%b8%a5%e0%b9%8c%e0%b9%84-1269/
LOCATION:ศูนย์การค้าเดอะมอลล์ไลฟ์สโตร์ งามวงศ์วาน\, เดอะมอลล์ ไลฟ์สโตร์ งามวงศ์วาน 430 ถนน งามวงศ์วาน ตำบลบางเขน อำเภอเมืองนนทบุรี นนทบุรี 11000
CATEGORIES:ปฏิทินตารางหน่วยเคลื่อนที่
END:VEVENT
BEGIN:VEVENT
DTSTART;TZID=Asia/Krasnoyarsk:20260112T120000
DTEND;TZID=Asia/Krasnoyarsk:20260112T180000
DTSTAMP:20260426T073655
CREATED:20260106T131414Z
LAST-MODIFIED:20260106T131414Z
UID:10005056-1768219200-1768240800@thaibloodcentre.redcross.or.th
SUMMARY:ศูนย์การค้า เอ็มโพเรียม [0E0947]
DESCRIPTION:สถานที่เจาะ : ชั้น M ศูนย์การค้า ดิ เอ็มโพเรียม เชื่อมลานจอดรถอาคาร B \nที่อยู่ : 622 ถนนสุขุมวิท แขวงคลองตัน เขตคลองเตย กรุงเทพฯ 0 2269 1515
URL:https://thaibloodcentre.redcross.or.th/event/%e0%b8%a8%e0%b8%b9%e0%b8%99%e0%b8%a2%e0%b9%8c%e0%b8%81%e0%b8%b2%e0%b8%a3%e0%b8%84%e0%b9%89%e0%b8%b2-%e0%b9%80%e0%b8%ad%e0%b9%87%e0%b8%a1%e0%b9%82%e0%b8%9e%e0%b9%80%e0%b8%a3%e0%b8%b5%e0%b8%a2-313/
LOCATION:ศูนย์การค้า เอ็มโพเรียม\, เอ็มโพเรียม 622 ถ. สุขุมวิท แขวงคลองตัน เขตคลองเตย กรุงเทพมหานคร 10110
CATEGORIES:ปฏิทินตารางหน่วยเคลื่อนที่
END:VEVENT
BEGIN:VEVENT
DTSTART;TZID=Asia/Krasnoyarsk:20260112T120000
DTEND;TZID=Asia/Krasnoyarsk:20260112T180000
DTSTAMP:20260426T073655
CREATED:20260106T131419Z
LAST-MODIFIED:20260106T131419Z
UID:10005057-1768219200-1768240800@thaibloodcentre.redcross.or.th
SUMMARY:ศูนย์การค้าเดอะมอลล์ไลฟ์สโตร์ ท่าพระ [0E0344]
DESCRIPTION:สถานที่เจาะ : ชั้น 1 (ติดลานจอดรถ) \nที่อยู่ : 99 ถนนรัชดาท่าพระตัดใหม่ แขวงบุคคโล เขตธนบุรี กรุงเทพฯ 0 2469-1000
URL:https://thaibloodcentre.redcross.or.th/event/%e0%b8%a8%e0%b8%b9%e0%b8%99%e0%b8%a2%e0%b9%8c%e0%b8%81%e0%b8%b2%e0%b8%a3%e0%b8%84%e0%b9%89%e0%b8%b2%e0%b9%80%e0%b8%94%e0%b8%ad%e0%b8%b0%e0%b8%a1%e0%b8%ad%e0%b8%a5%e0%b8%a5%e0%b9%8c%e0%b9%84-1270/
LOCATION:ศูนย์การค้าเดอะมอลล์ไลฟ์สโตร์ ท่าพระ\, เดอะมอลล์ไลฟ์สโตร์ ท่าพระ 129 ถ. รัชดาภิเษก แขวงบุคคโล เขตธนบุรี กรุงเทพมหานคร 10600
CATEGORIES:ปฏิทินตารางหน่วยเคลื่อนที่
END:VEVENT
BEGIN:VEVENT
DTSTART;TZID=Asia/Krasnoyarsk:20260113T073000
DTEND;TZID=Asia/Krasnoyarsk:20260113T193000
DTSTAMP:20260426T073655
CREATED:20260106T131652Z
LAST-MODIFIED:20260106T131652Z
UID:10005065-1768289400-1768332600@thaibloodcentre.redcross.or.th
SUMMARY:ศูนย์บริการโลหิตแห่งชาติ สภากาชาดไทย [0A0000]
DESCRIPTION:ที่อยู่ : 1871 ถ. อังรีดูนังต์ แขวงปทุมวัน เขตปทุมวัน
URL:https://thaibloodcentre.redcross.or.th/event/%e0%b8%a8%e0%b8%b9%e0%b8%99%e0%b8%a2%e0%b9%8c%e0%b8%9a%e0%b8%a3%e0%b8%b4%e0%b8%81%e0%b8%b2%e0%b8%a3%e0%b9%82%e0%b8%a5%e0%b8%ab%e0%b8%b4%e0%b8%95%e0%b9%81%e0%b8%ab%e0%b9%88%e0%b8%87%e0%b8%8a-398/
LOCATION:ศูนย์บริการโลหิตแห่งชาติ สภากาชาดไทย\, ศูนย์บริการโลหิตแห่งชาติ สภากาชาดไทย 1871 ถ. อังรีดูนังต์ แขวงปทุมวัน เขตปทุมวัน กรุงเทพมหานคร 10330
CATEGORIES:ปฏิทินตารางหน่วยเคลื่อนที่
END:VEVENT
BEGIN:VEVENT
DTSTART;TZID=Asia/Krasnoyarsk:20260113T083000
DTEND;TZID=Asia/Krasnoyarsk:20260113T120000
DTSTAMP:20260426T073655
CREATED:20260106T131835Z
LAST-MODIFIED:20260106T131835Z
UID:10005078-1768293000-1768305600@thaibloodcentre.redcross.or.th
SUMMARY:โรงงานมักกะสัน การรถไฟแห่งประเทศไทย [0D0063]
DESCRIPTION:สถานที่เจาะ : หน้าตึกอำนวยการ \nที่อยู่ : ถนนนิคมมักกะสัน แขวงมักกะสัน เขตราชเทวี กรุงเทพฯ 0 2245 2480
URL:https://thaibloodcentre.redcross.or.th/event/%e0%b9%82%e0%b8%a3%e0%b8%87%e0%b8%87%e0%b8%b2%e0%b8%99%e0%b8%a1%e0%b8%b1%e0%b8%81%e0%b8%81%e0%b8%b0%e0%b8%aa%e0%b8%b1%e0%b8%99-%e0%b8%81%e0%b8%b2%e0%b8%a3%e0%b8%a3%e0%b8%96%e0%b9%84%e0%b8%9f-4/
LOCATION:โรงงานมักกะสัน การรถไฟแห่งประเทศไทย\, โรงงานมักกะสัน การรถไฟแห่งประเทศไทย 700 ถ.นิคมมักกะสัน แขวงมักกะสัน เขตราชเทวี กรุงเทพมหานคร 10400
CATEGORIES:ปฏิทินตารางหน่วยเคลื่อนที่
END:VEVENT
BEGIN:VEVENT
DTSTART;TZID=Asia/Krasnoyarsk:20260113T083000
DTEND;TZID=Asia/Krasnoyarsk:20260113T193000
DTSTAMP:20260426T073655
CREATED:20260106T131758Z
LAST-MODIFIED:20260106T131758Z
UID:10005071-1768293000-1768332600@thaibloodcentre.redcross.or.th
SUMMARY:สถานีกาชาด 11 วิเศษนิยม [0D0200]
DESCRIPTION:สถานที่เจาะ : ชั้น 3 \nที่อยู่ : 33/3 ถนนเพชรเกษม แขวงบางหว้า เขตภาษีเจริญ กรุงเทพฯ 0633450711
URL:https://thaibloodcentre.redcross.or.th/event/%e0%b8%aa%e0%b8%96%e0%b8%b2%e0%b8%99%e0%b8%b5%e0%b8%81%e0%b8%b2%e0%b8%8a%e0%b8%b2%e0%b8%94-11-%e0%b8%a7%e0%b8%b4%e0%b9%80%e0%b8%a8%e0%b8%a9%e0%b8%99%e0%b8%b4%e0%b8%a2%e0%b8%a1-0d0200-182/
LOCATION:สถานีกาชาด 11 วิเศษนิยม\, สถานีกาชาด 11 วิเศษนิยม 605 ถ.เพชรเกษม แขวงบางหว้า เขตภาษีเจริญ กรุงเทพมหานคร 10160
CATEGORIES:ปฏิทินตารางหน่วยเคลื่อนที่
END:VEVENT
BEGIN:VEVENT
DTSTART;TZID=Asia/Krasnoyarsk:20260113T090000
DTEND;TZID=Asia/Krasnoyarsk:20260113T120000
DTSTAMP:20260426T073655
CREATED:20260106T131825Z
LAST-MODIFIED:20260106T131825Z
UID:10005076-1768294800-1768305600@thaibloodcentre.redcross.or.th
SUMMARY:บริษัท สหพัฒนพิบูล จำกัด (มหาชน) [0E0038]
DESCRIPTION:สถานที่เจาะ : ข้างอาคารบางกอกทาวเวอร์ \nที่อยู่ : 2156 ถนนเพชรบุรีตัดใหม่ แขวงบางกะปิ เขตห้วยขวาง กรุงเทพฯ 0 2318 0062
URL:https://thaibloodcentre.redcross.or.th/event/%e0%b8%9a%e0%b8%a3%e0%b8%b4%e0%b8%a9%e0%b8%b1%e0%b8%97-%e0%b8%aa%e0%b8%ab%e0%b8%9e%e0%b8%b1%e0%b8%92%e0%b8%99%e0%b8%9e%e0%b8%b4%e0%b8%9a%e0%b8%b9%e0%b8%a5-%e0%b8%88%e0%b8%b3%e0%b8%81%e0%b8%b1-5/
LOCATION:บริษัท สหพัฒนพิบูล จำกัด (มหาชน)\, บริษัท สหพัฒนพิบูล จำกัด (มหาชน) 2156 ถ.เพชรบุรีตัดใหม่ แขวงบางกะปิ เขตห้วยขวาง กรุงเทพมหานคร 10310
CATEGORIES:ปฏิทินตารางหน่วยเคลื่อนที่
END:VEVENT
BEGIN:VEVENT
DTSTART;TZID=Asia/Krasnoyarsk:20260113T090000
DTEND;TZID=Asia/Krasnoyarsk:20260113T150000
DTSTAMP:20260426T073655
CREATED:20260106T131802Z
LAST-MODIFIED:20260106T131802Z
UID:10005072-1768294800-1768316400@thaibloodcentre.redcross.or.th
SUMMARY:บ้านทรงไทย (ย่านวงศ์สว่าง) [0J0463]
DESCRIPTION:สถานที่เจาะ : (พัก 12.30-13.00 น.) \nที่อยู่ : 1423 ถนนกรุงเทพ – นนทบุรี แขวงวงศ์สว่าง เขตบางซื่อ กรุงเทพฯ 0 2256 4300
URL:https://thaibloodcentre.redcross.or.th/event/%e0%b8%9a%e0%b9%89%e0%b8%b2%e0%b8%99%e0%b8%97%e0%b8%a3%e0%b8%87%e0%b9%84%e0%b8%97%e0%b8%a2-%e0%b8%a2%e0%b9%88%e0%b8%b2%e0%b8%99%e0%b8%a7%e0%b8%87%e0%b8%a8%e0%b9%8c%e0%b8%aa%e0%b8%a7%e0%b9%88-316/
LOCATION:บ้านทรงไทย (ย่านวงศ์สว่าง)\, หน่วยรับบริจาคโลหิต บ้านทรงไทย(ย่านวงศ์สว่าง) 1423 ถนนกรุงเทพ-นนทบุรี แขวงวงศ์สว่าง เขตบางซื่อ กรุงเทพมหานคร 10800
CATEGORIES:ปฏิทินตารางหน่วยเคลื่อนที่
END:VEVENT
BEGIN:VEVENT
DTSTART;TZID=Asia/Krasnoyarsk:20260113T090000
DTEND;TZID=Asia/Krasnoyarsk:20260113T150000
DTSTAMP:20260426T073655
CREATED:20260106T131807Z
LAST-MODIFIED:20260106T131807Z
UID:10005073-1768294800-1768316400@thaibloodcentre.redcross.or.th
SUMMARY:โรงเรียนเตรียมอุดมศึกษา [0B0284]
DESCRIPTION:สถานที่เจาะ : ห้องประชุม ฯพณฯ ศ.ม.ล.ปิ่น มาลากุล \nที่อยู่ : 227 ถนนพญาไท แขวงปทุมวัน เขตปทุมวัน กรุงเทพฯ 0 2254 0287
URL:https://thaibloodcentre.redcross.or.th/event/%e0%b9%82%e0%b8%a3%e0%b8%87%e0%b9%80%e0%b8%a3%e0%b8%b5%e0%b8%a2%e0%b8%99%e0%b9%80%e0%b8%95%e0%b8%a3%e0%b8%b5%e0%b8%a2%e0%b8%a1%e0%b8%ad%e0%b8%b8%e0%b8%94%e0%b8%a1%e0%b8%a8%e0%b8%b6%e0%b8%81%e0%b8%a9-6/
LOCATION:โรงเรียนเตรียมอุดมศึกษา\, โรงเรียนเตรียมอุดมศึกษา 227 ถ.พญาไท แขวงปทุมวัน เขตปทุมวัน กรุงเทพมหานคร 10330
CATEGORIES:ปฏิทินตารางหน่วยเคลื่อนที่
END:VEVENT
BEGIN:VEVENT
DTSTART;TZID=Asia/Krasnoyarsk:20260113T090000
DTEND;TZID=Asia/Krasnoyarsk:20260113T150000
DTSTAMP:20260426T073655
CREATED:20260106T131817Z
LAST-MODIFIED:20260106T131817Z
UID:10005074-1768294800-1768316400@thaibloodcentre.redcross.or.th
SUMMARY:บริษัท คิง เพาเวอร์ คอร์ปอเรชั่น จำกัด (สำนักงานใหญ่) [0M0044]
DESCRIPTION:สถานที่เจาะ : Eternity Daylight Ballroom โรงแรมพูลแมน คิงเพาเวอร์ กรุงเทพ \nที่อยู่ : 8 ถนนรางน้ำ แขวงถนนพญาไท เขตราชเทวี กรุงเทพฯ 0 2677 8888
URL:https://thaibloodcentre.redcross.or.th/event/%e0%b8%9a%e0%b8%a3%e0%b8%b4%e0%b8%a9%e0%b8%b1%e0%b8%97-%e0%b8%84%e0%b8%b4%e0%b8%87-%e0%b9%80%e0%b8%9e%e0%b8%b2%e0%b9%80%e0%b8%a7%e0%b8%ad%e0%b8%a3%e0%b9%8c-%e0%b8%84%e0%b8%ad%e0%b8%a3%e0%b9%8c-8/
LOCATION:บริษัท คิง เพาเวอร์ คอร์ปอเรชั่น จำกัด (สำนักงานใหญ่)\, บริษัท คิง เพาเวอร์ คอร์ปอเรชั่น จำกัด (สำนักงานใหญ่) 8 คิง เพาเวอร์ คอมเพล็กซ์ ถนนรางน้ำ แขวงถนนพญาไท เขตราชเทวี กรุงเทพมหานคร 10400
CATEGORIES:ปฏิทินตารางหน่วยเคลื่อนที่
END:VEVENT
BEGIN:VEVENT
DTSTART;TZID=Asia/Krasnoyarsk:20260113T090000
DTEND;TZID=Asia/Krasnoyarsk:20260113T150000
DTSTAMP:20260426T073655
CREATED:20260106T131821Z
LAST-MODIFIED:20260106T131821Z
UID:10005075-1768294800-1768316400@thaibloodcentre.redcross.or.th
SUMMARY:บริษัท คิง เพาเวอร์ คอร์ปอเรชั่น จำกัด (สุวรรณภูมิ) [0M0515]
DESCRIPTION:สถานที่เจาะ : Training Room 7-8 Concourse G (พัก 11.00-12.00 น.) \nที่อยู่ : 999 ม. 1 ต.หนองปรือ อ.บางพลี จ.สมุทรปราการ 0 2134 8888
URL:https://thaibloodcentre.redcross.or.th/event/%e0%b8%9a%e0%b8%a3%e0%b8%b4%e0%b8%a9%e0%b8%b1%e0%b8%97-%e0%b8%84%e0%b8%b4%e0%b8%87-%e0%b9%80%e0%b8%9e%e0%b8%b2%e0%b9%80%e0%b8%a7%e0%b8%ad%e0%b8%a3%e0%b9%8c-%e0%b8%84%e0%b8%ad%e0%b8%a3%e0%b9%8c-9/
LOCATION:บริษัท คิง เพาเวอร์ คอร์ปอเรชั่น จำกัด (สุวรรณภูมิ)\, บริษัท คิง เพาเวอร์ คอร์ปอเรชั่น จำกัด (สุวรรณภูมิ) 999 ถ.บางนา-บางปะกง ตำบลราชาเทวะ อำเภอบางพลี สมุทรปราการ 10540
CATEGORIES:ปฏิทินตารางหน่วยเคลื่อนที่
END:VEVENT
BEGIN:VEVENT
DTSTART;TZID=Asia/Krasnoyarsk:20260113T120000
DTEND;TZID=Asia/Krasnoyarsk:20260113T180000
DTSTAMP:20260426T073655
CREATED:20260106T131657Z
LAST-MODIFIED:20260106T131657Z
UID:10005066-1768305600-1768327200@thaibloodcentre.redcross.or.th
SUMMARY:ศูนย์การค้าเดอะมอลล์ไลฟ์สโตร์ บางแค [0E0942]
DESCRIPTION:สถานที่เจาะ : ชั้น 3 ตรงข้ามร้านโอ้กะจู๋ \nที่อยู่ : ถนนเพชรเกษม แขวงบางแคเหนือ เขตภาษีเจริญ กรุงเทพฯ 02 487 1221
URL:https://thaibloodcentre.redcross.or.th/event/%e0%b8%a8%e0%b8%b9%e0%b8%99%e0%b8%a2%e0%b9%8c%e0%b8%81%e0%b8%b2%e0%b8%a3%e0%b8%84%e0%b9%89%e0%b8%b2%e0%b9%80%e0%b8%94%e0%b8%ad%e0%b8%b0%e0%b8%a1%e0%b8%ad%e0%b8%a5%e0%b8%a5%e0%b9%8c%e0%b9%84-1271/
LOCATION:ศูนย์การค้าเดอะมอลล์ไลฟ์สโตร์ บางแค\, ศูนย์การค้าเดอะมอลล์ไลฟ์สโตร์ บางแค
CATEGORIES:ปฏิทินตารางหน่วยเคลื่อนที่
END:VEVENT
BEGIN:VEVENT
DTSTART;TZID=Asia/Krasnoyarsk:20260113T120000
DTEND;TZID=Asia/Krasnoyarsk:20260113T180000
DTSTAMP:20260426T073655
CREATED:20260106T131706Z
LAST-MODIFIED:20260106T131706Z
UID:10005067-1768305600-1768327200@thaibloodcentre.redcross.or.th
SUMMARY:ศูนย์การค้าเดอะมอลล์ไลฟ์สโตร์ บางกะปิ [0E0941]
DESCRIPTION:สถานที่เจาะ : ชั้น 2 ทางออกลานจอดรถ \nที่อยู่ : ถนนลาดพร้าว แขวงคลองจั่น เขตบางกะปิ กรุงเทพฯ 0 2310 2278
URL:https://thaibloodcentre.redcross.or.th/event/%e0%b8%a8%e0%b8%b9%e0%b8%99%e0%b8%a2%e0%b9%8c%e0%b8%81%e0%b8%b2%e0%b8%a3%e0%b8%84%e0%b9%89%e0%b8%b2%e0%b9%80%e0%b8%94%e0%b8%ad%e0%b8%b0%e0%b8%a1%e0%b8%ad%e0%b8%a5%e0%b8%a5%e0%b9%8c%e0%b9%84-1272/
LOCATION:ศูนย์การค้าเดอะมอลล์ไลฟ์สโตร์ บางกะปิ\, เดอะมอลล์ไลฟ์สโตร์ บางกะปิ 3522 ถ. ลาดพร้าว แขวงคลองจั่น เขตบางกะปิ กรุงเทพมหานคร 10240
CATEGORIES:ปฏิทินตารางหน่วยเคลื่อนที่
END:VEVENT
BEGIN:VEVENT
DTSTART;TZID=Asia/Krasnoyarsk:20260113T120000
DTEND;TZID=Asia/Krasnoyarsk:20260113T180000
DTSTAMP:20260426T073655
CREATED:20260106T131716Z
LAST-MODIFIED:20260106T131716Z
UID:10005068-1768305600-1768327200@thaibloodcentre.redcross.or.th
SUMMARY:ศูนย์การค้าเดอะมอลล์ไลฟ์สโตร์ งามวงศ์วาน [0E0948]
DESCRIPTION:สถานที่เจาะ : ชั้น 5 โซน Government Center \nที่อยู่ : ถนนงามวงศ์วาน ต.บางเขน อ.เมือง จ.นนทบุรี 0 2555 1550
URL:https://thaibloodcentre.redcross.or.th/event/%e0%b8%a8%e0%b8%b9%e0%b8%99%e0%b8%a2%e0%b9%8c%e0%b8%81%e0%b8%b2%e0%b8%a3%e0%b8%84%e0%b9%89%e0%b8%b2%e0%b9%80%e0%b8%94%e0%b8%ad%e0%b8%b0%e0%b8%a1%e0%b8%ad%e0%b8%a5%e0%b8%a5%e0%b9%8c%e0%b9%84-1273/
LOCATION:ศูนย์การค้าเดอะมอลล์ไลฟ์สโตร์ งามวงศ์วาน\, เดอะมอลล์ ไลฟ์สโตร์ งามวงศ์วาน 430 ถนน งามวงศ์วาน ตำบลบางเขน อำเภอเมืองนนทบุรี นนทบุรี 11000
CATEGORIES:ปฏิทินตารางหน่วยเคลื่อนที่
END:VEVENT
BEGIN:VEVENT
DTSTART;TZID=Asia/Krasnoyarsk:20260113T120000
DTEND;TZID=Asia/Krasnoyarsk:20260113T180000
DTSTAMP:20260426T073655
CREATED:20260106T131743Z
LAST-MODIFIED:20260106T131743Z
UID:10005069-1768305600-1768327200@thaibloodcentre.redcross.or.th
SUMMARY:ศูนย์การค้า เอ็มโพเรียม [0E0947]
DESCRIPTION:สถานที่เจาะ : ชั้น M ศูนย์การค้า ดิ เอ็มโพเรียม เชื่อมลานจอดรถอาคาร B \nที่อยู่ : 622 ถนนสุขุมวิท แขวงคลองตัน เขตคลองเตย กรุงเทพฯ 0 2269 1515
URL:https://thaibloodcentre.redcross.or.th/event/%e0%b8%a8%e0%b8%b9%e0%b8%99%e0%b8%a2%e0%b9%8c%e0%b8%81%e0%b8%b2%e0%b8%a3%e0%b8%84%e0%b9%89%e0%b8%b2-%e0%b9%80%e0%b8%ad%e0%b9%87%e0%b8%a1%e0%b9%82%e0%b8%9e%e0%b9%80%e0%b8%a3%e0%b8%b5%e0%b8%a2-314/
LOCATION:ศูนย์การค้า เอ็มโพเรียม\, เอ็มโพเรียม 622 ถ. สุขุมวิท แขวงคลองตัน เขตคลองเตย กรุงเทพมหานคร 10110
CATEGORIES:ปฏิทินตารางหน่วยเคลื่อนที่
END:VEVENT
BEGIN:VEVENT
DTSTART;TZID=Asia/Krasnoyarsk:20260113T120000
DTEND;TZID=Asia/Krasnoyarsk:20260113T180000
DTSTAMP:20260426T073655
CREATED:20260106T131748Z
LAST-MODIFIED:20260106T131748Z
UID:10005070-1768305600-1768327200@thaibloodcentre.redcross.or.th
SUMMARY:ศูนย์การค้าเดอะมอลล์ไลฟ์สโตร์ ท่าพระ [0E0344]
DESCRIPTION:สถานที่เจาะ : ชั้น 1 (ติดลานจอดรถ) \nที่อยู่ : 99 ถนนรัชดาท่าพระตัดใหม่ แขวงบุคคโล เขตธนบุรี กรุงเทพฯ 0 2469-1000
URL:https://thaibloodcentre.redcross.or.th/event/%e0%b8%a8%e0%b8%b9%e0%b8%99%e0%b8%a2%e0%b9%8c%e0%b8%81%e0%b8%b2%e0%b8%a3%e0%b8%84%e0%b9%89%e0%b8%b2%e0%b9%80%e0%b8%94%e0%b8%ad%e0%b8%b0%e0%b8%a1%e0%b8%ad%e0%b8%a5%e0%b8%a5%e0%b9%8c%e0%b9%84-1274/
LOCATION:ศูนย์การค้าเดอะมอลล์ไลฟ์สโตร์ ท่าพระ\, เดอะมอลล์ไลฟ์สโตร์ ท่าพระ 129 ถ. รัชดาภิเษก แขวงบุคคโล เขตธนบุรี กรุงเทพมหานคร 10600
CATEGORIES:ปฏิทินตารางหน่วยเคลื่อนที่
END:VEVENT
BEGIN:VEVENT
DTSTART;TZID=Asia/Krasnoyarsk:20260113T133000
DTEND;TZID=Asia/Krasnoyarsk:20260113T150000
DTSTAMP:20260426T073655
CREATED:20260106T131830Z
LAST-MODIFIED:20260106T131830Z
UID:10005077-1768311000-1768316400@thaibloodcentre.redcross.or.th
SUMMARY:อาคารวานิชเพลซ อารีย์ [0M1033]
DESCRIPTION:สถานที่เจาะ : ด้านหน้าอาคาร \nที่อยู่ : 304 ถนนพหลโยธิน แขวงสามเสนใน เขตพญาไท กรุงเทพฯ 0 2279 2450
URL:https://thaibloodcentre.redcross.or.th/event/%e0%b8%ad%e0%b8%b2%e0%b8%84%e0%b8%b2%e0%b8%a3%e0%b8%a7%e0%b8%b2%e0%b8%99%e0%b8%b4%e0%b8%8a%e0%b9%80%e0%b8%9e%e0%b8%a5%e0%b8%8b-%e0%b8%ad%e0%b8%b2%e0%b8%a3%e0%b8%b5%e0%b8%a2%e0%b9%8c-0m1033-4/
LOCATION:อาคารวานิชเพลซ อารีย์\, อาคารวานิชเพลซ อารีย์ 304 ถ. พหลโยธิน แขวงสามเสนใน เขตพญาไท กรุงเทพมหานคร 10400
CATEGORIES:ปฏิทินตารางหน่วยเคลื่อนที่
END:VEVENT
BEGIN:VEVENT
DTSTART;TZID=Asia/Krasnoyarsk:20260114T073000
DTEND;TZID=Asia/Krasnoyarsk:20260114T193000
DTSTAMP:20260426T073655
CREATED:20260113T115351Z
LAST-MODIFIED:20260113T115351Z
UID:10005084-1768375800-1768419000@thaibloodcentre.redcross.or.th
SUMMARY:ศูนย์บริการโลหิตแห่งชาติ สภากาชาดไทย []
DESCRIPTION:ที่อยู่ : 1871 ถ. อังรีดูนังต์ แขวงปทุมวัน เขตปทุมวัน
URL:https://thaibloodcentre.redcross.or.th/event/%e0%b8%a8%e0%b8%b9%e0%b8%99%e0%b8%a2%e0%b9%8c%e0%b8%9a%e0%b8%a3%e0%b8%b4%e0%b8%81%e0%b8%b2%e0%b8%a3%e0%b9%82%e0%b8%a5%e0%b8%ab%e0%b8%b4%e0%b8%95%e0%b9%81%e0%b8%ab%e0%b9%88%e0%b8%87%e0%b8%8a-399/
LOCATION:ศูนย์บริการโลหิตแห่งชาติ สภากาชาดไทย\, ศูนย์บริการโลหิตแห่งชาติ สภากาชาดไทย 1871 ถ. อังรีดูนังต์ แขวงปทุมวัน เขตปทุมวัน กรุงเทพมหานคร 10330
CATEGORIES:ปฏิทินตารางหน่วยเคลื่อนที่
END:VEVENT
BEGIN:VEVENT
DTSTART;TZID=Asia/Krasnoyarsk:20260114T083000
DTEND;TZID=Asia/Krasnoyarsk:20260114T193000
DTSTAMP:20260426T073655
CREATED:20260113T115442Z
LAST-MODIFIED:20260113T115442Z
UID:10005090-1768379400-1768419000@thaibloodcentre.redcross.or.th
SUMMARY:สถานีกาชาด 11 วิเศษนิยม []
DESCRIPTION:สถานที่เจาะ : ชั้น 3 \nที่อยู่ : 33/3 ถนนเพชรเกษม แขวงบางหว้า เขตภาษีเจริญ กรุงเทพฯ 633450711
URL:https://thaibloodcentre.redcross.or.th/event/%e0%b8%aa%e0%b8%96%e0%b8%b2%e0%b8%99%e0%b8%b5%e0%b8%81%e0%b8%b2%e0%b8%8a%e0%b8%b2%e0%b8%94-11-%e0%b8%a7%e0%b8%b4%e0%b9%80%e0%b8%a8%e0%b8%a9%e0%b8%99%e0%b8%b4%e0%b8%a2%e0%b8%a1-134/
LOCATION:สถานีกาชาด 11 วิเศษนิยม\, สถานีกาชาด 11 วิเศษนิยม 605 ถ.เพชรเกษม แขวงบางหว้า เขตภาษีเจริญ กรุงเทพมหานคร 10160
CATEGORIES:ปฏิทินตารางหน่วยเคลื่อนที่
END:VEVENT
BEGIN:VEVENT
DTSTART;TZID=Asia/Krasnoyarsk:20260114T090000
DTEND;TZID=Asia/Krasnoyarsk:20260114T120000
DTSTAMP:20260426T073655
CREATED:20260113T115510Z
LAST-MODIFIED:20260113T115510Z
UID:10005097-1768381200-1768392000@thaibloodcentre.redcross.or.th
SUMMARY:บริษัท ไทยประกันชีวิต จำกัด (มหาชน) สาขารัตนาธิเบศร์ []
DESCRIPTION:สถานที่เจาะ : หน้าอาคาร \nที่อยู่ : 99/999 ม.8 ถ.รัตนาธิเบศร์ ต.บางกระสอ อ.เมือง จ.นนทบุรี 0 2965 6999
URL:https://thaibloodcentre.redcross.or.th/event/%e0%b8%9a%e0%b8%a3%e0%b8%b4%e0%b8%a9%e0%b8%b1%e0%b8%97-%e0%b9%84%e0%b8%97%e0%b8%a2%e0%b8%9b%e0%b8%a3%e0%b8%b0%e0%b8%81%e0%b8%b1%e0%b8%99%e0%b8%8a%e0%b8%b5%e0%b8%a7%e0%b8%b4%e0%b8%95-%e0%b8%88-21/
LOCATION:บริษัท ไทยประกันชีวิต จำกัด (มหาชน) สาขารัตนาธิเบศร์\, บริษัท ไทยประกันชีวิต จำกัด (มหาชน) สาขารัตนาธิเบศร์ 99/999 หมู่ 8 ถนนรัตนาธิเบศร์ ตำบลบางกระสอ อำเภอเมืองนนทบุรี จังหวัดนนทบุรี 11000
CATEGORIES:ปฏิทินตารางหน่วยเคลื่อนที่
END:VEVENT
END:VCALENDAR