BEGIN:VCALENDAR
VERSION:2.0
PRODID:-//เว็บไซต์ศูนย์บริการโลหิตแห่งชาติ - ECPv6.11.2.1//NONSGML v1.0//EN
CALSCALE:GREGORIAN
METHOD:PUBLISH
X-WR-CALNAME:เว็บไซต์ศูนย์บริการโลหิตแห่งชาติ
X-ORIGINAL-URL:https://thaibloodcentre.redcross.or.th
X-WR-CALDESC:Events for เว็บไซต์ศูนย์บริการโลหิตแห่งชาติ
REFRESH-INTERVAL;VALUE=DURATION:PT1H
X-Robots-Tag:noindex
X-PUBLISHED-TTL:PT1H
BEGIN:VTIMEZONE
TZID:Asia/Krasnoyarsk
BEGIN:STANDARD
TZOFFSETFROM:+0700
TZOFFSETTO:+0700
TZNAME:+07
DTSTART:20250101T000000
END:STANDARD
END:VTIMEZONE
BEGIN:VEVENT
DTSTART;TZID=Asia/Krasnoyarsk:20251222T073000
DTEND;TZID=Asia/Krasnoyarsk:20251222T193000
DTSTAMP:20260425T195741
CREATED:20251215T120030Z
LAST-MODIFIED:20251215T120030Z
UID:10004788-1766388600-1766431800@thaibloodcentre.redcross.or.th
SUMMARY:ศูนย์บริการโลหิตแห่งชาติ สภากาชาดไทย [0A0000]
DESCRIPTION:ที่อยู่ : 1871 ถ. อังรีดูนังต์ แขวงปทุมวัน เขตปทุมวัน
URL:https://thaibloodcentre.redcross.or.th/event/%e0%b8%a8%e0%b8%b9%e0%b8%99%e0%b8%a2%e0%b9%8c%e0%b8%9a%e0%b8%a3%e0%b8%b4%e0%b8%81%e0%b8%b2%e0%b8%a3%e0%b9%82%e0%b8%a5%e0%b8%ab%e0%b8%b4%e0%b8%95%e0%b9%81%e0%b8%ab%e0%b9%88%e0%b8%87%e0%b8%8a-377/
LOCATION:ศูนย์บริการโลหิตแห่งชาติ สภากาชาดไทย\, ศูนย์บริการโลหิตแห่งชาติ สภากาชาดไทย 1871 ถ. อังรีดูนังต์ แขวงปทุมวัน เขตปทุมวัน กรุงเทพมหานคร 10330
CATEGORIES:ปฏิทินตารางหน่วยเคลื่อนที่
END:VEVENT
BEGIN:VEVENT
DTSTART;TZID=Asia/Krasnoyarsk:20251222T083000
DTEND;TZID=Asia/Krasnoyarsk:20251222T193000
DTSTAMP:20260425T195741
CREATED:20251215T120128Z
LAST-MODIFIED:20251215T120128Z
UID:10004794-1766392200-1766431800@thaibloodcentre.redcross.or.th
SUMMARY:สถานีกาชาด 11 วิเศษนิยม [0D0200]
DESCRIPTION:สถานที่เจาะ : ชั้น 3 \nที่อยู่ : 33/3 ถนนเพชรเกษม แขวงบางหว้า เขตภาษีเจริญ กรุงเทพฯ 0633450711
URL:https://thaibloodcentre.redcross.or.th/event/%e0%b8%aa%e0%b8%96%e0%b8%b2%e0%b8%99%e0%b8%b5%e0%b8%81%e0%b8%b2%e0%b8%8a%e0%b8%b2%e0%b8%94-11-%e0%b8%a7%e0%b8%b4%e0%b9%80%e0%b8%a8%e0%b8%a9%e0%b8%99%e0%b8%b4%e0%b8%a2%e0%b8%a1-0d0200-174/
LOCATION:สถานีกาชาด 11 วิเศษนิยม\, สถานีกาชาด 11 วิเศษนิยม 605 ถ.เพชรเกษม แขวงบางหว้า เขตภาษีเจริญ กรุงเทพมหานคร 10160
CATEGORIES:ปฏิทินตารางหน่วยเคลื่อนที่
END:VEVENT
BEGIN:VEVENT
DTSTART;TZID=Asia/Krasnoyarsk:20251222T090000
DTEND;TZID=Asia/Krasnoyarsk:20251222T113000
DTSTAMP:20260425T195741
CREATED:20251215T120201Z
LAST-MODIFIED:20251215T120201Z
UID:10004802-1766394000-1766403000@thaibloodcentre.redcross.or.th
SUMMARY:บริษัท เหรียญทองการพิมพ์ จำกัด [0M0856]
DESCRIPTION:สถานที่เจาะ : หน้าห้อง Showroom \nที่อยู่ : 3706/1 ซอยเจริญราษฎร์ 7 แยก 35 ถนนพระราม 3 (ซอย23) แขวงบางโคล่ เขตบางคอแหลม กรุงเทพฯ 0 2294 0137
URL:https://thaibloodcentre.redcross.or.th/event/%e0%b8%9a%e0%b8%a3%e0%b8%b4%e0%b8%a9%e0%b8%b1%e0%b8%97-%e0%b9%80%e0%b8%ab%e0%b8%a3%e0%b8%b5%e0%b8%a2%e0%b8%8d%e0%b8%97%e0%b8%ad%e0%b8%87%e0%b8%81%e0%b8%b2%e0%b8%a3%e0%b8%9e%e0%b8%b4%e0%b8%a1-3/
LOCATION:บริษัท เหรียญทองการพิมพ์ จำกัด\, บริษัท เหรียญทองการพิมพ์ จำกัด 3706/1 ซอยเจริญราษฎร์ 7 แยก 35 ถนนพระราม 3 (ซอย23) แขวงบางโคล่ เขตบางคอแหลม กรุงเทพฯ 10120
CATEGORIES:ปฏิทินตารางหน่วยเคลื่อนที่
END:VEVENT
BEGIN:VEVENT
DTSTART;TZID=Asia/Krasnoyarsk:20251222T090000
DTEND;TZID=Asia/Krasnoyarsk:20251222T120000
DTSTAMP:20260425T195741
CREATED:20251215T120206Z
LAST-MODIFIED:20251215T120206Z
UID:10004804-1766394000-1766404800@thaibloodcentre.redcross.or.th
SUMMARY:อาคารเล้าเป้งง้วน [0E0863]
DESCRIPTION:สถานที่เจาะ : หน้าอาคารข้างจุดชาร์ตไฟ \nที่อยู่ : 333 ซอยเฉยพ่วง ถนนวิภาวดีรังสิต แขวงจอมพล เขตจตุจักร กรุงเทพฯ 0 2618 8009
URL:https://thaibloodcentre.redcross.or.th/event/%e0%b8%ad%e0%b8%b2%e0%b8%84%e0%b8%b2%e0%b8%a3%e0%b9%80%e0%b8%a5%e0%b9%89%e0%b8%b2%e0%b9%80%e0%b8%9b%e0%b9%89%e0%b8%87%e0%b8%87%e0%b9%89%e0%b8%a7%e0%b8%99-0e0863-3/
LOCATION:อาคารเล้าเป้งง้วน\, อาคารเล้าเป้งง้วน1 333 ซอยเฉยพ่วง ถนนวิภาวดีรังสิต แขวงจอมพล เขตจตุจักร กรุงเทพฯ 10900
CATEGORIES:ปฏิทินตารางหน่วยเคลื่อนที่
END:VEVENT
BEGIN:VEVENT
DTSTART;TZID=Asia/Krasnoyarsk:20251222T090000
DTEND;TZID=Asia/Krasnoyarsk:20251222T150000
DTSTAMP:20260425T195741
CREATED:20251215T120132Z
LAST-MODIFIED:20251215T120132Z
UID:10004795-1766394000-1766415600@thaibloodcentre.redcross.or.th
SUMMARY:บ้านทรงไทย (ย่านวงศ์สว่าง) [0J0463]
DESCRIPTION:สถานที่เจาะ : (พัก 12.30-13.00 น.) \nที่อยู่ : 1423 ถนนกรุงเทพ – นนทบุรี แขวงวงศ์สว่าง เขตบางซื่อ กรุงเทพฯ 0 2256 4300
URL:https://thaibloodcentre.redcross.or.th/event/%e0%b8%9a%e0%b9%89%e0%b8%b2%e0%b8%99%e0%b8%97%e0%b8%a3%e0%b8%87%e0%b9%84%e0%b8%97%e0%b8%a2-%e0%b8%a2%e0%b9%88%e0%b8%b2%e0%b8%99%e0%b8%a7%e0%b8%87%e0%b8%a8%e0%b9%8c%e0%b8%aa%e0%b8%a7%e0%b9%88-295/
LOCATION:บ้านทรงไทย (ย่านวงศ์สว่าง)\, หน่วยรับบริจาคโลหิต บ้านทรงไทย(ย่านวงศ์สว่าง) 1423 ถนนกรุงเทพ-นนทบุรี แขวงวงศ์สว่าง เขตบางซื่อ กรุงเทพมหานคร 10800
CATEGORIES:ปฏิทินตารางหน่วยเคลื่อนที่
END:VEVENT
BEGIN:VEVENT
DTSTART;TZID=Asia/Krasnoyarsk:20251222T090000
DTEND;TZID=Asia/Krasnoyarsk:20251222T150000
DTSTAMP:20260425T195741
CREATED:20251215T120137Z
LAST-MODIFIED:20251215T120137Z
UID:10004796-1766394000-1766415600@thaibloodcentre.redcross.or.th
SUMMARY:สำนักงานคณะกรรมการกำกับและส่งเสริมการประกอบธุรกิจประกันภัย [0J0535]
DESCRIPTION:สถานที่เจาะ : ห้องประชุมชั้น 1 สถาบันวิทยาการประกันภัยระดับสูง (พัก12.00-13.00 น.) \nที่อยู่ : 22/79 ถนนรัชดาภิเษก แขวงจันทรเกษม เขตจตุจักร กรุงเทพฯ 0829986355
URL:https://thaibloodcentre.redcross.or.th/event/%e0%b8%aa%e0%b8%b3%e0%b8%99%e0%b8%b1%e0%b8%81%e0%b8%87%e0%b8%b2%e0%b8%99%e0%b8%84%e0%b8%93%e0%b8%b0%e0%b8%81%e0%b8%a3%e0%b8%a3%e0%b8%a1%e0%b8%81%e0%b8%b2%e0%b8%a3%e0%b8%81%e0%b8%b3%e0%b8%81%e0%b8%b1-4/
LOCATION:สำนักงานคณะกรรมการกำกับและส่งเสริมการประกอบธุรกิจประกันภัย\, สำนักงานคณะกรรมการกำกับและส่งเสริมการประกอบธุรกิจประกันภัย (คปภ.) 22/79 ซอยรัชดาภิเษก 32 แขวงจันทรเกษม เขตจตุจักร กรุงเทพมหานคร 10900
CATEGORIES:ปฏิทินตารางหน่วยเคลื่อนที่
END:VEVENT
BEGIN:VEVENT
DTSTART;TZID=Asia/Krasnoyarsk:20251222T090000
DTEND;TZID=Asia/Krasnoyarsk:20251222T150000
DTSTAMP:20260425T195741
CREATED:20251215T120143Z
LAST-MODIFIED:20251215T120143Z
UID:10004797-1766394000-1766415600@thaibloodcentre.redcross.or.th
SUMMARY:บริษัท เอนเนอร์ยี่ คอมเพล็กซ์ จำกัด [0M0635]
DESCRIPTION:สถานที่เจาะ : อาคาร EnCo F (พัก 11.00-12.00 น.) \nที่อยู่ : 555/1 อาคาร EnCo A ชั้น G ถนนวิภาวดีรังสิต แขวงจตุจักร เขตจตุจักร กรุงเทพฯ 0 2140 1123
URL:https://thaibloodcentre.redcross.or.th/event/%e0%b8%9a%e0%b8%a3%e0%b8%b4%e0%b8%a9%e0%b8%b1%e0%b8%97-%e0%b9%80%e0%b8%ad%e0%b8%99%e0%b9%80%e0%b8%99%e0%b8%ad%e0%b8%a3%e0%b9%8c%e0%b8%a2%e0%b8%b5%e0%b9%88-%e0%b8%84%e0%b8%ad%e0%b8%a1%e0%b9%80-7/
LOCATION:บริษัท เอนเนอร์ยี่ คอมเพล็กซ์ จำกัด\, บริษัท เอนเนอร์ยี่ คอมเพล็กซ์ จำกัด 555/1 ถนน วิภาวดีรังสิต แขวงจตุจักร เขตจตุจักร กรุงเทพมหานคร 10900
CATEGORIES:ปฏิทินตารางหน่วยเคลื่อนที่
END:VEVENT
BEGIN:VEVENT
DTSTART;TZID=Asia/Krasnoyarsk:20251222T090000
DTEND;TZID=Asia/Krasnoyarsk:20251222T150000
DTSTAMP:20260425T195741
CREATED:20251215T120148Z
LAST-MODIFIED:20251215T120148Z
UID:10004799-1766394000-1766415600@thaibloodcentre.redcross.or.th
SUMMARY:กรมป่าไม้ [0D0060]
DESCRIPTION:สถานที่เจาะ : ห้องประชุม 1 ชั้น 2 อาคารเทียมคมกฤส \nที่อยู่ : 61 ถนนพหลโยธิน แขวงลาดยาว เขตจตุจักร กรุงเทพฯ 0 2561 4292-3
URL:https://thaibloodcentre.redcross.or.th/event/%e0%b8%81%e0%b8%a3%e0%b8%a1%e0%b8%9b%e0%b9%88%e0%b8%b2%e0%b9%84%e0%b8%a1%e0%b9%89-0d0060-3/
LOCATION:กรมป่าไม้\, กรมป่าไม้ 61 ถนนพหลโยธิน แขวงลาดยาว เขตจตุจักร กรุงเทพฯ 10900
CATEGORIES:ปฏิทินตารางหน่วยเคลื่อนที่
END:VEVENT
BEGIN:VEVENT
DTSTART;TZID=Asia/Krasnoyarsk:20251222T090000
DTEND;TZID=Asia/Krasnoyarsk:20251222T150000
DTSTAMP:20260425T195741
CREATED:20251215T120151Z
LAST-MODIFIED:20251215T120151Z
UID:10004800-1766394000-1766415600@thaibloodcentre.redcross.or.th
SUMMARY:โรงพยาบาลราชพิพัฒน์ [0D0460]
DESCRIPTION:สถานที่เจาะ : ห้องประชุมชั้น 2 ศูนย์พัฒนาองค์กรฯ (พัก 12.00-13.00 น.) \nที่อยู่ : 18 ถนนพุทธมณฑลสาย 3 ซอย 10 แขวงบางไผ่ เขตบางแค กรุงเทพฯ 0 2444 0138
URL:https://thaibloodcentre.redcross.or.th/event/%e0%b9%82%e0%b8%a3%e0%b8%87%e0%b8%9e%e0%b8%a2%e0%b8%b2%e0%b8%9a%e0%b8%b2%e0%b8%a5%e0%b8%a3%e0%b8%b2%e0%b8%8a%e0%b8%9e%e0%b8%b4%e0%b8%9e%e0%b8%b1%e0%b8%92%e0%b8%99%e0%b9%8c-0d0460-2/
LOCATION:โรงพยาบาลราชพิพัฒน์\, โรงพยาบาลราชพิพัฒน์ 18 ถนนพุทธมณฑลสาย 3 แขวงบางไผ่ เขตบางแค กรุงเทพมหานคร 10160
CATEGORIES:ปฏิทินตารางหน่วยเคลื่อนที่
END:VEVENT
BEGIN:VEVENT
DTSTART;TZID=Asia/Krasnoyarsk:20251222T090000
DTEND;TZID=Asia/Krasnoyarsk:20251222T150000
DTSTAMP:20260425T195741
CREATED:20251215T120153Z
LAST-MODIFIED:20251215T120153Z
UID:10004801-1766394000-1766415600@thaibloodcentre.redcross.or.th
SUMMARY:อาคารบางนาทาวเวอร์ [0E0649]
DESCRIPTION:สถานที่เจาะ : ข้างอาคารบางนาทาวเวอร์ A (พัก 12.00-13.00 น.) \nที่อยู่ : 2/3 อาคาร B ชั้น 17 ม.14 ถ.บางนา-ตราด กม.6.5 ต.บางแก้ว อ.บางพลี จ.สมุทรปราการ 0 2312 0140-9
URL:https://thaibloodcentre.redcross.or.th/event/%e0%b8%ad%e0%b8%b2%e0%b8%84%e0%b8%b2%e0%b8%a3%e0%b8%9a%e0%b8%b2%e0%b8%87%e0%b8%99%e0%b8%b2%e0%b8%97%e0%b8%b2%e0%b8%a7%e0%b9%80%e0%b8%a7%e0%b8%ad%e0%b8%a3%e0%b9%8c-0e0649-3/
LOCATION:อาคารบางนาทาวเวอร์\, อาคารบางนา ทาวเวอร์ A (Bangna Tower A) 2/3 ม.14 ถ.บางนา-ตราด กม. 6.5 ต.บางแก้ว อ.บางพลี จ.สมุทรปราการ 10540
CATEGORIES:ปฏิทินตารางหน่วยเคลื่อนที่
END:VEVENT
BEGIN:VEVENT
DTSTART;TZID=Asia/Krasnoyarsk:20251222T090000
DTEND;TZID=Asia/Krasnoyarsk:20251222T150000
DTSTAMP:20260425T195741
CREATED:20251215T120211Z
LAST-MODIFIED:20251215T120211Z
UID:10004806-1766394000-1766415600@thaibloodcentre.redcross.or.th
SUMMARY:โรงพยาบาลพญาไท ๒ [0D0221]
DESCRIPTION:สถานที่เจาะ : ห้องประชุม We open  (พัก 12-13 น.) \nที่อยู่ : 943 ถนนพหลโยธิน แขวงพญาไท เขตพญาไท กรุงเทพฯ 0 2271 6300
URL:https://thaibloodcentre.redcross.or.th/event/%e0%b9%82%e0%b8%a3%e0%b8%87%e0%b8%9e%e0%b8%a2%e0%b8%b2%e0%b8%9a%e0%b8%b2%e0%b8%a5%e0%b8%9e%e0%b8%8d%e0%b8%b2%e0%b9%84%e0%b8%97-%e0%b9%92-0d0221-3/
LOCATION:โรงพยาบาลพญาไท ๒\, โรงพยาบาลพญาไท ๒ 943 ถนนพหลโยธิน แขวงพญาไท เขตพญาไท กรุงเทพมหานคร 10400
CATEGORIES:ปฏิทินตารางหน่วยเคลื่อนที่
END:VEVENT
BEGIN:VEVENT
DTSTART;TZID=Asia/Krasnoyarsk:20251222T090000
DTEND;TZID=Asia/Krasnoyarsk:20251222T150000
DTSTAMP:20260425T195741
CREATED:20251215T120220Z
LAST-MODIFIED:20251215T120220Z
UID:10004807-1766394000-1766415600@thaibloodcentre.redcross.or.th
SUMMARY:อาคารจัสมิน ซิตี้ [0M0402]
DESCRIPTION:สถานที่เจาะ : บริเวณพลาซ่า ชั้น B1 (พัก 11.30-12.30 น.) \nที่อยู่ : 2 ซอยสุขุมวิท 23 (ประสานมิตร) ถนนสุขุมวิท แขวงคลองเตยเหนือ เขตวัฒนา กรุงเทพฯ 0 2204 5885
URL:https://thaibloodcentre.redcross.or.th/event/%e0%b8%ad%e0%b8%b2%e0%b8%84%e0%b8%b2%e0%b8%a3%e0%b8%88%e0%b8%b1%e0%b8%aa%e0%b8%a1%e0%b8%b4%e0%b8%99-%e0%b8%8b%e0%b8%b4%e0%b8%95%e0%b8%b5%e0%b9%89-0m0402-3/
LOCATION:อาคารจัสมิน ซิตี้\, อาคารจัสมิน 2 ซอยสุขุมวิท23 แขวงคลองเตยเหนือ เขตวัฒนา กรุงเทพมหานคร 10110
CATEGORIES:ปฏิทินตารางหน่วยเคลื่อนที่
END:VEVENT
BEGIN:VEVENT
DTSTART;TZID=Asia/Krasnoyarsk:20251222T110000
DTEND;TZID=Asia/Krasnoyarsk:20251222T150000
DTSTAMP:20260425T195741
CREATED:20251215T120145Z
LAST-MODIFIED:20251215T120145Z
UID:10004798-1766401200-1766415600@thaibloodcentre.redcross.or.th
SUMMARY:กรมพัฒนาสังคมและสวัสดิการ [0D0131]
DESCRIPTION:สถานที่เจาะ : ประตูทางเข้ากรมฯ \nที่อยู่ : 1034 ถนนกรุงเกษม แขวงมหานาค เขตป้อมปราบฯ กรุงเทพฯ 0 2659 6057
URL:https://thaibloodcentre.redcross.or.th/event/%e0%b8%81%e0%b8%a3%e0%b8%a1%e0%b8%9e%e0%b8%b1%e0%b8%92%e0%b8%99%e0%b8%b2%e0%b8%aa%e0%b8%b1%e0%b8%87%e0%b8%84%e0%b8%a1%e0%b9%81%e0%b8%a5%e0%b8%b0%e0%b8%aa%e0%b8%a7%e0%b8%b1%e0%b8%aa%e0%b8%94%e0%b8%b4-2/
LOCATION:กรมพัฒนาสังคมและสวัสดิการ\, กรมพัฒนาสังคมและสวัสดิการ 1034 ถนนกรุงเกษม แขวงคลองมหานาค เขตป้อมปราบศัตรูพ่าย กรุงเทพฯ 10100
CATEGORIES:ปฏิทินตารางหน่วยเคลื่อนที่
END:VEVENT
BEGIN:VEVENT
DTSTART;TZID=Asia/Krasnoyarsk:20251222T120000
DTEND;TZID=Asia/Krasnoyarsk:20251222T180000
DTSTAMP:20260425T195741
CREATED:20251215T120036Z
LAST-MODIFIED:20251215T120036Z
UID:10004789-1766404800-1766426400@thaibloodcentre.redcross.or.th
SUMMARY:ศูนย์การค้าเดอะมอลล์ไลฟ์สโตร์ บางแค [0E0942]
DESCRIPTION:สถานที่เจาะ : ชั้น 3 ตรงข้ามร้านโอ้กะจู๋ \nที่อยู่ : ถนนเพชรเกษม แขวงบางแคเหนือ เขตภาษีเจริญ กรุงเทพฯ 02 487 1221
URL:https://thaibloodcentre.redcross.or.th/event/%e0%b8%a8%e0%b8%b9%e0%b8%99%e0%b8%a2%e0%b9%8c%e0%b8%81%e0%b8%b2%e0%b8%a3%e0%b8%84%e0%b9%89%e0%b8%b2%e0%b9%80%e0%b8%94%e0%b8%ad%e0%b8%b0%e0%b8%a1%e0%b8%ad%e0%b8%a5%e0%b8%a5%e0%b9%8c%e0%b9%84-1187/
LOCATION:ศูนย์การค้าเดอะมอลล์ไลฟ์สโตร์ บางแค\, ศูนย์การค้าเดอะมอลล์ไลฟ์สโตร์ บางแค
CATEGORIES:ปฏิทินตารางหน่วยเคลื่อนที่
END:VEVENT
BEGIN:VEVENT
DTSTART;TZID=Asia/Krasnoyarsk:20251222T120000
DTEND;TZID=Asia/Krasnoyarsk:20251222T180000
DTSTAMP:20260425T195741
CREATED:20251215T120047Z
LAST-MODIFIED:20251215T120047Z
UID:10004790-1766404800-1766426400@thaibloodcentre.redcross.or.th
SUMMARY:ศูนย์การค้าเดอะมอลล์ไลฟ์สโตร์ บางกะปิ [0E0941]
DESCRIPTION:สถานที่เจาะ : ชั้น 2 ทางออกลานจอดรถ \nที่อยู่ : ถนนลาดพร้าว แขวงคลองจั่น เขตบางกะปิ กรุงเทพฯ 0 2310 2278
URL:https://thaibloodcentre.redcross.or.th/event/%e0%b8%a8%e0%b8%b9%e0%b8%99%e0%b8%a2%e0%b9%8c%e0%b8%81%e0%b8%b2%e0%b8%a3%e0%b8%84%e0%b9%89%e0%b8%b2%e0%b9%80%e0%b8%94%e0%b8%ad%e0%b8%b0%e0%b8%a1%e0%b8%ad%e0%b8%a5%e0%b8%a5%e0%b9%8c%e0%b9%84-1188/
LOCATION:ศูนย์การค้าเดอะมอลล์ไลฟ์สโตร์ บางกะปิ\, เดอะมอลล์ไลฟ์สโตร์ บางกะปิ 3522 ถ. ลาดพร้าว แขวงคลองจั่น เขตบางกะปิ กรุงเทพมหานคร 10240
CATEGORIES:ปฏิทินตารางหน่วยเคลื่อนที่
END:VEVENT
BEGIN:VEVENT
DTSTART;TZID=Asia/Krasnoyarsk:20251222T120000
DTEND;TZID=Asia/Krasnoyarsk:20251222T180000
DTSTAMP:20260425T195741
CREATED:20251215T120058Z
LAST-MODIFIED:20251215T120058Z
UID:10004791-1766404800-1766426400@thaibloodcentre.redcross.or.th
SUMMARY:ศูนย์การค้าเดอะมอลล์ไลฟ์สโตร์ งามวงศ์วาน [0E0948]
DESCRIPTION:สถานที่เจาะ : ชั้น 5 โซน Government Center \nที่อยู่ : ถนนงามวงศ์วาน ต.บางเขน อ.เมือง จ.นนทบุรี 0 2555 1550
URL:https://thaibloodcentre.redcross.or.th/event/%e0%b8%a8%e0%b8%b9%e0%b8%99%e0%b8%a2%e0%b9%8c%e0%b8%81%e0%b8%b2%e0%b8%a3%e0%b8%84%e0%b9%89%e0%b8%b2%e0%b9%80%e0%b8%94%e0%b8%ad%e0%b8%b0%e0%b8%a1%e0%b8%ad%e0%b8%a5%e0%b8%a5%e0%b9%8c%e0%b9%84-1189/
LOCATION:ศูนย์การค้าเดอะมอลล์ไลฟ์สโตร์ งามวงศ์วาน\, เดอะมอลล์ ไลฟ์สโตร์ งามวงศ์วาน 430 ถนน งามวงศ์วาน ตำบลบางเขน อำเภอเมืองนนทบุรี นนทบุรี 11000
CATEGORIES:ปฏิทินตารางหน่วยเคลื่อนที่
END:VEVENT
BEGIN:VEVENT
DTSTART;TZID=Asia/Krasnoyarsk:20251222T120000
DTEND;TZID=Asia/Krasnoyarsk:20251222T180000
DTSTAMP:20260425T195741
CREATED:20251215T120113Z
LAST-MODIFIED:20251215T120113Z
UID:10004792-1766404800-1766426400@thaibloodcentre.redcross.or.th
SUMMARY:ศูนย์การค้า เอ็มโพเรียม [0E0947]
DESCRIPTION:สถานที่เจาะ : ชั้น M ศูนย์การค้า ดิ เอ็มโพเรียม เชื่อมลานจอดรถอาคาร B \nที่อยู่ : 622 ถนนสุขุมวิท แขวงคลองตัน เขตคลองเตย กรุงเทพฯ 0 2269 1515
URL:https://thaibloodcentre.redcross.or.th/event/%e0%b8%a8%e0%b8%b9%e0%b8%99%e0%b8%a2%e0%b9%8c%e0%b8%81%e0%b8%b2%e0%b8%a3%e0%b8%84%e0%b9%89%e0%b8%b2-%e0%b9%80%e0%b8%ad%e0%b9%87%e0%b8%a1%e0%b9%82%e0%b8%9e%e0%b9%80%e0%b8%a3%e0%b8%b5%e0%b8%a2-293/
LOCATION:ศูนย์การค้า เอ็มโพเรียม\, เอ็มโพเรียม 622 ถ. สุขุมวิท แขวงคลองตัน เขตคลองเตย กรุงเทพมหานคร 10110
CATEGORIES:ปฏิทินตารางหน่วยเคลื่อนที่
END:VEVENT
BEGIN:VEVENT
DTSTART;TZID=Asia/Krasnoyarsk:20251222T120000
DTEND;TZID=Asia/Krasnoyarsk:20251222T180000
DTSTAMP:20260425T195741
CREATED:20251215T120118Z
LAST-MODIFIED:20251215T120118Z
UID:10004793-1766404800-1766426400@thaibloodcentre.redcross.or.th
SUMMARY:ศูนย์การค้าเดอะมอลล์ไลฟ์สโตร์ ท่าพระ [0E0344]
DESCRIPTION:สถานที่เจาะ : ชั้น 1 (ติดลานจอดรถ) \nที่อยู่ : 99 ถนนรัชดาท่าพระตัดใหม่ แขวงบุคคโล เขตธนบุรี กรุงเทพฯ 0 2469-1000
URL:https://thaibloodcentre.redcross.or.th/event/%e0%b8%a8%e0%b8%b9%e0%b8%99%e0%b8%a2%e0%b9%8c%e0%b8%81%e0%b8%b2%e0%b8%a3%e0%b8%84%e0%b9%89%e0%b8%b2%e0%b9%80%e0%b8%94%e0%b8%ad%e0%b8%b0%e0%b8%a1%e0%b8%ad%e0%b8%a5%e0%b8%a5%e0%b9%8c%e0%b9%84-1190/
LOCATION:ศูนย์การค้าเดอะมอลล์ไลฟ์สโตร์ ท่าพระ\, เดอะมอลล์ไลฟ์สโตร์ ท่าพระ 129 ถ. รัชดาภิเษก แขวงบุคคโล เขตธนบุรี กรุงเทพมหานคร 10600
CATEGORIES:ปฏิทินตารางหน่วยเคลื่อนที่
END:VEVENT
BEGIN:VEVENT
DTSTART;TZID=Asia/Krasnoyarsk:20251222T130000
DTEND;TZID=Asia/Krasnoyarsk:20251222T150000
DTSTAMP:20260425T195741
CREATED:20251215T120203Z
LAST-MODIFIED:20251215T120203Z
UID:10004803-1766408400-1766415600@thaibloodcentre.redcross.or.th
SUMMARY:บริษัท แอล เอ็ม อี จำกัด [0M0587]
DESCRIPTION:สถานที่เจาะ : ลานจอดรถ หน้าอาคาร 1 \nที่อยู่ : 357\,359 สาธุประดิษฐ์ 58 ถนนรัชดาภิเษก แขวงบางโพงพาง เขตยานนาวา กรุงเทพฯ 0 2683 9300
URL:https://thaibloodcentre.redcross.or.th/event/%e0%b8%9a%e0%b8%a3%e0%b8%b4%e0%b8%a9%e0%b8%b1%e0%b8%97-%e0%b9%81%e0%b8%ad%e0%b8%a5-%e0%b9%80%e0%b8%ad%e0%b9%87%e0%b8%a1-%e0%b8%ad%e0%b8%b5-%e0%b8%88%e0%b8%b3%e0%b8%81%e0%b8%b1%e0%b8%94-0m0587-3/
LOCATION:บริษัท แอล เอ็ม อี จำกัด\, บริษัท แอล เอ็ม อี จำกัด 357\,359 สาธุประดิษฐ์ 58 ถนนรัชดาภิเษก แขวงบางโพงพาง เขตยานนาวา กรุงเทพฯ 10120
CATEGORIES:ปฏิทินตารางหน่วยเคลื่อนที่
END:VEVENT
BEGIN:VEVENT
DTSTART;TZID=Asia/Krasnoyarsk:20251222T133000
DTEND;TZID=Asia/Krasnoyarsk:20251222T150000
DTSTAMP:20260425T195741
CREATED:20251215T120209Z
LAST-MODIFIED:20251215T120209Z
UID:10004805-1766410200-1766415600@thaibloodcentre.redcross.or.th
SUMMARY:บริษัท มิลเลนเนียม ออโต้กรุ๊ป จำกัด [0M0578]
DESCRIPTION:สถานที่เจาะ : ข้างตึก HQ ลาดพร้าว 112 \nที่อยู่ : 2222/9 ถนนลาดพร้าว แขวงพลับพลา เขตวังทองหลาง กรุงเทพฯ 0 2935 2000
URL:https://thaibloodcentre.redcross.or.th/event/%e0%b8%9a%e0%b8%a3%e0%b8%b4%e0%b8%a9%e0%b8%b1%e0%b8%97-%e0%b8%a1%e0%b8%b4%e0%b8%a5%e0%b9%80%e0%b8%a5%e0%b8%99%e0%b9%80%e0%b8%99%e0%b8%b5%e0%b8%a2%e0%b8%a1-%e0%b8%ad%e0%b8%ad%e0%b9%82%e0%b8%95-4/
LOCATION:บริษัท มิลเลนเนียม ออโต้กรุ๊ป จำกัด\, มิลเลนเนียม ออโต้ กรุ๊ป ลาดพร้าว(โทร.1286) https://maps.app.goo.gl/9b8FszCGPQgra5d28
CATEGORIES:ปฏิทินตารางหน่วยเคลื่อนที่
END:VEVENT
BEGIN:VEVENT
DTSTART;TZID=Asia/Krasnoyarsk:20251223T073000
DTEND;TZID=Asia/Krasnoyarsk:20251223T193000
DTSTAMP:20260425T195741
CREATED:20251215T120223Z
LAST-MODIFIED:20251215T120223Z
UID:10004808-1766475000-1766518200@thaibloodcentre.redcross.or.th
SUMMARY:ศูนย์บริการโลหิตแห่งชาติ สภากาชาดไทย [0A0000]
DESCRIPTION:ที่อยู่ : 1871 ถ. อังรีดูนังต์ แขวงปทุมวัน เขตปทุมวัน
URL:https://thaibloodcentre.redcross.or.th/event/%e0%b8%a8%e0%b8%b9%e0%b8%99%e0%b8%a2%e0%b9%8c%e0%b8%9a%e0%b8%a3%e0%b8%b4%e0%b8%81%e0%b8%b2%e0%b8%a3%e0%b9%82%e0%b8%a5%e0%b8%ab%e0%b8%b4%e0%b8%95%e0%b9%81%e0%b8%ab%e0%b9%88%e0%b8%87%e0%b8%8a-378/
LOCATION:ศูนย์บริการโลหิตแห่งชาติ สภากาชาดไทย\, ศูนย์บริการโลหิตแห่งชาติ สภากาชาดไทย 1871 ถ. อังรีดูนังต์ แขวงปทุมวัน เขตปทุมวัน กรุงเทพมหานคร 10330
CATEGORIES:ปฏิทินตารางหน่วยเคลื่อนที่
END:VEVENT
BEGIN:VEVENT
DTSTART;TZID=Asia/Krasnoyarsk:20251223T083000
DTEND;TZID=Asia/Krasnoyarsk:20251223T193000
DTSTAMP:20260425T195741
CREATED:20251215T120319Z
LAST-MODIFIED:20251215T120319Z
UID:10004814-1766478600-1766518200@thaibloodcentre.redcross.or.th
SUMMARY:สถานีกาชาด 11 วิเศษนิยม [0D0200]
DESCRIPTION:สถานที่เจาะ : ชั้น 3 \nที่อยู่ : 33/3 ถนนเพชรเกษม แขวงบางหว้า เขตภาษีเจริญ กรุงเทพฯ 0633450711
URL:https://thaibloodcentre.redcross.or.th/event/%e0%b8%aa%e0%b8%96%e0%b8%b2%e0%b8%99%e0%b8%b5%e0%b8%81%e0%b8%b2%e0%b8%8a%e0%b8%b2%e0%b8%94-11-%e0%b8%a7%e0%b8%b4%e0%b9%80%e0%b8%a8%e0%b8%a9%e0%b8%99%e0%b8%b4%e0%b8%a2%e0%b8%a1-0d0200-175/
LOCATION:สถานีกาชาด 11 วิเศษนิยม\, สถานีกาชาด 11 วิเศษนิยม 605 ถ.เพชรเกษม แขวงบางหว้า เขตภาษีเจริญ กรุงเทพมหานคร 10160
CATEGORIES:ปฏิทินตารางหน่วยเคลื่อนที่
END:VEVENT
BEGIN:VEVENT
DTSTART;TZID=Asia/Krasnoyarsk:20251223T090000
DTEND;TZID=Asia/Krasnoyarsk:20251223T120000
DTSTAMP:20260425T195741
CREATED:20251215T120335Z
LAST-MODIFIED:20251215T120335Z
UID:10004817-1766480400-1766491200@thaibloodcentre.redcross.or.th
SUMMARY:บริษัท กรุงไทยแทรคเตอร์ จำกัด [0M0018]
DESCRIPTION:สถานที่เจาะ : หน้าอาคารกรุงไทยแทรคเตอร์ \nที่อยู่ : 3675 ถนนพระราม 4 แขวงพระโขนง เขตคลองเตย กรุงเทพฯ 0 2261 9999
URL:https://thaibloodcentre.redcross.or.th/event/%e0%b8%9a%e0%b8%a3%e0%b8%b4%e0%b8%a9%e0%b8%b1%e0%b8%97-%e0%b8%81%e0%b8%a3%e0%b8%b8%e0%b8%87%e0%b9%84%e0%b8%97%e0%b8%a2%e0%b9%81%e0%b8%97%e0%b8%a3%e0%b8%84%e0%b9%80%e0%b8%95%e0%b8%ad%e0%b8%a3-3/
LOCATION:บริษัท กรุงไทยแทรคเตอร์ จำกัด\, กรุงไทยแทรคเตอร์รังสิต 3675 ถนนพระราม 4 แขวงพระโขนง เขตคลองเตย กรุงเทพมหานคร 10110
CATEGORIES:ปฏิทินตารางหน่วยเคลื่อนที่
END:VEVENT
BEGIN:VEVENT
DTSTART;TZID=Asia/Krasnoyarsk:20251223T090000
DTEND;TZID=Asia/Krasnoyarsk:20251223T120000
DTSTAMP:20260425T195742
CREATED:20251215T120358Z
LAST-MODIFIED:20251215T120358Z
UID:10004824-1766480400-1766491200@thaibloodcentre.redcross.or.th
SUMMARY:องค์การค้าของ สกสค. [0D0031]
DESCRIPTION:สถานที่เจาะ : หน้าห้องพยาบาล อาคาร 13 \nที่อยู่ : 2249 ถนนลาดพร้าว แขวงวังทองหลาง เขตบางกะปิ กรุงเทพฯ 0 2514 4023
URL:https://thaibloodcentre.redcross.or.th/event/%e0%b8%ad%e0%b8%87%e0%b8%84%e0%b9%8c%e0%b8%81%e0%b8%b2%e0%b8%a3%e0%b8%84%e0%b9%89%e0%b8%b2%e0%b8%82%e0%b8%ad%e0%b8%87-%e0%b8%aa%e0%b8%81%e0%b8%aa%e0%b8%84-0d0031-3/
LOCATION:องค์การค้าของ สกสค.\, องค์การค้าของ สกสค. 2249 ถนนลาดพร้าว แขวงวังทองหลาง เขตบางกะปิ กทม. 10310
CATEGORIES:ปฏิทินตารางหน่วยเคลื่อนที่
END:VEVENT
BEGIN:VEVENT
DTSTART;TZID=Asia/Krasnoyarsk:20251223T090000
DTEND;TZID=Asia/Krasnoyarsk:20251223T150000
DTSTAMP:20260425T195742
CREATED:20251215T120323Z
LAST-MODIFIED:20251215T120323Z
UID:10004815-1766480400-1766502000@thaibloodcentre.redcross.or.th
SUMMARY:บ้านทรงไทย (ย่านวงศ์สว่าง) [0J0463]
DESCRIPTION:สถานที่เจาะ : (พัก 12.30-13.00 น.) \nที่อยู่ : 1423 ถนนกรุงเทพ – นนทบุรี แขวงวงศ์สว่าง เขตบางซื่อ กรุงเทพฯ 0 2256 4300
URL:https://thaibloodcentre.redcross.or.th/event/%e0%b8%9a%e0%b9%89%e0%b8%b2%e0%b8%99%e0%b8%97%e0%b8%a3%e0%b8%87%e0%b9%84%e0%b8%97%e0%b8%a2-%e0%b8%a2%e0%b9%88%e0%b8%b2%e0%b8%99%e0%b8%a7%e0%b8%87%e0%b8%a8%e0%b9%8c%e0%b8%aa%e0%b8%a7%e0%b9%88-296/
LOCATION:บ้านทรงไทย (ย่านวงศ์สว่าง)\, หน่วยรับบริจาคโลหิต บ้านทรงไทย(ย่านวงศ์สว่าง) 1423 ถนนกรุงเทพ-นนทบุรี แขวงวงศ์สว่าง เขตบางซื่อ กรุงเทพมหานคร 10800
CATEGORIES:ปฏิทินตารางหน่วยเคลื่อนที่
END:VEVENT
BEGIN:VEVENT
DTSTART;TZID=Asia/Krasnoyarsk:20251223T090000
DTEND;TZID=Asia/Krasnoyarsk:20251223T150000
DTSTAMP:20260425T195742
CREATED:20251215T120327Z
LAST-MODIFIED:20251215T120327Z
UID:10004816-1766480400-1766502000@thaibloodcentre.redcross.or.th
SUMMARY:การไฟฟ้านครหลวง เขตคลองเตย [0D0023]
DESCRIPTION:สถานที่เจาะ : ทางเชื่อมระหว่างอาคารวัฒนวิภาส (อาคาร A และอาคาร B) \nที่อยู่ : 1192 ถนนพระราม 4 แขวงคลองเตย เขตคลองเตย กรุงเทพฯ 0 2348 5327
URL:https://thaibloodcentre.redcross.or.th/event/%e0%b8%81%e0%b8%b2%e0%b8%a3%e0%b9%84%e0%b8%9f%e0%b8%9f%e0%b9%89%e0%b8%b2%e0%b8%99%e0%b8%84%e0%b8%a3%e0%b8%ab%e0%b8%a5%e0%b8%a7%e0%b8%87-%e0%b9%80%e0%b8%82%e0%b8%95%e0%b8%84%e0%b8%a5%e0%b8%ad-3/
LOCATION:การไฟฟ้านครหลวง เขตคลองเตย\, การไฟฟ้านครหลวง สำนักงานใหญ่คลองเตย อาคารวัฒนวิภาส เลขที่ 1192 ถนนพระรามที่ 4 แขวงคลองเตย เขตคลองเตย กรุงเทพมหานคร 10110
CATEGORIES:ปฏิทินตารางหน่วยเคลื่อนที่
END:VEVENT
BEGIN:VEVENT
DTSTART;TZID=Asia/Krasnoyarsk:20251223T090000
DTEND;TZID=Asia/Krasnoyarsk:20251223T150000
DTSTAMP:20260425T195742
CREATED:20251215T120337Z
LAST-MODIFIED:20251215T120337Z
UID:10004818-1766480400-1766502000@thaibloodcentre.redcross.or.th
SUMMARY:บริษัท เมืองไทยประกันชีวิต จำกัด (มหาชน) [0E0206]
DESCRIPTION:สถานที่เจาะ : ข้างสวนสุขภาพโพธิพงษ์ (หน้าอาคาร 2) \nที่อยู่ : 250 ถนนรัชดาภิเษก แขวงห้วยขวาง เขตห้วยขวาง กรุงเทพฯ 0 2290 2421
URL:https://thaibloodcentre.redcross.or.th/event/%e0%b8%9a%e0%b8%a3%e0%b8%b4%e0%b8%a9%e0%b8%b1%e0%b8%97-%e0%b9%80%e0%b8%a1%e0%b8%b7%e0%b8%ad%e0%b8%87%e0%b9%84%e0%b8%97%e0%b8%a2%e0%b8%9b%e0%b8%a3%e0%b8%b0%e0%b8%81%e0%b8%b1%e0%b8%99%e0%b8%8a-5/
LOCATION:บริษัท เมืองไทยประกันชีวิต จำกัด (มหาชน)\, บริษัท เมืองไทยประกันชีวิต จำกัด (มหาชน) 250 ถนนรัชดาภิเษก แขวงห้วยขวาง เขตห้วยขวาง กรุงเทพมหานคร 10310
CATEGORIES:ปฏิทินตารางหน่วยเคลื่อนที่
END:VEVENT
BEGIN:VEVENT
DTSTART;TZID=Asia/Krasnoyarsk:20251223T090000
DTEND;TZID=Asia/Krasnoyarsk:20251223T150000
DTSTAMP:20260425T195742
CREATED:20251215T120340Z
LAST-MODIFIED:20251215T120340Z
UID:10004819-1766480400-1766502000@thaibloodcentre.redcross.or.th
SUMMARY:สำนักงานปลัดสำนักนายกรัฐมนตรี (ทำเนียบรัฐบาล) [0D0129]
DESCRIPTION:สถานที่เจาะ : หน้าลานกองกลาง สนง.ปลัดสำนักนายกฯ (เข้าประตู 1) \nที่อยู่ : กองกลาง สำนักงานปลัดสำนักนายกรัฐมนตรี แขวงจิตรลดา เขตดุสิต กรุงเทพฯ 0 2283 4241
URL:https://thaibloodcentre.redcross.or.th/event/%e0%b8%aa%e0%b8%b3%e0%b8%99%e0%b8%b1%e0%b8%81%e0%b8%87%e0%b8%b2%e0%b8%99%e0%b8%9b%e0%b8%a5%e0%b8%b1%e0%b8%94%e0%b8%aa%e0%b8%b3%e0%b8%99%e0%b8%b1%e0%b8%81%e0%b8%99%e0%b8%b2%e0%b8%a2%e0%b8%81%e0%b8%a3-3/
LOCATION:สำนักงานปลัดสำนักนายกรัฐมนตรี (ทำเนียบรัฐบาล)\, กองกลาง สำนักงานปลัดสำนักนายกรัฐมนตรี 1 ทำเนียบรัฐบาล ถนนพิษณุโลก แขวงดุสิต เขตดุสิต กรุงเทพฯ 10300
CATEGORIES:ปฏิทินตารางหน่วยเคลื่อนที่
END:VEVENT
BEGIN:VEVENT
DTSTART;TZID=Asia/Krasnoyarsk:20251223T090000
DTEND;TZID=Asia/Krasnoyarsk:20251223T150000
DTSTAMP:20260425T195742
CREATED:20251215T120342Z
LAST-MODIFIED:20251215T120342Z
UID:10004820-1766480400-1766502000@thaibloodcentre.redcross.or.th
SUMMARY:บริษัท เครื่องนอนไทย จำกัด [0N0061]
DESCRIPTION:สถานที่เจาะ : ห้องประชุมชั้น 5 (พัก 12.00-13.00 น.) \nที่อยู่ : 35/3\,16 ม.9 ถ.พระราชวิริยาภรณ์ ต.บางผึ้ง อ.พระประแดง จ.สมุทรปราการ 0 2816 6410
URL:https://thaibloodcentre.redcross.or.th/event/%e0%b8%9a%e0%b8%a3%e0%b8%b4%e0%b8%a9%e0%b8%b1%e0%b8%97-%e0%b9%80%e0%b8%84%e0%b8%a3%e0%b8%b7%e0%b9%88%e0%b8%ad%e0%b8%87%e0%b8%99%e0%b8%ad%e0%b8%99%e0%b9%84%e0%b8%97%e0%b8%a2-%e0%b8%88%e0%b8%b3%e0%b8%81/
LOCATION:บริษัท เครื่องนอนไทย จำกัด\, บริษัท เครื่องนอนไทย จำกัด 35/3\,16 ม.9 ซ.วัดบางพึ่ง ถ.พระราชวิริยาภรณ์ ต.บางผึ้ง อ.พระประแดง จ.สมุทรปราการ 10130
CATEGORIES:ปฏิทินตารางหน่วยเคลื่อนที่
END:VEVENT
BEGIN:VEVENT
DTSTART;TZID=Asia/Krasnoyarsk:20251223T090000
DTEND;TZID=Asia/Krasnoyarsk:20251223T150000
DTSTAMP:20260425T195742
CREATED:20251215T120345Z
LAST-MODIFIED:20251215T120345Z
UID:10004821-1766480400-1766502000@thaibloodcentre.redcross.or.th
SUMMARY:กรมการแพทย์ กระทรวงสาธารณสุข [0D0079]
DESCRIPTION:สถานที่เจาะ : ห้องประชุม ชั้น 4 อาคาร 1 ตึกกรมการแพทย์ \nที่อยู่ : 88/23 ถ.ติวานนท์ ต.ตลาดขวัญ อ.เมือง จ.นนทบุรี 0 2590 6025
URL:https://thaibloodcentre.redcross.or.th/event/%e0%b8%81%e0%b8%a3%e0%b8%a1%e0%b8%81%e0%b8%b2%e0%b8%a3%e0%b9%81%e0%b8%9e%e0%b8%97%e0%b8%a2%e0%b9%8c-%e0%b8%81%e0%b8%a3%e0%b8%b0%e0%b8%97%e0%b8%a3%e0%b8%a7%e0%b8%87%e0%b8%aa%e0%b8%b2%e0%b8%98-3/
LOCATION:กรมการแพทย์ กระทรวงสาธารณสุข\, กรมการแพทย์ 88/23 ถ.ติวานนท์ ต.ตลาดขวัญ อ.เมือง จ.นนทบุรี 11000
CATEGORIES:ปฏิทินตารางหน่วยเคลื่อนที่
END:VEVENT
END:VCALENDAR