BEGIN:VCALENDAR
VERSION:2.0
PRODID:-//เว็บไซต์ศูนย์บริการโลหิตแห่งชาติ - ECPv6.11.2.1//NONSGML v1.0//EN
CALSCALE:GREGORIAN
METHOD:PUBLISH
X-WR-CALNAME:เว็บไซต์ศูนย์บริการโลหิตแห่งชาติ
X-ORIGINAL-URL:https://thaibloodcentre.redcross.or.th
X-WR-CALDESC:Events for เว็บไซต์ศูนย์บริการโลหิตแห่งชาติ
REFRESH-INTERVAL;VALUE=DURATION:PT1H
X-Robots-Tag:noindex
X-PUBLISHED-TTL:PT1H
BEGIN:VTIMEZONE
TZID:Asia/Krasnoyarsk
BEGIN:STANDARD
TZOFFSETFROM:+0700
TZOFFSETTO:+0700
TZNAME:+07
DTSTART:20260101T000000
END:STANDARD
END:VTIMEZONE
BEGIN:VEVENT
DTSTART;TZID=Asia/Krasnoyarsk:20260422T073000
DTEND;TZID=Asia/Krasnoyarsk:20260422T193000
DTSTAMP:20260421T070157
CREATED:20260420T065830Z
LAST-MODIFIED:20260420T075340Z
UID:10006651-1776843000-1776886200@thaibloodcentre.redcross.or.th
SUMMARY:ศูนย์บริการโลหิตแห่งชาติ สภากาชาดไทย []
DESCRIPTION:ที่อยู่ : 1871 ถ. อังรีดูนังต์ แขวงปทุมวัน เขตปทุมวัน
URL:https://thaibloodcentre.redcross.or.th/event/%e0%b8%a8%e0%b8%b9%e0%b8%99%e0%b8%a2%e0%b9%8c%e0%b8%9a%e0%b8%a3%e0%b8%b4%e0%b8%81%e0%b8%b2%e0%b8%a3%e0%b9%82%e0%b8%a5%e0%b8%ab%e0%b8%b4%e0%b8%95%e0%b9%81%e0%b8%ab%e0%b9%88%e0%b8%87%e0%b8%8a-517/
LOCATION:ศูนย์บริการโลหิตแห่งชาติ สภากาชาดไทย\, ศูนย์บริการโลหิตแห่งชาติ สภากาชาดไทย 1871 ถ. อังรีดูนังต์ แขวงปทุมวัน เขตปทุมวัน กรุงเทพมหานคร 10330
CATEGORIES:ปฏิทินตารางหน่วยเคลื่อนที่
END:VEVENT
BEGIN:VEVENT
DTSTART;TZID=Asia/Krasnoyarsk:20260422T083000
DTEND;TZID=Asia/Krasnoyarsk:20260422T193000
DTSTAMP:20260421T070157
CREATED:20260420T062211Z
LAST-MODIFIED:20260420T075356Z
UID:10006557-1776846600-1776886200@thaibloodcentre.redcross.or.th
SUMMARY:สถานีกาชาด 11 วิเศษนิยม []
DESCRIPTION:สถานที่เจาะ : ชั้น 3 \nที่อยู่ : 33/3 ถนนเพชรเกษม แขวงบางหว้า เขตภาษีเจริญ กรุงเทพฯ 0633450711
URL:https://thaibloodcentre.redcross.or.th/event/%e0%b8%aa%e0%b8%96%e0%b8%b2%e0%b8%99%e0%b8%b5%e0%b8%81%e0%b8%b2%e0%b8%8a%e0%b8%b2%e0%b8%94-11-%e0%b8%a7%e0%b8%b4%e0%b9%80%e0%b8%a8%e0%b8%a9%e0%b8%99%e0%b8%b4%e0%b8%a2%e0%b8%a1-219/
LOCATION:สถานีกาชาด 11 วิเศษนิยม\, สถานีกาชาด 11 วิเศษนิยม 605 ถ.เพชรเกษม แขวงบางหว้า เขตภาษีเจริญ กรุงเทพมหานคร 10160
CATEGORIES:ปฏิทินตารางหน่วยเคลื่อนที่
END:VEVENT
BEGIN:VEVENT
DTSTART;TZID=Asia/Krasnoyarsk:20260422T090000
DTEND;TZID=Asia/Krasnoyarsk:20260422T110000
DTSTAMP:20260421T070157
CREATED:20260420T062256Z
LAST-MODIFIED:20260420T075757Z
UID:10006571-1776848400-1776855600@thaibloodcentre.redcross.or.th
SUMMARY:บริษัท ซีพีเอฟ (ประเทศไทย) จำกัด (มหาชน) โรงงานผลิตอาหารสัตว์บก []
DESCRIPTION:สถานที่เจาะ : หน้าตึกสำนักงาน \nที่อยู่ : 57 ม.1 ถ.บางนา-ตราด กม.21 ต.ศีรษะจรเข้ใหญ่ อ.บางเสาธง จ.สมุทรปราการ 0 2312 8333
URL:https://thaibloodcentre.redcross.or.th/event/%e0%b8%9a%e0%b8%a3%e0%b8%b4%e0%b8%a9%e0%b8%b1%e0%b8%97-%e0%b8%8b%e0%b8%b5%e0%b8%9e%e0%b8%b5%e0%b9%80%e0%b8%ad%e0%b8%9f-%e0%b8%9b%e0%b8%a3%e0%b8%b0%e0%b9%80%e0%b8%97%e0%b8%a8%e0%b9%84%e0%b8%97-13/
LOCATION:บริษัท ซีพีเอฟ (ประเทศไทย) จำกัด (มหาชน) โรงงานผลิตอาหารสัตว์บก\, บมจ. CPF(ประเทศไทย) 57 ม.1 ถ.บางนา-ตราด กม.21 ต.ศีรษะจรเข้ใหญ่ อ.บางเสาธง จ.สมุทรปราการ 10540
CATEGORIES:ปฏิทินตารางหน่วยเคลื่อนที่
END:VEVENT
BEGIN:VEVENT
DTSTART;TZID=Asia/Krasnoyarsk:20260422T090000
DTEND;TZID=Asia/Krasnoyarsk:20260422T120000
DTSTAMP:20260421T070157
CREATED:20260420T062246Z
LAST-MODIFIED:20260420T075756Z
UID:10006568-1776848400-1776859200@thaibloodcentre.redcross.or.th
SUMMARY:บริษัท ไทยประกันชีวิต จำกัด (มหาชน) สาขารัตนาธิเบศร์ []
DESCRIPTION:สถานที่เจาะ : หน้าอาคาร \nที่อยู่ : 99/999 ม.8 ถ.รัตนาธิเบศร์ ต.บางกระสอ อ.เมือง จ.นนทบุรี 0 2965 6999
URL:https://thaibloodcentre.redcross.or.th/event/%e0%b8%9a%e0%b8%a3%e0%b8%b4%e0%b8%a9%e0%b8%b1%e0%b8%97-%e0%b9%84%e0%b8%97%e0%b8%a2%e0%b8%9b%e0%b8%a3%e0%b8%b0%e0%b8%81%e0%b8%b1%e0%b8%99%e0%b8%8a%e0%b8%b5%e0%b8%a7%e0%b8%b4%e0%b8%95-%e0%b8%88-28/
LOCATION:บริษัท ไทยประกันชีวิต จำกัด (มหาชน) สาขารัตนาธิเบศร์\, บริษัท ไทยประกันชีวิต จำกัด (มหาชน) สาขารัตนาธิเบศร์ 99/999 หมู่ 8 ถนนรัตนาธิเบศร์ ตำบลบางกระสอ อำเภอเมืองนนทบุรี จังหวัดนนทบุรี 11000
CATEGORIES:ปฏิทินตารางหน่วยเคลื่อนที่
END:VEVENT
BEGIN:VEVENT
DTSTART;TZID=Asia/Krasnoyarsk:20260422T090000
DTEND;TZID=Asia/Krasnoyarsk:20260422T150000
DTSTAMP:20260421T070157
CREATED:20260420T062220Z
LAST-MODIFIED:20260420T075555Z
UID:10006558-1776848400-1776870000@thaibloodcentre.redcross.or.th
SUMMARY:บ้านทรงไทย (ย่านวงศ์สว่าง) []
DESCRIPTION:สถานที่เจาะ : (พัก 12.30-13.00 น.) \nที่อยู่ : 1423 ถนนกรุงเทพ – นนทบุรี แขวงวงศ์สว่าง เขตบางซื่อ กรุงเทพฯ 0 2256 4300
URL:https://thaibloodcentre.redcross.or.th/event/%e0%b8%9a%e0%b9%89%e0%b8%b2%e0%b8%99%e0%b8%97%e0%b8%a3%e0%b8%87%e0%b9%84%e0%b8%97%e0%b8%a2-%e0%b8%a2%e0%b9%88%e0%b8%b2%e0%b8%99%e0%b8%a7%e0%b8%87%e0%b8%a8%e0%b9%8c%e0%b8%aa%e0%b8%a7%e0%b9%88-420/
LOCATION:บ้านทรงไทย (ย่านวงศ์สว่าง)\, หน่วยรับบริจาคโลหิต บ้านทรงไทย(ย่านวงศ์สว่าง) 1423 ถนนกรุงเทพ-นนทบุรี แขวงวงศ์สว่าง เขตบางซื่อ กรุงเทพมหานคร 10800
CATEGORIES:ปฏิทินตารางหน่วยเคลื่อนที่
END:VEVENT
BEGIN:VEVENT
DTSTART;TZID=Asia/Krasnoyarsk:20260422T090000
DTEND;TZID=Asia/Krasnoyarsk:20260422T150000
DTSTAMP:20260421T070157
CREATED:20260420T062226Z
LAST-MODIFIED:20260420T075555Z
UID:10006559-1776848400-1776870000@thaibloodcentre.redcross.or.th
SUMMARY:บริษัท ธนารักษ์พัฒนาสินทรัพย์ จำกัด []
DESCRIPTION:สถานที่เจาะ : อาคาร C ชั้น 2 (พัก 11.00-12.00 น.) \nที่อยู่ : 120 ชั้น 1 อาคารศูนย์ประชุมฯ ถนนแจ้งวัฒนะ 7 แขวงทุ่งสองห้อง  เขตหลักสี่ กรุงเทพฯ 0 2142 2204
URL:https://thaibloodcentre.redcross.or.th/event/%e0%b8%9a%e0%b8%a3%e0%b8%b4%e0%b8%a9%e0%b8%b1%e0%b8%97-%e0%b8%98%e0%b8%99%e0%b8%b2%e0%b8%a3%e0%b8%b1%e0%b8%81%e0%b8%a9%e0%b9%8c%e0%b8%9e%e0%b8%b1%e0%b8%92%e0%b8%99%e0%b8%b2%e0%b8%aa%e0%b8%b4-19/
LOCATION:บริษัท ธนารักษ์พัฒนาสินทรัพย์ จำกัด\, ศูนย์ราชการฯ แจ้งวัฒนะ 120 หมู่ที่ 3 ถนนแจ้งวัฒนะ แขวงทุ่งสองห้อง เขตหลักสี่ กรุงเทพมหานคร 10210
CATEGORIES:ปฏิทินตารางหน่วยเคลื่อนที่
END:VEVENT
BEGIN:VEVENT
DTSTART;TZID=Asia/Krasnoyarsk:20260422T090000
DTEND;TZID=Asia/Krasnoyarsk:20260422T150000
DTSTAMP:20260421T070157
CREATED:20260420T062228Z
LAST-MODIFIED:20260420T075556Z
UID:10006560-1776848400-1776870000@thaibloodcentre.redcross.or.th
SUMMARY:ธนาคารกรุงเทพ จำกัด (มหาชน) []
DESCRIPTION:สถานที่เจาะ : ชั้น 29 อาคาร 1 สำนักงานใหญ่ \nที่อยู่ : 333 ถนนสีลม แขวงทุ่งมหาเมฆ เขตบางรัก กรุงเทพฯ 0 2230 1850
URL:https://thaibloodcentre.redcross.or.th/event/%e0%b8%98%e0%b8%99%e0%b8%b2%e0%b8%84%e0%b8%b2%e0%b8%a3%e0%b8%81%e0%b8%a3%e0%b8%b8%e0%b8%87%e0%b9%80%e0%b8%97%e0%b8%9e-%e0%b8%88%e0%b8%b3%e0%b8%81%e0%b8%b1%e0%b8%94-%e0%b8%a1%e0%b8%ab%e0%b8%b2-7/
LOCATION:ธนาคารกรุงเทพ จำกัด (มหาชน)\, ธนาคารกรุงเทพ จำกัด (มหาชน) 333 ถนนสีลม แขวงสีลม เขตบางรัก กรุงเทพฯ 10500
CATEGORIES:ปฏิทินตารางหน่วยเคลื่อนที่
END:VEVENT
BEGIN:VEVENT
DTSTART;TZID=Asia/Krasnoyarsk:20260422T090000
DTEND;TZID=Asia/Krasnoyarsk:20260422T150000
DTSTAMP:20260421T070157
CREATED:20260420T062231Z
LAST-MODIFIED:20260420T075556Z
UID:10006561-1776848400-1776870000@thaibloodcentre.redcross.or.th
SUMMARY:ธนาคารกรุงเทพ จำกัด (มหาชน) พระราม 3 []
DESCRIPTION:สถานที่เจาะ : โถงชั้น 3 (พัก 11.00-12.00 น.) \nที่อยู่ : ถนนพระราม 3 เขตยานนาวา กรุงเทพฯ 0 2685 7827
URL:https://thaibloodcentre.redcross.or.th/event/%e0%b8%98%e0%b8%99%e0%b8%b2%e0%b8%84%e0%b8%b2%e0%b8%a3%e0%b8%81%e0%b8%a3%e0%b8%b8%e0%b8%87%e0%b9%80%e0%b8%97%e0%b8%9e-%e0%b8%88%e0%b8%b3%e0%b8%81%e0%b8%b1%e0%b8%94-%e0%b8%a1%e0%b8%ab%e0%b8%b2-8/
LOCATION:ธนาคารกรุงเทพ จำกัด (มหาชน) พระราม 3\, ธนาคารกรุงเทพ จำกัด (มหาชน) สำนักงานพระราม 3 2222 ถนนพระราม 3 แขวงช่องนนทรี เขตยานนาวา กรุงเทพมหานคร 10120
CATEGORIES:ปฏิทินตารางหน่วยเคลื่อนที่
END:VEVENT
BEGIN:VEVENT
DTSTART;TZID=Asia/Krasnoyarsk:20260422T090000
DTEND;TZID=Asia/Krasnoyarsk:20260422T150000
DTSTAMP:20260421T070157
CREATED:20260420T062234Z
LAST-MODIFIED:20260420T075557Z
UID:10006562-1776848400-1776870000@thaibloodcentre.redcross.or.th
SUMMARY:บริษัท ไทยประกันชีวิต จำกัด (มหาชน) []
DESCRIPTION:สถานที่เจาะ : ชั้น 1 ตรงข้ามไปรษณีย์ (พัก 11.30-12.30 น.) \nที่อยู่ : 123 อาคารไทยประกันชีวิต ถนนรัชดาภิเษก แขวงดินแดง เขตดินแดง กรุงเทพฯ
URL:https://thaibloodcentre.redcross.or.th/event/%e0%b8%9a%e0%b8%a3%e0%b8%b4%e0%b8%a9%e0%b8%b1%e0%b8%97-%e0%b9%84%e0%b8%97%e0%b8%a2%e0%b8%9b%e0%b8%a3%e0%b8%b0%e0%b8%81%e0%b8%b1%e0%b8%99%e0%b8%8a%e0%b8%b5%e0%b8%a7%e0%b8%b4%e0%b8%95-%e0%b8%88-27/
LOCATION:บริษัท ไทยประกันชีวิต จำกัด (มหาชน)\, บริษัท ไทยประกันชีวิต จำกัด (มหาชน) ไทยประกันชีวิต 123 ถ. รัชดาภิเษก แขวงดินแดง เขตดินแดง กรุงเทพมหานคร 10400
CATEGORIES:ปฏิทินตารางหน่วยเคลื่อนที่
END:VEVENT
BEGIN:VEVENT
DTSTART;TZID=Asia/Krasnoyarsk:20260422T090000
DTEND;TZID=Asia/Krasnoyarsk:20260422T150000
DTSTAMP:20260421T070157
CREATED:20260420T062259Z
LAST-MODIFIED:20260420T075758Z
UID:10006572-1776848400-1776870000@thaibloodcentre.redcross.or.th
SUMMARY:โรงพยาบาลเมืองสมุทร ปากน้ำ []
DESCRIPTION:สถานที่เจาะ : หน้าโรงพยาบาล (พัก 12.00-13.00 น.) \nที่อยู่ : 156 ถ.เทศบาล 12 ต.ปากน้ำ อ.เมือง จ.สมุทรปราการ 0 2175 7766-75
URL:https://thaibloodcentre.redcross.or.th/event/%e0%b9%82%e0%b8%a3%e0%b8%87%e0%b8%9e%e0%b8%a2%e0%b8%b2%e0%b8%9a%e0%b8%b2%e0%b8%a5%e0%b9%80%e0%b8%a1%e0%b8%b7%e0%b8%ad%e0%b8%87%e0%b8%aa%e0%b8%a1%e0%b8%b8%e0%b8%97%e0%b8%a3-%e0%b8%9b%e0%b8%b2-4/
LOCATION:โรงพยาบาลเมืองสมุทร ปากน้ำ\, โรงพยาบาลเมืองสมุทร ปากน้ำ 156 ถ.เทศบาล 12 ต.ปากน้ำ อ.เมืองสมุทรปราการ จ.สมุทรปราการ 10270
CATEGORIES:ปฏิทินตารางหน่วยเคลื่อนที่
END:VEVENT
BEGIN:VEVENT
DTSTART;TZID=Asia/Krasnoyarsk:20260422T110000
DTEND;TZID=Asia/Krasnoyarsk:20260422T150000
DTSTAMP:20260421T070157
CREATED:20260420T062252Z
LAST-MODIFIED:20260420T075757Z
UID:10006570-1776855600-1776870000@thaibloodcentre.redcross.or.th
SUMMARY:ศูนย์การค้า มาร์เก็ต วิลเลจ สุวรรณภูมิ []
DESCRIPTION:สถานที่เจาะ : หลังศาลพระพรหม \nที่อยู่ : 99/29 ม.1 ต.ราชาเทวะ อ.บางพลี จ.สมุทรปราการ 0 2115 1000
URL:https://thaibloodcentre.redcross.or.th/event/%e0%b8%a8%e0%b8%b9%e0%b8%99%e0%b8%a2%e0%b9%8c%e0%b8%81%e0%b8%b2%e0%b8%a3%e0%b8%84%e0%b9%89%e0%b8%b2-%e0%b8%a1%e0%b8%b2%e0%b8%a3%e0%b9%8c%e0%b9%80%e0%b8%81%e0%b9%87%e0%b8%95-%e0%b8%a7%e0%b8%b4-4/
LOCATION:ศูนย์การค้า มาร์เก็ต วิลเลจ สุวรรณภูมิ\, มาร์เก็ต วิลเลจ สุวรรณภูมิ 99/29 ถ.เทพรัตน ต.บางพลีใหญ่ อ.บางพลี จ.สมุทรปราการ 10540
CATEGORIES:ปฏิทินตารางหน่วยเคลื่อนที่
END:VEVENT
BEGIN:VEVENT
DTSTART;TZID=Asia/Krasnoyarsk:20260422T120000
DTEND;TZID=Asia/Krasnoyarsk:20260422T180000
DTSTAMP:20260421T070157
CREATED:20260420T062121Z
LAST-MODIFIED:20260420T075353Z
UID:10006553-1776859200-1776880800@thaibloodcentre.redcross.or.th
SUMMARY:ศูนย์การค้าเดอะมอลล์ไลฟ์สโตร์ บางกะปิ []
DESCRIPTION:สถานที่เจาะ : ชั้น 2 ทางออกลานจอดรถ \nที่อยู่ : ถนนลาดพร้าว แขวงคลองจั่น เขตบางกะปิ กรุงเทพฯ 0 2310 2278
URL:https://thaibloodcentre.redcross.or.th/event/%e0%b8%a8%e0%b8%b9%e0%b8%99%e0%b8%a2%e0%b9%8c%e0%b8%81%e0%b8%b2%e0%b8%a3%e0%b8%84%e0%b9%89%e0%b8%b2%e0%b9%80%e0%b8%94%e0%b8%ad%e0%b8%b0%e0%b8%a1%e0%b8%ad%e0%b8%a5%e0%b8%a5%e0%b9%8c%e0%b9%84-1706/
LOCATION:ศูนย์การค้าเดอะมอลล์ไลฟ์สโตร์ บางกะปิ\, เดอะมอลล์ไลฟ์สโตร์ บางกะปิ 3522 ถ. ลาดพร้าว แขวงคลองจั่น เขตบางกะปิ กรุงเทพมหานคร 10240
CATEGORIES:ปฏิทินตารางหน่วยเคลื่อนที่
END:VEVENT
BEGIN:VEVENT
DTSTART;TZID=Asia/Krasnoyarsk:20260422T120000
DTEND;TZID=Asia/Krasnoyarsk:20260422T180000
DTSTAMP:20260421T070157
CREATED:20260420T062135Z
LAST-MODIFIED:20260420T075354Z
UID:10006554-1776859200-1776880800@thaibloodcentre.redcross.or.th
SUMMARY:ศูนย์การค้าเดอะมอลล์ไลฟ์สโตร์ งามวงศ์วาน []
DESCRIPTION:สถานที่เจาะ : ชั้น 5 โซน Government Center \nที่อยู่ : ถนนงามวงศ์วาน ต.บางเขน อ.เมือง จ.นนทบุรี 0 2555 1550
URL:https://thaibloodcentre.redcross.or.th/event/%e0%b8%a8%e0%b8%b9%e0%b8%99%e0%b8%a2%e0%b9%8c%e0%b8%81%e0%b8%b2%e0%b8%a3%e0%b8%84%e0%b9%89%e0%b8%b2%e0%b9%80%e0%b8%94%e0%b8%ad%e0%b8%b0%e0%b8%a1%e0%b8%ad%e0%b8%a5%e0%b8%a5%e0%b9%8c%e0%b9%84-1707/
LOCATION:ศูนย์การค้าเดอะมอลล์ไลฟ์สโตร์ งามวงศ์วาน\, เดอะมอลล์ ไลฟ์สโตร์ งามวงศ์วาน 430 ถนน งามวงศ์วาน ตำบลบางเขน อำเภอเมืองนนทบุรี นนทบุรี 11000
CATEGORIES:ปฏิทินตารางหน่วยเคลื่อนที่
END:VEVENT
BEGIN:VEVENT
DTSTART;TZID=Asia/Krasnoyarsk:20260422T120000
DTEND;TZID=Asia/Krasnoyarsk:20260422T180000
DTSTAMP:20260421T070157
CREATED:20260420T062149Z
LAST-MODIFIED:20260420T075355Z
UID:10006555-1776859200-1776880800@thaibloodcentre.redcross.or.th
SUMMARY:ศูนย์การค้า เอ็มโพเรียม []
DESCRIPTION:สถานที่เจาะ : ชั้น M ศูนย์การค้า ดิ เอ็มโพเรียม เชื่อมลานจอดรถอาคาร B \nที่อยู่ : 622 ถนนสุขุมวิท แขวงคลองตัน เขตคลองเตย กรุงเทพฯ 0 2269 1515
URL:https://thaibloodcentre.redcross.or.th/event/%e0%b8%a8%e0%b8%b9%e0%b8%99%e0%b8%a2%e0%b9%8c%e0%b8%81%e0%b8%b2%e0%b8%a3%e0%b8%84%e0%b9%89%e0%b8%b2-%e0%b9%80%e0%b8%ad%e0%b9%87%e0%b8%a1%e0%b9%82%e0%b8%9e%e0%b9%80%e0%b8%a3%e0%b8%b5%e0%b8%a2-423/
LOCATION:ศูนย์การค้า เอ็มโพเรียม\, เอ็มโพเรียม 622 ถ. สุขุมวิท แขวงคลองตัน เขตคลองเตย กรุงเทพมหานคร 10110
CATEGORIES:ปฏิทินตารางหน่วยเคลื่อนที่
END:VEVENT
BEGIN:VEVENT
DTSTART;TZID=Asia/Krasnoyarsk:20260422T120000
DTEND;TZID=Asia/Krasnoyarsk:20260422T180000
DTSTAMP:20260421T070157
CREATED:20260420T062154Z
LAST-MODIFIED:20260420T075355Z
UID:10006556-1776859200-1776880800@thaibloodcentre.redcross.or.th
SUMMARY:ศูนย์การค้าเดอะมอลล์ไลฟ์สโตร์ ท่าพระ []
DESCRIPTION:สถานที่เจาะ : ชั้น 1 (ติดลานจอดรถ) \nที่อยู่ : 99 ถนนรัชดาท่าพระตัดใหม่ แขวงบุคคโล เขตธนบุรี กรุงเทพฯ 0 2469-1000
URL:https://thaibloodcentre.redcross.or.th/event/%e0%b8%a8%e0%b8%b9%e0%b8%99%e0%b8%a2%e0%b9%8c%e0%b8%81%e0%b8%b2%e0%b8%a3%e0%b8%84%e0%b9%89%e0%b8%b2%e0%b9%80%e0%b8%94%e0%b8%ad%e0%b8%b0%e0%b8%a1%e0%b8%ad%e0%b8%a5%e0%b8%a5%e0%b9%8c%e0%b9%84-1710/
LOCATION:ศูนย์การค้าเดอะมอลล์ไลฟ์สโตร์ ท่าพระ\, เดอะมอลล์ไลฟ์สโตร์ ท่าพระ 129 ถ. รัชดาภิเษก แขวงบุคคโล เขตธนบุรี กรุงเทพมหานคร 10600
CATEGORIES:ปฏิทินตารางหน่วยเคลื่อนที่
END:VEVENT
BEGIN:VEVENT
DTSTART;TZID=Asia/Krasnoyarsk:20260422T120000
DTEND;TZID=Asia/Krasnoyarsk:20260422T180000
DTSTAMP:20260421T070157
CREATED:20260420T065836Z
LAST-MODIFIED:20260420T075341Z
UID:10006652-1776859200-1776880800@thaibloodcentre.redcross.or.th
SUMMARY:ศูนย์การค้าเดอะมอลล์ไลฟ์สโตร์ บางแค []
DESCRIPTION:สถานที่เจาะ : ชั้น 3 ตรงข้ามร้านโอ้กะจู๋ \nที่อยู่ : ถนนเพชรเกษม แขวงบางแคเหนือ เขตภาษีเจริญ กรุงเทพฯ 02 487 1221
URL:https://thaibloodcentre.redcross.or.th/event/%e0%b8%a8%e0%b8%b9%e0%b8%99%e0%b8%a2%e0%b9%8c%e0%b8%81%e0%b8%b2%e0%b8%a3%e0%b8%84%e0%b9%89%e0%b8%b2%e0%b9%80%e0%b8%94%e0%b8%ad%e0%b8%b0%e0%b8%a1%e0%b8%ad%e0%b8%a5%e0%b8%a5%e0%b9%8c%e0%b9%84-1730/
LOCATION:ศูนย์การค้าเดอะมอลล์ไลฟ์สโตร์ บางแค\, ศูนย์การค้าเดอะมอลล์ไลฟ์สโตร์ บางแค
CATEGORIES:ปฏิทินตารางหน่วยเคลื่อนที่
END:VEVENT
BEGIN:VEVENT
DTSTART;TZID=Asia/Krasnoyarsk:20260422T130000
DTEND;TZID=Asia/Krasnoyarsk:20260422T150000
DTSTAMP:20260421T070157
CREATED:20260420T062249Z
LAST-MODIFIED:20260420T075756Z
UID:10006569-1776862800-1776870000@thaibloodcentre.redcross.or.th
SUMMARY:โรบินสัน ไลฟ์สไตล์ ราชพฤกษ์ []
DESCRIPTION:สถานที่เจาะ : จุดโหลดสินค้า \nที่อยู่ : 19/11 ม. 4 ต.คลองข่อย อ.ปากเกร็ด จ.นนทบุรี
URL:https://thaibloodcentre.redcross.or.th/event/%e0%b9%82%e0%b8%a3%e0%b8%9a%e0%b8%b4%e0%b8%99%e0%b8%aa%e0%b8%b1%e0%b8%99-%e0%b9%84%e0%b8%a5%e0%b8%9f%e0%b9%8c%e0%b8%aa%e0%b9%84%e0%b8%95%e0%b8%a5%e0%b9%8c-%e0%b8%a3%e0%b8%b2%e0%b8%8a%e0%b8%9e-5/
LOCATION:โรบินสัน ไลฟ์สไตล์ ราชพฤกษ์\, โรบินสัน ไลฟ์สไตล์ ราชพฤกษ์ ตําบล คลองข่อย 19/11 หมู่ที่ 4 อำเภอปากเกร็ด นนทบุรี 11120
CATEGORIES:ปฏิทินตารางหน่วยเคลื่อนที่
END:VEVENT
BEGIN:VEVENT
DTSTART;TZID=Asia/Krasnoyarsk:20260423T073000
DTEND;TZID=Asia/Krasnoyarsk:20260423T193000
DTSTAMP:20260421T070157
CREATED:20260420T061651Z
LAST-MODIFIED:20260420T061651Z
UID:10006512-1776929400-1776972600@thaibloodcentre.redcross.or.th
SUMMARY:ศูนย์บริการโลหิตแห่งชาติ สภากาชาดไทย []
DESCRIPTION:ที่อยู่ : 1871 ถ. อังรีดูนังต์ แขวงปทุมวัน เขตปทุมวัน
URL:https://thaibloodcentre.redcross.or.th/event/%e0%b8%a8%e0%b8%b9%e0%b8%99%e0%b8%a2%e0%b9%8c%e0%b8%9a%e0%b8%a3%e0%b8%b4%e0%b8%81%e0%b8%b2%e0%b8%a3%e0%b9%82%e0%b8%a5%e0%b8%ab%e0%b8%b4%e0%b8%95%e0%b9%81%e0%b8%ab%e0%b9%88%e0%b8%87%e0%b8%8a-507/
LOCATION:ศูนย์บริการโลหิตแห่งชาติ สภากาชาดไทย\, ศูนย์บริการโลหิตแห่งชาติ สภากาชาดไทย 1871 ถ. อังรีดูนังต์ แขวงปทุมวัน เขตปทุมวัน กรุงเทพมหานคร 10330
CATEGORIES:ปฏิทินตารางหน่วยเคลื่อนที่
END:VEVENT
BEGIN:VEVENT
DTSTART;TZID=Asia/Krasnoyarsk:20260423T073000
DTEND;TZID=Asia/Krasnoyarsk:20260423T193000
DTSTAMP:20260421T070157
CREATED:20260420T061749Z
LAST-MODIFIED:20260420T061749Z
UID:10006517-1776929400-1776972600@thaibloodcentre.redcross.or.th
SUMMARY:ศูนย์บริการโลหิตแห่งชาติ สภากาชาดไทย []
DESCRIPTION:ที่อยู่ : 1871 ถ. อังรีดูนังต์ แขวงปทุมวัน เขตปทุมวัน
URL:https://thaibloodcentre.redcross.or.th/event/%e0%b8%a8%e0%b8%b9%e0%b8%99%e0%b8%a2%e0%b9%8c%e0%b8%9a%e0%b8%a3%e0%b8%b4%e0%b8%81%e0%b8%b2%e0%b8%a3%e0%b9%82%e0%b8%a5%e0%b8%ab%e0%b8%b4%e0%b8%95%e0%b9%81%e0%b8%ab%e0%b9%88%e0%b8%87%e0%b8%8a-508/
LOCATION:ศูนย์บริการโลหิตแห่งชาติ สภากาชาดไทย\, ศูนย์บริการโลหิตแห่งชาติ สภากาชาดไทย 1871 ถ. อังรีดูนังต์ แขวงปทุมวัน เขตปทุมวัน กรุงเทพมหานคร 10330
CATEGORIES:ปฏิทินตารางหน่วยเคลื่อนที่
END:VEVENT
BEGIN:VEVENT
DTSTART;TZID=Asia/Krasnoyarsk:20260423T083000
DTEND;TZID=Asia/Krasnoyarsk:20260423T193000
DTSTAMP:20260421T070157
CREATED:20260420T061819Z
LAST-MODIFIED:20260420T061819Z
UID:10006519-1776933000-1776972600@thaibloodcentre.redcross.or.th
SUMMARY:สถานีกาชาด 11 วิเศษนิยม []
DESCRIPTION:สถานที่เจาะ : ชั้น 3 \nที่อยู่ : 33/3 ถนนเพชรเกษม แขวงบางหว้า เขตภาษีเจริญ กรุงเทพฯ 0633450711
URL:https://thaibloodcentre.redcross.or.th/event/%e0%b8%aa%e0%b8%96%e0%b8%b2%e0%b8%99%e0%b8%b5%e0%b8%81%e0%b8%b2%e0%b8%8a%e0%b8%b2%e0%b8%94-11-%e0%b8%a7%e0%b8%b4%e0%b9%80%e0%b8%a8%e0%b8%a9%e0%b8%99%e0%b8%b4%e0%b8%a2%e0%b8%a1-217/
LOCATION:สถานีกาชาด 11 วิเศษนิยม\, สถานีกาชาด 11 วิเศษนิยม 605 ถ.เพชรเกษม แขวงบางหว้า เขตภาษีเจริญ กรุงเทพมหานคร 10160
CATEGORIES:ปฏิทินตารางหน่วยเคลื่อนที่
END:VEVENT
BEGIN:VEVENT
DTSTART;TZID=Asia/Krasnoyarsk:20260423T090000
DTEND;TZID=Asia/Krasnoyarsk:20260423T120000
DTSTAMP:20260421T070157
CREATED:20260420T061842Z
LAST-MODIFIED:20260420T061842Z
UID:10006525-1776934800-1776945600@thaibloodcentre.redcross.or.th
SUMMARY:ศูนย์รักษาความปลอดภัย กองบัญชาการกองทัพไทย []
DESCRIPTION:สถานที่เจาะ : สโมสรนายทหารสัญญาบัตร \nที่อยู่ : 17 รามอินทรา 2/1  ถนนรามอินทรา แขวงอนุสาวรีย์ เขตบางเขน กรุงเทพฯ 0 2521 1143
URL:https://thaibloodcentre.redcross.or.th/event/%e0%b8%a8%e0%b8%b9%e0%b8%99%e0%b8%a2%e0%b9%8c%e0%b8%a3%e0%b8%b1%e0%b8%81%e0%b8%a9%e0%b8%b2%e0%b8%84%e0%b8%a7%e0%b8%b2%e0%b8%a1%e0%b8%9b%e0%b8%a5%e0%b8%ad%e0%b8%94%e0%b8%a0%e0%b8%b1%e0%b8%a2-6/
LOCATION:ศูนย์รักษาความปลอดภัย กองบัญชาการกองทัพไทย\, ศูนย์รักษาความปลอดภัย กองบัญชาการกองทัพไทย 17 ซอยรามอินทรา 2/1 แขวงอนุสาวรีย์ เขตบางเขน เขตพื้นที่ (เขตบางเขน ) กรุงเทพมหานคร 10210
CATEGORIES:ปฏิทินตารางหน่วยเคลื่อนที่
END:VEVENT
BEGIN:VEVENT
DTSTART;TZID=Asia/Krasnoyarsk:20260423T090000
DTEND;TZID=Asia/Krasnoyarsk:20260423T120000
DTSTAMP:20260421T070157
CREATED:20260420T061844Z
LAST-MODIFIED:20260420T061844Z
UID:10006526-1776934800-1776945600@thaibloodcentre.redcross.or.th
SUMMARY:องค์การพิพิธภัณฑ์วิทยาศาสตร์แห่งชาติ []
DESCRIPTION:สถานที่เจาะ : หน้าพิพิธภัณฑ์วิทยาศาสตร์แห่งชาติ พระราม 9 \nที่อยู่ : เทคโนธานี ต.คลองห้า อ.คลองหลวง ปทุมธานี 0 2577 9999
URL:https://thaibloodcentre.redcross.or.th/event/%e0%b8%ad%e0%b8%87%e0%b8%84%e0%b9%8c%e0%b8%81%e0%b8%b2%e0%b8%a3%e0%b8%9e%e0%b8%b4%e0%b8%9e%e0%b8%b4%e0%b8%98%e0%b8%a0%e0%b8%b1%e0%b8%93%e0%b8%91%e0%b9%8c%e0%b8%a7%e0%b8%b4%e0%b8%97%e0%b8%a2%e0%b8%b2-5/
LOCATION:องค์การพิพิธภัณฑ์วิทยาศาสตร์แห่งชาติ\, องค์การพิพิธภัณฑ์วิทยาศาสตร์แห่งชาติ 39 ม.3 ถ.เลียบคลองห้า ต.คลองห้า อ.คลองหลวง จ.ปทุมธานี 12120
CATEGORIES:ปฏิทินตารางหน่วยเคลื่อนที่
END:VEVENT
BEGIN:VEVENT
DTSTART;TZID=Asia/Krasnoyarsk:20260423T090000
DTEND;TZID=Asia/Krasnoyarsk:20260423T150000
DTSTAMP:20260421T070157
CREATED:20260420T061823Z
LAST-MODIFIED:20260420T061823Z
UID:10006520-1776934800-1776956400@thaibloodcentre.redcross.or.th
SUMMARY:บ้านทรงไทย (ย่านวงศ์สว่าง) []
DESCRIPTION:สถานที่เจาะ : (พัก 12.30-13.00 น.) \nที่อยู่ : 1423 ถนนกรุงเทพ – นนทบุรี แขวงวงศ์สว่าง เขตบางซื่อ กรุงเทพฯ 0 2256 4300
URL:https://thaibloodcentre.redcross.or.th/event/%e0%b8%9a%e0%b9%89%e0%b8%b2%e0%b8%99%e0%b8%97%e0%b8%a3%e0%b8%87%e0%b9%84%e0%b8%97%e0%b8%a2-%e0%b8%a2%e0%b9%88%e0%b8%b2%e0%b8%99%e0%b8%a7%e0%b8%87%e0%b8%a8%e0%b9%8c%e0%b8%aa%e0%b8%a7%e0%b9%88-418/
LOCATION:บ้านทรงไทย (ย่านวงศ์สว่าง)\, หน่วยรับบริจาคโลหิต บ้านทรงไทย(ย่านวงศ์สว่าง) 1423 ถนนกรุงเทพ-นนทบุรี แขวงวงศ์สว่าง เขตบางซื่อ กรุงเทพมหานคร 10800
CATEGORIES:ปฏิทินตารางหน่วยเคลื่อนที่
END:VEVENT
BEGIN:VEVENT
DTSTART;TZID=Asia/Krasnoyarsk:20260423T090000
DTEND;TZID=Asia/Krasnoyarsk:20260423T150000
DTSTAMP:20260421T070157
CREATED:20260420T061828Z
LAST-MODIFIED:20260420T061828Z
UID:10006521-1776934800-1776956400@thaibloodcentre.redcross.or.th
SUMMARY:บริษัท ธนารักษ์พัฒนาสินทรัพย์ จำกัด []
DESCRIPTION:สถานที่เจาะ : อาคาร B ชั้น 2 (พัก 11.00-12.00 น.) \nที่อยู่ : 120 ชั้น 1 อาคารศูนย์ประชุมฯ ถนนแจ้งวัฒนะ 7 แขวงทุ่งสองห้อง  เขตหลักสี่ กรุงเทพฯ 0 2142 2204
URL:https://thaibloodcentre.redcross.or.th/event/%e0%b8%9a%e0%b8%a3%e0%b8%b4%e0%b8%a9%e0%b8%b1%e0%b8%97-%e0%b8%98%e0%b8%99%e0%b8%b2%e0%b8%a3%e0%b8%b1%e0%b8%81%e0%b8%a9%e0%b9%8c%e0%b8%9e%e0%b8%b1%e0%b8%92%e0%b8%99%e0%b8%b2%e0%b8%aa%e0%b8%b4-17/
LOCATION:บริษัท ธนารักษ์พัฒนาสินทรัพย์ จำกัด\, ศูนย์ราชการฯ แจ้งวัฒนะ 120 หมู่ที่ 3 ถนนแจ้งวัฒนะ แขวงทุ่งสองห้อง เขตหลักสี่ กรุงเทพมหานคร 10210
CATEGORIES:ปฏิทินตารางหน่วยเคลื่อนที่
END:VEVENT
BEGIN:VEVENT
DTSTART;TZID=Asia/Krasnoyarsk:20260423T090000
DTEND;TZID=Asia/Krasnoyarsk:20260423T150000
DTSTAMP:20260421T070157
CREATED:20260420T061830Z
LAST-MODIFIED:20260420T061830Z
UID:10006522-1776934800-1776956400@thaibloodcentre.redcross.or.th
SUMMARY:บริษัท ไทยประกันชีวิต จำกัด (มหาชน) []
DESCRIPTION:สถานที่เจาะ : ชั้น 1 ตรงข้ามไปรษณีย์ (พัก 11.30-12.30 น.) \nที่อยู่ : 123 อาคารไทยประกันชีวิต ถนนรัชดาภิเษก แขวงดินแดง เขตดินแดง กรุงเทพฯ
URL:https://thaibloodcentre.redcross.or.th/event/%e0%b8%9a%e0%b8%a3%e0%b8%b4%e0%b8%a9%e0%b8%b1%e0%b8%97-%e0%b9%84%e0%b8%97%e0%b8%a2%e0%b8%9b%e0%b8%a3%e0%b8%b0%e0%b8%81%e0%b8%b1%e0%b8%99%e0%b8%8a%e0%b8%b5%e0%b8%a7%e0%b8%b4%e0%b8%95-%e0%b8%88-25/
LOCATION:บริษัท ไทยประกันชีวิต จำกัด (มหาชน)\, บริษัท ไทยประกันชีวิต จำกัด (มหาชน) ไทยประกันชีวิต 123 ถ. รัชดาภิเษก แขวงดินแดง เขตดินแดง กรุงเทพมหานคร 10400
CATEGORIES:ปฏิทินตารางหน่วยเคลื่อนที่
END:VEVENT
BEGIN:VEVENT
DTSTART;TZID=Asia/Krasnoyarsk:20260423T090000
DTEND;TZID=Asia/Krasnoyarsk:20260423T150000
DTSTAMP:20260421T070157
CREATED:20260420T061837Z
LAST-MODIFIED:20260420T061837Z
UID:10006523-1776934800-1776956400@thaibloodcentre.redcross.or.th
SUMMARY:บริษัท ทิปโก้ ทาวเวอร์ จำกัด []
DESCRIPTION:สถานที่เจาะ : ห้องประชุม 1-3 ชั้น 5 อาคารทิปโก้ 2 (พัก 12.00-13.00 น.) \nที่อยู่ : 118/1 ถนนพระราม 6 แขวงสามเสนใน เขตพญาไท กรุงเทพฯ 0 2273 6000
URL:https://thaibloodcentre.redcross.or.th/event/%e0%b8%9a%e0%b8%a3%e0%b8%b4%e0%b8%a9%e0%b8%b1%e0%b8%97-%e0%b8%97%e0%b8%b4%e0%b8%9b%e0%b9%82%e0%b8%81%e0%b9%89-%e0%b8%97%e0%b8%b2%e0%b8%a7%e0%b9%80%e0%b8%a7%e0%b8%ad%e0%b8%a3%e0%b9%8c-%e0%b8%88-5/
LOCATION:บริษัท ทิปโก้ ทาวเวอร์ จำกัด\, บริษัท ทิปโก้ ทาวเวอร์ จำกัด 118/1 ถนนพระรามที่ 6 แขวงพญาไท เขตพญาไท กรุงเทพมหานคร 10400
CATEGORIES:ปฏิทินตารางหน่วยเคลื่อนที่
END:VEVENT
BEGIN:VEVENT
DTSTART;TZID=Asia/Krasnoyarsk:20260423T090000
DTEND;TZID=Asia/Krasnoyarsk:20260423T150000
DTSTAMP:20260421T070157
CREATED:20260420T061839Z
LAST-MODIFIED:20260420T061839Z
UID:10006524-1776934800-1776956400@thaibloodcentre.redcross.or.th
SUMMARY:บริษัท รสา ทาวเวอร์ จำกัด []
DESCRIPTION:สถานที่เจาะ : ห้องประชุม ชั้นใต้ดิน (พัก 11.30-12.30 น.) \nที่อยู่ : 555 ชั้น G อาคารรสาทาวเวอร์ ถนนพหลโยธิน แขวงจตุจักร เขตจตุจักร กรุงเทพฯ 0 2937 0000
URL:https://thaibloodcentre.redcross.or.th/event/%e0%b8%9a%e0%b8%a3%e0%b8%b4%e0%b8%a9%e0%b8%b1%e0%b8%97-%e0%b8%a3%e0%b8%aa%e0%b8%b2-%e0%b8%97%e0%b8%b2%e0%b8%a7%e0%b9%80%e0%b8%a7%e0%b8%ad%e0%b8%a3%e0%b9%8c-%e0%b8%88%e0%b8%b3%e0%b8%81%e0%b8%b1-5/
LOCATION:บริษัท รสา ทาวเวอร์ จำกัด\, บริษัท รสา ทาวเวอร์ จำกัด 555 ถนนพหลโยธิน แขวงจตุจักร เขตจตุจักร กรุงเทพมหานคร 10900
CATEGORIES:ปฏิทินตารางหน่วยเคลื่อนที่
END:VEVENT
BEGIN:VEVENT
DTSTART;TZID=Asia/Krasnoyarsk:20260423T090000
DTEND;TZID=Asia/Krasnoyarsk:20260423T150000
DTSTAMP:20260421T070157
CREATED:20260420T061852Z
LAST-MODIFIED:20260420T061852Z
UID:10006528-1776934800-1776956400@thaibloodcentre.redcross.or.th
SUMMARY:บริษัท อลิอันซ์ อยุธยา ประกันชีวิต จำกัด (มหาชน) []
DESCRIPTION:สถานที่เจาะ : ข้างอาคารเพลินจิตทาวเวอร์ (พัก 11.30-12.30 น.) \nที่อยู่ : 898 อาคารเพลินจิตทาวเวอร์ชั้น 6 ถนนเพลินจิต แขวงลุมพินี เขตปทุมวัน กรุงเทพฯ 0 2305 7768
URL:https://thaibloodcentre.redcross.or.th/event/%e0%b8%9a%e0%b8%a3%e0%b8%b4%e0%b8%a9%e0%b8%b1%e0%b8%97-%e0%b8%ad%e0%b8%a5%e0%b8%b4%e0%b8%ad%e0%b8%b1%e0%b8%99%e0%b8%8b%e0%b9%8c-%e0%b8%ad%e0%b8%a2%e0%b8%b8%e0%b8%98%e0%b8%a2%e0%b8%b2-%e0%b8%9b-3/
LOCATION:บริษัท อลิอันซ์ อยุธยา ประกันชีวิต จำกัด (มหาชน)\, อาคารเพลินจิตทาวเวอร์ 898 ชั้น7 ถนนเพลินจิต แขวงลุมพินี เขตปทุมวัน กรุงเทพมหานคร 10330
CATEGORIES:ปฏิทินตารางหน่วยเคลื่อนที่
END:VEVENT
BEGIN:VEVENT
DTSTART;TZID=Asia/Krasnoyarsk:20260423T090000
DTEND;TZID=Asia/Krasnoyarsk:20260423T150000
DTSTAMP:20260421T070157
CREATED:20260420T061855Z
LAST-MODIFIED:20260420T061855Z
UID:10006529-1776934800-1776956400@thaibloodcentre.redcross.or.th
SUMMARY:กลุ่มบีเจซี บิ๊กซี []
DESCRIPTION:สถานที่เจาะ : หน้าร้านหนังสือเอเชียบุ๊ค อาคาร BJC 2 (พัก 11.00-12.00 น.) \nที่อยู่ : 99 ซอยรูเบีย แขวงพระโขนง เขตคลองเตย กรุงเทพฯ
URL:https://thaibloodcentre.redcross.or.th/event/%e0%b8%81%e0%b8%a5%e0%b8%b8%e0%b9%88%e0%b8%a1%e0%b8%9a%e0%b8%b5%e0%b9%80%e0%b8%88%e0%b8%8b%e0%b8%b5-%e0%b8%9a%e0%b8%b4%e0%b9%8a%e0%b8%81%e0%b8%8b%e0%b8%b5-4/
LOCATION:กลุ่มบีเจซี บิ๊กซี\, อาคารเบอรี่ ยุคเกอร์ 99 ซอยรูเบีย แขวงพระโขนง เขตคลองเตย กรุงเทพมหานคร 10110
CATEGORIES:ปฏิทินตารางหน่วยเคลื่อนที่
END:VEVENT
BEGIN:VEVENT
DTSTART;TZID=Asia/Krasnoyarsk:20260423T090000
DTEND;TZID=Asia/Krasnoyarsk:20260423T150000
DTSTAMP:20260421T070157
CREATED:20260420T061858Z
LAST-MODIFIED:20260420T061858Z
UID:10006530-1776934800-1776956400@thaibloodcentre.redcross.or.th
SUMMARY:บริษัท ไทยสมุทรประกันชีวิต จำกัด (มหาชน) []
DESCRIPTION:สถานที่เจาะ : หน้าอาคารโอเชี่ยนทาวเวอร์ 1 (พัก 11.30-12.30 น.) \nที่อยู่ : 170/74-83 ถนนรัชดาภิเษก แขวงคลองเตย เขตคลองเตย กรุงเทพฯ 0 2261 2300
URL:https://thaibloodcentre.redcross.or.th/event/%e0%b8%9a%e0%b8%a3%e0%b8%b4%e0%b8%a9%e0%b8%b1%e0%b8%97-%e0%b9%84%e0%b8%97%e0%b8%a2%e0%b8%aa%e0%b8%a1%e0%b8%b8%e0%b8%97%e0%b8%a3%e0%b8%9b%e0%b8%a3%e0%b8%b0%e0%b8%81%e0%b8%b1%e0%b8%99%e0%b8%8a-4/
LOCATION:บริษัท ไทยสมุทรประกันชีวิต จำกัด (มหาชน)\, บริษัท ไทยสมุทรประกันชีวิต จำกัด (มหาชน) 170/74-83 อาคารโอเชี่ยนทาวเวอร์ 1 ถนนรัชดาภิเษก แขวงคลองเตย เขตคลองเตย กรุงเทพมหานคร 10110
CATEGORIES:ปฏิทินตารางหน่วยเคลื่อนที่
END:VEVENT
END:VCALENDAR