BEGIN:VCALENDAR
VERSION:2.0
PRODID:-//เว็บไซต์ศูนย์บริการโลหิตแห่งชาติ - ECPv6.11.2.1//NONSGML v1.0//EN
CALSCALE:GREGORIAN
METHOD:PUBLISH
X-WR-CALNAME:เว็บไซต์ศูนย์บริการโลหิตแห่งชาติ
X-ORIGINAL-URL:https://thaibloodcentre.redcross.or.th
X-WR-CALDESC:Events for เว็บไซต์ศูนย์บริการโลหิตแห่งชาติ
REFRESH-INTERVAL;VALUE=DURATION:PT1H
X-Robots-Tag:noindex
X-PUBLISHED-TTL:PT1H
BEGIN:VTIMEZONE
TZID:Asia/Krasnoyarsk
BEGIN:STANDARD
TZOFFSETFROM:+0700
TZOFFSETTO:+0700
TZNAME:+07
DTSTART:20260101T000000
END:STANDARD
END:VTIMEZONE
BEGIN:VEVENT
DTSTART;TZID=Asia/Krasnoyarsk:20260331T120000
DTEND;TZID=Asia/Krasnoyarsk:20260331T180000
DTSTAMP:20260420T131325
CREATED:20260325T043132Z
LAST-MODIFIED:20260325T043207Z
UID:10006291-1774958400-1774980000@thaibloodcentre.redcross.or.th
SUMMARY:ศูนย์การค้าเดอะมอลล์ไลฟ์สโตร์ บางกะปิ [0E0941]
DESCRIPTION:สถานที่เจาะ : ชั้น 2 ทางออกลานจอดรถ \nที่อยู่ : ถนนลาดพร้าว แขวงคลองจั่น เขตบางกะปิ กรุงเทพฯ  \nโทร : 0 2310 2278
URL:https://thaibloodcentre.redcross.or.th/event/%e0%b8%a8%e0%b8%b9%e0%b8%99%e0%b8%a2%e0%b9%8c%e0%b8%81%e0%b8%b2%e0%b8%a3%e0%b8%84%e0%b9%89%e0%b8%b2%e0%b9%80%e0%b8%94%e0%b8%ad%e0%b8%b0%e0%b8%a1%e0%b8%ad%e0%b8%a5%e0%b8%a5%e0%b9%8c%e0%b9%84-1618/
LOCATION:ศูนย์การค้าเดอะมอลล์ไลฟ์สโตร์ บางกะปิ\, เดอะมอลล์ไลฟ์สโตร์ บางกะปิ 3522 ถ. ลาดพร้าว แขวงคลองจั่น เขตบางกะปิ กรุงเทพมหานคร 10240
CATEGORIES:ปฏิทินตารางหน่วยเคลื่อนที่
END:VEVENT
BEGIN:VEVENT
DTSTART;TZID=Asia/Krasnoyarsk:20260331T120000
DTEND;TZID=Asia/Krasnoyarsk:20260331T180000
DTSTAMP:20260420T131325
CREATED:20260325T043146Z
LAST-MODIFIED:20260325T043208Z
UID:10006292-1774958400-1774980000@thaibloodcentre.redcross.or.th
SUMMARY:ศูนย์การค้าเดอะมอลล์ไลฟ์สโตร์ งามวงศ์วาน [0E0948]
DESCRIPTION:สถานที่เจาะ : ชั้น 5 โซน Government Center \nที่อยู่ : ถนนงามวงศ์วาน ต.บางเขน อ.เมือง จ.นนทบุรี  \nโทร : 0 2555 1550
URL:https://thaibloodcentre.redcross.or.th/event/%e0%b8%a8%e0%b8%b9%e0%b8%99%e0%b8%a2%e0%b9%8c%e0%b8%81%e0%b8%b2%e0%b8%a3%e0%b8%84%e0%b9%89%e0%b8%b2%e0%b9%80%e0%b8%94%e0%b8%ad%e0%b8%b0%e0%b8%a1%e0%b8%ad%e0%b8%a5%e0%b8%a5%e0%b9%8c%e0%b9%84-1619/
LOCATION:ศูนย์การค้าเดอะมอลล์ไลฟ์สโตร์ งามวงศ์วาน\, เดอะมอลล์ ไลฟ์สโตร์ งามวงศ์วาน 430 ถนน งามวงศ์วาน ตำบลบางเขน อำเภอเมืองนนทบุรี นนทบุรี 11000
CATEGORIES:ปฏิทินตารางหน่วยเคลื่อนที่
END:VEVENT
BEGIN:VEVENT
DTSTART;TZID=Asia/Krasnoyarsk:20260331T120000
DTEND;TZID=Asia/Krasnoyarsk:20260331T180000
DTSTAMP:20260420T131325
CREATED:20260325T043159Z
LAST-MODIFIED:20260325T043208Z
UID:10006293-1774958400-1774980000@thaibloodcentre.redcross.or.th
SUMMARY:ศูนย์การค้า เอ็มโพเรียม [0E0947]
DESCRIPTION:สถานที่เจาะ : ชั้น M ศูนย์การค้า ดิ เอ็มโพเรียม เชื่อมลานจอดรถอาคาร B \nที่อยู่ : 622 ถนนสุขุมวิท แขวงคลองตัน เขตคลองเตย กรุงเทพฯ  \nโทร : 0 2269 1515
URL:https://thaibloodcentre.redcross.or.th/event/%e0%b8%a8%e0%b8%b9%e0%b8%99%e0%b8%a2%e0%b9%8c%e0%b8%81%e0%b8%b2%e0%b8%a3%e0%b8%84%e0%b9%89%e0%b8%b2-%e0%b9%80%e0%b8%ad%e0%b9%87%e0%b8%a1%e0%b9%82%e0%b8%9e%e0%b9%80%e0%b8%a3%e0%b8%b5%e0%b8%a2-401/
LOCATION:ศูนย์การค้า เอ็มโพเรียม\, เอ็มโพเรียม 622 ถ. สุขุมวิท แขวงคลองตัน เขตคลองเตย กรุงเทพมหานคร 10110
CATEGORIES:ปฏิทินตารางหน่วยเคลื่อนที่
END:VEVENT
BEGIN:VEVENT
DTSTART;TZID=Asia/Krasnoyarsk:20260331T120000
DTEND;TZID=Asia/Krasnoyarsk:20260331T180000
DTSTAMP:20260420T131325
CREATED:20260325T043220Z
LAST-MODIFIED:20260325T043220Z
UID:10006294-1774958400-1774980000@thaibloodcentre.redcross.or.th
SUMMARY:ศูนย์การค้าเดอะมอลล์ไลฟ์สโตร์ ท่าพระ [0E0344]
DESCRIPTION:สถานที่เจาะ : ชั้น 1 (ติดลานจอดรถ) \nที่อยู่ : 99 ถนนรัชดาท่าพระตัดใหม่ แขวงบุคคโล เขตธนบุรี กรุงเทพฯ  \nโทร : 0 2469-1000
URL:https://thaibloodcentre.redcross.or.th/event/%e0%b8%a8%e0%b8%b9%e0%b8%99%e0%b8%a2%e0%b9%8c%e0%b8%81%e0%b8%b2%e0%b8%a3%e0%b8%84%e0%b9%89%e0%b8%b2%e0%b9%80%e0%b8%94%e0%b8%ad%e0%b8%b0%e0%b8%a1%e0%b8%ad%e0%b8%a5%e0%b8%a5%e0%b9%8c%e0%b9%84-1620/
LOCATION:ศูนย์การค้าเดอะมอลล์ไลฟ์สโตร์ ท่าพระ\, เดอะมอลล์ไลฟ์สโตร์ ท่าพระ 129 ถ. รัชดาภิเษก แขวงบุคคโล เขตธนบุรี กรุงเทพมหานคร 10600
CATEGORIES:ปฏิทินตารางหน่วยเคลื่อนที่
END:VEVENT
BEGIN:VEVENT
DTSTART;TZID=Asia/Krasnoyarsk:20260331T133000
DTEND;TZID=Asia/Krasnoyarsk:20260331T150000
DTSTAMP:20260420T131325
CREATED:20260325T043307Z
LAST-MODIFIED:20260325T043307Z
UID:10006299-1774963800-1774969200@thaibloodcentre.redcross.or.th
SUMMARY:บริษัท มิลเลนเนียม ออโต้กรุ๊ป จำกัด [0M0578]
DESCRIPTION:สถานที่เจาะ : ด้านหน้าฝ่ายอาคารและสถานที่ \nที่อยู่ : 2222/9 ถนนลาดพร้าว แขวงพลับพลา เขตวังทองหลาง กรุงเทพฯ  \nโทร : 0 2935 2000
URL:https://thaibloodcentre.redcross.or.th/event/%e0%b8%9a%e0%b8%a3%e0%b8%b4%e0%b8%a9%e0%b8%b1%e0%b8%97-%e0%b8%a1%e0%b8%b4%e0%b8%a5%e0%b9%80%e0%b8%a5%e0%b8%99%e0%b9%80%e0%b8%99%e0%b8%b5%e0%b8%a2%e0%b8%a1-%e0%b8%ad%e0%b8%ad%e0%b9%82%e0%b8%95-5/
LOCATION:บริษัท มิลเลนเนียม ออโต้กรุ๊ป จำกัด\, มิลเลนเนียม ออโต้ กรุ๊ป ลาดพร้าว(โทร.1286) https://maps.app.goo.gl/9b8FszCGPQgra5d28
CATEGORIES:ปฏิทินตารางหน่วยเคลื่อนที่
END:VEVENT
BEGIN:VEVENT
DTSTART;TZID=Asia/Krasnoyarsk:20260401T073000
DTEND;TZID=Asia/Krasnoyarsk:20260401T193000
DTSTAMP:20260420T131325
CREATED:20260325T043410Z
LAST-MODIFIED:20260325T043410Z
UID:10006306-1775028600-1775071800@thaibloodcentre.redcross.or.th
SUMMARY:ศูนย์บริการโลหิตแห่งชาติ สภากาชาดไทย [0A0000]
DESCRIPTION:ที่อยู่ : 1871 ถ. อังรีดูนังต์ แขวงปทุมวัน เขตปทุมวัน
URL:https://thaibloodcentre.redcross.or.th/event/%e0%b8%a8%e0%b8%b9%e0%b8%99%e0%b8%a2%e0%b9%8c%e0%b8%9a%e0%b8%a3%e0%b8%b4%e0%b8%81%e0%b8%b2%e0%b8%a3%e0%b9%82%e0%b8%a5%e0%b8%ab%e0%b8%b4%e0%b8%95%e0%b9%81%e0%b8%ab%e0%b9%88%e0%b8%87%e0%b8%8a-487/
LOCATION:ศูนย์บริการโลหิตแห่งชาติ สภากาชาดไทย\, ศูนย์บริการโลหิตแห่งชาติ สภากาชาดไทย 1871 ถ. อังรีดูนังต์ แขวงปทุมวัน เขตปทุมวัน กรุงเทพมหานคร 10330
CATEGORIES:ปฏิทินตารางหน่วยเคลื่อนที่
END:VEVENT
BEGIN:VEVENT
DTSTART;TZID=Asia/Krasnoyarsk:20260401T083000
DTEND;TZID=Asia/Krasnoyarsk:20260401T150000
DTSTAMP:20260420T131325
CREATED:20260325T043724Z
LAST-MODIFIED:20260325T043724Z
UID:10006322-1775032200-1775055600@thaibloodcentre.redcross.or.th
SUMMARY:กระทรวงเกษตรและสหกรณ์ [0D0124]
DESCRIPTION:สถานที่เจาะ : ห้องประชุม 115 (พัก 12-13 น.) \nที่อยู่ : 3 ถนนราชดำเนินนอก แขวงบ้านพานถม เขตพระนคร กรุงเทพฯ  \nโทร : 0 2629 9094
URL:https://thaibloodcentre.redcross.or.th/event/%e0%b8%81%e0%b8%a3%e0%b8%b0%e0%b8%97%e0%b8%a3%e0%b8%a7%e0%b8%87%e0%b9%80%e0%b8%81%e0%b8%a9%e0%b8%95%e0%b8%a3%e0%b9%81%e0%b8%a5%e0%b8%b0%e0%b8%aa%e0%b8%ab%e0%b8%81%e0%b8%a3%e0%b8%93%e0%b9%8c-0d0124-2/
LOCATION:กระทรวงเกษตรและสหกรณ์\, กระทรวงเกษตรและสหกรณ์ 3 ถนน ราชดำเนินกลาง แขวงบ้านพานถม เขตพระนคร กรุงเทพมหานคร 10200
CATEGORIES:ปฏิทินตารางหน่วยเคลื่อนที่
END:VEVENT
BEGIN:VEVENT
DTSTART;TZID=Asia/Krasnoyarsk:20260401T083000
DTEND;TZID=Asia/Krasnoyarsk:20260401T193000
DTSTAMP:20260420T131325
CREATED:20260325T043548Z
LAST-MODIFIED:20260325T043548Z
UID:10006312-1775032200-1775071800@thaibloodcentre.redcross.or.th
SUMMARY:สถานีกาชาด 11 วิเศษนิยม [0D0200]
DESCRIPTION:สถานที่เจาะ : ชั้น 3 \nที่อยู่ : 33/3 ถนนเพชรเกษม แขวงบางหว้า เขตภาษีเจริญ กรุงเทพฯ  \nโทร : 633450711
URL:https://thaibloodcentre.redcross.or.th/event/%e0%b8%aa%e0%b8%96%e0%b8%b2%e0%b8%99%e0%b8%b5%e0%b8%81%e0%b8%b2%e0%b8%8a%e0%b8%b2%e0%b8%94-11-%e0%b8%a7%e0%b8%b4%e0%b9%80%e0%b8%a8%e0%b8%a9%e0%b8%99%e0%b8%b4%e0%b8%a2%e0%b8%a1-0d0200-189/
LOCATION:สถานีกาชาด 11 วิเศษนิยม\, สถานีกาชาด 11 วิเศษนิยม 605 ถ.เพชรเกษม แขวงบางหว้า เขตภาษีเจริญ กรุงเทพมหานคร 10160
CATEGORIES:ปฏิทินตารางหน่วยเคลื่อนที่
END:VEVENT
BEGIN:VEVENT
DTSTART;TZID=Asia/Krasnoyarsk:20260401T090000
DTEND;TZID=Asia/Krasnoyarsk:20260401T120000
DTSTAMP:20260420T131325
CREATED:20260325T043722Z
LAST-MODIFIED:20260325T043722Z
UID:10006321-1775034000-1775044800@thaibloodcentre.redcross.or.th
SUMMARY:กรมทางหลวง [0D0004]
DESCRIPTION:สถานที่เจาะ : ข้างอาคารกองบังคับการตำรวจทางหลวง \nที่อยู่ : 2/486 ถนนศรีอยุธยา แขวงทุ่งพญาไท เขตราชเทวี กรุงเทพฯ  \nโทร : 0 2354 6668-75
URL:https://thaibloodcentre.redcross.or.th/event/%e0%b8%81%e0%b8%a3%e0%b8%a1%e0%b8%97%e0%b8%b2%e0%b8%87%e0%b8%ab%e0%b8%a5%e0%b8%a7%e0%b8%87-0d0004-4/
LOCATION:กรมทางหลวง\, กรมทางหลวง 2/486 ถนนศรีอยุธยา แขวงทุ่งพญาไท เขตราชเทวี กรุงเทพมหานคร 10400
CATEGORIES:ปฏิทินตารางหน่วยเคลื่อนที่
END:VEVENT
BEGIN:VEVENT
DTSTART;TZID=Asia/Krasnoyarsk:20260401T090000
DTEND;TZID=Asia/Krasnoyarsk:20260401T150000
DTSTAMP:20260420T131325
CREATED:20260325T043551Z
LAST-MODIFIED:20260325T043551Z
UID:10006313-1775034000-1775055600@thaibloodcentre.redcross.or.th
SUMMARY:บ้านทรงไทย (ย่านวงศ์สว่าง) [0J0463]
DESCRIPTION:สถานที่เจาะ : (พัก 12.30-13.00 น.) \nที่อยู่ : 1423 ถนนกรุงเทพ – นนทบุรี แขวงวงศ์สว่าง เขตบางซื่อ กรุงเทพฯ  \nโทร : 0 2256 4300
URL:https://thaibloodcentre.redcross.or.th/event/%e0%b8%9a%e0%b9%89%e0%b8%b2%e0%b8%99%e0%b8%97%e0%b8%a3%e0%b8%87%e0%b9%84%e0%b8%97%e0%b8%a2-%e0%b8%a2%e0%b9%88%e0%b8%b2%e0%b8%99%e0%b8%a7%e0%b8%87%e0%b8%a8%e0%b9%8c%e0%b8%aa%e0%b8%a7%e0%b9%88-402/
LOCATION:บ้านทรงไทย (ย่านวงศ์สว่าง)\, หน่วยรับบริจาคโลหิต บ้านทรงไทย(ย่านวงศ์สว่าง) 1423 ถนนกรุงเทพ-นนทบุรี แขวงวงศ์สว่าง เขตบางซื่อ กรุงเทพมหานคร 10800
CATEGORIES:ปฏิทินตารางหน่วยเคลื่อนที่
END:VEVENT
BEGIN:VEVENT
DTSTART;TZID=Asia/Krasnoyarsk:20260401T090000
DTEND;TZID=Asia/Krasnoyarsk:20260401T150000
DTSTAMP:20260420T131325
CREATED:20260325T043609Z
LAST-MODIFIED:20260325T043609Z
UID:10006315-1775034000-1775055600@thaibloodcentre.redcross.or.th
SUMMARY:กองบัญชาการกองทัพไทย [0C0239]
DESCRIPTION:สถานที่เจาะ : ห้องประชุมสำนักงานแพทย์ \nที่อยู่ : 127 ถนนแจ้งวัฒนะ แขวงทุ่งสองห้อง เขตหลักสี่ กรุงเทพฯ  \nโทร : 0 2586 7360
URL:https://thaibloodcentre.redcross.or.th/event/%e0%b8%81%e0%b8%ad%e0%b8%87%e0%b8%9a%e0%b8%b1%e0%b8%8d%e0%b8%8a%e0%b8%b2%e0%b8%81%e0%b8%b2%e0%b8%a3%e0%b8%81%e0%b8%ad%e0%b8%87%e0%b8%97%e0%b8%b1%e0%b8%9e%e0%b9%84%e0%b8%97%e0%b8%a2-0c0239-4/
LOCATION:กองบัญชาการกองทัพไทย\, กองบัญชาการกองทัพไทย 127 ซอยแจ้งวัฒนะ 7 แขวงทุ่งสองห้อง เขตหลักสี่ กรุงเทพมหานคร 10210
CATEGORIES:ปฏิทินตารางหน่วยเคลื่อนที่
END:VEVENT
BEGIN:VEVENT
DTSTART;TZID=Asia/Krasnoyarsk:20260401T090000
DTEND;TZID=Asia/Krasnoyarsk:20260401T150000
DTSTAMP:20260420T131325
CREATED:20260325T043611Z
LAST-MODIFIED:20260325T043611Z
UID:10006316-1775034000-1775055600@thaibloodcentre.redcross.or.th
SUMMARY:สำนักงานนิคมอุตสาหกรรมลาดกระบัง [0M0112]
DESCRIPTION:สถานที่เจาะ : ชั้น 1 สำนักงานนิคมฯ (พัก 11-12 น.) \nที่อยู่ : 40 ฉลองกรุง 31 แขวงลำปลาทิว เขตลาดกระบัง กรุงเทพฯ  \nโทร : 0 2326 0221-4
URL:https://thaibloodcentre.redcross.or.th/event/%e0%b8%aa%e0%b8%b3%e0%b8%99%e0%b8%b1%e0%b8%81%e0%b8%87%e0%b8%b2%e0%b8%99%e0%b8%99%e0%b8%b4%e0%b8%84%e0%b8%a1%e0%b8%ad%e0%b8%b8%e0%b8%95%e0%b8%aa%e0%b8%b2%e0%b8%ab%e0%b8%81%e0%b8%a3%e0%b8%a3-24/
LOCATION:สำนักงานนิคมอุตสาหกรรมลาดกระบัง\, สำนักงานนิคมอุตสาหกรรมลาดกระบัง 40 ชั้น 4 อาคารสำนักงานนิคมอุตสาหกรรมลาดกระบัง ซอยฉลองกรุง 31 แขวงลำปลาทิว เขตลาดกระบัง กรุงเทพฯ 10520
CATEGORIES:ปฏิทินตารางหน่วยเคลื่อนที่
END:VEVENT
BEGIN:VEVENT
DTSTART;TZID=Asia/Krasnoyarsk:20260401T090000
DTEND;TZID=Asia/Krasnoyarsk:20260401T150000
DTSTAMP:20260420T131325
CREATED:20260325T043613Z
LAST-MODIFIED:20260325T043613Z
UID:10006317-1775034000-1775055600@thaibloodcentre.redcross.or.th
SUMMARY:บริษัท คิง เพาเวอร์ คอร์ปอเรชั่น จำกัด (สำนักงานใหญ่) [0M0044]
DESCRIPTION:สถานที่เจาะ : ห้องเดจาวู ชั้น 2 โรงแรมพูลแมน คิงเพาเวอร์ กรุงเทพ \nที่อยู่ : 8 ถนนรางน้ำ แขวงถนนพญาไท เขตราชเทวี กรุงเทพฯ  \nโทร : 0 2677 8888
URL:https://thaibloodcentre.redcross.or.th/event/%e0%b8%9a%e0%b8%a3%e0%b8%b4%e0%b8%a9%e0%b8%b1%e0%b8%97-%e0%b8%84%e0%b8%b4%e0%b8%87-%e0%b9%80%e0%b8%9e%e0%b8%b2%e0%b9%80%e0%b8%a7%e0%b8%ad%e0%b8%a3%e0%b9%8c-%e0%b8%84%e0%b8%ad%e0%b8%a3%e0%b9%8c-10/
LOCATION:บริษัท คิง เพาเวอร์ คอร์ปอเรชั่น จำกัด (สำนักงานใหญ่)\, บริษัท คิง เพาเวอร์ คอร์ปอเรชั่น จำกัด (สำนักงานใหญ่) 8 คิง เพาเวอร์ คอมเพล็กซ์ ถนนรางน้ำ แขวงถนนพญาไท เขตราชเทวี กรุงเทพมหานคร 10400
CATEGORIES:ปฏิทินตารางหน่วยเคลื่อนที่
END:VEVENT
BEGIN:VEVENT
DTSTART;TZID=Asia/Krasnoyarsk:20260401T090000
DTEND;TZID=Asia/Krasnoyarsk:20260401T150000
DTSTAMP:20260420T131325
CREATED:20260325T043616Z
LAST-MODIFIED:20260325T043616Z
UID:10006318-1775034000-1775055600@thaibloodcentre.redcross.or.th
SUMMARY:บริษัท คิง เพาเวอร์ คอร์ปอเรชั่น จำกัด (สุวรรณภูมิ) [0M0515]
DESCRIPTION:สถานที่เจาะ : Training Room 7-8 Concourse G (พัก 11-12 น.) \nที่อยู่ : 999 ม. 1 ต.หนองปรือ อ.บางพลี จ.สมุทรปราการ  \nโทร : 0 2134 8888
URL:https://thaibloodcentre.redcross.or.th/event/%e0%b8%9a%e0%b8%a3%e0%b8%b4%e0%b8%a9%e0%b8%b1%e0%b8%97-%e0%b8%84%e0%b8%b4%e0%b8%87-%e0%b9%80%e0%b8%9e%e0%b8%b2%e0%b9%80%e0%b8%a7%e0%b8%ad%e0%b8%a3%e0%b9%8c-%e0%b8%84%e0%b8%ad%e0%b8%a3%e0%b9%8c-11/
LOCATION:บริษัท คิง เพาเวอร์ คอร์ปอเรชั่น จำกัด (สุวรรณภูมิ)\, บริษัท คิง เพาเวอร์ คอร์ปอเรชั่น จำกัด (สุวรรณภูมิ) 999 ถ.บางนา-บางปะกง ตำบลราชาเทวะ อำเภอบางพลี สมุทรปราการ 10540
CATEGORIES:ปฏิทินตารางหน่วยเคลื่อนที่
END:VEVENT
BEGIN:VEVENT
DTSTART;TZID=Asia/Krasnoyarsk:20260401T090000
DTEND;TZID=Asia/Krasnoyarsk:20260401T150000
DTSTAMP:20260420T131325
CREATED:20260325T043718Z
LAST-MODIFIED:20260325T043718Z
UID:10006319-1775034000-1775055600@thaibloodcentre.redcross.or.th
SUMMARY:กระทรวงการคลัง [0D0058]
DESCRIPTION:สถานที่เจาะ : ด้านข้างอาคาร 150 ปี \nที่อยู่ : ซอยอารีย์สัมพันธ์ ถนนพระราม 6 แขวงสามเสนใน เขตพญาไท กรุงเทพฯ  \nโทร : 0 2126 5800
URL:https://thaibloodcentre.redcross.or.th/event/%e0%b8%81%e0%b8%a3%e0%b8%b0%e0%b8%97%e0%b8%a3%e0%b8%a7%e0%b8%87%e0%b8%81%e0%b8%b2%e0%b8%a3%e0%b8%84%e0%b8%a5%e0%b8%b1%e0%b8%87-0d0058-4/
LOCATION:กระทรวงการคลัง\, กระทรวงการคลัง 14 ซอยอารีย์สัมพันธ์ ถนนพระราม 6 แขวงพญาไท เขตพญาไท กรุงเทพมหานคร 10400
CATEGORIES:ปฏิทินตารางหน่วยเคลื่อนที่
END:VEVENT
BEGIN:VEVENT
DTSTART;TZID=Asia/Krasnoyarsk:20260401T090000
DTEND;TZID=Asia/Krasnoyarsk:20260401T150000
DTSTAMP:20260420T131325
CREATED:20260325T043720Z
LAST-MODIFIED:20260325T043720Z
UID:10006320-1775034000-1775055600@thaibloodcentre.redcross.or.th
SUMMARY:โรงพยาบาลรามคำแหง [0D0450]
DESCRIPTION:สถานที่เจาะ : ชั้น 10 อาคาร C  (พัก 12-13 น.) \nที่อยู่ : 436 รามคำแหง 34 แขวงหัวหมาก เขตบางกะปิ กรุงเทพฯ  \nโทร : 0 2743 9999
URL:https://thaibloodcentre.redcross.or.th/event/%e0%b9%82%e0%b8%a3%e0%b8%87%e0%b8%9e%e0%b8%a2%e0%b8%b2%e0%b8%9a%e0%b8%b2%e0%b8%a5%e0%b8%a3%e0%b8%b2%e0%b8%a1%e0%b8%84%e0%b8%b3%e0%b9%81%e0%b8%ab%e0%b8%87-0d0450-4/
LOCATION:โรงพยาบาลรามคำแหง
CATEGORIES:ปฏิทินตารางหน่วยเคลื่อนที่
END:VEVENT
BEGIN:VEVENT
DTSTART;TZID=Asia/Krasnoyarsk:20260401T090000
DTEND;TZID=Asia/Krasnoyarsk:20260401T150000
DTSTAMP:20260420T131325
CREATED:20260325T043726Z
LAST-MODIFIED:20260325T043726Z
UID:10006323-1775034000-1775055600@thaibloodcentre.redcross.or.th
SUMMARY:โรงพยาบาลอินทรารัตน์ [0D0516]
DESCRIPTION:สถานที่เจาะ : ห้องประชุมสุนทร-วรารัตน์ ชั้น 4 (พัก 12-13 น.) \nที่อยู่ : 555/5 ถนนรามอินทรา แขวงรามอินทรา เขตคันนายาว กรุงเทพฯ  \nโทร : 0 2481 5555
URL:https://thaibloodcentre.redcross.or.th/event/%e0%b9%82%e0%b8%a3%e0%b8%87%e0%b8%9e%e0%b8%a2%e0%b8%b2%e0%b8%9a%e0%b8%b2%e0%b8%a5%e0%b8%ad%e0%b8%b4%e0%b8%99%e0%b8%97%e0%b8%a3%e0%b8%b2%e0%b8%a3%e0%b8%b1%e0%b8%95%e0%b8%99%e0%b9%8c-0d0516-3/
LOCATION:โรงพยาบาลอินทรารัตน์\, โรงพยาบาลอินทรารัตน์ 555/5 ถนนรามอินทรา แขวงรามอินทรา เขตคันนายาว กรุงเทพมหานคร 10230
CATEGORIES:ปฏิทินตารางหน่วยเคลื่อนที่
END:VEVENT
BEGIN:VEVENT
DTSTART;TZID=Asia/Krasnoyarsk:20260401T110000
DTEND;TZID=Asia/Krasnoyarsk:20260401T150000
DTSTAMP:20260420T131325
CREATED:20260325T043607Z
LAST-MODIFIED:20260325T043607Z
UID:10006314-1775041200-1775055600@thaibloodcentre.redcross.or.th
SUMMARY:เซ็นทรัลพลาซา เวสต์เกต [0M0744]
DESCRIPTION:สถานที่เจาะ : จุดจอดรถประตูยูนิโคล่ \nที่อยู่ : 199\,199/1\,199/2 ถ.กาญจนาภิเษก ต.เสาธงหิน อ.บางใหญ่ จ.นนทบุรี  \nโทร : 0 2101 7999
URL:https://thaibloodcentre.redcross.or.th/event/%e0%b9%80%e0%b8%8b%e0%b9%87%e0%b8%99%e0%b8%97%e0%b8%a3%e0%b8%b1%e0%b8%a5%e0%b8%9e%e0%b8%a5%e0%b8%b2%e0%b8%8b%e0%b8%b2-%e0%b9%80%e0%b8%a7%e0%b8%aa%e0%b8%95%e0%b9%8c%e0%b9%80%e0%b8%81%e0%b8%95-0m0744-16/
LOCATION:เซ็นทรัลพลาซา เวสต์เกต\, เซ็นทรัลพลาซา เวสต์เกต 199\, 199/1 199/2 ถ. กาญจนาภิเษก ตำบล เสาธงหิน อำเภอบางใหญ่ นนทบุรี 11140
CATEGORIES:ปฏิทินตารางหน่วยเคลื่อนที่
END:VEVENT
BEGIN:VEVENT
DTSTART;TZID=Asia/Krasnoyarsk:20260401T120000
DTEND;TZID=Asia/Krasnoyarsk:20260401T180000
DTSTAMP:20260420T131325
CREATED:20260325T043415Z
LAST-MODIFIED:20260325T043415Z
UID:10006307-1775044800-1775066400@thaibloodcentre.redcross.or.th
SUMMARY:ศูนย์การค้าเดอะมอลล์ไลฟ์สโตร์ บางแค [0E0942]
DESCRIPTION:สถานที่เจาะ : ชั้น 3 ตรงข้ามร้านโอ้กะจู๋ \nที่อยู่ : ถนนเพชรเกษม แขวงบางแคเหนือ เขตภาษีเจริญ กรุงเทพฯ  \nโทร : 02 487 1221
URL:https://thaibloodcentre.redcross.or.th/event/%e0%b8%a8%e0%b8%b9%e0%b8%99%e0%b8%a2%e0%b9%8c%e0%b8%81%e0%b8%b2%e0%b8%a3%e0%b8%84%e0%b9%89%e0%b8%b2%e0%b9%80%e0%b8%94%e0%b8%ad%e0%b8%b0%e0%b8%a1%e0%b8%ad%e0%b8%a5%e0%b8%a5%e0%b9%8c%e0%b9%84-1621/
LOCATION:ศูนย์การค้าเดอะมอลล์ไลฟ์สโตร์ บางแค\, ศูนย์การค้าเดอะมอลล์ไลฟ์สโตร์ บางแค
CATEGORIES:ปฏิทินตารางหน่วยเคลื่อนที่
END:VEVENT
BEGIN:VEVENT
DTSTART;TZID=Asia/Krasnoyarsk:20260401T120000
DTEND;TZID=Asia/Krasnoyarsk:20260401T180000
DTSTAMP:20260420T131325
CREATED:20260325T043428Z
LAST-MODIFIED:20260325T043428Z
UID:10006308-1775044800-1775066400@thaibloodcentre.redcross.or.th
SUMMARY:ศูนย์การค้าเดอะมอลล์ไลฟ์สโตร์ บางกะปิ [0E0941]
DESCRIPTION:สถานที่เจาะ : ชั้น 2 ทางออกลานจอดรถ \nที่อยู่ : ถนนลาดพร้าว แขวงคลองจั่น เขตบางกะปิ กรุงเทพฯ  \nโทร : 0 2310 2278
URL:https://thaibloodcentre.redcross.or.th/event/%e0%b8%a8%e0%b8%b9%e0%b8%99%e0%b8%a2%e0%b9%8c%e0%b8%81%e0%b8%b2%e0%b8%a3%e0%b8%84%e0%b9%89%e0%b8%b2%e0%b9%80%e0%b8%94%e0%b8%ad%e0%b8%b0%e0%b8%a1%e0%b8%ad%e0%b8%a5%e0%b8%a5%e0%b9%8c%e0%b9%84-1622/
LOCATION:ศูนย์การค้าเดอะมอลล์ไลฟ์สโตร์ บางกะปิ\, เดอะมอลล์ไลฟ์สโตร์ บางกะปิ 3522 ถ. ลาดพร้าว แขวงคลองจั่น เขตบางกะปิ กรุงเทพมหานคร 10240
CATEGORIES:ปฏิทินตารางหน่วยเคลื่อนที่
END:VEVENT
BEGIN:VEVENT
DTSTART;TZID=Asia/Krasnoyarsk:20260401T120000
DTEND;TZID=Asia/Krasnoyarsk:20260401T180000
DTSTAMP:20260420T131325
CREATED:20260325T043516Z
LAST-MODIFIED:20260325T043516Z
UID:10006309-1775044800-1775066400@thaibloodcentre.redcross.or.th
SUMMARY:ศูนย์การค้าเดอะมอลล์ไลฟ์สโตร์ งามวงศ์วาน [0E0948]
DESCRIPTION:สถานที่เจาะ : ชั้น 5 โซน Government Center \nที่อยู่ : ถนนงามวงศ์วาน ต.บางเขน อ.เมือง จ.นนทบุรี  \nโทร : 0 2555 1550
URL:https://thaibloodcentre.redcross.or.th/event/%e0%b8%a8%e0%b8%b9%e0%b8%99%e0%b8%a2%e0%b9%8c%e0%b8%81%e0%b8%b2%e0%b8%a3%e0%b8%84%e0%b9%89%e0%b8%b2%e0%b9%80%e0%b8%94%e0%b8%ad%e0%b8%b0%e0%b8%a1%e0%b8%ad%e0%b8%a5%e0%b8%a5%e0%b9%8c%e0%b9%84-1623/
LOCATION:ศูนย์การค้าเดอะมอลล์ไลฟ์สโตร์ งามวงศ์วาน\, เดอะมอลล์ ไลฟ์สโตร์ งามวงศ์วาน 430 ถนน งามวงศ์วาน ตำบลบางเขน อำเภอเมืองนนทบุรี นนทบุรี 11000
CATEGORIES:ปฏิทินตารางหน่วยเคลื่อนที่
END:VEVENT
BEGIN:VEVENT
DTSTART;TZID=Asia/Krasnoyarsk:20260401T120000
DTEND;TZID=Asia/Krasnoyarsk:20260401T180000
DTSTAMP:20260420T131325
CREATED:20260325T043530Z
LAST-MODIFIED:20260325T043530Z
UID:10006310-1775044800-1775066400@thaibloodcentre.redcross.or.th
SUMMARY:ศูนย์การค้า เอ็มโพเรียม [0E0947]
DESCRIPTION:สถานที่เจาะ : ชั้น M ศูนย์การค้า ดิ เอ็มโพเรียม เชื่อมลานจอดรถอาคาร B \nที่อยู่ : 622 ถนนสุขุมวิท แขวงคลองตัน เขตคลองเตย กรุงเทพฯ  \nโทร : 0 2269 1515
URL:https://thaibloodcentre.redcross.or.th/event/%e0%b8%a8%e0%b8%b9%e0%b8%99%e0%b8%a2%e0%b9%8c%e0%b8%81%e0%b8%b2%e0%b8%a3%e0%b8%84%e0%b9%89%e0%b8%b2-%e0%b9%80%e0%b8%ad%e0%b9%87%e0%b8%a1%e0%b9%82%e0%b8%9e%e0%b9%80%e0%b8%a3%e0%b8%b5%e0%b8%a2-402/
LOCATION:ศูนย์การค้า เอ็มโพเรียม\, เอ็มโพเรียม 622 ถ. สุขุมวิท แขวงคลองตัน เขตคลองเตย กรุงเทพมหานคร 10110
CATEGORIES:ปฏิทินตารางหน่วยเคลื่อนที่
END:VEVENT
BEGIN:VEVENT
DTSTART;TZID=Asia/Krasnoyarsk:20260401T120000
DTEND;TZID=Asia/Krasnoyarsk:20260401T180000
DTSTAMP:20260420T131325
CREATED:20260325T043535Z
LAST-MODIFIED:20260325T043535Z
UID:10006311-1775044800-1775066400@thaibloodcentre.redcross.or.th
SUMMARY:ศูนย์การค้าเดอะมอลล์ไลฟ์สโตร์ ท่าพระ [0E0344]
DESCRIPTION:สถานที่เจาะ : ชั้น 1 (ติดลานจอดรถ) \nที่อยู่ : 99 ถนนรัชดาท่าพระตัดใหม่ แขวงบุคคโล เขตธนบุรี กรุงเทพฯ  \nโทร : 0 2469-1000
URL:https://thaibloodcentre.redcross.or.th/event/%e0%b8%a8%e0%b8%b9%e0%b8%99%e0%b8%a2%e0%b9%8c%e0%b8%81%e0%b8%b2%e0%b8%a3%e0%b8%84%e0%b9%89%e0%b8%b2%e0%b9%80%e0%b8%94%e0%b8%ad%e0%b8%b0%e0%b8%a1%e0%b8%ad%e0%b8%a5%e0%b8%a5%e0%b9%8c%e0%b9%84-1624/
LOCATION:ศูนย์การค้าเดอะมอลล์ไลฟ์สโตร์ ท่าพระ\, เดอะมอลล์ไลฟ์สโตร์ ท่าพระ 129 ถ. รัชดาภิเษก แขวงบุคคโล เขตธนบุรี กรุงเทพมหานคร 10600
CATEGORIES:ปฏิทินตารางหน่วยเคลื่อนที่
END:VEVENT
BEGIN:VEVENT
DTSTART;TZID=Asia/Krasnoyarsk:20260402T083000
DTEND;TZID=Asia/Krasnoyarsk:20260402T193000
DTSTAMP:20260420T131325
CREATED:20260401T020019Z
LAST-MODIFIED:20260401T020019Z
UID:10006325-1775118600-1775158200@thaibloodcentre.redcross.or.th
SUMMARY:สถานีกาชาด 11 วิเศษนิยม [0D0200]
DESCRIPTION:สถานที่เจาะ : ชั้น 3 \nที่อยู่ : 33/3 ถนนเพชรเกษม แขวงบางหว้า เขตภาษีเจริญ กรุงเทพฯ  \nโทร : 633450711
URL:https://thaibloodcentre.redcross.or.th/event/%e0%b8%aa%e0%b8%96%e0%b8%b2%e0%b8%99%e0%b8%b5%e0%b8%81%e0%b8%b2%e0%b8%8a%e0%b8%b2%e0%b8%94-11-%e0%b8%a7%e0%b8%b4%e0%b9%80%e0%b8%a8%e0%b8%a9%e0%b8%99%e0%b8%b4%e0%b8%a2%e0%b8%a1-0d0200-190/
LOCATION:สถานีกาชาด 11 วิเศษนิยม\, สถานีกาชาด 11 วิเศษนิยม 605 ถ.เพชรเกษม แขวงบางหว้า เขตภาษีเจริญ กรุงเทพมหานคร 10160
CATEGORIES:ปฏิทินตารางหน่วยเคลื่อนที่
END:VEVENT
BEGIN:VEVENT
DTSTART;TZID=Asia/Krasnoyarsk:20260402T090000
DTEND;TZID=Asia/Krasnoyarsk:20260402T150000
DTSTAMP:20260420T131325
CREATED:20260401T020022Z
LAST-MODIFIED:20260401T020022Z
UID:10006326-1775120400-1775142000@thaibloodcentre.redcross.or.th
SUMMARY:บ้านทรงไทย (ย่านวงศ์สว่าง) [0J0463]
DESCRIPTION:สถานที่เจาะ : (พัก 12.30-13.00 น.) \nที่อยู่ : 1423 ถนนกรุงเทพ – นนทบุรี แขวงวงศ์สว่าง เขตบางซื่อ กรุงเทพฯ  \nโทร : 0 2256 4300
URL:https://thaibloodcentre.redcross.or.th/event/%e0%b8%9a%e0%b9%89%e0%b8%b2%e0%b8%99%e0%b8%97%e0%b8%a3%e0%b8%87%e0%b9%84%e0%b8%97%e0%b8%a2-%e0%b8%a2%e0%b9%88%e0%b8%b2%e0%b8%99%e0%b8%a7%e0%b8%87%e0%b8%a8%e0%b9%8c%e0%b8%aa%e0%b8%a7%e0%b9%88-403/
LOCATION:บ้านทรงไทย (ย่านวงศ์สว่าง)\, หน่วยรับบริจาคโลหิต บ้านทรงไทย(ย่านวงศ์สว่าง) 1423 ถนนกรุงเทพ-นนทบุรี แขวงวงศ์สว่าง เขตบางซื่อ กรุงเทพมหานคร 10800
CATEGORIES:ปฏิทินตารางหน่วยเคลื่อนที่
END:VEVENT
BEGIN:VEVENT
DTSTART;TZID=Asia/Krasnoyarsk:20260402T090000
DTEND;TZID=Asia/Krasnoyarsk:20260402T150000
DTSTAMP:20260420T131325
CREATED:20260401T020027Z
LAST-MODIFIED:20260401T020027Z
UID:10006327-1775120400-1775142000@thaibloodcentre.redcross.or.th
SUMMARY:คณะทันตแพทยศาสตร์ มหาวิทยาลัยมหิดล [0B0570]
DESCRIPTION:สถานที่เจาะ : หน้าศูนย์อาหาร ชั้น 1 อาคารเฉลิมฯ \nที่อยู่ : 6 ซอยถนนโยธี แขวงทุ่งพญาไท เขตราชเทวี กรุงเทพฯ  \nโทร : 0 2200 7625
URL:https://thaibloodcentre.redcross.or.th/event/%e0%b8%84%e0%b8%93%e0%b8%b0%e0%b8%97%e0%b8%b1%e0%b8%99%e0%b8%95%e0%b9%81%e0%b8%9e%e0%b8%97%e0%b8%a2%e0%b8%a8%e0%b8%b2%e0%b8%aa%e0%b8%95%e0%b8%a3%e0%b9%8c-%e0%b8%a1%e0%b8%ab%e0%b8%b2%e0%b8%a7%e0%b8%b4/
LOCATION:คณะทันตแพทยศาสตร์ มหาวิทยาลัยมหิดล\, คณะทันตแพทยศาสตร์ มหาวิทยาลัยมหิดล 6 ถ. โยธี แขวงทุ่งพญาไท เขตราชเทวี กรุงเทพมหานคร 10400
CATEGORIES:ปฏิทินตารางหน่วยเคลื่อนที่
END:VEVENT
BEGIN:VEVENT
DTSTART;TZID=Asia/Krasnoyarsk:20260402T090000
DTEND;TZID=Asia/Krasnoyarsk:20260402T150000
DTSTAMP:20260420T131325
CREATED:20260401T020029Z
LAST-MODIFIED:20260401T020029Z
UID:10006328-1775120400-1775142000@thaibloodcentre.redcross.or.th
SUMMARY:สำนักงานนิคมอุตสาหกรรมบ้านหว้า (ไฮเทค) [0D0527]
DESCRIPTION:สถานที่เจาะ : ด้านหน้าอาคาร \nที่อยู่ : 99 ม.5 ต.บ้านหว้า อ.บางปะอิน จ.พระนครศรีอยุธยา  \nโทร : 035 350 141
URL:https://thaibloodcentre.redcross.or.th/event/%e0%b8%aa%e0%b8%b3%e0%b8%99%e0%b8%b1%e0%b8%81%e0%b8%87%e0%b8%b2%e0%b8%99%e0%b8%99%e0%b8%b4%e0%b8%84%e0%b8%a1%e0%b8%ad%e0%b8%b8%e0%b8%95%e0%b8%aa%e0%b8%b2%e0%b8%ab%e0%b8%81%e0%b8%a3%e0%b8%a3-25/
LOCATION:สำนักงานนิคมอุตสาหกรรมบ้านหว้า (ไฮเทค)\, สำนักงานนิคมอุตสาหกรรมบ้านหว้า (ไฮเทค) 99 หมู่ 5 ถนนสายเอเซีย ตำบลบ้านหว้า อำเภอบางปะอิน จังหวัดพระนครศรีอยุธยา 13160
CATEGORIES:ปฏิทินตารางหน่วยเคลื่อนที่
END:VEVENT
BEGIN:VEVENT
DTSTART;TZID=Asia/Krasnoyarsk:20260402T090000
DTEND;TZID=Asia/Krasnoyarsk:20260402T150000
DTSTAMP:20260420T131325
CREATED:20260401T020204Z
LAST-MODIFIED:20260401T020204Z
UID:10006329-1775120400-1775142000@thaibloodcentre.redcross.or.th
SUMMARY:อาคารลุมพินี ทาวเวอร์ [0E0746]
DESCRIPTION:สถานที่เจาะ : ห้องสัมมนา ชั้น 11 (พัก 11-12 น.) \nที่อยู่ : 1168 ถนนพระราม 4 แขวงทุ่งมหาเมฆ เขตสาทร กรุงเทพฯ  \nโทร : 0 2285 5011-16
URL:https://thaibloodcentre.redcross.or.th/event/%e0%b8%ad%e0%b8%b2%e0%b8%84%e0%b8%b2%e0%b8%a3%e0%b8%a5%e0%b8%b8%e0%b8%a1%e0%b8%9e%e0%b8%b4%e0%b8%99%e0%b8%b5-%e0%b8%97%e0%b8%b2%e0%b8%a7%e0%b9%80%e0%b8%a7%e0%b8%ad%e0%b8%a3%e0%b9%8c-0e0746-3/
LOCATION:อาคารลุมพินี ทาวเวอร์\, อาคารลุมพินีทาวเวอร์ 1168 ถนนพระรามที่ 4 แขวงทุ่งมหาเมฆ เขตสาทร กรุงเทพมหานคร 10120
CATEGORIES:ปฏิทินตารางหน่วยเคลื่อนที่
END:VEVENT
BEGIN:VEVENT
DTSTART;TZID=Asia/Krasnoyarsk:20260402T090000
DTEND;TZID=Asia/Krasnoyarsk:20260402T150000
DTSTAMP:20260420T131326
CREATED:20260401T020206Z
LAST-MODIFIED:20260401T020206Z
UID:10006330-1775120400-1775142000@thaibloodcentre.redcross.or.th
SUMMARY:สำนักงานนิคมอุตสาหกรรมลาดกระบัง [0M0112]
DESCRIPTION:สถานที่เจาะ : ชั้น 1 สำนักงานนิคมฯ (พัก 11-12 น.) \nที่อยู่ : 40 ฉลองกรุง 31 แขวงลำปลาทิว เขตลาดกระบัง กรุงเทพฯ  \nโทร : 0 2326 0221-4
URL:https://thaibloodcentre.redcross.or.th/event/%e0%b8%aa%e0%b8%b3%e0%b8%99%e0%b8%b1%e0%b8%81%e0%b8%87%e0%b8%b2%e0%b8%99%e0%b8%99%e0%b8%b4%e0%b8%84%e0%b8%a1%e0%b8%ad%e0%b8%b8%e0%b8%95%e0%b8%aa%e0%b8%b2%e0%b8%ab%e0%b8%81%e0%b8%a3%e0%b8%a3-26/
LOCATION:สำนักงานนิคมอุตสาหกรรมลาดกระบัง\, สำนักงานนิคมอุตสาหกรรมลาดกระบัง 40 ชั้น 4 อาคารสำนักงานนิคมอุตสาหกรรมลาดกระบัง ซอยฉลองกรุง 31 แขวงลำปลาทิว เขตลาดกระบัง กรุงเทพฯ 10520
CATEGORIES:ปฏิทินตารางหน่วยเคลื่อนที่
END:VEVENT
BEGIN:VEVENT
DTSTART;TZID=Asia/Krasnoyarsk:20260402T090000
DTEND;TZID=Asia/Krasnoyarsk:20260402T150000
DTSTAMP:20260420T131326
CREATED:20260401T020209Z
LAST-MODIFIED:20260401T020209Z
UID:10006331-1775120400-1775142000@thaibloodcentre.redcross.or.th
SUMMARY:สำนักงานเหล่ากาชาดจังหวัดปทุมธานี [0J0103]
DESCRIPTION:สถานที่เจาะ : สำนักงานเหล่ากาชาดฯ (พัก 12-13 น.) \nที่อยู่ : ถ.เทศปทุม – ปทุมธานี ต.บางปรอก อ.เมือง ปทุมธานี  \nโทร : 0 2581 5550
URL:https://thaibloodcentre.redcross.or.th/event/%e0%b8%aa%e0%b8%b3%e0%b8%99%e0%b8%b1%e0%b8%81%e0%b8%87%e0%b8%b2%e0%b8%99%e0%b9%80%e0%b8%ab%e0%b8%a5%e0%b9%88%e0%b8%b2%e0%b8%81%e0%b8%b2%e0%b8%8a%e0%b8%b2%e0%b8%94%e0%b8%88%e0%b8%b1%e0%b8%87%e0%b8%ab-3/
LOCATION:สำนักงานเหล่ากาชาดจังหวัดปทุมธานี\, สำนักงานเหล่ากาชาดจังหวัดปทุมธานี ถนนเทศปทุม-ปทุมธานี ต.บางปรอก อ.เมือง จ.ปทุมธานี 12000
CATEGORIES:ปฏิทินตารางหน่วยเคลื่อนที่
END:VEVENT
END:VCALENDAR