BEGIN:VCALENDAR
VERSION:2.0
PRODID:-//เว็บไซต์ศูนย์บริการโลหิตแห่งชาติ - ECPv6.11.2.1//NONSGML v1.0//EN
CALSCALE:GREGORIAN
METHOD:PUBLISH
X-ORIGINAL-URL:https://thaibloodcentre.redcross.or.th
X-WR-CALDESC:Events for เว็บไซต์ศูนย์บริการโลหิตแห่งชาติ
REFRESH-INTERVAL;VALUE=DURATION:PT1H
X-Robots-Tag:noindex
X-PUBLISHED-TTL:PT1H
BEGIN:VTIMEZONE
TZID:Asia/Krasnoyarsk
BEGIN:STANDARD
TZOFFSETFROM:+0700
TZOFFSETTO:+0700
TZNAME:+07
DTSTART:20250101T000000
END:STANDARD
END:VTIMEZONE
BEGIN:VEVENT
DTSTART;TZID=Asia/Krasnoyarsk:20251208T120000
DTEND;TZID=Asia/Krasnoyarsk:20251208T180000
DTSTAMP:20260424T133512
CREATED:20251128T101420Z
LAST-MODIFIED:20251128T110509Z
UID:10004576-1765195200-1765216800@thaibloodcentre.redcross.or.th
SUMMARY:ศูนย์การค้า เอ็มโพเรียม []
DESCRIPTION:สถานที่เจาะ : ชั้น M ศูนย์การค้า ดิ เอ็มโพเรียม เชื่อมลานจอดรถอาคาร B \nที่อยู่ : 622 ถนนสุขุมวิท แขวงคลองตัน เขตคลองเตย กรุงเทพฯ 0 2269 1515
URL:https://thaibloodcentre.redcross.or.th/event/%e0%b8%a8%e0%b8%b9%e0%b8%99%e0%b8%a2%e0%b9%8c%e0%b8%81%e0%b8%b2%e0%b8%a3%e0%b8%84%e0%b9%89%e0%b8%b2-%e0%b9%80%e0%b8%ad%e0%b9%87%e0%b8%a1%e0%b9%82%e0%b8%9e%e0%b9%80%e0%b8%a3%e0%b8%b5%e0%b8%a2-279/
LOCATION:ศูนย์การค้า เอ็มโพเรียม\, เอ็มโพเรียม 622 ถ. สุขุมวิท แขวงคลองตัน เขตคลองเตย กรุงเทพมหานคร 10110
CATEGORIES:ปฏิทินตารางหน่วยเคลื่อนที่
END:VEVENT
BEGIN:VEVENT
DTSTART;TZID=Asia/Krasnoyarsk:20251208T120000
DTEND;TZID=Asia/Krasnoyarsk:20251208T180000
DTSTAMP:20260424T133513
CREATED:20251128T101424Z
LAST-MODIFIED:20251128T110510Z
UID:10004577-1765195200-1765216800@thaibloodcentre.redcross.or.th
SUMMARY:ศูนย์การค้าเดอะมอลล์ไลฟ์สโตร์ ท่าพระ []
DESCRIPTION:สถานที่เจาะ : ชั้น 1 (ติดลานจอดรถ) \nที่อยู่ : 99 ถนนรัชดาท่าพระตัดใหม่ แขวงบุคคโล เขตธนบุรี กรุงเทพฯ 0 2469-1000
URL:https://thaibloodcentre.redcross.or.th/event/%e0%b8%a8%e0%b8%b9%e0%b8%99%e0%b8%a2%e0%b9%8c%e0%b8%81%e0%b8%b2%e0%b8%a3%e0%b8%84%e0%b9%89%e0%b8%b2%e0%b9%80%e0%b8%94%e0%b8%ad%e0%b8%b0%e0%b8%a1%e0%b8%ad%e0%b8%a5%e0%b8%a5%e0%b9%8c%e0%b9%84-1134/
LOCATION:ศูนย์การค้าเดอะมอลล์ไลฟ์สโตร์ ท่าพระ\, เดอะมอลล์ไลฟ์สโตร์ ท่าพระ 129 ถ. รัชดาภิเษก แขวงบุคคโล เขตธนบุรี กรุงเทพมหานคร 10600
CATEGORIES:ปฏิทินตารางหน่วยเคลื่อนที่
END:VEVENT
BEGIN:VEVENT
DTSTART;TZID=Asia/Krasnoyarsk:20251209T073000
DTEND;TZID=Asia/Krasnoyarsk:20251209T193000
DTSTAMP:20260424T133513
CREATED:20251128T104545Z
LAST-MODIFIED:20251128T110552Z
UID:10004589-1765265400-1765308600@thaibloodcentre.redcross.or.th
SUMMARY:ศูนย์บริการโลหิตแห่งชาติ สภากาชาดไทย []
DESCRIPTION:ที่อยู่ : 1871 ถ. อังรีดูนังต์ แขวงปทุมวัน เขตปทุมวัน
URL:https://thaibloodcentre.redcross.or.th/event/%e0%b8%a8%e0%b8%b9%e0%b8%99%e0%b8%a2%e0%b9%8c%e0%b8%9a%e0%b8%a3%e0%b8%b4%e0%b8%81%e0%b8%b2%e0%b8%a3%e0%b9%82%e0%b8%a5%e0%b8%ab%e0%b8%b4%e0%b8%95%e0%b9%81%e0%b8%ab%e0%b9%88%e0%b8%87%e0%b8%8a-364/
LOCATION:ศูนย์บริการโลหิตแห่งชาติ สภากาชาดไทย\, ศูนย์บริการโลหิตแห่งชาติ สภากาชาดไทย 1871 ถ. อังรีดูนังต์ แขวงปทุมวัน เขตปทุมวัน กรุงเทพมหานคร 10330
CATEGORIES:ปฏิทินตารางหน่วยเคลื่อนที่
END:VEVENT
BEGIN:VEVENT
DTSTART;TZID=Asia/Krasnoyarsk:20251209T083000
DTEND;TZID=Asia/Krasnoyarsk:20251209T193000
DTSTAMP:20260424T133513
CREATED:20251128T104755Z
LAST-MODIFIED:20251128T110608Z
UID:10004595-1765269000-1765308600@thaibloodcentre.redcross.or.th
SUMMARY:สถานีกาชาด 11 วิเศษนิยม []
DESCRIPTION:สถานที่เจาะ : ชั้น 3 \nที่อยู่ : 33/3 ถนนเพชรเกษม แขวงบางหว้า เขตภาษีเจริญ กรุงเทพฯ 0633450711
URL:https://thaibloodcentre.redcross.or.th/event/%e0%b8%aa%e0%b8%96%e0%b8%b2%e0%b8%99%e0%b8%b5%e0%b8%81%e0%b8%b2%e0%b8%8a%e0%b8%b2%e0%b8%94-11-%e0%b8%a7%e0%b8%b4%e0%b9%80%e0%b8%a8%e0%b8%a9%e0%b8%99%e0%b8%b4%e0%b8%a2%e0%b8%a1-113/
LOCATION:สถานีกาชาด 11 วิเศษนิยม\, สถานีกาชาด 11 วิเศษนิยม 605 ถ.เพชรเกษม แขวงบางหว้า เขตภาษีเจริญ กรุงเทพมหานคร 10160
CATEGORIES:ปฏิทินตารางหน่วยเคลื่อนที่
END:VEVENT
BEGIN:VEVENT
DTSTART;TZID=Asia/Krasnoyarsk:20251209T090000
DTEND;TZID=Asia/Krasnoyarsk:20251209T120000
DTSTAMP:20260424T133513
CREATED:20251128T110628Z
LAST-MODIFIED:20251128T110628Z
UID:10004602-1765270800-1765281600@thaibloodcentre.redcross.or.th
SUMMARY:บริษัท บุญถาวร รีเทล คอร์ปเรชั่น จำกัด (มหาชน) สาขารังสิต (ช่วงเช้า) []
DESCRIPTION:สถานที่เจาะ : โชว์รูมบุญถาวรรังสิต \nที่อยู่ : 23 ม.3 ถ.พหลโยธิน ต.คลองหนึ่ง อ.คลองหลวง ปทุมธานี 0 2153 2345
URL:https://thaibloodcentre.redcross.or.th/event/%e0%b8%9a%e0%b8%a3%e0%b8%b4%e0%b8%a9%e0%b8%b1%e0%b8%97-%e0%b8%9a%e0%b8%b8%e0%b8%8d%e0%b8%96%e0%b8%b2%e0%b8%a7%e0%b8%a3-%e0%b8%a3%e0%b8%b5%e0%b9%80%e0%b8%97%e0%b8%a5-%e0%b8%84%e0%b8%ad%e0%b8%a3-5/
LOCATION:บริษัท บุญถาวร รีเทล คอร์ปเรชั่น จำกัด (มหาชน) สาขารังสิต (ช่วงเช้า)\, บริษัท บุญถาวร รีเทล คอร์ปเรชั่น จำกัด (มหาชน) สาขารังสิต 23 ม.3 ถ.พหลโยธิน ต.คลองหนึ่ง อ.คลองหลวง จ.ปทุมธานี 12120
CATEGORIES:ปฏิทินตารางหน่วยเคลื่อนที่
END:VEVENT
BEGIN:VEVENT
DTSTART;TZID=Asia/Krasnoyarsk:20251209T090000
DTEND;TZID=Asia/Krasnoyarsk:20251209T150000
DTSTAMP:20260424T133513
CREATED:20251128T104758Z
LAST-MODIFIED:20251128T110609Z
UID:10004596-1765270800-1765292400@thaibloodcentre.redcross.or.th
SUMMARY:บ้านทรงไทย (ย่านวงศ์สว่าง) []
DESCRIPTION:สถานที่เจาะ : (พัก 12.30-13.00 น.) \nที่อยู่ : 1423 ถนนกรุงเทพ – นนทบุรี แขวงวงศ์สว่าง เขตบางซื่อ กรุงเทพฯ 0 2256 4300
URL:https://thaibloodcentre.redcross.or.th/event/%e0%b8%9a%e0%b9%89%e0%b8%b2%e0%b8%99%e0%b8%97%e0%b8%a3%e0%b8%87%e0%b9%84%e0%b8%97%e0%b8%a2-%e0%b8%a2%e0%b9%88%e0%b8%b2%e0%b8%99%e0%b8%a7%e0%b8%87%e0%b8%a8%e0%b9%8c%e0%b8%aa%e0%b8%a7%e0%b9%88-282/
LOCATION:บ้านทรงไทย (ย่านวงศ์สว่าง)\, หน่วยรับบริจาคโลหิต บ้านทรงไทย(ย่านวงศ์สว่าง) 1423 ถนนกรุงเทพ-นนทบุรี แขวงวงศ์สว่าง เขตบางซื่อ กรุงเทพมหานคร 10800
CATEGORIES:ปฏิทินตารางหน่วยเคลื่อนที่
END:VEVENT
BEGIN:VEVENT
DTSTART;TZID=Asia/Krasnoyarsk:20251209T090000
DTEND;TZID=Asia/Krasnoyarsk:20251209T150000
DTSTAMP:20260424T133513
CREATED:20251128T104802Z
LAST-MODIFIED:20251128T110609Z
UID:10004597-1765270800-1765292400@thaibloodcentre.redcross.or.th
SUMMARY:กรมประมง []
DESCRIPTION:สถานที่เจาะ : ห้องประชุมอานนท์ \nที่อยู่ : 50 ถนนพหลโยธิน แขวงลาดยาว เขตจตุจักร กรุงเทพฯ 0 2558 0221
URL:https://thaibloodcentre.redcross.or.th/event/%e0%b8%81%e0%b8%a3%e0%b8%a1%e0%b8%9b%e0%b8%a3%e0%b8%b0%e0%b8%a1%e0%b8%87-2/
LOCATION:กรมประมง\, กรมประมง 50 เกษตรกลาง ถนนพหลโยธิน แขวงลาดยาว เขตจตุจักร กรุงเทพมหานคร 10900
CATEGORIES:ปฏิทินตารางหน่วยเคลื่อนที่
END:VEVENT
BEGIN:VEVENT
DTSTART;TZID=Asia/Krasnoyarsk:20251209T090000
DTEND;TZID=Asia/Krasnoyarsk:20251209T150000
DTSTAMP:20260424T133513
CREATED:20251128T104804Z
LAST-MODIFIED:20251128T110610Z
UID:10004598-1765270800-1765292400@thaibloodcentre.redcross.or.th
SUMMARY:โรงพยาบาลไทยนครินทร์ []
DESCRIPTION:สถานที่เจาะ : ห้องประชุมชั้น 4 (พัก 12.00-13.00 น.) \nที่อยู่ : 345 ถนนบางนา – ตราด กม.3.5 แขวงบางนา เขตบางนา กรุงเทพฯ 0 2361 2727
URL:https://thaibloodcentre.redcross.or.th/event/%e0%b9%82%e0%b8%a3%e0%b8%87%e0%b8%9e%e0%b8%a2%e0%b8%b2%e0%b8%9a%e0%b8%b2%e0%b8%a5%e0%b9%84%e0%b8%97%e0%b8%a2%e0%b8%99%e0%b8%84%e0%b8%a3%e0%b8%b4%e0%b8%99%e0%b8%97%e0%b8%a3%e0%b9%8c-2/
LOCATION:โรงพยาบาลไทยนครินทร์\, โรงพยาบาลไทยนครินทร์ 345 บางนา-ตราด กม. 3.5 แขวงบางนา เขตบางนา กรุงเทพฯ 10260
CATEGORIES:ปฏิทินตารางหน่วยเคลื่อนที่
END:VEVENT
BEGIN:VEVENT
DTSTART;TZID=Asia/Krasnoyarsk:20251209T090000
DTEND;TZID=Asia/Krasnoyarsk:20251209T150000
DTSTAMP:20260424T133513
CREATED:20251128T110624Z
LAST-MODIFIED:20251128T110624Z
UID:10004600-1765270800-1765292400@thaibloodcentre.redcross.or.th
SUMMARY:กรมที่ดิน []
DESCRIPTION:สถานที่เจาะ : ชั้น 2 ลานอเนกประสงค์ \nที่อยู่ : ศูนย์ราชการฯ อาคารรัฐประศาสนภักดี ถนนแจ้งวัฒนะ แขวงทุ่งสองห้อง เขตหลักสี่ กรุงเทพฯ 0 2141 5565
URL:https://thaibloodcentre.redcross.or.th/event/%e0%b8%81%e0%b8%a3%e0%b8%a1%e0%b8%97%e0%b8%b5%e0%b9%88%e0%b8%94%e0%b8%b4%e0%b8%99-2/
LOCATION:กรมที่ดิน\, กรมที่ดิน ศูนย์ราชการเฉลิมพระเกียรติ 80 พรรษาฯ ถนนแจ้งวัฒนะ แขวงทุ่งสองห้อง เขตหลักสี่ กรุงเทพมหานคร 10210
CATEGORIES:ปฏิทินตารางหน่วยเคลื่อนที่
END:VEVENT
BEGIN:VEVENT
DTSTART;TZID=Asia/Krasnoyarsk:20251209T090000
DTEND;TZID=Asia/Krasnoyarsk:20251209T150000
DTSTAMP:20260424T133513
CREATED:20251128T110626Z
LAST-MODIFIED:20251128T110626Z
UID:10004601-1765270800-1765292400@thaibloodcentre.redcross.or.th
SUMMARY:โรงพยาบาลเวชธานี []
DESCRIPTION:สถานที่เจาะ : ห้องประชุมสายหยุด ชั้น 8 อาคาร 2 (พัก 12.00-13.00 น.) \nที่อยู่ : 1 ลาดพร้าว 111 แขวงคลองจั่น เขตบางกะปิ กรุงเทพฯ 0 2734 0000
URL:https://thaibloodcentre.redcross.or.th/event/%e0%b9%82%e0%b8%a3%e0%b8%87%e0%b8%9e%e0%b8%a2%e0%b8%b2%e0%b8%9a%e0%b8%b2%e0%b8%a5%e0%b9%80%e0%b8%a7%e0%b8%8a%e0%b8%98%e0%b8%b2%e0%b8%99%e0%b8%b5-2/
LOCATION:โรงพยาบาลเวชธานี\, โรงพยาบาลเวชธานี 1 ซอยลาดพร้าว 111 แขวงคลองจั่น เขตบางกะปิ กรุงเทพมหานคร 10240
CATEGORIES:ปฏิทินตารางหน่วยเคลื่อนที่
END:VEVENT
BEGIN:VEVENT
DTSTART;TZID=Asia/Krasnoyarsk:20251209T090000
DTEND;TZID=Asia/Krasnoyarsk:20251209T150000
DTSTAMP:20260424T133513
CREATED:20251128T110637Z
LAST-MODIFIED:20251128T110637Z
UID:10004604-1765270800-1765292400@thaibloodcentre.redcross.or.th
SUMMARY:โรงพยาบาลบางปะกอก 9 อินเตอร์เนชั่นแนล []
DESCRIPTION:สถานที่เจาะ : ห้องประชุม ชั้น 6 (พัก 12.00-13.00 น.) \nที่อยู่ : 362 ถนนพระรามที่ 2 แขวงบางมด เขตจอมทอง กรุงเทพฯ 0 2109 9111
URL:https://thaibloodcentre.redcross.or.th/event/%e0%b9%82%e0%b8%a3%e0%b8%87%e0%b8%9e%e0%b8%a2%e0%b8%b2%e0%b8%9a%e0%b8%b2%e0%b8%a5%e0%b8%9a%e0%b8%b2%e0%b8%87%e0%b8%9b%e0%b8%b0%e0%b8%81%e0%b8%ad%e0%b8%81-9-%e0%b8%ad%e0%b8%b4%e0%b8%99%e0%b9%80-4/
LOCATION:โรงพยาบาลบางปะกอก 9 อินเตอร์เนชั่นแนล\, โรงพยาบาลบางปะกอก 9 อินเตอร์เนชั่นแนล 362 ถ. พระรามที่ 2 แขวงบางมด เขตจอมทอง กรุงเทพมหานคร 10150
CATEGORIES:ปฏิทินตารางหน่วยเคลื่อนที่
END:VEVENT
BEGIN:VEVENT
DTSTART;TZID=Asia/Krasnoyarsk:20251209T110000
DTEND;TZID=Asia/Krasnoyarsk:20251209T150000
DTSTAMP:20260424T133513
CREATED:20251128T110622Z
LAST-MODIFIED:20251128T110622Z
UID:10004599-1765278000-1765292400@thaibloodcentre.redcross.or.th
SUMMARY:กิจกรรมไทยฮอนด้าเพื่อสังคมไทย []
DESCRIPTION:สถานที่เจาะ : วัดทิพพาวาส
URL:https://thaibloodcentre.redcross.or.th/event/%e0%b8%81%e0%b8%b4%e0%b8%88%e0%b8%81%e0%b8%a3%e0%b8%a3%e0%b8%a1%e0%b9%84%e0%b8%97%e0%b8%a2%e0%b8%ae%e0%b8%ad%e0%b8%99%e0%b8%94%e0%b9%89%e0%b8%b2%e0%b9%80%e0%b8%9e%e0%b8%b7%e0%b9%88%e0%b8%ad-10/
LOCATION:กิจกรรมไทยฮอนด้าเพื่อสังคมไทย\, วัดทิพพาวาส ซอยฉลองกรุง 53 แขวงลำปลาทิว เขตลาดกระบัง กรุงเทพมหานคร 10520
CATEGORIES:ปฏิทินตารางหน่วยเคลื่อนที่
END:VEVENT
BEGIN:VEVENT
DTSTART;TZID=Asia/Krasnoyarsk:20251209T120000
DTEND;TZID=Asia/Krasnoyarsk:20251209T180000
DTSTAMP:20260424T133513
CREATED:20251128T104550Z
LAST-MODIFIED:20251128T110553Z
UID:10004590-1765281600-1765303200@thaibloodcentre.redcross.or.th
SUMMARY:ศูนย์การค้าเดอะมอลล์ไลฟ์สโตร์ บางแค []
DESCRIPTION:สถานที่เจาะ : ชั้น 3 ตรงข้ามร้านโอ้กะจู๋ \nที่อยู่ : ถนนเพชรเกษม แขวงบางแคเหนือ เขตภาษีเจริญ กรุงเทพฯ 02 487 1221
URL:https://thaibloodcentre.redcross.or.th/event/%e0%b8%a8%e0%b8%b9%e0%b8%99%e0%b8%a2%e0%b9%8c%e0%b8%81%e0%b8%b2%e0%b8%a3%e0%b8%84%e0%b9%89%e0%b8%b2%e0%b9%80%e0%b8%94%e0%b8%ad%e0%b8%b0%e0%b8%a1%e0%b8%ad%e0%b8%a5%e0%b8%a5%e0%b9%8c%e0%b9%84-1135/
LOCATION:ศูนย์การค้าเดอะมอลล์ไลฟ์สโตร์ บางแค\, ศูนย์การค้าเดอะมอลล์ไลฟ์สโตร์ บางแค
CATEGORIES:ปฏิทินตารางหน่วยเคลื่อนที่
END:VEVENT
BEGIN:VEVENT
DTSTART;TZID=Asia/Krasnoyarsk:20251209T120000
DTEND;TZID=Asia/Krasnoyarsk:20251209T180000
DTSTAMP:20260424T133513
CREATED:20251128T104559Z
LAST-MODIFIED:20251128T110554Z
UID:10004591-1765281600-1765303200@thaibloodcentre.redcross.or.th
SUMMARY:ศูนย์การค้าเดอะมอลล์ไลฟ์สโตร์ บางกะปิ []
DESCRIPTION:สถานที่เจาะ : ชั้น 2 ทางออกลานจอดรถ \nที่อยู่ : ถนนลาดพร้าว แขวงคลองจั่น เขตบางกะปิ กรุงเทพฯ 0 2310 2278
URL:https://thaibloodcentre.redcross.or.th/event/%e0%b8%a8%e0%b8%b9%e0%b8%99%e0%b8%a2%e0%b9%8c%e0%b8%81%e0%b8%b2%e0%b8%a3%e0%b8%84%e0%b9%89%e0%b8%b2%e0%b9%80%e0%b8%94%e0%b8%ad%e0%b8%b0%e0%b8%a1%e0%b8%ad%e0%b8%a5%e0%b8%a5%e0%b9%8c%e0%b9%84-1136/
LOCATION:ศูนย์การค้าเดอะมอลล์ไลฟ์สโตร์ บางกะปิ\, เดอะมอลล์ไลฟ์สโตร์ บางกะปิ 3522 ถ. ลาดพร้าว แขวงคลองจั่น เขตบางกะปิ กรุงเทพมหานคร 10240
CATEGORIES:ปฏิทินตารางหน่วยเคลื่อนที่
END:VEVENT
BEGIN:VEVENT
DTSTART;TZID=Asia/Krasnoyarsk:20251209T120000
DTEND;TZID=Asia/Krasnoyarsk:20251209T180000
DTSTAMP:20260424T133513
CREATED:20251128T104608Z
LAST-MODIFIED:20251128T110554Z
UID:10004592-1765281600-1765303200@thaibloodcentre.redcross.or.th
SUMMARY:ศูนย์การค้าเดอะมอลล์ไลฟ์สโตร์ งามวงศ์วาน []
DESCRIPTION:สถานที่เจาะ : ชั้น 5 โซน Government Center \nที่อยู่ : ถนนงามวงศ์วาน ต.บางเขน อ.เมือง จ.นนทบุรี 0 2555 1550
URL:https://thaibloodcentre.redcross.or.th/event/%e0%b8%a8%e0%b8%b9%e0%b8%99%e0%b8%a2%e0%b9%8c%e0%b8%81%e0%b8%b2%e0%b8%a3%e0%b8%84%e0%b9%89%e0%b8%b2%e0%b9%80%e0%b8%94%e0%b8%ad%e0%b8%b0%e0%b8%a1%e0%b8%ad%e0%b8%a5%e0%b8%a5%e0%b9%8c%e0%b9%84-1137/
LOCATION:ศูนย์การค้าเดอะมอลล์ไลฟ์สโตร์ งามวงศ์วาน\, เดอะมอลล์ ไลฟ์สโตร์ งามวงศ์วาน 430 ถนน งามวงศ์วาน ตำบลบางเขน อำเภอเมืองนนทบุรี นนทบุรี 11000
CATEGORIES:ปฏิทินตารางหน่วยเคลื่อนที่
END:VEVENT
BEGIN:VEVENT
DTSTART;TZID=Asia/Krasnoyarsk:20251209T120000
DTEND;TZID=Asia/Krasnoyarsk:20251209T180000
DTSTAMP:20260424T133513
CREATED:20251128T104617Z
LAST-MODIFIED:20251128T110555Z
UID:10004593-1765281600-1765303200@thaibloodcentre.redcross.or.th
SUMMARY:ศูนย์การค้า เอ็มโพเรียม []
DESCRIPTION:สถานที่เจาะ : ชั้น M ศูนย์การค้า ดิ เอ็มโพเรียม เชื่อมลานจอดรถอาคาร B \nที่อยู่ : 622 ถนนสุขุมวิท แขวงคลองตัน เขตคลองเตย กรุงเทพฯ 0 2269 1515
URL:https://thaibloodcentre.redcross.or.th/event/%e0%b8%a8%e0%b8%b9%e0%b8%99%e0%b8%a2%e0%b9%8c%e0%b8%81%e0%b8%b2%e0%b8%a3%e0%b8%84%e0%b9%89%e0%b8%b2-%e0%b9%80%e0%b8%ad%e0%b9%87%e0%b8%a1%e0%b9%82%e0%b8%9e%e0%b9%80%e0%b8%a3%e0%b8%b5%e0%b8%a2-280/
LOCATION:ศูนย์การค้า เอ็มโพเรียม\, เอ็มโพเรียม 622 ถ. สุขุมวิท แขวงคลองตัน เขตคลองเตย กรุงเทพมหานคร 10110
CATEGORIES:ปฏิทินตารางหน่วยเคลื่อนที่
END:VEVENT
BEGIN:VEVENT
DTSTART;TZID=Asia/Krasnoyarsk:20251209T120000
DTEND;TZID=Asia/Krasnoyarsk:20251209T180000
DTSTAMP:20260424T133513
CREATED:20251128T104746Z
LAST-MODIFIED:20251128T110607Z
UID:10004594-1765281600-1765303200@thaibloodcentre.redcross.or.th
SUMMARY:ศูนย์การค้าเดอะมอลล์ไลฟ์สโตร์ ท่าพระ []
DESCRIPTION:สถานที่เจาะ : ชั้น 1 (ติดลานจอดรถ) \nที่อยู่ : 99 ถนนรัชดาท่าพระตัดใหม่ แขวงบุคคโล เขตธนบุรี กรุงเทพฯ 0 2469-1000
URL:https://thaibloodcentre.redcross.or.th/event/%e0%b8%a8%e0%b8%b9%e0%b8%99%e0%b8%a2%e0%b9%8c%e0%b8%81%e0%b8%b2%e0%b8%a3%e0%b8%84%e0%b9%89%e0%b8%b2%e0%b9%80%e0%b8%94%e0%b8%ad%e0%b8%b0%e0%b8%a1%e0%b8%ad%e0%b8%a5%e0%b8%a5%e0%b9%8c%e0%b9%84-1138/
LOCATION:ศูนย์การค้าเดอะมอลล์ไลฟ์สโตร์ ท่าพระ\, เดอะมอลล์ไลฟ์สโตร์ ท่าพระ 129 ถ. รัชดาภิเษก แขวงบุคคโล เขตธนบุรี กรุงเทพมหานคร 10600
CATEGORIES:ปฏิทินตารางหน่วยเคลื่อนที่
END:VEVENT
BEGIN:VEVENT
DTSTART;TZID=Asia/Krasnoyarsk:20251209T130000
DTEND;TZID=Asia/Krasnoyarsk:20251209T150000
DTSTAMP:20260424T133513
CREATED:20251128T110630Z
LAST-MODIFIED:20251128T110630Z
UID:10004603-1765285200-1765292400@thaibloodcentre.redcross.or.th
SUMMARY:บริษัท บุญถาวร รีเทล คอร์ปเรชั่น จำกัด (มหาชน) สาขารังสิต (ช่วงบ่าย) []
DESCRIPTION:สถานที่เจาะ : DC ศูนย์กระจายสินค้าบุญถาวร \nที่อยู่ : 23 ม.3 ถ.พหลโยธิน ต.คลองหนึ่ง อ.คลองหลวง ปทุมธานี 0 2153 2345
URL:https://thaibloodcentre.redcross.or.th/event/%e0%b8%9a%e0%b8%a3%e0%b8%b4%e0%b8%a9%e0%b8%b1%e0%b8%97-%e0%b8%9a%e0%b8%b8%e0%b8%8d%e0%b8%96%e0%b8%b2%e0%b8%a7%e0%b8%a3-%e0%b8%a3%e0%b8%b5%e0%b9%80%e0%b8%97%e0%b8%a5-%e0%b8%84%e0%b8%ad%e0%b8%a3-6/
LOCATION:บริษัท บุญถาวร รีเทล คอร์ปเรชั่น จำกัด (มหาชน) สาขารังสิต (ช่วงบ่าย)\, บริษัท บุญถาวร รีเทล คอร์ปเรชั่น จำกัด (มหาชน) สาขารังสิต 23 ม.3 ถ.พหลโยธิน ต.คลองหนึ่ง อ.คลองหลวง จ.ปทุมธานี 12120
CATEGORIES:ปฏิทินตารางหน่วยเคลื่อนที่
END:VEVENT
BEGIN:VEVENT
DTSTART;TZID=Asia/Krasnoyarsk:20251210T083000
DTEND;TZID=Asia/Krasnoyarsk:20251210T153000
DTSTAMP:20260424T133513
CREATED:20251208T072717Z
LAST-MODIFIED:20251208T072717Z
UID:10004605-1765355400-1765380600@thaibloodcentre.redcross.or.th
SUMMARY:ศูนย์บริการโลหิตแห่งชาติ สภากาชาดไทย []
DESCRIPTION:ที่อยู่ : 1871 ถ. อังรีดูนังต์ แขวงปทุมวัน เขตปทุมวัน
URL:https://thaibloodcentre.redcross.or.th/event/%e0%b8%a8%e0%b8%b9%e0%b8%99%e0%b8%a2%e0%b9%8c%e0%b8%9a%e0%b8%a3%e0%b8%b4%e0%b8%81%e0%b8%b2%e0%b8%a3%e0%b9%82%e0%b8%a5%e0%b8%ab%e0%b8%b4%e0%b8%95%e0%b9%81%e0%b8%ab%e0%b9%88%e0%b8%87%e0%b8%8a-365/
LOCATION:ศูนย์บริการโลหิตแห่งชาติ สภากาชาดไทย\, ศูนย์บริการโลหิตแห่งชาติ สภากาชาดไทย 1871 ถ. อังรีดูนังต์ แขวงปทุมวัน เขตปทุมวัน กรุงเทพมหานคร 10330
CATEGORIES:ปฏิทินตารางหน่วยเคลื่อนที่
END:VEVENT
BEGIN:VEVENT
DTSTART;TZID=Asia/Krasnoyarsk:20251210T083000
DTEND;TZID=Asia/Krasnoyarsk:20251210T153000
DTSTAMP:20260424T133513
CREATED:20251208T072809Z
LAST-MODIFIED:20251208T072809Z
UID:10004611-1765355400-1765380600@thaibloodcentre.redcross.or.th
SUMMARY:สถานีกาชาด 11 วิเศษนิยม []
DESCRIPTION:สถานที่เจาะ : ชั้น 3 \nที่อยู่ : 33/3 ถนนเพชรเกษม แขวงบางหว้า เขตภาษีเจริญ กรุงเทพฯ 0633450711
URL:https://thaibloodcentre.redcross.or.th/event/%e0%b8%aa%e0%b8%96%e0%b8%b2%e0%b8%99%e0%b8%b5%e0%b8%81%e0%b8%b2%e0%b8%8a%e0%b8%b2%e0%b8%94-11-%e0%b8%a7%e0%b8%b4%e0%b9%80%e0%b8%a8%e0%b8%a9%e0%b8%99%e0%b8%b4%e0%b8%a2%e0%b8%a1-114/
LOCATION:สถานีกาชาด 11 วิเศษนิยม\, สถานีกาชาด 11 วิเศษนิยม 605 ถ.เพชรเกษม แขวงบางหว้า เขตภาษีเจริญ กรุงเทพมหานคร 10160
CATEGORIES:ปฏิทินตารางหน่วยเคลื่อนที่
END:VEVENT
BEGIN:VEVENT
DTSTART;TZID=Asia/Krasnoyarsk:20251210T090000
DTEND;TZID=Asia/Krasnoyarsk:20251210T150000
DTSTAMP:20260424T133513
CREATED:20251208T072814Z
LAST-MODIFIED:20251208T072814Z
UID:10004612-1765357200-1765378800@thaibloodcentre.redcross.or.th
SUMMARY:บ้านทรงไทย (ย่านวงศ์สว่าง) []
DESCRIPTION:สถานที่เจาะ : (พัก 12.30-13.00 น.) \nที่อยู่ : 1423 ถนนกรุงเทพ – นนทบุรี แขวงวงศ์สว่าง เขตบางซื่อ กรุงเทพฯ 0 2256 4300
URL:https://thaibloodcentre.redcross.or.th/event/%e0%b8%9a%e0%b9%89%e0%b8%b2%e0%b8%99%e0%b8%97%e0%b8%a3%e0%b8%87%e0%b9%84%e0%b8%97%e0%b8%a2-%e0%b8%a2%e0%b9%88%e0%b8%b2%e0%b8%99%e0%b8%a7%e0%b8%87%e0%b8%a8%e0%b9%8c%e0%b8%aa%e0%b8%a7%e0%b9%88-283/
LOCATION:บ้านทรงไทย (ย่านวงศ์สว่าง)\, หน่วยรับบริจาคโลหิต บ้านทรงไทย(ย่านวงศ์สว่าง) 1423 ถนนกรุงเทพ-นนทบุรี แขวงวงศ์สว่าง เขตบางซื่อ กรุงเทพมหานคร 10800
CATEGORIES:ปฏิทินตารางหน่วยเคลื่อนที่
END:VEVENT
BEGIN:VEVENT
DTSTART;TZID=Asia/Krasnoyarsk:20251210T093000
DTEND;TZID=Asia/Krasnoyarsk:20251210T150000
DTSTAMP:20260424T133513
CREATED:20251208T072834Z
LAST-MODIFIED:20251208T072834Z
UID:10004616-1765359000-1765378800@thaibloodcentre.redcross.or.th
SUMMARY:บริษัท ซีพีออลล์ จำกัด (มหาชน) ศูนย์กระจายสินค้าบางบัวทอง []
DESCRIPTION:สถานที่เจาะ : หน้าโรงอาหาร DC 4 (พัก 12.00-13.00 น.) \nที่อยู่ : 148 ม. 7 ถ.ตลิ่งชัน-สุพรรณบุรี ต.ละหาร อ.บางบัวทอง จ.นนทบุรี 0 2071 5555
URL:https://thaibloodcentre.redcross.or.th/event/%e0%b8%9a%e0%b8%a3%e0%b8%b4%e0%b8%a9%e0%b8%b1%e0%b8%97-%e0%b8%8b%e0%b8%b5%e0%b8%9e%e0%b8%b5%e0%b8%ad%e0%b8%ad%e0%b8%a5%e0%b8%a5%e0%b9%8c-%e0%b8%88%e0%b8%b3%e0%b8%81%e0%b8%b1%e0%b8%94-%e0%b8%a1-4/
LOCATION:บริษัท ซีพีออลล์ จำกัด (มหาชน) ศูนย์กระจายสินค้าบางบัวทอง\, บริษัท ซีพีออลล์ จำกัด (มหาชน) ศูนย์กระจายสินค้าบางบัวทอง 52/3 ถนน บางบัวทอง - สุพรรณบุรี ตำบล ละหาร อำเภอบางบัวทอง นนทบุรี 11110
CATEGORIES:ปฏิทินตารางหน่วยเคลื่อนที่
END:VEVENT
BEGIN:VEVENT
DTSTART;TZID=Asia/Krasnoyarsk:20251210T110000
DTEND;TZID=Asia/Krasnoyarsk:20251210T150000
DTSTAMP:20260424T133513
CREATED:20251208T072819Z
LAST-MODIFIED:20251208T072819Z
UID:10004613-1765364400-1765378800@thaibloodcentre.redcross.or.th
SUMMARY:เซ็นทรัลพลาซา แจ้งวัฒนะ []
DESCRIPTION:สถานที่เจาะ : ชั้น 7 Education Zone \nที่อยู่ : 99/99 ม.2 ถ.แจ้งวัฒนะ ต.บางตลาด อ.ปากเกร็ด จ.นนทบุรี 0 2101 0000
URL:https://thaibloodcentre.redcross.or.th/event/%e0%b9%80%e0%b8%8b%e0%b9%87%e0%b8%99%e0%b8%97%e0%b8%a3%e0%b8%b1%e0%b8%a5%e0%b8%9e%e0%b8%a5%e0%b8%b2%e0%b8%8b%e0%b8%b2-%e0%b9%81%e0%b8%88%e0%b9%89%e0%b8%87%e0%b8%a7%e0%b8%b1%e0%b8%92%e0%b8%99-14/
LOCATION:เซ็นทรัลพลาซา แจ้งวัฒนะ\, เซ็นทรัลพลาซา แจ้งวัฒนะ 99-99/9 หมู่ที่ 2 ถ. แจ้งวัฒนะ ตำบลบางตลาด อำเภอปากเกร็ด นนทบุรี 11120
CATEGORIES:ปฏิทินตารางหน่วยเคลื่อนที่
END:VEVENT
BEGIN:VEVENT
DTSTART;TZID=Asia/Krasnoyarsk:20251210T110000
DTEND;TZID=Asia/Krasnoyarsk:20251210T150000
DTSTAMP:20260424T133513
CREATED:20251208T072822Z
LAST-MODIFIED:20251208T072822Z
UID:10004614-1765364400-1765378800@thaibloodcentre.redcross.or.th
SUMMARY:ศูนย์การค้าหัวหมาก เซ็นเตอร์ []
DESCRIPTION:สถานที่เจาะ : ชั้น 5 \nที่อยู่ : 177 ถนนรามคำแหง แขวงหัวหมาก เขตบางกะปิ กรุงเทพฯ 0 2718 7777
URL:https://thaibloodcentre.redcross.or.th/event/%e0%b8%a8%e0%b8%b9%e0%b8%99%e0%b8%a2%e0%b9%8c%e0%b8%81%e0%b8%b2%e0%b8%a3%e0%b8%84%e0%b9%89%e0%b8%b2%e0%b8%ab%e0%b8%b1%e0%b8%a7%e0%b8%ab%e0%b8%a1%e0%b8%b2%e0%b8%81-%e0%b9%80%e0%b8%8b%e0%b9%87-2/
LOCATION:ศูนย์การค้าหัวหมาก เซ็นเตอร์\, Huamark Center หัวหมาก เซนเตอร์ 177 ถนน รามคำแหง แขวงหัวหมาก เขตบางกะปิ กรุงเทพมหานคร 10240
CATEGORIES:ปฏิทินตารางหน่วยเคลื่อนที่
END:VEVENT
BEGIN:VEVENT
DTSTART;TZID=Asia/Krasnoyarsk:20251210T110000
DTEND;TZID=Asia/Krasnoyarsk:20251210T150000
DTSTAMP:20260424T133513
CREATED:20251208T072832Z
LAST-MODIFIED:20251208T072832Z
UID:10004615-1765364400-1765378800@thaibloodcentre.redcross.or.th
SUMMARY:เซ็นทรัล เวสต์วิลล์ []
DESCRIPTION:สถานที่เจาะ : ด้านหน้า MUJI \nที่อยู่ : 999 ถ.ราชพฤกษ์ ต.มหาสวัสดิ์ อ.บางกรวย จ.นนทบุรี
URL:https://thaibloodcentre.redcross.or.th/event/%e0%b9%80%e0%b8%8b%e0%b9%87%e0%b8%99%e0%b8%97%e0%b8%a3%e0%b8%b1%e0%b8%a5-%e0%b9%80%e0%b8%a7%e0%b8%aa%e0%b8%95%e0%b9%8c%e0%b8%a7%e0%b8%b4%e0%b8%a5%e0%b8%a5%e0%b9%8c-2/
LOCATION:เซ็นทรัล เวสต์วิลล์\, เซ็นทรัล เวสต์วิลล์ 999 ถ.ราชพฤกษ์ ต.มหาสวัสดิ์ อ.บางกรวย จ.นนทบุรี 11130
CATEGORIES:ปฏิทินตารางหน่วยเคลื่อนที่
END:VEVENT
BEGIN:VEVENT
DTSTART;TZID=Asia/Krasnoyarsk:20251210T120000
DTEND;TZID=Asia/Krasnoyarsk:20251210T180000
DTSTAMP:20260424T133513
CREATED:20251208T072722Z
LAST-MODIFIED:20251208T072722Z
UID:10004606-1765368000-1765389600@thaibloodcentre.redcross.or.th
SUMMARY:ศูนย์การค้าเดอะมอลล์ไลฟ์สโตร์ บางแค []
DESCRIPTION:สถานที่เจาะ : ชั้น 3 ตรงข้ามร้านโอ้กะจู๋ \nที่อยู่ : ถนนเพชรเกษม แขวงบางแคเหนือ เขตภาษีเจริญ กรุงเทพฯ 02 487 1221
URL:https://thaibloodcentre.redcross.or.th/event/%e0%b8%a8%e0%b8%b9%e0%b8%99%e0%b8%a2%e0%b9%8c%e0%b8%81%e0%b8%b2%e0%b8%a3%e0%b8%84%e0%b9%89%e0%b8%b2%e0%b9%80%e0%b8%94%e0%b8%ad%e0%b8%b0%e0%b8%a1%e0%b8%ad%e0%b8%a5%e0%b8%a5%e0%b9%8c%e0%b9%84-1139/
LOCATION:ศูนย์การค้าเดอะมอลล์ไลฟ์สโตร์ บางแค\, ศูนย์การค้าเดอะมอลล์ไลฟ์สโตร์ บางแค
CATEGORIES:ปฏิทินตารางหน่วยเคลื่อนที่
END:VEVENT
BEGIN:VEVENT
DTSTART;TZID=Asia/Krasnoyarsk:20251210T120000
DTEND;TZID=Asia/Krasnoyarsk:20251210T180000
DTSTAMP:20260424T133513
CREATED:20251208T072732Z
LAST-MODIFIED:20251208T072732Z
UID:10004607-1765368000-1765389600@thaibloodcentre.redcross.or.th
SUMMARY:ศูนย์การค้าเดอะมอลล์ไลฟ์สโตร์ บางกะปิ []
DESCRIPTION:สถานที่เจาะ : ชั้น 2 ทางออกลานจอดรถ \nที่อยู่ : ถนนลาดพร้าว แขวงคลองจั่น เขตบางกะปิ กรุงเทพฯ 0 2310 2278
URL:https://thaibloodcentre.redcross.or.th/event/%e0%b8%a8%e0%b8%b9%e0%b8%99%e0%b8%a2%e0%b9%8c%e0%b8%81%e0%b8%b2%e0%b8%a3%e0%b8%84%e0%b9%89%e0%b8%b2%e0%b9%80%e0%b8%94%e0%b8%ad%e0%b8%b0%e0%b8%a1%e0%b8%ad%e0%b8%a5%e0%b8%a5%e0%b9%8c%e0%b9%84-1140/
LOCATION:ศูนย์การค้าเดอะมอลล์ไลฟ์สโตร์ บางกะปิ\, เดอะมอลล์ไลฟ์สโตร์ บางกะปิ 3522 ถ. ลาดพร้าว แขวงคลองจั่น เขตบางกะปิ กรุงเทพมหานคร 10240
CATEGORIES:ปฏิทินตารางหน่วยเคลื่อนที่
END:VEVENT
BEGIN:VEVENT
DTSTART;TZID=Asia/Krasnoyarsk:20251210T120000
DTEND;TZID=Asia/Krasnoyarsk:20251210T180000
DTSTAMP:20260424T133513
CREATED:20251208T072741Z
LAST-MODIFIED:20251208T072741Z
UID:10004608-1765368000-1765389600@thaibloodcentre.redcross.or.th
SUMMARY:ศูนย์การค้าเดอะมอลล์ไลฟ์สโตร์ งามวงศ์วาน []
DESCRIPTION:สถานที่เจาะ : ชั้น 5 โซน Government Center \nที่อยู่ : ถนนงามวงศ์วาน ต.บางเขน อ.เมือง จ.นนทบุรี 0 2555 1550
URL:https://thaibloodcentre.redcross.or.th/event/%e0%b8%a8%e0%b8%b9%e0%b8%99%e0%b8%a2%e0%b9%8c%e0%b8%81%e0%b8%b2%e0%b8%a3%e0%b8%84%e0%b9%89%e0%b8%b2%e0%b9%80%e0%b8%94%e0%b8%ad%e0%b8%b0%e0%b8%a1%e0%b8%ad%e0%b8%a5%e0%b8%a5%e0%b9%8c%e0%b9%84-1141/
LOCATION:ศูนย์การค้าเดอะมอลล์ไลฟ์สโตร์ งามวงศ์วาน\, เดอะมอลล์ ไลฟ์สโตร์ งามวงศ์วาน 430 ถนน งามวงศ์วาน ตำบลบางเขน อำเภอเมืองนนทบุรี นนทบุรี 11000
CATEGORIES:ปฏิทินตารางหน่วยเคลื่อนที่
END:VEVENT
BEGIN:VEVENT
DTSTART;TZID=Asia/Krasnoyarsk:20251210T120000
DTEND;TZID=Asia/Krasnoyarsk:20251210T180000
DTSTAMP:20260424T133513
CREATED:20251208T072751Z
LAST-MODIFIED:20251208T072751Z
UID:10004609-1765368000-1765389600@thaibloodcentre.redcross.or.th
SUMMARY:ศูนย์การค้า เอ็มโพเรียม []
DESCRIPTION:สถานที่เจาะ : ชั้น M ศูนย์การค้า ดิ เอ็มโพเรียม เชื่อมลานจอดรถอาคาร B \nที่อยู่ : 622 ถนนสุขุมวิท แขวงคลองตัน เขตคลองเตย กรุงเทพฯ 0 2269 1515
URL:https://thaibloodcentre.redcross.or.th/event/%e0%b8%a8%e0%b8%b9%e0%b8%99%e0%b8%a2%e0%b9%8c%e0%b8%81%e0%b8%b2%e0%b8%a3%e0%b8%84%e0%b9%89%e0%b8%b2-%e0%b9%80%e0%b8%ad%e0%b9%87%e0%b8%a1%e0%b9%82%e0%b8%9e%e0%b9%80%e0%b8%a3%e0%b8%b5%e0%b8%a2-281/
LOCATION:ศูนย์การค้า เอ็มโพเรียม\, เอ็มโพเรียม 622 ถ. สุขุมวิท แขวงคลองตัน เขตคลองเตย กรุงเทพมหานคร 10110
CATEGORIES:ปฏิทินตารางหน่วยเคลื่อนที่
END:VEVENT
BEGIN:VEVENT
DTSTART;TZID=Asia/Krasnoyarsk:20251210T120000
DTEND;TZID=Asia/Krasnoyarsk:20251210T180000
DTSTAMP:20260424T133513
CREATED:20251208T072759Z
LAST-MODIFIED:20251208T072759Z
UID:10004610-1765368000-1765389600@thaibloodcentre.redcross.or.th
SUMMARY:ศูนย์การค้าเดอะมอลล์ไลฟ์สโตร์ ท่าพระ []
DESCRIPTION:สถานที่เจาะ : ชั้น 1 (ติดลานจอดรถ) \nที่อยู่ : 99 ถนนรัชดาท่าพระตัดใหม่ แขวงบุคคโล เขตธนบุรี กรุงเทพฯ 0 2469-1000
URL:https://thaibloodcentre.redcross.or.th/event/%e0%b8%a8%e0%b8%b9%e0%b8%99%e0%b8%a2%e0%b9%8c%e0%b8%81%e0%b8%b2%e0%b8%a3%e0%b8%84%e0%b9%89%e0%b8%b2%e0%b9%80%e0%b8%94%e0%b8%ad%e0%b8%b0%e0%b8%a1%e0%b8%ad%e0%b8%a5%e0%b8%a5%e0%b9%8c%e0%b9%84-1142/
LOCATION:ศูนย์การค้าเดอะมอลล์ไลฟ์สโตร์ ท่าพระ\, เดอะมอลล์ไลฟ์สโตร์ ท่าพระ 129 ถ. รัชดาภิเษก แขวงบุคคโล เขตธนบุรี กรุงเทพมหานคร 10600
CATEGORIES:ปฏิทินตารางหน่วยเคลื่อนที่
END:VEVENT
END:VCALENDAR