BEGIN:VCALENDAR
VERSION:2.0
PRODID:-//เว็บไซต์ศูนย์บริการโลหิตแห่งชาติ - ECPv6.11.2.1//NONSGML v1.0//EN
CALSCALE:GREGORIAN
METHOD:PUBLISH
X-WR-CALNAME:เว็บไซต์ศูนย์บริการโลหิตแห่งชาติ
X-ORIGINAL-URL:https://thaibloodcentre.redcross.or.th
X-WR-CALDESC:Events for เว็บไซต์ศูนย์บริการโลหิตแห่งชาติ
REFRESH-INTERVAL;VALUE=DURATION:PT1H
X-Robots-Tag:noindex
X-PUBLISHED-TTL:PT1H
BEGIN:VTIMEZONE
TZID:Asia/Krasnoyarsk
BEGIN:STANDARD
TZOFFSETFROM:+0700
TZOFFSETTO:+0700
TZNAME:+07
DTSTART:20260101T000000
END:STANDARD
END:VTIMEZONE
BEGIN:VEVENT
DTSTART;TZID=Asia/Krasnoyarsk:20260212T110000
DTEND;TZID=Asia/Krasnoyarsk:20260212T150000
DTSTAMP:20260425T230630
CREATED:20260217T034102Z
LAST-MODIFIED:20260217T045040Z
UID:10005496-1770894000-1770908400@thaibloodcentre.redcross.or.th
SUMMARY:สถาบันเทคโนโลยีพระจอมเกล้าเจ้าคุณทหารลาดกระบัง []
DESCRIPTION:สถานที่เจาะ : หอประชุมใหญ่ \nที่อยู่ : 1 ซอยฉลองกรุง 1 ถนนฉลองกรุง แขวงลาดกระบัง เขตลาดกระบัง กรุงเทพฯ 0 2329 8108
URL:https://thaibloodcentre.redcross.or.th/event/%e0%b8%aa%e0%b8%96%e0%b8%b2%e0%b8%9a%e0%b8%b1%e0%b8%99%e0%b9%80%e0%b8%97%e0%b8%84%e0%b9%82%e0%b8%99%e0%b9%82%e0%b8%a5%e0%b8%a2%e0%b8%b5%e0%b8%9e%e0%b8%a3%e0%b8%b0%e0%b8%88%e0%b8%ad%e0%b8%a1%e0%b9%80-3/
LOCATION:สถาบันเทคโนโลยีพระจอมเกล้าเจ้าคุณทหารลาดกระบัง\, สถาบันเทคโนโลยีพระจอมเกล้าเจ้าคุณทหารลาดกระบัง 1 ซอย ฉลองกรุง 1 แขวงลาดกระบัง เขตลาดกระบัง กรุงเทพมหานคร 10520
CATEGORIES:ปฏิทินตารางหน่วยเคลื่อนที่
END:VEVENT
BEGIN:VEVENT
DTSTART;TZID=Asia/Krasnoyarsk:20260212T093000
DTEND;TZID=Asia/Krasnoyarsk:20260212T150000
DTSTAMP:20260425T230630
CREATED:20260217T033913Z
LAST-MODIFIED:20260217T045024Z
UID:10005492-1770888600-1770908400@thaibloodcentre.redcross.or.th
SUMMARY:บริษัท คอนติเนนตัลบรรจุภัณฑ์ (ไทยแลนด์) จำกัด []
DESCRIPTION:สถานที่เจาะ : ลานจอดรถ (พัก 11.30-12.30 น.) \nที่อยู่ : 86 ม.13 ถ.บางนา-ตราด กม.10 ต.บางพลีใหญ่ อ.บางพลี จ.สมุทรปราการ 0 2316 6796
URL:https://thaibloodcentre.redcross.or.th/event/%e0%b8%9a%e0%b8%a3%e0%b8%b4%e0%b8%a9%e0%b8%b1%e0%b8%97-%e0%b8%84%e0%b8%ad%e0%b8%99%e0%b8%95%e0%b8%b4%e0%b9%80%e0%b8%99%e0%b8%99%e0%b8%95%e0%b8%b1%e0%b8%a5%e0%b8%9a%e0%b8%a3%e0%b8%a3%e0%b8%88-6/
LOCATION:บริษัท คอนติเนนตัลบรรจุภัณฑ์ (ไทยแลนด์) จำกัด\, บริษัท คอนติเนนตัลบรรจุภัณฑ์ (ไทยแลนด์) จำกัด 86 หมู่ 13 ถ.บางนา-ตราด บางพลี-ใหญ่ บางพลี สมุทรปราการ 10540
CATEGORIES:ปฏิทินตารางหน่วยเคลื่อนที่
END:VEVENT
BEGIN:VEVENT
DTSTART;TZID=Asia/Krasnoyarsk:20260212T090000
DTEND;TZID=Asia/Krasnoyarsk:20260212T150000
DTSTAMP:20260425T230630
CREATED:20260217T034058Z
LAST-MODIFIED:20260217T045039Z
UID:10005495-1770886800-1770908400@thaibloodcentre.redcross.or.th
SUMMARY:บริษัท ไปรษณีย์ไทย จำกัด []
DESCRIPTION:สถานที่เจาะ : ด้านข้างโรงอาหาร \nที่อยู่ : 111 ถนนแจ้งวัฒนะ แขวงทุ่งสองห้อง เขตหลักสี่ กรุงเทพฯ 0 2831 3518
URL:https://thaibloodcentre.redcross.or.th/event/%e0%b8%9a%e0%b8%a3%e0%b8%b4%e0%b8%a9%e0%b8%b1%e0%b8%97-%e0%b9%84%e0%b8%9b%e0%b8%a3%e0%b8%a9%e0%b8%93%e0%b8%b5%e0%b8%a2%e0%b9%8c%e0%b9%84%e0%b8%97%e0%b8%a2-%e0%b8%88%e0%b8%b3%e0%b8%81%e0%b8%b1-5/
LOCATION:บริษัท ไปรษณีย์ไทย จำกัด\, บริษัท ไปรษณีย์ไทย จำกัด 111 ถนนแจ้งวัฒนะ แขวงทุ่งสองห้อง เขตหลักสี่ กรุงเทพมหานคร 10210
CATEGORIES:ปฏิทินตารางหน่วยเคลื่อนที่
END:VEVENT
BEGIN:VEVENT
DTSTART;TZID=Asia/Krasnoyarsk:20260212T090000
DTEND;TZID=Asia/Krasnoyarsk:20260212T150000
DTSTAMP:20260425T230630
CREATED:20260217T034055Z
LAST-MODIFIED:20260217T045038Z
UID:10005494-1770886800-1770908400@thaibloodcentre.redcross.or.th
SUMMARY:บริษัท สยามไดกิ้นเซลส์ จำกัด []
DESCRIPTION:สถานที่เจาะ : ด้านหน้าอาคาร A (พัก 12.00-13.00 น.) \nที่อยู่ : ซอยอ่อนนุช 55/1 ถนนอ่อนนุช แขวงประเวศ เขตประเวศ 10250 กรุงเทพฯ 0 2838 3200
URL:https://thaibloodcentre.redcross.or.th/event/%e0%b8%9a%e0%b8%a3%e0%b8%b4%e0%b8%a9%e0%b8%b1%e0%b8%97-%e0%b8%aa%e0%b8%a2%e0%b8%b2%e0%b8%a1%e0%b9%84%e0%b8%94%e0%b8%81%e0%b8%b4%e0%b9%89%e0%b8%99%e0%b9%80%e0%b8%8b%e0%b8%a5%e0%b8%aa%e0%b9%8c-%e0%b8%88/
LOCATION:บริษัท สยามไดกิ้นเซลส์ จำกัด\, บจก. สยามไดกิ้นเซลส์ 22 ซ.อ่อนนุช 55/1 แขวงประเวศ เขตประเวศ กรุงเทพมหานคร 10250
CATEGORIES:ปฏิทินตารางหน่วยเคลื่อนที่
END:VEVENT
BEGIN:VEVENT
DTSTART;TZID=Asia/Krasnoyarsk:20260212T090000
DTEND;TZID=Asia/Krasnoyarsk:20260212T150000
DTSTAMP:20260425T230630
CREATED:20260217T033916Z
LAST-MODIFIED:20260217T045025Z
UID:10005493-1770886800-1770908400@thaibloodcentre.redcross.or.th
SUMMARY:โรงพยาบาลกรุงเทพ []
DESCRIPTION:สถานที่เจาะ : อาคารกายภาพ ชั้น 7 ห้องประชุม 7R1-2 (พัก 12.00-13.00 น.) \nที่อยู่ : 2 ซอยศูนย์วิจัย 7 ถนนเพชรบุรีตัดใหม่ แขวงบางกะปิ เขตห้วยขวาง กรุงเทพฯ 0 2310 3960
URL:https://thaibloodcentre.redcross.or.th/event/%e0%b9%82%e0%b8%a3%e0%b8%87%e0%b8%9e%e0%b8%a2%e0%b8%b2%e0%b8%9a%e0%b8%b2%e0%b8%a5%e0%b8%81%e0%b8%a3%e0%b8%b8%e0%b8%87%e0%b9%80%e0%b8%97%e0%b8%9e-3/
LOCATION:โรงพยาบาลกรุงเทพ\, โรงพยาบาลกรุงเทพ 2 ซ.ศูนย์วิจัย 7 ถ.เพชรบุรีตัดใหม่ แขวงบางกะปิ เขตห้วยขวาง กทม. 10310
CATEGORIES:ปฏิทินตารางหน่วยเคลื่อนที่
END:VEVENT
BEGIN:VEVENT
DTSTART;TZID=Asia/Krasnoyarsk:20260212T090000
DTEND;TZID=Asia/Krasnoyarsk:20260212T150000
DTSTAMP:20260425T230630
CREATED:20260217T033909Z
LAST-MODIFIED:20260217T045023Z
UID:10005491-1770886800-1770908400@thaibloodcentre.redcross.or.th
SUMMARY:บ้านทรงไทย (ย่านวงศ์สว่าง) []
DESCRIPTION:สถานที่เจาะ : (พัก 12.30-13.00 น.) \nที่อยู่ : 1423 ถนนกรุงเทพ – นนทบุรี แขวงวงศ์สว่าง เขตบางซื่อ กรุงเทพฯ 0 2256 4300
URL:https://thaibloodcentre.redcross.or.th/event/%e0%b8%9a%e0%b9%89%e0%b8%b2%e0%b8%99%e0%b8%97%e0%b8%a3%e0%b8%87%e0%b9%84%e0%b8%97%e0%b8%a2-%e0%b8%a2%e0%b9%88%e0%b8%b2%e0%b8%99%e0%b8%a7%e0%b8%87%e0%b8%a8%e0%b9%8c%e0%b8%aa%e0%b8%a7%e0%b9%88-346/
LOCATION:บ้านทรงไทย (ย่านวงศ์สว่าง)\, หน่วยรับบริจาคโลหิต บ้านทรงไทย(ย่านวงศ์สว่าง) 1423 ถนนกรุงเทพ-นนทบุรี แขวงวงศ์สว่าง เขตบางซื่อ กรุงเทพมหานคร 10800
CATEGORIES:ปฏิทินตารางหน่วยเคลื่อนที่
END:VEVENT
BEGIN:VEVENT
DTSTART;TZID=Asia/Krasnoyarsk:20260212T083000
DTEND;TZID=Asia/Krasnoyarsk:20260212T193000
DTSTAMP:20260425T230630
CREATED:20260217T033906Z
LAST-MODIFIED:20260217T045022Z
UID:10005490-1770885000-1770924600@thaibloodcentre.redcross.or.th
SUMMARY:สถานีกาชาด 11 วิเศษนิยม []
DESCRIPTION:สถานที่เจาะ : ชั้น 3 \nที่อยู่ : 33/3 ถนนเพชรเกษม แขวงบางหว้า เขตภาษีเจริญ กรุงเทพฯ 0633450711
URL:https://thaibloodcentre.redcross.or.th/event/%e0%b8%aa%e0%b8%96%e0%b8%b2%e0%b8%99%e0%b8%b5%e0%b8%81%e0%b8%b2%e0%b8%8a%e0%b8%b2%e0%b8%94-11-%e0%b8%a7%e0%b8%b4%e0%b9%80%e0%b8%a8%e0%b8%a9%e0%b8%99%e0%b8%b4%e0%b8%a2%e0%b8%a1-163/
LOCATION:สถานีกาชาด 11 วิเศษนิยม\, สถานีกาชาด 11 วิเศษนิยม 605 ถ.เพชรเกษม แขวงบางหว้า เขตภาษีเจริญ กรุงเทพมหานคร 10160
CATEGORIES:ปฏิทินตารางหน่วยเคลื่อนที่
END:VEVENT
BEGIN:VEVENT
DTSTART;TZID=Asia/Krasnoyarsk:20260212T073000
DTEND;TZID=Asia/Krasnoyarsk:20260212T193000
DTSTAMP:20260425T230630
CREATED:20260217T033759Z
LAST-MODIFIED:20260217T045012Z
UID:10005514-1770881400-1770924600@thaibloodcentre.redcross.or.th
SUMMARY:ศูนย์บริการโลหิตแห่งชาติ สภากาชาดไทย []
DESCRIPTION:ที่อยู่ : 1871 ถ. อังรีดูนังต์ แขวงปทุมวัน เขตปทุมวัน
URL:https://thaibloodcentre.redcross.or.th/event/%e0%b8%a8%e0%b8%b9%e0%b8%99%e0%b8%a2%e0%b9%8c%e0%b8%9a%e0%b8%a3%e0%b8%b4%e0%b8%81%e0%b8%b2%e0%b8%a3%e0%b9%82%e0%b8%a5%e0%b8%ab%e0%b8%b4%e0%b8%95%e0%b9%81%e0%b8%ab%e0%b9%88%e0%b8%87%e0%b8%8a-428/
LOCATION:ศูนย์บริการโลหิตแห่งชาติ สภากาชาดไทย\, ศูนย์บริการโลหิตแห่งชาติ สภากาชาดไทย 1871 ถ. อังรีดูนังต์ แขวงปทุมวัน เขตปทุมวัน กรุงเทพมหานคร 10330
CATEGORIES:ปฏิทินตารางหน่วยเคลื่อนที่
END:VEVENT
BEGIN:VEVENT
DTSTART;TZID=Asia/Krasnoyarsk:20260211T120000
DTEND;TZID=Asia/Krasnoyarsk:20260211T180000
DTSTAMP:20260425T230630
CREATED:20260204T121624Z
LAST-MODIFIED:20260204T121649Z
UID:10005485-1770811200-1770832800@thaibloodcentre.redcross.or.th
SUMMARY:ศูนย์การค้าเดอะมอลล์ไลฟ์สโตร์ ท่าพระ []
DESCRIPTION:สถานที่เจาะ : ชั้น 1 (ติดลานจอดรถ) \nที่อยู่ : 99 ถนนรัชดาท่าพระตัดใหม่ แขวงบุคคโล เขตธนบุรี กรุงเทพฯ 0 2469-1000
URL:https://thaibloodcentre.redcross.or.th/event/%e0%b8%a8%e0%b8%b9%e0%b8%99%e0%b8%a2%e0%b9%8c%e0%b8%81%e0%b8%b2%e0%b8%a3%e0%b8%84%e0%b9%89%e0%b8%b2%e0%b9%80%e0%b8%94%e0%b8%ad%e0%b8%b0%e0%b8%a1%e0%b8%ad%e0%b8%a5%e0%b8%a5%e0%b9%8c%e0%b9%84-1391/
LOCATION:ศูนย์การค้าเดอะมอลล์ไลฟ์สโตร์ ท่าพระ\, เดอะมอลล์ไลฟ์สโตร์ ท่าพระ 129 ถ. รัชดาภิเษก แขวงบุคคโล เขตธนบุรี กรุงเทพมหานคร 10600
CATEGORIES:ปฏิทินตารางหน่วยเคลื่อนที่
END:VEVENT
BEGIN:VEVENT
DTSTART;TZID=Asia/Krasnoyarsk:20260211T120000
DTEND;TZID=Asia/Krasnoyarsk:20260211T180000
DTSTAMP:20260425T230630
CREATED:20260204T121618Z
LAST-MODIFIED:20260204T121648Z
UID:10005484-1770811200-1770832800@thaibloodcentre.redcross.or.th
SUMMARY:ศูนย์การค้า เอ็มโพเรียม []
DESCRIPTION:สถานที่เจาะ : ชั้น M ศูนย์การค้า ดิ เอ็มโพเรียม เชื่อมลานจอดรถอาคาร B \nที่อยู่ : 622 ถนนสุขุมวิท แขวงคลองตัน เขตคลองเตย กรุงเทพฯ 0 2269 1515
URL:https://thaibloodcentre.redcross.or.th/event/%e0%b8%a8%e0%b8%b9%e0%b8%99%e0%b8%a2%e0%b9%8c%e0%b8%81%e0%b8%b2%e0%b8%a3%e0%b8%84%e0%b9%89%e0%b8%b2-%e0%b9%80%e0%b8%ad%e0%b9%87%e0%b8%a1%e0%b9%82%e0%b8%9e%e0%b9%80%e0%b8%a3%e0%b8%b5%e0%b8%a2-343/
LOCATION:ศูนย์การค้า เอ็มโพเรียม\, เอ็มโพเรียม 622 ถ. สุขุมวิท แขวงคลองตัน เขตคลองเตย กรุงเทพมหานคร 10110
CATEGORIES:ปฏิทินตารางหน่วยเคลื่อนที่
END:VEVENT
BEGIN:VEVENT
DTSTART;TZID=Asia/Krasnoyarsk:20260211T120000
DTEND;TZID=Asia/Krasnoyarsk:20260211T180000
DTSTAMP:20260425T230630
CREATED:20260204T121555Z
LAST-MODIFIED:20260204T121555Z
UID:10005483-1770811200-1770832800@thaibloodcentre.redcross.or.th
SUMMARY:ศูนย์การค้าเดอะมอลล์ไลฟ์สโตร์ งามวงศ์วาน []
DESCRIPTION:สถานที่เจาะ : ชั้น 5 โซน Government Center \nที่อยู่ : ถนนงามวงศ์วาน ต.บางเขน อ.เมือง จ.นนทบุรี 0 2555 1550
URL:https://thaibloodcentre.redcross.or.th/event/%e0%b8%a8%e0%b8%b9%e0%b8%99%e0%b8%a2%e0%b9%8c%e0%b8%81%e0%b8%b2%e0%b8%a3%e0%b8%84%e0%b9%89%e0%b8%b2%e0%b9%80%e0%b8%94%e0%b8%ad%e0%b8%b0%e0%b8%a1%e0%b8%ad%e0%b8%a5%e0%b8%a5%e0%b9%8c%e0%b9%84-1390/
LOCATION:ศูนย์การค้าเดอะมอลล์ไลฟ์สโตร์ งามวงศ์วาน\, เดอะมอลล์ ไลฟ์สโตร์ งามวงศ์วาน 430 ถนน งามวงศ์วาน ตำบลบางเขน อำเภอเมืองนนทบุรี นนทบุรี 11000
CATEGORIES:ปฏิทินตารางหน่วยเคลื่อนที่
END:VEVENT
BEGIN:VEVENT
DTSTART;TZID=Asia/Krasnoyarsk:20260211T120000
DTEND;TZID=Asia/Krasnoyarsk:20260211T180000
DTSTAMP:20260425T230630
CREATED:20260204T121540Z
LAST-MODIFIED:20260204T121540Z
UID:10005482-1770811200-1770832800@thaibloodcentre.redcross.or.th
SUMMARY:ศูนย์การค้าเดอะมอลล์ไลฟ์สโตร์ บางกะปิ []
DESCRIPTION:สถานที่เจาะ : ชั้น 2 ทางออกลานจอดรถ \nที่อยู่ : ถนนลาดพร้าว แขวงคลองจั่น เขตบางกะปิ กรุงเทพฯ 0 2310 2278
URL:https://thaibloodcentre.redcross.or.th/event/%e0%b8%a8%e0%b8%b9%e0%b8%99%e0%b8%a2%e0%b9%8c%e0%b8%81%e0%b8%b2%e0%b8%a3%e0%b8%84%e0%b9%89%e0%b8%b2%e0%b9%80%e0%b8%94%e0%b8%ad%e0%b8%b0%e0%b8%a1%e0%b8%ad%e0%b8%a5%e0%b8%a5%e0%b9%8c%e0%b9%84-1389/
LOCATION:ศูนย์การค้าเดอะมอลล์ไลฟ์สโตร์ บางกะปิ\, เดอะมอลล์ไลฟ์สโตร์ บางกะปิ 3522 ถ. ลาดพร้าว แขวงคลองจั่น เขตบางกะปิ กรุงเทพมหานคร 10240
CATEGORIES:ปฏิทินตารางหน่วยเคลื่อนที่
END:VEVENT
BEGIN:VEVENT
DTSTART;TZID=Asia/Krasnoyarsk:20260211T120000
DTEND;TZID=Asia/Krasnoyarsk:20260211T180000
DTSTAMP:20260425T230630
CREATED:20260204T121527Z
LAST-MODIFIED:20260204T121527Z
UID:10005481-1770811200-1770832800@thaibloodcentre.redcross.or.th
SUMMARY:ศูนย์การค้าเดอะมอลล์ไลฟ์สโตร์ บางแค []
DESCRIPTION:สถานที่เจาะ : ชั้น 3 ตรงข้ามร้านโอ้กะจู๋ \nที่อยู่ : ถนนเพชรเกษม แขวงบางแคเหนือ เขตภาษีเจริญ กรุงเทพฯ 02 487 1221
URL:https://thaibloodcentre.redcross.or.th/event/%e0%b8%a8%e0%b8%b9%e0%b8%99%e0%b8%a2%e0%b9%8c%e0%b8%81%e0%b8%b2%e0%b8%a3%e0%b8%84%e0%b9%89%e0%b8%b2%e0%b9%80%e0%b8%94%e0%b8%ad%e0%b8%b0%e0%b8%a1%e0%b8%ad%e0%b8%a5%e0%b8%a5%e0%b9%8c%e0%b9%84-1388/
LOCATION:ศูนย์การค้าเดอะมอลล์ไลฟ์สโตร์ บางแค\, ศูนย์การค้าเดอะมอลล์ไลฟ์สโตร์ บางแค
CATEGORIES:ปฏิทินตารางหน่วยเคลื่อนที่
END:VEVENT
BEGIN:VEVENT
DTSTART;TZID=Asia/Krasnoyarsk:20260211T110000
DTEND;TZID=Asia/Krasnoyarsk:20260211T150000
DTSTAMP:20260425T230630
CREATED:20260204T121644Z
LAST-MODIFIED:20260204T121652Z
UID:10005488-1770807600-1770822000@thaibloodcentre.redcross.or.th
SUMMARY:เซ็นทรัลพลาซา แจ้งวัฒนะ []
DESCRIPTION:สถานที่เจาะ : ชั้น 7 Education Zone \nที่อยู่ : 99/99 ม.2 ถ.แจ้งวัฒนะ ต.บางตลาด อ.ปากเกร็ด จ.นนทบุรี 0 2101 0000
URL:https://thaibloodcentre.redcross.or.th/event/%e0%b9%80%e0%b8%8b%e0%b9%87%e0%b8%99%e0%b8%97%e0%b8%a3%e0%b8%b1%e0%b8%a5%e0%b8%9e%e0%b8%a5%e0%b8%b2%e0%b8%8b%e0%b8%b2-%e0%b9%81%e0%b8%88%e0%b9%89%e0%b8%87%e0%b8%a7%e0%b8%b1%e0%b8%92%e0%b8%99-16/
LOCATION:เซ็นทรัลพลาซา แจ้งวัฒนะ\, เซ็นทรัลพลาซา แจ้งวัฒนะ 99-99/9 หมู่ที่ 2 ถ. แจ้งวัฒนะ ตำบลบางตลาด อำเภอปากเกร็ด นนทบุรี 11120
CATEGORIES:ปฏิทินตารางหน่วยเคลื่อนที่
END:VEVENT
BEGIN:VEVENT
DTSTART;TZID=Asia/Krasnoyarsk:20260211T090000
DTEND;TZID=Asia/Krasnoyarsk:20260211T150000
DTSTAMP:20260425T230631
CREATED:20260204T121639Z
LAST-MODIFIED:20260204T121651Z
UID:10005487-1770800400-1770822000@thaibloodcentre.redcross.or.th
SUMMARY:บ้านทรงไทย (ย่านวงศ์สว่าง) []
DESCRIPTION:สถานที่เจาะ : (พัก 12.30-13.00 น.) \nที่อยู่ : 1423 ถนนกรุงเทพ – นนทบุรี แขวงวงศ์สว่าง เขตบางซื่อ กรุงเทพฯ 0 2256 4300
URL:https://thaibloodcentre.redcross.or.th/event/%e0%b8%9a%e0%b9%89%e0%b8%b2%e0%b8%99%e0%b8%97%e0%b8%a3%e0%b8%87%e0%b9%84%e0%b8%97%e0%b8%a2-%e0%b8%a2%e0%b9%88%e0%b8%b2%e0%b8%99%e0%b8%a7%e0%b8%87%e0%b8%a8%e0%b9%8c%e0%b8%aa%e0%b8%a7%e0%b9%88-345/
LOCATION:บ้านทรงไทย (ย่านวงศ์สว่าง)\, หน่วยรับบริจาคโลหิต บ้านทรงไทย(ย่านวงศ์สว่าง) 1423 ถนนกรุงเทพ-นนทบุรี แขวงวงศ์สว่าง เขตบางซื่อ กรุงเทพมหานคร 10800
CATEGORIES:ปฏิทินตารางหน่วยเคลื่อนที่
END:VEVENT
BEGIN:VEVENT
DTSTART;TZID=Asia/Krasnoyarsk:20260211T083000
DTEND;TZID=Asia/Krasnoyarsk:20260211T193000
DTSTAMP:20260425T230631
CREATED:20260204T121636Z
LAST-MODIFIED:20260204T121650Z
UID:10005486-1770798600-1770838200@thaibloodcentre.redcross.or.th
SUMMARY:สถานีกาชาด 11 วิเศษนิยม []
DESCRIPTION:สถานที่เจาะ : ชั้น 3 \nที่อยู่ : 33/3 ถนนเพชรเกษม แขวงบางหว้า เขตภาษีเจริญ กรุงเทพฯ 0633450711
URL:https://thaibloodcentre.redcross.or.th/event/%e0%b8%aa%e0%b8%96%e0%b8%b2%e0%b8%99%e0%b8%b5%e0%b8%81%e0%b8%b2%e0%b8%8a%e0%b8%b2%e0%b8%94-11-%e0%b8%a7%e0%b8%b4%e0%b9%80%e0%b8%a8%e0%b8%a9%e0%b8%99%e0%b8%b4%e0%b8%a2%e0%b8%a1-162/
LOCATION:สถานีกาชาด 11 วิเศษนิยม\, สถานีกาชาด 11 วิเศษนิยม 605 ถ.เพชรเกษม แขวงบางหว้า เขตภาษีเจริญ กรุงเทพมหานคร 10160
CATEGORIES:ปฏิทินตารางหน่วยเคลื่อนที่
END:VEVENT
BEGIN:VEVENT
DTSTART;TZID=Asia/Krasnoyarsk:20260211T073000
DTEND;TZID=Asia/Krasnoyarsk:20260211T193000
DTSTAMP:20260425T230631
CREATED:20260204T121521Z
LAST-MODIFIED:20260204T121521Z
UID:10005480-1770795000-1770838200@thaibloodcentre.redcross.or.th
SUMMARY:ศูนย์บริการโลหิตแห่งชาติ สภากาชาดไทย []
DESCRIPTION:ที่อยู่ : 1871 ถ. อังรีดูนังต์ แขวงปทุมวัน เขตปทุมวัน
URL:https://thaibloodcentre.redcross.or.th/event/%e0%b8%a8%e0%b8%b9%e0%b8%99%e0%b8%a2%e0%b9%8c%e0%b8%9a%e0%b8%a3%e0%b8%b4%e0%b8%81%e0%b8%b2%e0%b8%a3%e0%b9%82%e0%b8%a5%e0%b8%ab%e0%b8%b4%e0%b8%95%e0%b9%81%e0%b8%ab%e0%b9%88%e0%b8%87%e0%b8%8a-427/
LOCATION:ศูนย์บริการโลหิตแห่งชาติ สภากาชาดไทย\, ศูนย์บริการโลหิตแห่งชาติ สภากาชาดไทย 1871 ถ. อังรีดูนังต์ แขวงปทุมวัน เขตปทุมวัน กรุงเทพมหานคร 10330
CATEGORIES:ปฏิทินตารางหน่วยเคลื่อนที่
END:VEVENT
BEGIN:VEVENT
DTSTART;TZID=Asia/Krasnoyarsk:20260210T130000
DTEND;TZID=Asia/Krasnoyarsk:20260210T150000
DTSTAMP:20260425T230631
CREATED:20260204T121321Z
LAST-MODIFIED:20260204T121321Z
UID:10005474-1770728400-1770735600@thaibloodcentre.redcross.or.th
SUMMARY:บริษัท ซีพีเอฟ (ประเทศไทย) จำกัด (มหาชน) (มีนบุรี 1) []
DESCRIPTION:สถานที่เจาะ : หน้าโรงอาหาร \nที่อยู่ : 48 ถนนสุวินทวงศ์ แขวงแสนแสบ เขตมีนบุรี กรุงเทพฯ 0 2989 4050-60
URL:https://thaibloodcentre.redcross.or.th/event/%e0%b8%9a%e0%b8%a3%e0%b8%b4%e0%b8%a9%e0%b8%b1%e0%b8%97-%e0%b8%8b%e0%b8%b5%e0%b8%9e%e0%b8%b5%e0%b9%80%e0%b8%ad%e0%b8%9f-%e0%b8%9b%e0%b8%a3%e0%b8%b0%e0%b9%80%e0%b8%97%e0%b8%a8%e0%b9%84%e0%b8%97-12/
LOCATION:บริษัท ซีพีเอฟ (ประเทศไทย) จำกัด (มหาชน) (มีนบุรี 1)\, บริษัท ซีพีเอฟ (ประเทศไทย) จำกัด (มหาชน) (มีนบุรี 1) 48 ถ.สุวินทวงศ์ แขวงแสนแสบ เขตมีนบุรี กรุงเทพมหานคร 10510
CATEGORIES:ปฏิทินตารางหน่วยเคลื่อนที่
END:VEVENT
BEGIN:VEVENT
DTSTART;TZID=Asia/Krasnoyarsk:20260210T120000
DTEND;TZID=Asia/Krasnoyarsk:20260210T180000
DTSTAMP:20260425T230631
CREATED:20260204T121153Z
LAST-MODIFIED:20260204T121222Z
UID:10005469-1770724800-1770746400@thaibloodcentre.redcross.or.th
SUMMARY:ศูนย์การค้าเดอะมอลล์ไลฟ์สโตร์ ท่าพระ []
DESCRIPTION:สถานที่เจาะ : ชั้น 1 (ติดลานจอดรถ) \nที่อยู่ : 99 ถนนรัชดาท่าพระตัดใหม่ แขวงบุคคโล เขตธนบุรี กรุงเทพฯ 0 2469-1000
URL:https://thaibloodcentre.redcross.or.th/event/%e0%b8%a8%e0%b8%b9%e0%b8%99%e0%b8%a2%e0%b9%8c%e0%b8%81%e0%b8%b2%e0%b8%a3%e0%b8%84%e0%b9%89%e0%b8%b2%e0%b9%80%e0%b8%94%e0%b8%ad%e0%b8%b0%e0%b8%a1%e0%b8%ad%e0%b8%a5%e0%b8%a5%e0%b9%8c%e0%b9%84-1387/
LOCATION:ศูนย์การค้าเดอะมอลล์ไลฟ์สโตร์ ท่าพระ\, เดอะมอลล์ไลฟ์สโตร์ ท่าพระ 129 ถ. รัชดาภิเษก แขวงบุคคโล เขตธนบุรี กรุงเทพมหานคร 10600
CATEGORIES:ปฏิทินตารางหน่วยเคลื่อนที่
END:VEVENT
BEGIN:VEVENT
DTSTART;TZID=Asia/Krasnoyarsk:20260210T120000
DTEND;TZID=Asia/Krasnoyarsk:20260210T180000
DTSTAMP:20260425T230631
CREATED:20260204T121132Z
LAST-MODIFIED:20260204T121132Z
UID:10005468-1770724800-1770746400@thaibloodcentre.redcross.or.th
SUMMARY:ศูนย์การค้า เอ็มโพเรียม []
DESCRIPTION:สถานที่เจาะ : ชั้น M ศูนย์การค้า ดิ เอ็มโพเรียม เชื่อมลานจอดรถอาคาร B \nที่อยู่ : 622 ถนนสุขุมวิท แขวงคลองตัน เขตคลองเตย กรุงเทพฯ 0 2269 1515
URL:https://thaibloodcentre.redcross.or.th/event/%e0%b8%a8%e0%b8%b9%e0%b8%99%e0%b8%a2%e0%b9%8c%e0%b8%81%e0%b8%b2%e0%b8%a3%e0%b8%84%e0%b9%89%e0%b8%b2-%e0%b9%80%e0%b8%ad%e0%b9%87%e0%b8%a1%e0%b9%82%e0%b8%9e%e0%b9%80%e0%b8%a3%e0%b8%b5%e0%b8%a2-342/
LOCATION:ศูนย์การค้า เอ็มโพเรียม\, เอ็มโพเรียม 622 ถ. สุขุมวิท แขวงคลองตัน เขตคลองเตย กรุงเทพมหานคร 10110
CATEGORIES:ปฏิทินตารางหน่วยเคลื่อนที่
END:VEVENT
BEGIN:VEVENT
DTSTART;TZID=Asia/Krasnoyarsk:20260210T120000
DTEND;TZID=Asia/Krasnoyarsk:20260210T180000
DTSTAMP:20260425T230631
CREATED:20260204T121121Z
LAST-MODIFIED:20260204T121121Z
UID:10005467-1770724800-1770746400@thaibloodcentre.redcross.or.th
SUMMARY:ศูนย์การค้าเดอะมอลล์ไลฟ์สโตร์ งามวงศ์วาน []
DESCRIPTION:สถานที่เจาะ : ชั้น 5 โซน Government Center \nที่อยู่ : ถนนงามวงศ์วาน ต.บางเขน อ.เมือง จ.นนทบุรี 0 2555 1550
URL:https://thaibloodcentre.redcross.or.th/event/%e0%b8%a8%e0%b8%b9%e0%b8%99%e0%b8%a2%e0%b9%8c%e0%b8%81%e0%b8%b2%e0%b8%a3%e0%b8%84%e0%b9%89%e0%b8%b2%e0%b9%80%e0%b8%94%e0%b8%ad%e0%b8%b0%e0%b8%a1%e0%b8%ad%e0%b8%a5%e0%b8%a5%e0%b9%8c%e0%b9%84-1386/
LOCATION:ศูนย์การค้าเดอะมอลล์ไลฟ์สโตร์ งามวงศ์วาน\, เดอะมอลล์ ไลฟ์สโตร์ งามวงศ์วาน 430 ถนน งามวงศ์วาน ตำบลบางเขน อำเภอเมืองนนทบุรี นนทบุรี 11000
CATEGORIES:ปฏิทินตารางหน่วยเคลื่อนที่
END:VEVENT
BEGIN:VEVENT
DTSTART;TZID=Asia/Krasnoyarsk:20260210T120000
DTEND;TZID=Asia/Krasnoyarsk:20260210T180000
DTSTAMP:20260425T230631
CREATED:20260204T121109Z
LAST-MODIFIED:20260204T121109Z
UID:10005466-1770724800-1770746400@thaibloodcentre.redcross.or.th
SUMMARY:ศูนย์การค้าเดอะมอลล์ไลฟ์สโตร์ บางกะปิ []
DESCRIPTION:สถานที่เจาะ : ชั้น 2 ทางออกลานจอดรถ \nที่อยู่ : ถนนลาดพร้าว แขวงคลองจั่น เขตบางกะปิ กรุงเทพฯ 0 2310 2278
URL:https://thaibloodcentre.redcross.or.th/event/%e0%b8%a8%e0%b8%b9%e0%b8%99%e0%b8%a2%e0%b9%8c%e0%b8%81%e0%b8%b2%e0%b8%a3%e0%b8%84%e0%b9%89%e0%b8%b2%e0%b9%80%e0%b8%94%e0%b8%ad%e0%b8%b0%e0%b8%a1%e0%b8%ad%e0%b8%a5%e0%b8%a5%e0%b9%8c%e0%b9%84-1385/
LOCATION:ศูนย์การค้าเดอะมอลล์ไลฟ์สโตร์ บางกะปิ\, เดอะมอลล์ไลฟ์สโตร์ บางกะปิ 3522 ถ. ลาดพร้าว แขวงคลองจั่น เขตบางกะปิ กรุงเทพมหานคร 10240
CATEGORIES:ปฏิทินตารางหน่วยเคลื่อนที่
END:VEVENT
BEGIN:VEVENT
DTSTART;TZID=Asia/Krasnoyarsk:20260210T120000
DTEND;TZID=Asia/Krasnoyarsk:20260210T180000
DTSTAMP:20260425T230631
CREATED:20260204T121058Z
LAST-MODIFIED:20260204T121058Z
UID:10005465-1770724800-1770746400@thaibloodcentre.redcross.or.th
SUMMARY:ศูนย์การค้าเดอะมอลล์ไลฟ์สโตร์ บางแค []
DESCRIPTION:สถานที่เจาะ : ชั้น 3 ตรงข้ามร้านโอ้กะจู๋ \nที่อยู่ : ถนนเพชรเกษม แขวงบางแคเหนือ เขตภาษีเจริญ กรุงเทพฯ 02 487 1221
URL:https://thaibloodcentre.redcross.or.th/event/%e0%b8%a8%e0%b8%b9%e0%b8%99%e0%b8%a2%e0%b9%8c%e0%b8%81%e0%b8%b2%e0%b8%a3%e0%b8%84%e0%b9%89%e0%b8%b2%e0%b9%80%e0%b8%94%e0%b8%ad%e0%b8%b0%e0%b8%a1%e0%b8%ad%e0%b8%a5%e0%b8%a5%e0%b9%8c%e0%b9%84-1384/
LOCATION:ศูนย์การค้าเดอะมอลล์ไลฟ์สโตร์ บางแค\, ศูนย์การค้าเดอะมอลล์ไลฟ์สโตร์ บางแค
CATEGORIES:ปฏิทินตารางหน่วยเคลื่อนที่
END:VEVENT
BEGIN:VEVENT
DTSTART;TZID=Asia/Krasnoyarsk:20260210T110000
DTEND;TZID=Asia/Krasnoyarsk:20260210T150000
DTSTAMP:20260425T230631
CREATED:20260204T121215Z
LAST-MODIFIED:20260204T121225Z
UID:10005472-1770721200-1770735600@thaibloodcentre.redcross.or.th
SUMMARY:บริษัท เอเซียเสริมกิจลีสซิ่ง จำกัด (มหาชน) []
DESCRIPTION:สถานที่เจาะ : ชั้น 14 ห้อง 1401 อาคารเจแอลเค ทาวเวอร์ \nที่อยู่ : 129 ชั้น 19-21 อาคารเจแอลเค ทาวเวอร์ ถนนสุขุมวิท แขวงคลองเตยเหนือ เขตวัฒนา กรุงเทพฯ 0 2679 6226
URL:https://thaibloodcentre.redcross.or.th/event/%e0%b8%9a%e0%b8%a3%e0%b8%b4%e0%b8%a9%e0%b8%b1%e0%b8%97-%e0%b9%80%e0%b8%ad%e0%b9%80%e0%b8%8b%e0%b8%b5%e0%b8%a2%e0%b9%80%e0%b8%aa%e0%b8%a3%e0%b8%b4%e0%b8%a1%e0%b8%81%e0%b8%b4%e0%b8%88%e0%b8%a5-7/
LOCATION:บริษัท เอเซียเสริมกิจลีสซิ่ง จำกัด (มหาชน)\, บริษัท เอเซียเสริมกิจลีสซิ่ง จำกัด (มหาชน) 129 อาคารเจแอลเคทาวเวอร์ ชั้นที่ 20 ถ.สุขุมวิท แขวงคลองเตย เขตวัฒนา กรุงเทพมหานคร 10110
CATEGORIES:ปฏิทินตารางหน่วยเคลื่อนที่
END:VEVENT
BEGIN:VEVENT
DTSTART;TZID=Asia/Krasnoyarsk:20260210T093000
DTEND;TZID=Asia/Krasnoyarsk:20260210T150000
DTSTAMP:20260425T230631
CREATED:20260204T121325Z
LAST-MODIFIED:20260204T121325Z
UID:10005475-1770715800-1770735600@thaibloodcentre.redcross.or.th
SUMMARY:บริษัท บัตรกรุงไทย จำกัด (มหาชน) []
DESCRIPTION:สถานที่เจาะ : ห้องจัดกิจกรรม 1001 ชั้น 10 อาคาร UBC II (พัก 11.30-12.30 น.) \nที่อยู่ : 591 สุขุมวิท 33 แขวงคลองตันเหนือ เขตวัฒนา กรุงเทพฯ 0 2828 5859
URL:https://thaibloodcentre.redcross.or.th/event/%e0%b8%9a%e0%b8%a3%e0%b8%b4%e0%b8%a9%e0%b8%b1%e0%b8%97-%e0%b8%9a%e0%b8%b1%e0%b8%95%e0%b8%a3%e0%b8%81%e0%b8%a3%e0%b8%b8%e0%b8%87%e0%b9%84%e0%b8%97%e0%b8%a2-%e0%b8%88%e0%b8%b3%e0%b8%81%e0%b8%b1-5/
LOCATION:บริษัท บัตรกรุงไทย จำกัด (มหาชน)
CATEGORIES:ปฏิทินตารางหน่วยเคลื่อนที่
END:VEVENT
BEGIN:VEVENT
DTSTART;TZID=Asia/Krasnoyarsk:20260210T090000
DTEND;TZID=Asia/Krasnoyarsk:20260210T150000
DTSTAMP:20260425T230631
CREATED:20260204T121519Z
LAST-MODIFIED:20260204T121519Z
UID:10005479-1770714000-1770735600@thaibloodcentre.redcross.or.th
SUMMARY:โรงพยาบาลวิมุต []
DESCRIPTION:สถานที่เจาะ : ห้องประชุม 10/1 ชั้น 10 (พัก 12.00-13.00 น.) \nที่อยู่ : 500 ถนนพหลโยธิน แขวงสามเสนใน เขตพญาไท กรุงเทพฯ
URL:https://thaibloodcentre.redcross.or.th/event/%e0%b9%82%e0%b8%a3%e0%b8%87%e0%b8%9e%e0%b8%a2%e0%b8%b2%e0%b8%9a%e0%b8%b2%e0%b8%a5%e0%b8%a7%e0%b8%b4%e0%b8%a1%e0%b8%b8%e0%b8%95-3/
LOCATION:โรงพยาบาลวิมุต\, โรงพยาบาลวิมุต 500 ถนนพหลโยธิน แขวงสามเสนใน เขตพญาไท กรุงเทพมหานคร 10400
CATEGORIES:ปฏิทินตารางหน่วยเคลื่อนที่
END:VEVENT
BEGIN:VEVENT
DTSTART;TZID=Asia/Krasnoyarsk:20260210T090000
DTEND;TZID=Asia/Krasnoyarsk:20260210T150000
DTSTAMP:20260425T230631
CREATED:20260204T121333Z
LAST-MODIFIED:20260204T121333Z
UID:10005478-1770714000-1770735600@thaibloodcentre.redcross.or.th
SUMMARY:บริษัท นัดพบบางใหญ่ จำกัด สาขาเตาปูน []
DESCRIPTION:สถานที่เจาะ : ด้านหน้าโชว์รูม (พัก 12.00-13.00 น.) \nที่อยู่ : 303 ถนนกรุงเทพ-นนทบุรี แขวงบางซื่อ เขตบางซื่อ กรุงเทพฯ 0 2911 5179
URL:https://thaibloodcentre.redcross.or.th/event/%e0%b8%9a%e0%b8%a3%e0%b8%b4%e0%b8%a9%e0%b8%b1%e0%b8%97-%e0%b8%99%e0%b8%b1%e0%b8%94%e0%b8%9e%e0%b8%9a%e0%b8%9a%e0%b8%b2%e0%b8%87%e0%b9%83%e0%b8%ab%e0%b8%8d%e0%b9%88-%e0%b8%88%e0%b8%b3%e0%b8%81-7/
LOCATION:บริษัท นัดพบบางใหญ่ จำกัด สาขาเตาปูน\, บริษัท นัดพบบางใหญ่ จำกัด สาขาเตาปูน 303 ถ.กรุงเทพ - นนทบุรี แขวงบางซื่อ เขตบางซื่อ กรุงเทพมหานคร 10800
CATEGORIES:ปฏิทินตารางหน่วยเคลื่อนที่
END:VEVENT
BEGIN:VEVENT
DTSTART;TZID=Asia/Krasnoyarsk:20260210T090000
DTEND;TZID=Asia/Krasnoyarsk:20260210T150000
DTSTAMP:20260425T230631
CREATED:20260204T121330Z
LAST-MODIFIED:20260204T121330Z
UID:10005477-1770714000-1770735600@thaibloodcentre.redcross.or.th
SUMMARY:บริษัท เดอะพลาซ่า ดีพาร์ทเม้นท์สโตร์ จำกัด []
DESCRIPTION:สถานที่เจาะ : ห้องโถง ชั้น 1 อาคาร ABC World (พัก 12.00-13.00 น.) \nที่อยู่ : 390 อาคาร เอบีซี เวิลด์ รามคำแหง 30 แขวงหัวหมาก เขตบางกะปิ กรุงเทพฯ 0 2732 9002
URL:https://thaibloodcentre.redcross.or.th/event/%e0%b8%9a%e0%b8%a3%e0%b8%b4%e0%b8%a9%e0%b8%b1%e0%b8%97-%e0%b9%80%e0%b8%94%e0%b8%ad%e0%b8%b0%e0%b8%9e%e0%b8%a5%e0%b8%b2%e0%b8%8b%e0%b9%88%e0%b8%b2-%e0%b8%94%e0%b8%b5%e0%b8%9e%e0%b8%b2%e0%b8%a3-6/
LOCATION:บริษัท เดอะพลาซ่า ดีพาร์ทเม้นท์สโตร์ จำกัด\, ABC World 390 ซอยรามคำแหง 30 แขวงหัวหมาก เขตบางกะปิ กรุงเทพมหานคร 10240
CATEGORIES:ปฏิทินตารางหน่วยเคลื่อนที่
END:VEVENT
BEGIN:VEVENT
DTSTART;TZID=Asia/Krasnoyarsk:20260210T090000
DTEND;TZID=Asia/Krasnoyarsk:20260210T150000
DTSTAMP:20260425T230631
CREATED:20260204T121328Z
LAST-MODIFIED:20260204T121328Z
UID:10005476-1770714000-1770735600@thaibloodcentre.redcross.or.th
SUMMARY:บริษัท ซีพีเอฟ ฟู้ด แอนด์ เบฟเวอร์เรจ จำกัด []
DESCRIPTION:สถานที่เจาะ : ด้านหลังอาคารสำนักงานใหญ่ (พัก 12.00-13.00 น.) \nที่อยู่ : 30/3 ถนนสุวินทวงศ์ แขวงลำผักชี เขตหนองจอก กรุงเทพฯ 0 2989 7613-7
URL:https://thaibloodcentre.redcross.or.th/event/%e0%b8%9a%e0%b8%a3%e0%b8%b4%e0%b8%a9%e0%b8%b1%e0%b8%97-%e0%b8%8b%e0%b8%b5%e0%b8%9e%e0%b8%b5%e0%b9%80%e0%b8%ad%e0%b8%9f-%e0%b8%9f%e0%b8%b9%e0%b9%89%e0%b8%94-%e0%b9%81%e0%b8%ad%e0%b8%99%e0%b8%94-5/
LOCATION:บริษัท ซีพีเอฟ ฟู้ด แอนด์ เบฟเวอร์เรจ จำกัด\, บริษัท ซีพีเอฟ ฟู้ด แอนด์ เบฟเวอร์เรจ จำกัด ม.3 ถ.สุวินทวงศ์ แขวงลำผักชี เขตหนองจอก กรุงเทพมหานคร 10530
CATEGORIES:ปฏิทินตารางหน่วยเคลื่อนที่
END:VEVENT
BEGIN:VEVENT
DTSTART;TZID=Asia/Krasnoyarsk:20260210T090000
DTEND;TZID=Asia/Krasnoyarsk:20260210T150000
DTSTAMP:20260425T230631
CREATED:20260204T121210Z
LAST-MODIFIED:20260204T121224Z
UID:10005471-1770714000-1770735600@thaibloodcentre.redcross.or.th
SUMMARY:บ้านทรงไทย (ย่านวงศ์สว่าง) []
DESCRIPTION:สถานที่เจาะ : (พัก 12.30-13.00 น.) \nที่อยู่ : 1423 ถนนกรุงเทพ – นนทบุรี แขวงวงศ์สว่าง เขตบางซื่อ กรุงเทพฯ 0 2256 4300
URL:https://thaibloodcentre.redcross.or.th/event/%e0%b8%9a%e0%b9%89%e0%b8%b2%e0%b8%99%e0%b8%97%e0%b8%a3%e0%b8%87%e0%b9%84%e0%b8%97%e0%b8%a2-%e0%b8%a2%e0%b9%88%e0%b8%b2%e0%b8%99%e0%b8%a7%e0%b8%87%e0%b8%a8%e0%b9%8c%e0%b8%aa%e0%b8%a7%e0%b9%88-344/
LOCATION:บ้านทรงไทย (ย่านวงศ์สว่าง)\, หน่วยรับบริจาคโลหิต บ้านทรงไทย(ย่านวงศ์สว่าง) 1423 ถนนกรุงเทพ-นนทบุรี แขวงวงศ์สว่าง เขตบางซื่อ กรุงเทพมหานคร 10800
CATEGORIES:ปฏิทินตารางหน่วยเคลื่อนที่
END:VEVENT
END:VCALENDAR