BEGIN:VCALENDAR
VERSION:2.0
PRODID:-//เว็บไซต์ศูนย์บริการโลหิตแห่งชาติ - ECPv6.11.2.1//NONSGML v1.0//EN
CALSCALE:GREGORIAN
METHOD:PUBLISH
X-WR-CALNAME:เว็บไซต์ศูนย์บริการโลหิตแห่งชาติ
X-ORIGINAL-URL:https://thaibloodcentre.redcross.or.th
X-WR-CALDESC:Events for เว็บไซต์ศูนย์บริการโลหิตแห่งชาติ
REFRESH-INTERVAL;VALUE=DURATION:PT1H
X-Robots-Tag:noindex
X-PUBLISHED-TTL:PT1H
BEGIN:VTIMEZONE
TZID:Asia/Krasnoyarsk
BEGIN:STANDARD
TZOFFSETFROM:+0700
TZOFFSETTO:+0700
TZNAME:+07
DTSTART:20250101T000000
END:STANDARD
END:VTIMEZONE
BEGIN:VEVENT
DTSTART;TZID=Asia/Krasnoyarsk:20251112T120000
DTEND;TZID=Asia/Krasnoyarsk:20251112T180000
DTSTAMP:20260426T021431
CREATED:20251111T050116Z
LAST-MODIFIED:20251111T050116Z
UID:10004208-1762948800-1762970400@thaibloodcentre.redcross.or.th
SUMMARY:ศูนย์การค้าเดอะมอลล์ไลฟ์สโตร์ ท่าพระ []
DESCRIPTION:สถานที่เจาะ : ชั้น 1 (ติดลานจอดรถ) \nที่อยู่ : 99 ถนนรัชดาท่าพระตัดใหม่ แขวงบุคคโล เขตธนบุรี กรุงเทพฯ  \nโทร : 0 2469-1000
URL:https://thaibloodcentre.redcross.or.th/event/%e0%b8%a8%e0%b8%b9%e0%b8%99%e0%b8%a2%e0%b9%8c%e0%b8%81%e0%b8%b2%e0%b8%a3%e0%b8%84%e0%b9%89%e0%b8%b2%e0%b9%80%e0%b8%94%e0%b8%ad%e0%b8%b0%e0%b8%a1%e0%b8%ad%e0%b8%a5%e0%b8%a5%e0%b9%8c%e0%b9%84-1027/
LOCATION:ศูนย์การค้าเดอะมอลล์ไลฟ์สโตร์ ท่าพระ\, เดอะมอลล์ไลฟ์สโตร์ ท่าพระ 129 ถ. รัชดาภิเษก แขวงบุคคโล เขตธนบุรี กรุงเทพมหานคร 10600
CATEGORIES:ปฏิทินตารางหน่วยเคลื่อนที่
END:VEVENT
BEGIN:VEVENT
DTSTART;TZID=Asia/Krasnoyarsk:20251112T120000
DTEND;TZID=Asia/Krasnoyarsk:20251112T180000
DTSTAMP:20260426T021431
CREATED:20251111T050111Z
LAST-MODIFIED:20251111T050111Z
UID:10004207-1762948800-1762970400@thaibloodcentre.redcross.or.th
SUMMARY:ศูนย์การค้า เอ็มโพเรียม []
DESCRIPTION:สถานที่เจาะ : ชั้น M ศูนย์การค้า ดิ เอ็มโพเรียม เชื่อมลานจอดรถอาคาร B \nที่อยู่ : 622 ถนนสุขุมวิท แขวงคลองตัน เขตคลองเตย กรุงเทพฯ  \nโทร : 0 2269 1515
URL:https://thaibloodcentre.redcross.or.th/event/%e0%b8%a8%e0%b8%b9%e0%b8%99%e0%b8%a2%e0%b9%8c%e0%b8%81%e0%b8%b2%e0%b8%a3%e0%b8%84%e0%b9%89%e0%b8%b2-%e0%b9%80%e0%b8%ad%e0%b9%87%e0%b8%a1%e0%b9%82%e0%b8%9e%e0%b9%80%e0%b8%a3%e0%b8%b5%e0%b8%a2-252/
LOCATION:ศูนย์การค้า เอ็มโพเรียม\, เอ็มโพเรียม 622 ถ. สุขุมวิท แขวงคลองตัน เขตคลองเตย กรุงเทพมหานคร 10110
CATEGORIES:ปฏิทินตารางหน่วยเคลื่อนที่
END:VEVENT
BEGIN:VEVENT
DTSTART;TZID=Asia/Krasnoyarsk:20251112T120000
DTEND;TZID=Asia/Krasnoyarsk:20251112T180000
DTSTAMP:20260426T021431
CREATED:20251111T050102Z
LAST-MODIFIED:20251111T050102Z
UID:10004206-1762948800-1762970400@thaibloodcentre.redcross.or.th
SUMMARY:ศูนย์การค้าเดอะมอลล์ไลฟ์สโตร์ งามวงศ์วาน []
DESCRIPTION:สถานที่เจาะ : ชั้น 5 โซน Government Center \nที่อยู่ : ถนนงามวงศ์วาน ต.บางเขน อ.เมือง จ.นนทบุรี  \nโทร : 0 2555 1550
URL:https://thaibloodcentre.redcross.or.th/event/%e0%b8%a8%e0%b8%b9%e0%b8%99%e0%b8%a2%e0%b9%8c%e0%b8%81%e0%b8%b2%e0%b8%a3%e0%b8%84%e0%b9%89%e0%b8%b2%e0%b9%80%e0%b8%94%e0%b8%ad%e0%b8%b0%e0%b8%a1%e0%b8%ad%e0%b8%a5%e0%b8%a5%e0%b9%8c%e0%b9%84-1026/
LOCATION:ศูนย์การค้าเดอะมอลล์ไลฟ์สโตร์ งามวงศ์วาน\, เดอะมอลล์ ไลฟ์สโตร์ งามวงศ์วาน 430 ถนน งามวงศ์วาน ตำบลบางเขน อำเภอเมืองนนทบุรี นนทบุรี 11000
CATEGORIES:ปฏิทินตารางหน่วยเคลื่อนที่
END:VEVENT
BEGIN:VEVENT
DTSTART;TZID=Asia/Krasnoyarsk:20251112T120000
DTEND;TZID=Asia/Krasnoyarsk:20251112T180000
DTSTAMP:20260426T021431
CREATED:20251111T050038Z
LAST-MODIFIED:20251111T050038Z
UID:10004205-1762948800-1762970400@thaibloodcentre.redcross.or.th
SUMMARY:ศูนย์การค้าเดอะมอลล์ไลฟ์สโตร์ บางกะปิ []
DESCRIPTION:สถานที่เจาะ : ชั้น 2 ทางออกลานจอดรถ \nที่อยู่ : ถนนลาดพร้าว แขวงคลองจั่น เขตบางกะปิ กรุงเทพฯ  \nโทร : 0 2310 2278
URL:https://thaibloodcentre.redcross.or.th/event/%e0%b8%a8%e0%b8%b9%e0%b8%99%e0%b8%a2%e0%b9%8c%e0%b8%81%e0%b8%b2%e0%b8%a3%e0%b8%84%e0%b9%89%e0%b8%b2%e0%b9%80%e0%b8%94%e0%b8%ad%e0%b8%b0%e0%b8%a1%e0%b8%ad%e0%b8%a5%e0%b8%a5%e0%b9%8c%e0%b9%84-1025/
LOCATION:ศูนย์การค้าเดอะมอลล์ไลฟ์สโตร์ บางกะปิ\, เดอะมอลล์ไลฟ์สโตร์ บางกะปิ 3522 ถ. ลาดพร้าว แขวงคลองจั่น เขตบางกะปิ กรุงเทพมหานคร 10240
CATEGORIES:ปฏิทินตารางหน่วยเคลื่อนที่
END:VEVENT
BEGIN:VEVENT
DTSTART;TZID=Asia/Krasnoyarsk:20251112T120000
DTEND;TZID=Asia/Krasnoyarsk:20251112T180000
DTSTAMP:20260426T021431
CREATED:20251111T050028Z
LAST-MODIFIED:20251111T050028Z
UID:10004204-1762948800-1762970400@thaibloodcentre.redcross.or.th
SUMMARY:ศูนย์การค้าเดอะมอลล์ไลฟ์สโตร์ บางแค []
DESCRIPTION:สถานที่เจาะ : ชั้น 3 ตรงข้ามร้านโอ้กะจู๋ \nที่อยู่ : ถนนเพชรเกษม แขวงบางแคเหนือ เขตภาษีเจริญ กรุงเทพฯ  \nโทร : 02 487 1221
URL:https://thaibloodcentre.redcross.or.th/event/%e0%b8%a8%e0%b8%b9%e0%b8%99%e0%b8%a2%e0%b9%8c%e0%b8%81%e0%b8%b2%e0%b8%a3%e0%b8%84%e0%b9%89%e0%b8%b2%e0%b9%80%e0%b8%94%e0%b8%ad%e0%b8%b0%e0%b8%a1%e0%b8%ad%e0%b8%a5%e0%b8%a5%e0%b9%8c%e0%b9%84-1024/
LOCATION:ศูนย์การค้าเดอะมอลล์ไลฟ์สโตร์ บางแค\, ศูนย์การค้าเดอะมอลล์ไลฟ์สโตร์ บางแค
CATEGORIES:ปฏิทินตารางหน่วยเคลื่อนที่
END:VEVENT
BEGIN:VEVENT
DTSTART;TZID=Asia/Krasnoyarsk:20251112T110000
DTEND;TZID=Asia/Krasnoyarsk:20251112T150000
DTSTAMP:20260426T021431
CREATED:20251111T050213Z
LAST-MODIFIED:20251111T050213Z
UID:10004216-1762945200-1762959600@thaibloodcentre.redcross.or.th
SUMMARY:เซ็นทรัลพลาซา แจ้งวัฒนะ []
DESCRIPTION:สถานที่เจาะ : ชั้น 7 Education Zone \nที่อยู่ : 99/99 ม.2 ถ.แจ้งวัฒนะ ต.บางตลาด อ.ปากเกร็ด จ.นนทบุรี  \nโทร : 0 2101 0000
URL:https://thaibloodcentre.redcross.or.th/event/%e0%b9%80%e0%b8%8b%e0%b9%87%e0%b8%99%e0%b8%97%e0%b8%a3%e0%b8%b1%e0%b8%a5%e0%b8%9e%e0%b8%a5%e0%b8%b2%e0%b8%8b%e0%b8%b2-%e0%b9%81%e0%b8%88%e0%b9%89%e0%b8%87%e0%b8%a7%e0%b8%b1%e0%b8%92%e0%b8%99-13/
LOCATION:เซ็นทรัลพลาซา แจ้งวัฒนะ\, เซ็นทรัลพลาซา แจ้งวัฒนะ 99-99/9 หมู่ที่ 2 ถ. แจ้งวัฒนะ ตำบลบางตลาด อำเภอปากเกร็ด นนทบุรี 11120
CATEGORIES:ปฏิทินตารางหน่วยเคลื่อนที่
END:VEVENT
BEGIN:VEVENT
DTSTART;TZID=Asia/Krasnoyarsk:20251112T110000
DTEND;TZID=Asia/Krasnoyarsk:20251112T150000
DTSTAMP:20260426T021431
CREATED:20251111T050207Z
LAST-MODIFIED:20251111T050221Z
UID:10004215-1762945200-1762959600@thaibloodcentre.redcross.or.th
SUMMARY:มหาวิทยาลัยเอเชียอาคเนย์ []
DESCRIPTION:สถานที่เจาะ : หน้าโรงอาหาร \nที่อยู่ : 19/1 ถนนเพชรเกษม แขวงหนองค้างพลู เขตหนองแขม กรุงเทพฯ  \nโทร : 0 2807 4500-2
URL:https://thaibloodcentre.redcross.or.th/event/%e0%b8%a1%e0%b8%ab%e0%b8%b2%e0%b8%a7%e0%b8%b4%e0%b8%97%e0%b8%a2%e0%b8%b2%e0%b8%a5%e0%b8%b1%e0%b8%a2%e0%b9%80%e0%b8%ad%e0%b9%80%e0%b8%8a%e0%b8%b5%e0%b8%a2%e0%b8%ad%e0%b8%b2%e0%b8%84%e0%b9%80%e0%b8%99-5/
LOCATION:มหาวิทยาลัยเอเชียอาคเนย์
CATEGORIES:ปฏิทินตารางหน่วยเคลื่อนที่
END:VEVENT
BEGIN:VEVENT
DTSTART;TZID=Asia/Krasnoyarsk:20251112T110000
DTEND;TZID=Asia/Krasnoyarsk:20251112T150000
DTSTAMP:20260426T021431
CREATED:20251111T050147Z
LAST-MODIFIED:20251111T050147Z
UID:10004211-1762945200-1762959600@thaibloodcentre.redcross.or.th
SUMMARY:เซ็นทรัลพลาซา แจ้งวัฒนะ []
DESCRIPTION:สถานที่เจาะ : ชั้น 7 Education Zone \nที่อยู่ : 99/99 ม.2 ถ.แจ้งวัฒนะ ต.บางตลาด อ.ปากเกร็ด จ.นนทบุรี  \nโทร : 0 2101 0000
URL:https://thaibloodcentre.redcross.or.th/event/%e0%b9%80%e0%b8%8b%e0%b9%87%e0%b8%99%e0%b8%97%e0%b8%a3%e0%b8%b1%e0%b8%a5%e0%b8%9e%e0%b8%a5%e0%b8%b2%e0%b8%8b%e0%b8%b2-%e0%b9%81%e0%b8%88%e0%b9%89%e0%b8%87%e0%b8%a7%e0%b8%b1%e0%b8%92%e0%b8%99-12/
LOCATION:เซ็นทรัลพลาซา แจ้งวัฒนะ\, เซ็นทรัลพลาซา แจ้งวัฒนะ 99-99/9 หมู่ที่ 2 ถ. แจ้งวัฒนะ ตำบลบางตลาด อำเภอปากเกร็ด นนทบุรี 11120
CATEGORIES:ปฏิทินตารางหน่วยเคลื่อนที่
END:VEVENT
BEGIN:VEVENT
DTSTART;TZID=Asia/Krasnoyarsk:20251112T093000
DTEND;TZID=Asia/Krasnoyarsk:20251112T150000
DTSTAMP:20260426T021431
CREATED:20251111T050159Z
LAST-MODIFIED:20251111T050219Z
UID:10004213-1762939800-1762959600@thaibloodcentre.redcross.or.th
SUMMARY:บริษัท คอนติเนนตัลบรรจุภัณฑ์ (ไทยแลนด์) จำกัด []
DESCRIPTION:สถานที่เจาะ : ลานจอดรถ (พัก 11.30-12.30 น.) \nที่อยู่ : 86 ม.13 ถ.บางนา-ตราด กม.10 ต.บางพลีใหญ่ อ.บางพลี จ.สมุทรปราการ  \nโทร : 0 2316 6796
URL:https://thaibloodcentre.redcross.or.th/event/%e0%b8%9a%e0%b8%a3%e0%b8%b4%e0%b8%a9%e0%b8%b1%e0%b8%97-%e0%b8%84%e0%b8%ad%e0%b8%99%e0%b8%95%e0%b8%b4%e0%b9%80%e0%b8%99%e0%b8%99%e0%b8%95%e0%b8%b1%e0%b8%a5%e0%b8%9a%e0%b8%a3%e0%b8%a3%e0%b8%88-5/
LOCATION:บริษัท คอนติเนนตัลบรรจุภัณฑ์ (ไทยแลนด์) จำกัด\, บริษัท คอนติเนนตัลบรรจุภัณฑ์ (ไทยแลนด์) จำกัด 86 หมู่ 13 ถ.บางนา-ตราด บางพลี-ใหญ่ บางพลี สมุทรปราการ 10540
CATEGORIES:ปฏิทินตารางหน่วยเคลื่อนที่
END:VEVENT
BEGIN:VEVENT
DTSTART;TZID=Asia/Krasnoyarsk:20251112T090000
DTEND;TZID=Asia/Krasnoyarsk:20251112T150000
DTSTAMP:20260426T021431
CREATED:20251111T050204Z
LAST-MODIFIED:20251111T050220Z
UID:10004214-1762938000-1762959600@thaibloodcentre.redcross.or.th
SUMMARY:อาคารคิวเฮ้าส์ ลุมพินี []
DESCRIPTION:สถานที่เจาะ : ชั้น 4 (พัก 11.30-12.30 น.) \nที่อยู่ : 1 (ฝ่ายอาคารชั้น 4) ถนนสาทรใต้ แขวงทุ่งมหาเมฆ เขตสาทร กรุงเทพฯ  \nโทร : 0 2677 7177
URL:https://thaibloodcentre.redcross.or.th/event/%e0%b8%ad%e0%b8%b2%e0%b8%84%e0%b8%b2%e0%b8%a3%e0%b8%84%e0%b8%b4%e0%b8%a7%e0%b9%80%e0%b8%ae%e0%b9%89%e0%b8%b2%e0%b8%aa%e0%b9%8c-%e0%b8%a5%e0%b8%b8%e0%b8%a1%e0%b8%9e%e0%b8%b4%e0%b8%99%e0%b8%b5-3/
LOCATION:อาคารคิวเฮ้าส์ ลุมพินี\, อาคารคิวเฮ้าส์ ลุมพินี 1 Q House Lumpini 25 th Floor ถ.สาทรใต้ แขวงทุ่งมหาเมฆ เขตสาทร กรุงเทพมหานคร 10120
CATEGORIES:ปฏิทินตารางหน่วยเคลื่อนที่
END:VEVENT
BEGIN:VEVENT
DTSTART;TZID=Asia/Krasnoyarsk:20251112T090000
DTEND;TZID=Asia/Krasnoyarsk:20251112T150000
DTSTAMP:20260426T021431
CREATED:20251111T050154Z
LAST-MODIFIED:20251111T050218Z
UID:10004212-1762938000-1762959600@thaibloodcentre.redcross.or.th
SUMMARY:บริษัท ไทยออพติคอลกรุ๊ป จำกัด (มหาชน) []
DESCRIPTION:สถานที่เจาะ : ห้องประชุม Tog hall (พัก 12-13 น.) \nที่อยู่ : 15 ม.6 ถ.บางบัวทอง-สุพรรณบุรี ต.ละหาร อ.บางบัวทอง จ.นนทบุรี  \nโทร : 0 2194 1145-50
URL:https://thaibloodcentre.redcross.or.th/event/%e0%b8%9a%e0%b8%a3%e0%b8%b4%e0%b8%a9%e0%b8%b1%e0%b8%97-%e0%b9%84%e0%b8%97%e0%b8%a2%e0%b8%ad%e0%b8%ad%e0%b8%9e%e0%b8%95%e0%b8%b4%e0%b8%84%e0%b8%ad%e0%b8%a5%e0%b8%81%e0%b8%a3%e0%b8%b8%e0%b9%8a-4/
LOCATION:บริษัท ไทยออพติคอลกรุ๊ป จำกัด (มหาชน)
CATEGORIES:ปฏิทินตารางหน่วยเคลื่อนที่
END:VEVENT
BEGIN:VEVENT
DTSTART;TZID=Asia/Krasnoyarsk:20251112T090000
DTEND;TZID=Asia/Krasnoyarsk:20251112T150000
DTSTAMP:20260426T021431
CREATED:20251111T050134Z
LAST-MODIFIED:20251111T050134Z
UID:10004210-1762938000-1762959600@thaibloodcentre.redcross.or.th
SUMMARY:บ้านทรงไทย (ย่านวงศ์สว่าง) []
DESCRIPTION:สถานที่เจาะ : (พัก 12.30-13.00 น.) \nที่อยู่ : 1423 ถนนกรุงเทพ – นนทบุรี แขวงวงศ์สว่าง เขตบางซื่อ กรุงเทพฯ  \nโทร : 0 2256 4300
URL:https://thaibloodcentre.redcross.or.th/event/%e0%b8%9a%e0%b9%89%e0%b8%b2%e0%b8%99%e0%b8%97%e0%b8%a3%e0%b8%87%e0%b9%84%e0%b8%97%e0%b8%a2-%e0%b8%a2%e0%b9%88%e0%b8%b2%e0%b8%99%e0%b8%a7%e0%b8%87%e0%b8%a8%e0%b9%8c%e0%b8%aa%e0%b8%a7%e0%b9%88-254/
LOCATION:บ้านทรงไทย (ย่านวงศ์สว่าง)\, หน่วยรับบริจาคโลหิต บ้านทรงไทย(ย่านวงศ์สว่าง) 1423 ถนนกรุงเทพ-นนทบุรี แขวงวงศ์สว่าง เขตบางซื่อ กรุงเทพมหานคร 10800
CATEGORIES:ปฏิทินตารางหน่วยเคลื่อนที่
END:VEVENT
BEGIN:VEVENT
DTSTART;TZID=Asia/Krasnoyarsk:20251112T083000
DTEND;TZID=Asia/Krasnoyarsk:20251112T193000
DTSTAMP:20260426T021431
CREATED:20251111T050127Z
LAST-MODIFIED:20251111T050127Z
UID:10004209-1762936200-1762975800@thaibloodcentre.redcross.or.th
SUMMARY:สถานีกาชาด 11 วิเศษนิยม []
DESCRIPTION:สถานที่เจาะ : ชั้น 3 \nที่อยู่ : 33/3 ถนนเพชรเกษม แขวงบางหว้า เขตภาษีเจริญ กรุงเทพฯ
URL:https://thaibloodcentre.redcross.or.th/event/%e0%b8%aa%e0%b8%96%e0%b8%b2%e0%b8%99%e0%b8%b5%e0%b8%81%e0%b8%b2%e0%b8%8a%e0%b8%b2%e0%b8%94-11-%e0%b8%a7%e0%b8%b4%e0%b9%80%e0%b8%a8%e0%b8%a9%e0%b8%99%e0%b8%b4%e0%b8%a2%e0%b8%a1-85/
LOCATION:สถานีกาชาด 11 วิเศษนิยม\, สถานีกาชาด 11 วิเศษนิยม 605 ถ.เพชรเกษม แขวงบางหว้า เขตภาษีเจริญ กรุงเทพมหานคร 10160
CATEGORIES:ปฏิทินตารางหน่วยเคลื่อนที่
END:VEVENT
BEGIN:VEVENT
DTSTART;TZID=Asia/Krasnoyarsk:20251112T073000
DTEND;TZID=Asia/Krasnoyarsk:20251112T193000
DTSTAMP:20260426T021431
CREATED:20251111T050022Z
LAST-MODIFIED:20251111T050022Z
UID:10004203-1762932600-1762975800@thaibloodcentre.redcross.or.th
SUMMARY:ศูนย์บริการโลหิตแห่งชาติ สภากาชาดไทย []
DESCRIPTION:ที่อยู่ : 1871 ถ. อังรีดูนังต์ แขวงปทุมวัน เขตปทุมวัน
URL:https://thaibloodcentre.redcross.or.th/event/%e0%b8%a8%e0%b8%b9%e0%b8%99%e0%b8%a2%e0%b9%8c%e0%b8%9a%e0%b8%a3%e0%b8%b4%e0%b8%81%e0%b8%b2%e0%b8%a3%e0%b9%82%e0%b8%a5%e0%b8%ab%e0%b8%b4%e0%b8%95%e0%b9%81%e0%b8%ab%e0%b9%88%e0%b8%87%e0%b8%8a-337/
LOCATION:ศูนย์บริการโลหิตแห่งชาติ สภากาชาดไทย\, ศูนย์บริการโลหิตแห่งชาติ สภากาชาดไทย 1871 ถ. อังรีดูนังต์ แขวงปทุมวัน เขตปทุมวัน กรุงเทพมหานคร 10330
CATEGORIES:ปฏิทินตารางหน่วยเคลื่อนที่
END:VEVENT
BEGIN:VEVENT
DTSTART;TZID=Asia/Krasnoyarsk:20251111T120000
DTEND;TZID=Asia/Krasnoyarsk:20251111T180000
DTSTAMP:20260426T021431
CREATED:20251111T045945Z
LAST-MODIFIED:20251111T045945Z
UID:10004196-1762862400-1762884000@thaibloodcentre.redcross.or.th
SUMMARY:ศูนย์การค้าเดอะมอลล์ไลฟ์สโตร์ ท่าพระ []
DESCRIPTION:สถานที่เจาะ : ชั้น 1 (ติดลานจอดรถ) \nที่อยู่ : 99 ถนนรัชดาท่าพระตัดใหม่ แขวงบุคคโล เขตธนบุรี กรุงเทพฯ  \nโทร : 0 2469-1000
URL:https://thaibloodcentre.redcross.or.th/event/%e0%b8%a8%e0%b8%b9%e0%b8%99%e0%b8%a2%e0%b9%8c%e0%b8%81%e0%b8%b2%e0%b8%a3%e0%b8%84%e0%b9%89%e0%b8%b2%e0%b9%80%e0%b8%94%e0%b8%ad%e0%b8%b0%e0%b8%a1%e0%b8%ad%e0%b8%a5%e0%b8%a5%e0%b9%8c%e0%b9%84-1023/
LOCATION:ศูนย์การค้าเดอะมอลล์ไลฟ์สโตร์ ท่าพระ\, เดอะมอลล์ไลฟ์สโตร์ ท่าพระ 129 ถ. รัชดาภิเษก แขวงบุคคโล เขตธนบุรี กรุงเทพมหานคร 10600
CATEGORIES:ปฏิทินตารางหน่วยเคลื่อนที่
END:VEVENT
BEGIN:VEVENT
DTSTART;TZID=Asia/Krasnoyarsk:20251111T120000
DTEND;TZID=Asia/Krasnoyarsk:20251111T180000
DTSTAMP:20260426T021431
CREATED:20251111T045937Z
LAST-MODIFIED:20251111T045937Z
UID:10004195-1762862400-1762884000@thaibloodcentre.redcross.or.th
SUMMARY:ศูนย์การค้า เอ็มโพเรียม []
DESCRIPTION:สถานที่เจาะ : ชั้น M ศูนย์การค้า ดิ เอ็มโพเรียม เชื่อมลานจอดรถอาคาร B \nที่อยู่ : 622 ถนนสุขุมวิท แขวงคลองตัน เขตคลองเตย กรุงเทพฯ  \nโทร : 0 2269 1515
URL:https://thaibloodcentre.redcross.or.th/event/%e0%b8%a8%e0%b8%b9%e0%b8%99%e0%b8%a2%e0%b9%8c%e0%b8%81%e0%b8%b2%e0%b8%a3%e0%b8%84%e0%b9%89%e0%b8%b2-%e0%b9%80%e0%b8%ad%e0%b9%87%e0%b8%a1%e0%b9%82%e0%b8%9e%e0%b9%80%e0%b8%a3%e0%b8%b5%e0%b8%a2-251/
LOCATION:ศูนย์การค้า เอ็มโพเรียม\, เอ็มโพเรียม 622 ถ. สุขุมวิท แขวงคลองตัน เขตคลองเตย กรุงเทพมหานคร 10110
CATEGORIES:ปฏิทินตารางหน่วยเคลื่อนที่
END:VEVENT
BEGIN:VEVENT
DTSTART;TZID=Asia/Krasnoyarsk:20251111T120000
DTEND;TZID=Asia/Krasnoyarsk:20251111T180000
DTSTAMP:20260426T021431
CREATED:20251111T045930Z
LAST-MODIFIED:20251111T045930Z
UID:10004194-1762862400-1762884000@thaibloodcentre.redcross.or.th
SUMMARY:ศูนย์การค้าเดอะมอลล์ไลฟ์สโตร์ งามวงศ์วาน []
DESCRIPTION:สถานที่เจาะ : ชั้น 5 โซน Government Center \nที่อยู่ : ถนนงามวงศ์วาน ต.บางเขน อ.เมือง จ.นนทบุรี  \nโทร : 0 2555 1550
URL:https://thaibloodcentre.redcross.or.th/event/%e0%b8%a8%e0%b8%b9%e0%b8%99%e0%b8%a2%e0%b9%8c%e0%b8%81%e0%b8%b2%e0%b8%a3%e0%b8%84%e0%b9%89%e0%b8%b2%e0%b9%80%e0%b8%94%e0%b8%ad%e0%b8%b0%e0%b8%a1%e0%b8%ad%e0%b8%a5%e0%b8%a5%e0%b9%8c%e0%b9%84-1022/
LOCATION:ศูนย์การค้าเดอะมอลล์ไลฟ์สโตร์ งามวงศ์วาน\, เดอะมอลล์ ไลฟ์สโตร์ งามวงศ์วาน 430 ถนน งามวงศ์วาน ตำบลบางเขน อำเภอเมืองนนทบุรี นนทบุรี 11000
CATEGORIES:ปฏิทินตารางหน่วยเคลื่อนที่
END:VEVENT
BEGIN:VEVENT
DTSTART;TZID=Asia/Krasnoyarsk:20251111T120000
DTEND;TZID=Asia/Krasnoyarsk:20251111T180000
DTSTAMP:20260426T021431
CREATED:20251111T045923Z
LAST-MODIFIED:20251111T045923Z
UID:10004193-1762862400-1762884000@thaibloodcentre.redcross.or.th
SUMMARY:ศูนย์การค้าเดอะมอลล์ไลฟ์สโตร์ บางกะปิ []
DESCRIPTION:สถานที่เจาะ : ชั้น 2 ทางออกลานจอดรถ \nที่อยู่ : ถนนลาดพร้าว แขวงคลองจั่น เขตบางกะปิ กรุงเทพฯ  \nโทร : 0 2310 2278
URL:https://thaibloodcentre.redcross.or.th/event/%e0%b8%a8%e0%b8%b9%e0%b8%99%e0%b8%a2%e0%b9%8c%e0%b8%81%e0%b8%b2%e0%b8%a3%e0%b8%84%e0%b9%89%e0%b8%b2%e0%b9%80%e0%b8%94%e0%b8%ad%e0%b8%b0%e0%b8%a1%e0%b8%ad%e0%b8%a5%e0%b8%a5%e0%b9%8c%e0%b9%84-1021/
LOCATION:ศูนย์การค้าเดอะมอลล์ไลฟ์สโตร์ บางกะปิ\, เดอะมอลล์ไลฟ์สโตร์ บางกะปิ 3522 ถ. ลาดพร้าว แขวงคลองจั่น เขตบางกะปิ กรุงเทพมหานคร 10240
CATEGORIES:ปฏิทินตารางหน่วยเคลื่อนที่
END:VEVENT
BEGIN:VEVENT
DTSTART;TZID=Asia/Krasnoyarsk:20251111T120000
DTEND;TZID=Asia/Krasnoyarsk:20251111T180000
DTSTAMP:20260426T021431
CREATED:20251111T045915Z
LAST-MODIFIED:20251111T045915Z
UID:10004192-1762862400-1762884000@thaibloodcentre.redcross.or.th
SUMMARY:ศูนย์การค้าเดอะมอลล์ไลฟ์สโตร์ บางแค []
DESCRIPTION:สถานที่เจาะ : ชั้น 3 ตรงข้ามร้านโอ้กะจู๋ \nที่อยู่ : ถนนเพชรเกษม แขวงบางแคเหนือ เขตภาษีเจริญ กรุงเทพฯ  \nโทร : 02 487 1221
URL:https://thaibloodcentre.redcross.or.th/event/%e0%b8%a8%e0%b8%b9%e0%b8%99%e0%b8%a2%e0%b9%8c%e0%b8%81%e0%b8%b2%e0%b8%a3%e0%b8%84%e0%b9%89%e0%b8%b2%e0%b9%80%e0%b8%94%e0%b8%ad%e0%b8%b0%e0%b8%a1%e0%b8%ad%e0%b8%a5%e0%b8%a5%e0%b9%8c%e0%b9%84-1020/
LOCATION:ศูนย์การค้าเดอะมอลล์ไลฟ์สโตร์ บางแค\, ศูนย์การค้าเดอะมอลล์ไลฟ์สโตร์ บางแค
CATEGORIES:ปฏิทินตารางหน่วยเคลื่อนที่
END:VEVENT
BEGIN:VEVENT
DTSTART;TZID=Asia/Krasnoyarsk:20251111T110000
DTEND;TZID=Asia/Krasnoyarsk:20251111T150000
DTSTAMP:20260426T021431
CREATED:20251111T045957Z
LAST-MODIFIED:20251111T045957Z
UID:10004199-1762858800-1762873200@thaibloodcentre.redcross.or.th
SUMMARY:บริษัท เอเซียเสริมกิจลีสซิ่ง จำกัด (มหาชน) []
DESCRIPTION:สถานที่เจาะ : ชั้น 14 ห้อง 1401 อาคารเจแอลเค ทาวเวอร์ \nที่อยู่ : 129 ชั้น 19-21 อาคารเจแอลเค ทาวเวอร์ ถนนสุขุมวิท แขวงคลองเตยเหนือ เขตวัฒนา กรุงเทพฯ  \nโทร : 0 2679 6226
URL:https://thaibloodcentre.redcross.or.th/event/%e0%b8%9a%e0%b8%a3%e0%b8%b4%e0%b8%a9%e0%b8%b1%e0%b8%97-%e0%b9%80%e0%b8%ad%e0%b9%80%e0%b8%8b%e0%b8%b5%e0%b8%a2%e0%b9%80%e0%b8%aa%e0%b8%a3%e0%b8%b4%e0%b8%a1%e0%b8%81%e0%b8%b4%e0%b8%88%e0%b8%a5-6/
LOCATION:บริษัท เอเซียเสริมกิจลีสซิ่ง จำกัด (มหาชน)\, บริษัท เอเซียเสริมกิจลีสซิ่ง จำกัด (มหาชน) 129 อาคารเจแอลเคทาวเวอร์ ชั้นที่ 20 ถ.สุขุมวิท แขวงคลองเตย เขตวัฒนา กรุงเทพมหานคร 10110
CATEGORIES:ปฏิทินตารางหน่วยเคลื่อนที่
END:VEVENT
BEGIN:VEVENT
DTSTART;TZID=Asia/Krasnoyarsk:20251111T090000
DTEND;TZID=Asia/Krasnoyarsk:20251111T150000
DTSTAMP:20260426T021431
CREATED:20251111T050020Z
LAST-MODIFIED:20251111T050020Z
UID:10004202-1762851600-1762873200@thaibloodcentre.redcross.or.th
SUMMARY:บริษัท เดอะพลาซ่า ดีพาร์ทเม้นท์สโตร์ จำกัด []
DESCRIPTION:สถานที่เจาะ : ห้องโถง ชั้น 1 อาคาร ABC World (พัก 12-13 น.) \nที่อยู่ : 390 อาคาร เอบีซี เวิลด์ รามคำแหง 30 แขวงหัวหมาก เขตบางกะปิ กรุงเทพฯ  \nโทร : 0 2732 9002
URL:https://thaibloodcentre.redcross.or.th/event/%e0%b8%9a%e0%b8%a3%e0%b8%b4%e0%b8%a9%e0%b8%b1%e0%b8%97-%e0%b9%80%e0%b8%94%e0%b8%ad%e0%b8%b0%e0%b8%9e%e0%b8%a5%e0%b8%b2%e0%b8%8b%e0%b9%88%e0%b8%b2-%e0%b8%94%e0%b8%b5%e0%b8%9e%e0%b8%b2%e0%b8%a3-5/
LOCATION:บริษัท เดอะพลาซ่า ดีพาร์ทเม้นท์สโตร์ จำกัด\, ABC World 390 ซอยรามคำแหง 30 แขวงหัวหมาก เขตบางกะปิ กรุงเทพมหานคร 10240
CATEGORIES:ปฏิทินตารางหน่วยเคลื่อนที่
END:VEVENT
BEGIN:VEVENT
DTSTART;TZID=Asia/Krasnoyarsk:20251111T090000
DTEND;TZID=Asia/Krasnoyarsk:20251111T150000
DTSTAMP:20260426T021431
CREATED:20251111T050017Z
LAST-MODIFIED:20251111T050017Z
UID:10004201-1762851600-1762873200@thaibloodcentre.redcross.or.th
SUMMARY:บริษัท นัดพบบางใหญ่ จำกัด สาขาเตาปูน []
DESCRIPTION:สถานที่เจาะ : ด้านหน้าโชว์รูม (พัก 12-13 น.) \nที่อยู่ : 303 ถนนกรุงเทพ-นนทบุรี แขวงบางซื่อ เขตบางซื่อ กรุงเทพฯ  \nโทร : 0 2911 5179
URL:https://thaibloodcentre.redcross.or.th/event/%e0%b8%9a%e0%b8%a3%e0%b8%b4%e0%b8%a9%e0%b8%b1%e0%b8%97-%e0%b8%99%e0%b8%b1%e0%b8%94%e0%b8%9e%e0%b8%9a%e0%b8%9a%e0%b8%b2%e0%b8%87%e0%b9%83%e0%b8%ab%e0%b8%8d%e0%b9%88-%e0%b8%88%e0%b8%b3%e0%b8%81-6/
LOCATION:บริษัท นัดพบบางใหญ่ จำกัด สาขาเตาปูน\, บริษัท นัดพบบางใหญ่ จำกัด สาขาเตาปูน 303 ถ.กรุงเทพ - นนทบุรี แขวงบางซื่อ เขตบางซื่อ กรุงเทพมหานคร 10800
CATEGORIES:ปฏิทินตารางหน่วยเคลื่อนที่
END:VEVENT
BEGIN:VEVENT
DTSTART;TZID=Asia/Krasnoyarsk:20251111T090000
DTEND;TZID=Asia/Krasnoyarsk:20251111T150000
DTSTAMP:20260426T021431
CREATED:20251111T045959Z
LAST-MODIFIED:20251111T045959Z
UID:10004200-1762851600-1762873200@thaibloodcentre.redcross.or.th
SUMMARY:โรงพยาบาลยันฮี []
DESCRIPTION:สถานที่เจาะ : ห้องประชุมชั้น 2 \nที่อยู่ : 454 ปากซอยจรัญสนิทวงศ์ 90 แขวงบางอ้อ เขตบางพลัด กรุงเทพฯ  \nโทร : 0 2879 0300
URL:https://thaibloodcentre.redcross.or.th/event/%e0%b9%82%e0%b8%a3%e0%b8%87%e0%b8%9e%e0%b8%a2%e0%b8%b2%e0%b8%9a%e0%b8%b2%e0%b8%a5%e0%b8%a2%e0%b8%b1%e0%b8%99%e0%b8%ae%e0%b8%b5-2/
LOCATION:โรงพยาบาลยันฮี\, โรงพยาบาลยันฮี 454 ถนนจรัญสนิทวงศ์ แขวงบางอ้อ เขตบางพลัด กรุงเทพมหานคร 10700
CATEGORIES:ปฏิทินตารางหน่วยเคลื่อนที่
END:VEVENT
BEGIN:VEVENT
DTSTART;TZID=Asia/Krasnoyarsk:20251111T090000
DTEND;TZID=Asia/Krasnoyarsk:20251111T150000
DTSTAMP:20260426T021431
CREATED:20251111T045954Z
LAST-MODIFIED:20251111T045954Z
UID:10004198-1762851600-1762873200@thaibloodcentre.redcross.or.th
SUMMARY:บ้านทรงไทย (ย่านวงศ์สว่าง) []
DESCRIPTION:สถานที่เจาะ : (พัก 12.30-13.00 น.) \nที่อยู่ : 1423 ถนนกรุงเทพ – นนทบุรี แขวงวงศ์สว่าง เขตบางซื่อ กรุงเทพฯ  \nโทร : 0 2256 4300
URL:https://thaibloodcentre.redcross.or.th/event/%e0%b8%9a%e0%b9%89%e0%b8%b2%e0%b8%99%e0%b8%97%e0%b8%a3%e0%b8%87%e0%b9%84%e0%b8%97%e0%b8%a2-%e0%b8%a2%e0%b9%88%e0%b8%b2%e0%b8%99%e0%b8%a7%e0%b8%87%e0%b8%a8%e0%b9%8c%e0%b8%aa%e0%b8%a7%e0%b9%88-253/
LOCATION:บ้านทรงไทย (ย่านวงศ์สว่าง)\, หน่วยรับบริจาคโลหิต บ้านทรงไทย(ย่านวงศ์สว่าง) 1423 ถนนกรุงเทพ-นนทบุรี แขวงวงศ์สว่าง เขตบางซื่อ กรุงเทพมหานคร 10800
CATEGORIES:ปฏิทินตารางหน่วยเคลื่อนที่
END:VEVENT
BEGIN:VEVENT
DTSTART;TZID=Asia/Krasnoyarsk:20251111T083000
DTEND;TZID=Asia/Krasnoyarsk:20251111T193000
DTSTAMP:20260426T021431
CREATED:20251111T045952Z
LAST-MODIFIED:20251111T045952Z
UID:10004197-1762849800-1762889400@thaibloodcentre.redcross.or.th
SUMMARY:สถานีกาชาด 11 วิเศษนิยม []
DESCRIPTION:สถานที่เจาะ : ชั้น 3 \nที่อยู่ : 33/3 ถนนเพชรเกษม แขวงบางหว้า เขตภาษีเจริญ กรุงเทพฯ
URL:https://thaibloodcentre.redcross.or.th/event/%e0%b8%aa%e0%b8%96%e0%b8%b2%e0%b8%99%e0%b8%b5%e0%b8%81%e0%b8%b2%e0%b8%8a%e0%b8%b2%e0%b8%94-11-%e0%b8%a7%e0%b8%b4%e0%b9%80%e0%b8%a8%e0%b8%a9%e0%b8%99%e0%b8%b4%e0%b8%a2%e0%b8%a1-84/
LOCATION:สถานีกาชาด 11 วิเศษนิยม\, สถานีกาชาด 11 วิเศษนิยม 605 ถ.เพชรเกษม แขวงบางหว้า เขตภาษีเจริญ กรุงเทพมหานคร 10160
CATEGORIES:ปฏิทินตารางหน่วยเคลื่อนที่
END:VEVENT
BEGIN:VEVENT
DTSTART;TZID=Asia/Krasnoyarsk:20251111T073000
DTEND;TZID=Asia/Krasnoyarsk:20251111T193000
DTSTAMP:20260426T021431
CREATED:20251111T045910Z
LAST-MODIFIED:20251111T045910Z
UID:10004191-1762846200-1762889400@thaibloodcentre.redcross.or.th
SUMMARY:ศูนย์บริการโลหิตแห่งชาติ สภากาชาดไทย []
DESCRIPTION:ที่อยู่ : 1871 ถ. อังรีดูนังต์ แขวงปทุมวัน เขตปทุมวัน
URL:https://thaibloodcentre.redcross.or.th/event/%e0%b8%a8%e0%b8%b9%e0%b8%99%e0%b8%a2%e0%b9%8c%e0%b8%9a%e0%b8%a3%e0%b8%b4%e0%b8%81%e0%b8%b2%e0%b8%a3%e0%b9%82%e0%b8%a5%e0%b8%ab%e0%b8%b4%e0%b8%95%e0%b9%81%e0%b8%ab%e0%b9%88%e0%b8%87%e0%b8%8a-336/
LOCATION:ศูนย์บริการโลหิตแห่งชาติ สภากาชาดไทย\, ศูนย์บริการโลหิตแห่งชาติ สภากาชาดไทย 1871 ถ. อังรีดูนังต์ แขวงปทุมวัน เขตปทุมวัน กรุงเทพมหานคร 10330
CATEGORIES:ปฏิทินตารางหน่วยเคลื่อนที่
END:VEVENT
BEGIN:VEVENT
DTSTART;TZID=Asia/Krasnoyarsk:20251110T193000
DTEND;TZID=Asia/Krasnoyarsk:20251110T193000
DTSTAMP:20260426T021431
CREATED:20251101T063129Z
LAST-MODIFIED:20251101T063409Z
UID:10003951-1762803000-1762803000@thaibloodcentre.redcross.or.th
SUMMARY:สถานีกาชาดที่ 11 วิเศษนิยม สภากาชาดไทย [สถานีกาชาด 11 วิเศษนิยม]
DESCRIPTION:สถานที่เจาะ : 33/3 ถนนเพชรเกษม \nที่อยู่ : แขวงบางหว้า เขตภาษีเจริญ กรุงเทพฯ 0633450711
URL:https://thaibloodcentre.redcross.or.th/event/%e0%b8%aa%e0%b8%96%e0%b8%b2%e0%b8%99%e0%b8%b5%e0%b8%81%e0%b8%b2%e0%b8%8a%e0%b8%b2%e0%b8%94%e0%b8%97%e0%b8%b5%e0%b9%88-11-%e0%b8%a7%e0%b8%b4%e0%b9%80%e0%b8%a8%e0%b8%a9%e0%b8%99%e0%b8%b4%e0%b8%a2-14/
LOCATION:สถานีกาชาดที่ 11 วิเศษนิยม สภากาชาดไทย\, 605 ถ.เพชรเกษม แขวงบางหว้า เขตภาษีเจริญ กรุงเทพมหานคร 10160 0.35416666666667
CATEGORIES:ปฏิทินตารางหน่วยเคลื่อนที่
END:VEVENT
BEGIN:VEVENT
DTSTART;TZID=Asia/Krasnoyarsk:20251110T193000
DTEND;TZID=Asia/Krasnoyarsk:20251110T193000
DTSTAMP:20260426T021431
CREATED:20251101T063104Z
LAST-MODIFIED:20251101T063352Z
UID:10003945-1762803000-1762803000@thaibloodcentre.redcross.or.th
SUMMARY:ศูนย์บริการโลหิตแห่งชาติ สภากาชาดไทย [ศูนย์บริการโลหิตแห่งชาติ สภากาชาดไทย]
DESCRIPTION:สถานที่เจาะ : 1871 ถ. อังรีดูนังต์ แขวงปทุมวัน เขตปทุมวัน
URL:https://thaibloodcentre.redcross.or.th/event/%e0%b8%a8%e0%b8%b9%e0%b8%99%e0%b8%a2%e0%b9%8c%e0%b8%9a%e0%b8%a3%e0%b8%b4%e0%b8%81%e0%b8%b2%e0%b8%a3%e0%b9%82%e0%b8%a5%e0%b8%ab%e0%b8%b4%e0%b8%95%e0%b9%81%e0%b8%ab%e0%b9%88%e0%b8%87%e0%b8%8a-315/
LOCATION:ศูนย์บริการโลหิตแห่งชาติ สภากาชาดไทย\, ศูนย์บริการโลหิตแห่งชาติ สภากาชาดไทย 1871 ถ. อังรีดูนังต์ แขวงปทุมวัน เขตปทุมวัน กรุงเทพมหานคร 10330
CATEGORIES:ปฏิทินตารางหน่วยเคลื่อนที่
END:VEVENT
BEGIN:VEVENT
DTSTART;TZID=Asia/Krasnoyarsk:20251110T180000
DTEND;TZID=Asia/Krasnoyarsk:20251110T180000
DTSTAMP:20260426T021431
CREATED:20251101T063125Z
LAST-MODIFIED:20251101T063408Z
UID:10003950-1762797600-1762797600@thaibloodcentre.redcross.or.th
SUMMARY:เดอะมอลล์ไลฟ์สโตร์ ท่าพระ [ศูนย์การค้าเดอะมอลล์ไลฟ์สโตร์ ท่าพระ]
DESCRIPTION:สถานที่เจาะ : 99 ถนนรัชดาท่าพระตัดใหม่ \nที่อยู่ : แขวงบุคคโล เขตธนบุรี กรุงเทพฯ 0 2469-1000
URL:https://thaibloodcentre.redcross.or.th/event/%e0%b9%80%e0%b8%94%e0%b8%ad%e0%b8%b0%e0%b8%a1%e0%b8%ad%e0%b8%a5%e0%b8%a5%e0%b9%8c%e0%b9%84%e0%b8%a5%e0%b8%9f%e0%b9%8c%e0%b8%aa%e0%b9%82%e0%b8%95%e0%b8%a3%e0%b9%8c-%e0%b8%97%e0%b9%88%e0%b8%b2-15/
LOCATION:เดอะมอลล์ไลฟ์สโตร์ ท่าพระ\, 129 ถ. รัชดาภิเษก แขวงบุคคโล เขตธนบุรี กรุงเทพมหานคร 10600 0.5
CATEGORIES:ปฏิทินตารางหน่วยเคลื่อนที่
END:VEVENT
BEGIN:VEVENT
DTSTART;TZID=Asia/Krasnoyarsk:20251110T180000
DTEND;TZID=Asia/Krasnoyarsk:20251110T180000
DTSTAMP:20260426T021431
CREATED:20251101T063117Z
LAST-MODIFIED:20251101T063356Z
UID:10003949-1762797600-1762797600@thaibloodcentre.redcross.or.th
SUMMARY:เอ็มโพเรียม [ศูนย์การค้า เอ็มโพเรียม]
DESCRIPTION:สถานที่เจาะ : 622 ถนนสุขุมวิท \nที่อยู่ : แขวงคลองตัน เขตคลองเตย กรุงเทพฯ 0 2269 1515
URL:https://thaibloodcentre.redcross.or.th/event/%e0%b9%80%e0%b8%ad%e0%b9%87%e0%b8%a1%e0%b9%82%e0%b8%9e%e0%b9%80%e0%b8%a3%e0%b8%b5%e0%b8%a2%e0%b8%a1-%e0%b8%a8%e0%b8%b9%e0%b8%99%e0%b8%a2%e0%b9%8c%e0%b8%81%e0%b8%b2%e0%b8%a3%e0%b8%84%e0%b9%89-14/
LOCATION:เอ็มโพเรียม\, 622 ถ. สุขุมวิท แขวงคลองตัน เขตคลองเตย กรุงเทพมหานคร 10110 0.5
CATEGORIES:ปฏิทินตารางหน่วยเคลื่อนที่
END:VEVENT
END:VCALENDAR