BEGIN:VCALENDAR
VERSION:2.0
PRODID:-//เว็บไซต์ศูนย์บริการโลหิตแห่งชาติ - ECPv6.11.2.1//NONSGML v1.0//EN
CALSCALE:GREGORIAN
METHOD:PUBLISH
X-WR-CALNAME:เว็บไซต์ศูนย์บริการโลหิตแห่งชาติ
X-ORIGINAL-URL:https://thaibloodcentre.redcross.or.th
X-WR-CALDESC:Events for เว็บไซต์ศูนย์บริการโลหิตแห่งชาติ
REFRESH-INTERVAL;VALUE=DURATION:PT1H
X-Robots-Tag:noindex
X-PUBLISHED-TTL:PT1H
BEGIN:VTIMEZONE
TZID:Asia/Krasnoyarsk
BEGIN:STANDARD
TZOFFSETFROM:+0700
TZOFFSETTO:+0700
TZNAME:+07
DTSTART:20260101T000000
END:STANDARD
END:VTIMEZONE
BEGIN:VEVENT
DTSTART;TZID=Asia/Krasnoyarsk:20260220T113000
DTEND;TZID=Asia/Krasnoyarsk:20260220T153000
DTSTAMP:20260424T022317
CREATED:20260217T091510Z
LAST-MODIFIED:20260217T091510Z
UID:10005591-1771587000-1771601400@thaibloodcentre.redcross.or.th
SUMMARY:กองกษาปณ์ []
DESCRIPTION:สถานที่เจาะ : ห้องปทุมบงกช ชั้น 3 \nที่อยู่ : 13/1 ม. 2 ถ.พหลโยธิน ต.คลองหนึ่ง อ.คลองหลวง ปทุมธานี 0 2834 8300-50
URL:https://thaibloodcentre.redcross.or.th/event/%e0%b8%81%e0%b8%ad%e0%b8%87%e0%b8%81%e0%b8%a9%e0%b8%b2%e0%b8%9b%e0%b8%93%e0%b9%8c-3/
LOCATION:กองกษาปณ์\, กองกษาปณ์ 13/1 ม.2 ถนนพหลโยธิน ต.คลองหนึ่ง อ.คลองหลวง จังหวัดปทุมธานี 12120
CATEGORIES:ปฏิทินตารางหน่วยเคลื่อนที่
END:VEVENT
BEGIN:VEVENT
DTSTART;TZID=Asia/Krasnoyarsk:20260220T110000
DTEND;TZID=Asia/Krasnoyarsk:20260220T150000
DTSTAMP:20260424T022317
CREATED:20260217T091445Z
LAST-MODIFIED:20260217T091445Z
UID:10005587-1771585200-1771599600@thaibloodcentre.redcross.or.th
SUMMARY:วัน แบงค็อก []
DESCRIPTION:สถานที่เจาะ : อาคารวัน แบงค็อกฟอรัม ชั้น 2 \nที่อยู่ : ถนนวิทยุ แขวงลุมพินี เขตปทุมวัน กรุงเทพฯ
URL:https://thaibloodcentre.redcross.or.th/event/%e0%b8%a7%e0%b8%b1%e0%b8%99-%e0%b9%81%e0%b8%9a%e0%b8%87%e0%b8%84%e0%b9%87%e0%b8%ad%e0%b8%81-2/
LOCATION:วัน แบงค็อก\, วัน แบงค็อก One Bangkok ถนนวิทยุ แขวงลุมพินี เขตปทุมวัน กรุงเทพมหานคร 10330
CATEGORIES:ปฏิทินตารางหน่วยเคลื่อนที่
END:VEVENT
BEGIN:VEVENT
DTSTART;TZID=Asia/Krasnoyarsk:20260220T090000
DTEND;TZID=Asia/Krasnoyarsk:20260220T150000
DTSTAMP:20260424T022317
CREATED:20260217T091513Z
LAST-MODIFIED:20260217T091513Z
UID:10005592-1771578000-1771599600@thaibloodcentre.redcross.or.th
SUMMARY:โรงพยาบาลวิภาวดี []
DESCRIPTION:สถานที่เจาะ : โถงหน้าห้องประชุมชั้น 9 อาคาร 4 (พัก 12.00-13.00 น.) \nที่อยู่ : 51/3 ถนนงามวงศ์วาน แขวงลาดยาว เขตจตุจักร กรุงเทพฯ 0 2561 1111
URL:https://thaibloodcentre.redcross.or.th/event/%e0%b9%82%e0%b8%a3%e0%b8%87%e0%b8%9e%e0%b8%a2%e0%b8%b2%e0%b8%9a%e0%b8%b2%e0%b8%a5%e0%b8%a7%e0%b8%b4%e0%b8%a0%e0%b8%b2%e0%b8%a7%e0%b8%94%e0%b8%b5-3/
LOCATION:โรงพยาบาลวิภาวดี\, โรงพยาบาลวิภาวดี 51/3 ถนนงามวงศ์วาน แขวงลาดยาว เขตจตุจักร กรุงเทพมหานคร 10900
CATEGORIES:ปฏิทินตารางหน่วยเคลื่อนที่
END:VEVENT
BEGIN:VEVENT
DTSTART;TZID=Asia/Krasnoyarsk:20260220T090000
DTEND;TZID=Asia/Krasnoyarsk:20260220T150000
DTSTAMP:20260424T022317
CREATED:20260217T091505Z
LAST-MODIFIED:20260217T091505Z
UID:10005590-1771578000-1771599600@thaibloodcentre.redcross.or.th
SUMMARY:บริษัท บางกอกแร้นช์ จำกัด (มหาชน) []
DESCRIPTION:สถานที่เจาะ : ด้านหน้าบริษัท (พัก 12.00-13.00 น.) \nที่อยู่ : 181/2 ม.12 ถ.สายหลังวัดบางพลีใหญ่ใน ต.บางพลีใหญ่ อ.บางพลี จ.สมุทรปราการ 0 2175 7200
URL:https://thaibloodcentre.redcross.or.th/event/%e0%b8%9a%e0%b8%a3%e0%b8%b4%e0%b8%a9%e0%b8%b1%e0%b8%97-%e0%b8%9a%e0%b8%b2%e0%b8%87%e0%b8%81%e0%b8%ad%e0%b8%81%e0%b9%81%e0%b8%a3%e0%b9%89%e0%b8%99%e0%b8%8a%e0%b9%8c-%e0%b8%88%e0%b8%b3%e0%b8%81-2/
LOCATION:บริษัท บางกอกแร้นช์ จำกัด (มหาชน)\, บริษัท บางกอกแร้นช์ จำกัด (มหาชน) 18/1 ม.12 ถ.สายหลังวัดบางพลีใหญ่ใน ต.บางพลีใหญ่ อ.บางพลี จ.สมุทรปราการ 10540
CATEGORIES:ปฏิทินตารางหน่วยเคลื่อนที่
END:VEVENT
BEGIN:VEVENT
DTSTART;TZID=Asia/Krasnoyarsk:20260220T090000
DTEND;TZID=Asia/Krasnoyarsk:20260220T150000
DTSTAMP:20260424T022317
CREATED:20260217T091501Z
LAST-MODIFIED:20260217T091501Z
UID:10005589-1771578000-1771599600@thaibloodcentre.redcross.or.th
SUMMARY:บริษัท โตโยต้า แอท ยูไนเต็ด จำกัด สาขาเทพารักษ์ []
DESCRIPTION:สถานที่เจาะ : หน้าโชว์รูม (พัก 11.00-12.00 น.) \nที่อยู่ : 149 ม. 3 ถ.เทพารักษ์ กม.2.5 ต.เทพารักษ์ อ.เมือง จ.สมุทรปราการ 0 2753 3388
URL:https://thaibloodcentre.redcross.or.th/event/%e0%b8%9a%e0%b8%a3%e0%b8%b4%e0%b8%a9%e0%b8%b1%e0%b8%97-%e0%b9%82%e0%b8%95%e0%b9%82%e0%b8%a2%e0%b8%95%e0%b9%89%e0%b8%b2-%e0%b9%81%e0%b8%ad%e0%b8%97-%e0%b8%a2%e0%b8%b9%e0%b9%84%e0%b8%99%e0%b9%80-5/
LOCATION:บริษัท โตโยต้า แอท ยูไนเต็ด จำกัด สาขาเทพารักษ์\, บริษัท โตโยต้า แอท ยูไนเต็ด จำกัด สาขาเทพารักษ์ 149 หมู่ที่ 3 ถ.เทพารักษ์ ตำบลเทพารักษ์ อำเภอเมืองสมุทรปราการ สมุทรปราการ 10270
CATEGORIES:ปฏิทินตารางหน่วยเคลื่อนที่
END:VEVENT
BEGIN:VEVENT
DTSTART;TZID=Asia/Krasnoyarsk:20260220T090000
DTEND;TZID=Asia/Krasnoyarsk:20260220T150000
DTSTAMP:20260424T022317
CREATED:20260217T091447Z
LAST-MODIFIED:20260217T091447Z
UID:10005588-1771578000-1771599600@thaibloodcentre.redcross.or.th
SUMMARY:กรมศุลกากร []
DESCRIPTION:สถานที่เจาะ : อาคารสโมสรกรมศุลกากร ชั้น 1 (พัก 12.00-13.00 น.) \nที่อยู่ : 1 ถนนสุนทรโกษา แขวงคลองเตย เขตคลองเตย กรุงเทพฯ 0 2667 7779
URL:https://thaibloodcentre.redcross.or.th/event/%e0%b8%81%e0%b8%a3%e0%b8%a1%e0%b8%a8%e0%b8%b8%e0%b8%a5%e0%b8%81%e0%b8%b2%e0%b8%81%e0%b8%a3-3/
LOCATION:กรมศุลกากร\, กรมศุลกากร 1 ถ.สุนทรโกษา แขวงคลองเตย เขตคลองเตย กรุงเทพมหานคร 10110
CATEGORIES:ปฏิทินตารางหน่วยเคลื่อนที่
END:VEVENT
BEGIN:VEVENT
DTSTART;TZID=Asia/Krasnoyarsk:20260220T090000
DTEND;TZID=Asia/Krasnoyarsk:20260220T150000
DTSTAMP:20260424T022317
CREATED:20260217T091443Z
LAST-MODIFIED:20260217T091443Z
UID:10005586-1771578000-1771599600@thaibloodcentre.redcross.or.th
SUMMARY:บริษัท ธานยานยนต์ พี.เอ็น.ที.จำกัด []
DESCRIPTION:สถานที่เจาะ : บริเวณด้านหน้าบริษัท (พัก 12.00-13.00 น.) \nที่อยู่ : 663/3-5 ถนนนครไชยศรี แขวงถนนนครไชยศรี เขตดุสิต กรุงเทพฯ 0 2669 1030
URL:https://thaibloodcentre.redcross.or.th/event/%e0%b8%9a%e0%b8%a3%e0%b8%b4%e0%b8%a9%e0%b8%b1%e0%b8%97-%e0%b8%98%e0%b8%b2%e0%b8%99%e0%b8%a2%e0%b8%b2%e0%b8%99%e0%b8%a2%e0%b8%99%e0%b8%95%e0%b9%8c-%e0%b8%9e%e0%b8%b5-%e0%b9%80%e0%b8%ad%e0%b9%87-5/
LOCATION:บริษัท ธานยานยนต์ พี.เอ็น.ที.จำกัด\, บริษัท ธานยานยนต์ พี.เอ็น.ที.จำกัด 663/3-5 ถ.นครไชยศรี แขวงถนนนครไชยศรี เขตดุสิต กรุงเทพมหานคร 10300
CATEGORIES:ปฏิทินตารางหน่วยเคลื่อนที่
END:VEVENT
BEGIN:VEVENT
DTSTART;TZID=Asia/Krasnoyarsk:20260220T090000
DTEND;TZID=Asia/Krasnoyarsk:20260220T150000
DTSTAMP:20260424T022317
CREATED:20260217T091438Z
LAST-MODIFIED:20260217T091438Z
UID:10005585-1771578000-1771599600@thaibloodcentre.redcross.or.th
SUMMARY:บ้านทรงไทย (ย่านวงศ์สว่าง) []
DESCRIPTION:สถานที่เจาะ : (พัก 12.30-13.00 น.) \nที่อยู่ : 1423 ถนนกรุงเทพ – นนทบุรี แขวงวงศ์สว่าง เขตบางซื่อ กรุงเทพฯ 0 2256 4300
URL:https://thaibloodcentre.redcross.or.th/event/%e0%b8%9a%e0%b9%89%e0%b8%b2%e0%b8%99%e0%b8%97%e0%b8%a3%e0%b8%87%e0%b9%84%e0%b8%97%e0%b8%a2-%e0%b8%a2%e0%b9%88%e0%b8%b2%e0%b8%99%e0%b8%a7%e0%b8%87%e0%b8%a8%e0%b9%8c%e0%b8%aa%e0%b8%a7%e0%b9%88-353/
LOCATION:บ้านทรงไทย (ย่านวงศ์สว่าง)\, หน่วยรับบริจาคโลหิต บ้านทรงไทย(ย่านวงศ์สว่าง) 1423 ถนนกรุงเทพ-นนทบุรี แขวงวงศ์สว่าง เขตบางซื่อ กรุงเทพมหานคร 10800
CATEGORIES:ปฏิทินตารางหน่วยเคลื่อนที่
END:VEVENT
BEGIN:VEVENT
DTSTART;TZID=Asia/Krasnoyarsk:20260220T083000
DTEND;TZID=Asia/Krasnoyarsk:20260220T193000
DTSTAMP:20260424T022317
CREATED:20260217T091435Z
LAST-MODIFIED:20260217T091435Z
UID:10005584-1771576200-1771615800@thaibloodcentre.redcross.or.th
SUMMARY:สถานีกาชาด 11 วิเศษนิยม []
DESCRIPTION:สถานที่เจาะ : ชั้น 3 \nที่อยู่ : 33/3 ถนนเพชรเกษม แขวงบางหว้า เขตภาษีเจริญ กรุงเทพฯ 0633450711
URL:https://thaibloodcentre.redcross.or.th/event/%e0%b8%aa%e0%b8%96%e0%b8%b2%e0%b8%99%e0%b8%b5%e0%b8%81%e0%b8%b2%e0%b8%8a%e0%b8%b2%e0%b8%94-11-%e0%b8%a7%e0%b8%b4%e0%b9%80%e0%b8%a8%e0%b8%a9%e0%b8%99%e0%b8%b4%e0%b8%a2%e0%b8%a1-170/
LOCATION:สถานีกาชาด 11 วิเศษนิยม\, สถานีกาชาด 11 วิเศษนิยม 605 ถ.เพชรเกษม แขวงบางหว้า เขตภาษีเจริญ กรุงเทพมหานคร 10160
CATEGORIES:ปฏิทินตารางหน่วยเคลื่อนที่
END:VEVENT
BEGIN:VEVENT
DTSTART;TZID=Asia/Krasnoyarsk:20260220T073000
DTEND;TZID=Asia/Krasnoyarsk:20260220T193000
DTSTAMP:20260424T022318
CREATED:20260217T091312Z
LAST-MODIFIED:20260217T091312Z
UID:10005578-1771572600-1771615800@thaibloodcentre.redcross.or.th
SUMMARY:ศูนย์บริการโลหิตแห่งชาติ สภากาชาดไทย []
DESCRIPTION:ที่อยู่ : 1871 ถ. อังรีดูนังต์ แขวงปทุมวัน เขตปทุมวัน
URL:https://thaibloodcentre.redcross.or.th/event/%e0%b8%a8%e0%b8%b9%e0%b8%99%e0%b8%a2%e0%b9%8c%e0%b8%9a%e0%b8%a3%e0%b8%b4%e0%b8%81%e0%b8%b2%e0%b8%a3%e0%b9%82%e0%b8%a5%e0%b8%ab%e0%b8%b4%e0%b8%95%e0%b9%81%e0%b8%ab%e0%b9%88%e0%b8%87%e0%b8%8a-436/
LOCATION:ศูนย์บริการโลหิตแห่งชาติ สภากาชาดไทย\, ศูนย์บริการโลหิตแห่งชาติ สภากาชาดไทย 1871 ถ. อังรีดูนังต์ แขวงปทุมวัน เขตปทุมวัน กรุงเทพมหานคร 10330
CATEGORIES:ปฏิทินตารางหน่วยเคลื่อนที่
END:VEVENT
BEGIN:VEVENT
DTSTART;TZID=Asia/Krasnoyarsk:20260219T120000
DTEND;TZID=Asia/Krasnoyarsk:20260219T180000
DTSTAMP:20260424T022318
CREATED:20260217T091221Z
LAST-MODIFIED:20260217T091221Z
UID:10005569-1771502400-1771524000@thaibloodcentre.redcross.or.th
SUMMARY:ศูนย์การค้าเดอะมอลล์ไลฟ์สโตร์ ท่าพระ []
DESCRIPTION:สถานที่เจาะ : ชั้น 1 (ติดลานจอดรถ) \nที่อยู่ : 99 ถนนรัชดาท่าพระตัดใหม่ แขวงบุคคโล เขตธนบุรี กรุงเทพฯ 0 2469-1000
URL:https://thaibloodcentre.redcross.or.th/event/%e0%b8%a8%e0%b8%b9%e0%b8%99%e0%b8%a2%e0%b9%8c%e0%b8%81%e0%b8%b2%e0%b8%a3%e0%b8%84%e0%b9%89%e0%b8%b2%e0%b9%80%e0%b8%94%e0%b8%ad%e0%b8%b0%e0%b8%a1%e0%b8%ad%e0%b8%a5%e0%b8%a5%e0%b9%8c%e0%b9%84-1422/
LOCATION:ศูนย์การค้าเดอะมอลล์ไลฟ์สโตร์ ท่าพระ\, เดอะมอลล์ไลฟ์สโตร์ ท่าพระ 129 ถ. รัชดาภิเษก แขวงบุคคโล เขตธนบุรี กรุงเทพมหานคร 10600
CATEGORIES:ปฏิทินตารางหน่วยเคลื่อนที่
END:VEVENT
BEGIN:VEVENT
DTSTART;TZID=Asia/Krasnoyarsk:20260219T120000
DTEND;TZID=Asia/Krasnoyarsk:20260219T180000
DTSTAMP:20260424T022318
CREATED:20260217T091210Z
LAST-MODIFIED:20260217T091210Z
UID:10005568-1771502400-1771524000@thaibloodcentre.redcross.or.th
SUMMARY:ศูนย์การค้า เอ็มโพเรียม []
DESCRIPTION:สถานที่เจาะ : ชั้น M ศูนย์การค้า ดิ เอ็มโพเรียม เชื่อมลานจอดรถอาคาร B \nที่อยู่ : 622 ถนนสุขุมวิท แขวงคลองตัน เขตคลองเตย กรุงเทพฯ 0 2269 1515
URL:https://thaibloodcentre.redcross.or.th/event/%e0%b8%a8%e0%b8%b9%e0%b8%99%e0%b8%a2%e0%b9%8c%e0%b8%81%e0%b8%b2%e0%b8%a3%e0%b8%84%e0%b9%89%e0%b8%b2-%e0%b9%80%e0%b8%ad%e0%b9%87%e0%b8%a1%e0%b9%82%e0%b8%9e%e0%b9%80%e0%b8%a3%e0%b8%b5%e0%b8%a2-351/
LOCATION:ศูนย์การค้า เอ็มโพเรียม\, เอ็มโพเรียม 622 ถ. สุขุมวิท แขวงคลองตัน เขตคลองเตย กรุงเทพมหานคร 10110
CATEGORIES:ปฏิทินตารางหน่วยเคลื่อนที่
END:VEVENT
BEGIN:VEVENT
DTSTART;TZID=Asia/Krasnoyarsk:20260219T120000
DTEND;TZID=Asia/Krasnoyarsk:20260219T180000
DTSTAMP:20260424T022318
CREATED:20260217T091158Z
LAST-MODIFIED:20260217T091158Z
UID:10005567-1771502400-1771524000@thaibloodcentre.redcross.or.th
SUMMARY:ศูนย์การค้าเดอะมอลล์ไลฟ์สโตร์ งามวงศ์วาน []
DESCRIPTION:สถานที่เจาะ : ชั้น 5 โซน Government Center \nที่อยู่ : ถนนงามวงศ์วาน ต.บางเขน อ.เมือง จ.นนทบุรี 0 2555 1550
URL:https://thaibloodcentre.redcross.or.th/event/%e0%b8%a8%e0%b8%b9%e0%b8%99%e0%b8%a2%e0%b9%8c%e0%b8%81%e0%b8%b2%e0%b8%a3%e0%b8%84%e0%b9%89%e0%b8%b2%e0%b9%80%e0%b8%94%e0%b8%ad%e0%b8%b0%e0%b8%a1%e0%b8%ad%e0%b8%a5%e0%b8%a5%e0%b9%8c%e0%b9%84-1421/
LOCATION:ศูนย์การค้าเดอะมอลล์ไลฟ์สโตร์ งามวงศ์วาน\, เดอะมอลล์ ไลฟ์สโตร์ งามวงศ์วาน 430 ถนน งามวงศ์วาน ตำบลบางเขน อำเภอเมืองนนทบุรี นนทบุรี 11000
CATEGORIES:ปฏิทินตารางหน่วยเคลื่อนที่
END:VEVENT
BEGIN:VEVENT
DTSTART;TZID=Asia/Krasnoyarsk:20260219T120000
DTEND;TZID=Asia/Krasnoyarsk:20260219T180000
DTSTAMP:20260424T022318
CREATED:20260217T091146Z
LAST-MODIFIED:20260217T091146Z
UID:10005566-1771502400-1771524000@thaibloodcentre.redcross.or.th
SUMMARY:ศูนย์การค้าเดอะมอลล์ไลฟ์สโตร์ บางกะปิ []
DESCRIPTION:สถานที่เจาะ : ชั้น 2 ทางออกลานจอดรถ \nที่อยู่ : ถนนลาดพร้าว แขวงคลองจั่น เขตบางกะปิ กรุงเทพฯ 0 2310 2278
URL:https://thaibloodcentre.redcross.or.th/event/%e0%b8%a8%e0%b8%b9%e0%b8%99%e0%b8%a2%e0%b9%8c%e0%b8%81%e0%b8%b2%e0%b8%a3%e0%b8%84%e0%b9%89%e0%b8%b2%e0%b9%80%e0%b8%94%e0%b8%ad%e0%b8%b0%e0%b8%a1%e0%b8%ad%e0%b8%a5%e0%b8%a5%e0%b9%8c%e0%b9%84-1420/
LOCATION:ศูนย์การค้าเดอะมอลล์ไลฟ์สโตร์ บางกะปิ\, เดอะมอลล์ไลฟ์สโตร์ บางกะปิ 3522 ถ. ลาดพร้าว แขวงคลองจั่น เขตบางกะปิ กรุงเทพมหานคร 10240
CATEGORIES:ปฏิทินตารางหน่วยเคลื่อนที่
END:VEVENT
BEGIN:VEVENT
DTSTART;TZID=Asia/Krasnoyarsk:20260219T120000
DTEND;TZID=Asia/Krasnoyarsk:20260219T180000
DTSTAMP:20260424T022318
CREATED:20260217T091134Z
LAST-MODIFIED:20260217T091134Z
UID:10005565-1771502400-1771524000@thaibloodcentre.redcross.or.th
SUMMARY:ศูนย์การค้าเดอะมอลล์ไลฟ์สโตร์ บางแค []
DESCRIPTION:สถานที่เจาะ : ชั้น 3 ตรงข้ามร้านโอ้กะจู๋ \nที่อยู่ : ถนนเพชรเกษม แขวงบางแคเหนือ เขตภาษีเจริญ กรุงเทพฯ 02 487 1221
URL:https://thaibloodcentre.redcross.or.th/event/%e0%b8%a8%e0%b8%b9%e0%b8%99%e0%b8%a2%e0%b9%8c%e0%b8%81%e0%b8%b2%e0%b8%a3%e0%b8%84%e0%b9%89%e0%b8%b2%e0%b9%80%e0%b8%94%e0%b8%ad%e0%b8%b0%e0%b8%a1%e0%b8%ad%e0%b8%a5%e0%b8%a5%e0%b9%8c%e0%b9%84-1419/
LOCATION:ศูนย์การค้าเดอะมอลล์ไลฟ์สโตร์ บางแค\, ศูนย์การค้าเดอะมอลล์ไลฟ์สโตร์ บางแค
CATEGORIES:ปฏิทินตารางหน่วยเคลื่อนที่
END:VEVENT
BEGIN:VEVENT
DTSTART;TZID=Asia/Krasnoyarsk:20260219T110000
DTEND;TZID=Asia/Krasnoyarsk:20260219T150000
DTSTAMP:20260424T022318
CREATED:20260217T091308Z
LAST-MODIFIED:20260217T091308Z
UID:10005576-1771498800-1771513200@thaibloodcentre.redcross.or.th
SUMMARY:บริษัท ไทยโตชิบาอุตสาหกรรม จำกัด (สนามบินน้ำ) []
DESCRIPTION:สถานที่เจาะ : ห้องประชุม ชั้น 3 \nที่อยู่ : 129/1-5 ถ.ติวานนท์ ต.ท่าทราย อ.เมืองนนทบุรี จ.นนทบุรี 0 2589 0160-7
URL:https://thaibloodcentre.redcross.or.th/event/%e0%b8%9a%e0%b8%a3%e0%b8%b4%e0%b8%a9%e0%b8%b1%e0%b8%97-%e0%b9%84%e0%b8%97%e0%b8%a2%e0%b9%82%e0%b8%95%e0%b8%8a%e0%b8%b4%e0%b8%9a%e0%b8%b2%e0%b8%ad%e0%b8%b8%e0%b8%95%e0%b8%aa%e0%b8%b2%e0%b8%ab-10/
LOCATION:บริษัท ไทยโตชิบาอุตสาหกรรม จำกัด (สนามบินน้ำ)
CATEGORIES:ปฏิทินตารางหน่วยเคลื่อนที่
END:VEVENT
BEGIN:VEVENT
DTSTART;TZID=Asia/Krasnoyarsk:20260219T110000
DTEND;TZID=Asia/Krasnoyarsk:20260219T150000
DTSTAMP:20260424T022318
CREATED:20260217T091301Z
LAST-MODIFIED:20260217T091301Z
UID:10005574-1771498800-1771513200@thaibloodcentre.redcross.or.th
SUMMARY:บริษัท บางกอกกล๊าส จำกัด (มหาชน) []
DESCRIPTION:สถานที่เจาะ : หน้า BG Hall \nที่อยู่ : 47/1 ม.2 ถ.รังสิต-นครนายก ต.บึงยี่โถ อ.ธัญบุรี ปทุมธานี 0 2834 7000
URL:https://thaibloodcentre.redcross.or.th/event/%e0%b8%9a%e0%b8%a3%e0%b8%b4%e0%b8%a9%e0%b8%b1%e0%b8%97-%e0%b8%9a%e0%b8%b2%e0%b8%87%e0%b8%81%e0%b8%ad%e0%b8%81%e0%b8%81%e0%b8%a5%e0%b9%8a%e0%b8%b2%e0%b8%aa-%e0%b8%88%e0%b8%b3%e0%b8%81%e0%b8%b1-3/
LOCATION:บริษัท บางกอกกล๊าส จำกัด (มหาชน)\, บมจ. บางกอกกล๊าส 47/1 ม.2 ถ.รังสิต-นครนายก ต.บึงยี่โถ อ.ธัญบุรี จ.ปทุมธานี 12130
CATEGORIES:ปฏิทินตารางหน่วยเคลื่อนที่
END:VEVENT
BEGIN:VEVENT
DTSTART;TZID=Asia/Krasnoyarsk:20260219T090000
DTEND;TZID=Asia/Krasnoyarsk:20260219T150000
DTSTAMP:20260424T022318
CREATED:20260217T091310Z
LAST-MODIFIED:20260217T091310Z
UID:10005577-1771491600-1771513200@thaibloodcentre.redcross.or.th
SUMMARY:โรงพยาบาลนวมินทร์ 9 []
DESCRIPTION:สถานที่เจาะ : ทางเข้าด้านข้างเซเว่น อาคารพลาซ่า (พัก 12.00-13.00 น.) \nที่อยู่ : 96 ถนนสีหบุรานุกิจ แขวงมีนบุรี เขตมีนบุรี กรุงเทพฯ 0 2518 1818
URL:https://thaibloodcentre.redcross.or.th/event/%e0%b9%82%e0%b8%a3%e0%b8%87%e0%b8%9e%e0%b8%a2%e0%b8%b2%e0%b8%9a%e0%b8%b2%e0%b8%a5%e0%b8%99%e0%b8%a7%e0%b8%a1%e0%b8%b4%e0%b8%99%e0%b8%97%e0%b8%a3%e0%b9%8c-9-3/
LOCATION:โรงพยาบาลนวมินทร์ 9\, โรงพยาบาลนวมินทร์ 9 96 ถ.สีหบุรานุกิจ แขวงมีนบุรี เขตมีนบุรี กรุงเทพมหานคร 10510
CATEGORIES:ปฏิทินตารางหน่วยเคลื่อนที่
END:VEVENT
BEGIN:VEVENT
DTSTART;TZID=Asia/Krasnoyarsk:20260219T090000
DTEND;TZID=Asia/Krasnoyarsk:20260219T150000
DTSTAMP:20260424T022318
CREATED:20260217T091305Z
LAST-MODIFIED:20260217T091305Z
UID:10005575-1771491600-1771513200@thaibloodcentre.redcross.or.th
SUMMARY:ธนาคาร ซีไอเอ็มบี ไทย จำกัด (มหาชน) []
DESCRIPTION:สถานที่เจาะ : ห้อง 1701B ชั้น 17 (พัก 11.30-12.30 น.) \nที่อยู่ : 44 ถนนหลังสวน แขวงลุมพินี เขตปทุมวัน กรุงเทพฯ 0 2638 8265
URL:https://thaibloodcentre.redcross.or.th/event/%e0%b8%98%e0%b8%99%e0%b8%b2%e0%b8%84%e0%b8%b2%e0%b8%a3-%e0%b8%8b%e0%b8%b5%e0%b9%84%e0%b8%ad%e0%b9%80%e0%b8%ad%e0%b9%87%e0%b8%a1%e0%b8%9a%e0%b8%b5-%e0%b9%84%e0%b8%97%e0%b8%a2-%e0%b8%88%e0%b8%b3-11/
LOCATION:ธนาคาร ซีไอเอ็มบี ไทย จำกัด (มหาชน)\, ธนาคาร ซีไอเอ็มบี ไทย จำกัด (มหาชน) 44 ถ.หลังสวน แขวงลุมพินี เขตปทุมวัน กรุงเทพมหานคร 10330
CATEGORIES:ปฏิทินตารางหน่วยเคลื่อนที่
END:VEVENT
BEGIN:VEVENT
DTSTART;TZID=Asia/Krasnoyarsk:20260219T090000
DTEND;TZID=Asia/Krasnoyarsk:20260219T150000
DTSTAMP:20260424T022318
CREATED:20260217T091243Z
LAST-MODIFIED:20260217T091243Z
UID:10005573-1771491600-1771513200@thaibloodcentre.redcross.or.th
SUMMARY:มหาวิทยาลัยรังสิต []
DESCRIPTION:สถานที่เจาะ : หอพัก อาคาร 9 \nที่อยู่ : 52/347 ม.7 หมู่บ้านเมืองเอก ถ.พหลโยธิน 87 ต.หลักหก อ.เมือง ปทุมธานี 0 2791 6000
URL:https://thaibloodcentre.redcross.or.th/event/%e0%b8%a1%e0%b8%ab%e0%b8%b2%e0%b8%a7%e0%b8%b4%e0%b8%97%e0%b8%a2%e0%b8%b2%e0%b8%a5%e0%b8%b1%e0%b8%a2%e0%b8%a3%e0%b8%b1%e0%b8%87%e0%b8%aa%e0%b8%b4%e0%b8%95-2/
LOCATION:มหาวิทยาลัยรังสิต\, มหาวิทยาลัยรังสิต 52/347 หมู่บ้านเมืองเอก ถ.พหลโยธิน ต.หลักหก อ.เมือง จ.ปทุมธานี 12000
CATEGORIES:ปฏิทินตารางหน่วยเคลื่อนที่
END:VEVENT
BEGIN:VEVENT
DTSTART;TZID=Asia/Krasnoyarsk:20260219T090000
DTEND;TZID=Asia/Krasnoyarsk:20260219T150000
DTSTAMP:20260424T022318
CREATED:20260217T091240Z
LAST-MODIFIED:20260217T091240Z
UID:10005572-1771491600-1771513200@thaibloodcentre.redcross.or.th
SUMMARY:ธนาคารไทยพาณิชย์ จำกัด (มหาชน) []
DESCRIPTION:สถานที่เจาะ : ห้องประชุมมหิศร \nที่อยู่ : 9 ถนนรัชดาภิเษก แขวงลาดยาว เขตจตุจักร กรุงเทพฯ 0 2544 7037
URL:https://thaibloodcentre.redcross.or.th/event/%e0%b8%98%e0%b8%99%e0%b8%b2%e0%b8%84%e0%b8%b2%e0%b8%a3%e0%b9%84%e0%b8%97%e0%b8%a2%e0%b8%9e%e0%b8%b2%e0%b8%93%e0%b8%b4%e0%b8%8a%e0%b8%a2%e0%b9%8c-%e0%b8%88%e0%b8%b3%e0%b8%81%e0%b8%b1%e0%b8%94-19/
LOCATION:ธนาคารไทยพาณิชย์ จำกัด (มหาชน)\, ธนาคารไทยพาณิชย์ จำกัด (มหาชน) สำนักงานใหญ่ 9 ถนนรัชดาภิเษก เขตจตุจักร กรุงเทพฯ 10900
CATEGORIES:ปฏิทินตารางหน่วยเคลื่อนที่
END:VEVENT
BEGIN:VEVENT
DTSTART;TZID=Asia/Krasnoyarsk:20260219T090000
DTEND;TZID=Asia/Krasnoyarsk:20260219T150000
DTSTAMP:20260424T022318
CREATED:20260217T091235Z
LAST-MODIFIED:20260217T091235Z
UID:10005571-1771491600-1771513200@thaibloodcentre.redcross.or.th
SUMMARY:บ้านทรงไทย (ย่านวงศ์สว่าง) []
DESCRIPTION:สถานที่เจาะ : (พัก 12.30-13.00 น.) \nที่อยู่ : 1423 ถนนกรุงเทพ – นนทบุรี แขวงวงศ์สว่าง เขตบางซื่อ กรุงเทพฯ 0 2256 4300
URL:https://thaibloodcentre.redcross.or.th/event/%e0%b8%9a%e0%b9%89%e0%b8%b2%e0%b8%99%e0%b8%97%e0%b8%a3%e0%b8%87%e0%b9%84%e0%b8%97%e0%b8%a2-%e0%b8%a2%e0%b9%88%e0%b8%b2%e0%b8%99%e0%b8%a7%e0%b8%87%e0%b8%a8%e0%b9%8c%e0%b8%aa%e0%b8%a7%e0%b9%88-352/
LOCATION:บ้านทรงไทย (ย่านวงศ์สว่าง)\, หน่วยรับบริจาคโลหิต บ้านทรงไทย(ย่านวงศ์สว่าง) 1423 ถนนกรุงเทพ-นนทบุรี แขวงวงศ์สว่าง เขตบางซื่อ กรุงเทพมหานคร 10800
CATEGORIES:ปฏิทินตารางหน่วยเคลื่อนที่
END:VEVENT
BEGIN:VEVENT
DTSTART;TZID=Asia/Krasnoyarsk:20260219T083000
DTEND;TZID=Asia/Krasnoyarsk:20260219T193000
DTSTAMP:20260424T022318
CREATED:20260217T091232Z
LAST-MODIFIED:20260217T091232Z
UID:10005570-1771489800-1771529400@thaibloodcentre.redcross.or.th
SUMMARY:สถานีกาชาด 11 วิเศษนิยม []
DESCRIPTION:สถานที่เจาะ : ชั้น 3 \nที่อยู่ : 33/3 ถนนเพชรเกษม แขวงบางหว้า เขตภาษีเจริญ กรุงเทพฯ 0633450711
URL:https://thaibloodcentre.redcross.or.th/event/%e0%b8%aa%e0%b8%96%e0%b8%b2%e0%b8%99%e0%b8%b5%e0%b8%81%e0%b8%b2%e0%b8%8a%e0%b8%b2%e0%b8%94-11-%e0%b8%a7%e0%b8%b4%e0%b9%80%e0%b8%a8%e0%b8%a9%e0%b8%99%e0%b8%b4%e0%b8%a2%e0%b8%a1-169/
LOCATION:สถานีกาชาด 11 วิเศษนิยม\, สถานีกาชาด 11 วิเศษนิยม 605 ถ.เพชรเกษม แขวงบางหว้า เขตภาษีเจริญ กรุงเทพมหานคร 10160
CATEGORIES:ปฏิทินตารางหน่วยเคลื่อนที่
END:VEVENT
BEGIN:VEVENT
DTSTART;TZID=Asia/Krasnoyarsk:20260219T073000
DTEND;TZID=Asia/Krasnoyarsk:20260219T193000
DTSTAMP:20260424T022318
CREATED:20260217T091129Z
LAST-MODIFIED:20260217T091129Z
UID:10005564-1771486200-1771529400@thaibloodcentre.redcross.or.th
SUMMARY:ศูนย์บริการโลหิตแห่งชาติ สภากาชาดไทย []
DESCRIPTION:ที่อยู่ : 1871 ถ. อังรีดูนังต์ แขวงปทุมวัน เขตปทุมวัน
URL:https://thaibloodcentre.redcross.or.th/event/%e0%b8%a8%e0%b8%b9%e0%b8%99%e0%b8%a2%e0%b9%8c%e0%b8%9a%e0%b8%a3%e0%b8%b4%e0%b8%81%e0%b8%b2%e0%b8%a3%e0%b9%82%e0%b8%a5%e0%b8%ab%e0%b8%b4%e0%b8%95%e0%b9%81%e0%b8%ab%e0%b9%88%e0%b8%87%e0%b8%8a-435/
LOCATION:ศูนย์บริการโลหิตแห่งชาติ สภากาชาดไทย\, ศูนย์บริการโลหิตแห่งชาติ สภากาชาดไทย 1871 ถ. อังรีดูนังต์ แขวงปทุมวัน เขตปทุมวัน กรุงเทพมหานคร 10330
CATEGORIES:ปฏิทินตารางหน่วยเคลื่อนที่
END:VEVENT
BEGIN:VEVENT
DTSTART;TZID=Asia/Krasnoyarsk:20260218T120000
DTEND;TZID=Asia/Krasnoyarsk:20260218T180000
DTSTAMP:20260424T022318
CREATED:20260218T023229Z
LAST-MODIFIED:20260218T023229Z
UID:10005670-1771416000-1771437600@thaibloodcentre.redcross.or.th
SUMMARY:ศูนย์การค้าเดอะมอลล์ไลฟ์สโตร์ ท่าพระ []
DESCRIPTION:สถานที่เจาะ : ชั้น 1 (ติดลานจอดรถ) \nที่อยู่ : 99 ถนนรัชดาท่าพระตัดใหม่ แขวงบุคคโล เขตธนบุรี กรุงเทพฯ 0 2469-1000
URL:https://thaibloodcentre.redcross.or.th/event/%e0%b8%a8%e0%b8%b9%e0%b8%99%e0%b8%a2%e0%b9%8c%e0%b8%81%e0%b8%b2%e0%b8%a3%e0%b8%84%e0%b9%89%e0%b8%b2%e0%b9%80%e0%b8%94%e0%b8%ad%e0%b8%b0%e0%b8%a1%e0%b8%ad%e0%b8%a5%e0%b8%a5%e0%b9%8c%e0%b9%84-1450/
LOCATION:ศูนย์การค้าเดอะมอลล์ไลฟ์สโตร์ ท่าพระ\, เดอะมอลล์ไลฟ์สโตร์ ท่าพระ 129 ถ. รัชดาภิเษก แขวงบุคคโล เขตธนบุรี กรุงเทพมหานคร 10600
CATEGORIES:ปฏิทินตารางหน่วยเคลื่อนที่
END:VEVENT
BEGIN:VEVENT
DTSTART;TZID=Asia/Krasnoyarsk:20260218T120000
DTEND;TZID=Asia/Krasnoyarsk:20260218T180000
DTSTAMP:20260424T022318
CREATED:20260218T023220Z
LAST-MODIFIED:20260218T023220Z
UID:10005669-1771416000-1771437600@thaibloodcentre.redcross.or.th
SUMMARY:ศูนย์การค้า เอ็มโพเรียม []
DESCRIPTION:สถานที่เจาะ : ชั้น M ศูนย์การค้า ดิ เอ็มโพเรียม เชื่อมลานจอดรถอาคาร B \nที่อยู่ : 622 ถนนสุขุมวิท แขวงคลองตัน เขตคลองเตย กรุงเทพฯ 0 2269 1515
URL:https://thaibloodcentre.redcross.or.th/event/%e0%b8%a8%e0%b8%b9%e0%b8%99%e0%b8%a2%e0%b9%8c%e0%b8%81%e0%b8%b2%e0%b8%a3%e0%b8%84%e0%b9%89%e0%b8%b2-%e0%b9%80%e0%b8%ad%e0%b9%87%e0%b8%a1%e0%b9%82%e0%b8%9e%e0%b9%80%e0%b8%a3%e0%b8%b5%e0%b8%a2-358/
LOCATION:ศูนย์การค้า เอ็มโพเรียม\, เอ็มโพเรียม 622 ถ. สุขุมวิท แขวงคลองตัน เขตคลองเตย กรุงเทพมหานคร 10110
CATEGORIES:ปฏิทินตารางหน่วยเคลื่อนที่
END:VEVENT
BEGIN:VEVENT
DTSTART;TZID=Asia/Krasnoyarsk:20260218T120000
DTEND;TZID=Asia/Krasnoyarsk:20260218T180000
DTSTAMP:20260424T022318
CREATED:20260218T023207Z
LAST-MODIFIED:20260218T023207Z
UID:10005668-1771416000-1771437600@thaibloodcentre.redcross.or.th
SUMMARY:ศูนย์การค้าเดอะมอลล์ไลฟ์สโตร์ งามวงศ์วาน []
DESCRIPTION:สถานที่เจาะ : ชั้น 5 โซน Government Center \nที่อยู่ : ถนนงามวงศ์วาน ต.บางเขน อ.เมือง จ.นนทบุรี 0 2555 1550
URL:https://thaibloodcentre.redcross.or.th/event/%e0%b8%a8%e0%b8%b9%e0%b8%99%e0%b8%a2%e0%b9%8c%e0%b8%81%e0%b8%b2%e0%b8%a3%e0%b8%84%e0%b9%89%e0%b8%b2%e0%b9%80%e0%b8%94%e0%b8%ad%e0%b8%b0%e0%b8%a1%e0%b8%ad%e0%b8%a5%e0%b8%a5%e0%b9%8c%e0%b9%84-1449/
LOCATION:ศูนย์การค้าเดอะมอลล์ไลฟ์สโตร์ งามวงศ์วาน\, เดอะมอลล์ ไลฟ์สโตร์ งามวงศ์วาน 430 ถนน งามวงศ์วาน ตำบลบางเขน อำเภอเมืองนนทบุรี นนทบุรี 11000
CATEGORIES:ปฏิทินตารางหน่วยเคลื่อนที่
END:VEVENT
BEGIN:VEVENT
DTSTART;TZID=Asia/Krasnoyarsk:20260218T120000
DTEND;TZID=Asia/Krasnoyarsk:20260218T180000
DTSTAMP:20260424T022318
CREATED:20260218T023155Z
LAST-MODIFIED:20260218T023155Z
UID:10005667-1771416000-1771437600@thaibloodcentre.redcross.or.th
SUMMARY:ศูนย์การค้าเดอะมอลล์ไลฟ์สโตร์ บางกะปิ []
DESCRIPTION:สถานที่เจาะ : ชั้น 2 ทางออกลานจอดรถ \nที่อยู่ : ถนนลาดพร้าว แขวงคลองจั่น เขตบางกะปิ กรุงเทพฯ 0 2310 2278
URL:https://thaibloodcentre.redcross.or.th/event/%e0%b8%a8%e0%b8%b9%e0%b8%99%e0%b8%a2%e0%b9%8c%e0%b8%81%e0%b8%b2%e0%b8%a3%e0%b8%84%e0%b9%89%e0%b8%b2%e0%b9%80%e0%b8%94%e0%b8%ad%e0%b8%b0%e0%b8%a1%e0%b8%ad%e0%b8%a5%e0%b8%a5%e0%b9%8c%e0%b9%84-1448/
LOCATION:ศูนย์การค้าเดอะมอลล์ไลฟ์สโตร์ บางกะปิ\, เดอะมอลล์ไลฟ์สโตร์ บางกะปิ 3522 ถ. ลาดพร้าว แขวงคลองจั่น เขตบางกะปิ กรุงเทพมหานคร 10240
CATEGORIES:ปฏิทินตารางหน่วยเคลื่อนที่
END:VEVENT
BEGIN:VEVENT
DTSTART;TZID=Asia/Krasnoyarsk:20260218T120000
DTEND;TZID=Asia/Krasnoyarsk:20260218T180000
DTSTAMP:20260424T022318
CREATED:20260218T023143Z
LAST-MODIFIED:20260218T023143Z
UID:10005666-1771416000-1771437600@thaibloodcentre.redcross.or.th
SUMMARY:ศูนย์การค้าเดอะมอลล์ไลฟ์สโตร์ บางแค []
DESCRIPTION:สถานที่เจาะ : ชั้น 3 ตรงข้ามร้านโอ้กะจู๋ \nที่อยู่ : ถนนเพชรเกษม แขวงบางแคเหนือ เขตภาษีเจริญ กรุงเทพฯ 02 487 1221
URL:https://thaibloodcentre.redcross.or.th/event/%e0%b8%a8%e0%b8%b9%e0%b8%99%e0%b8%a2%e0%b9%8c%e0%b8%81%e0%b8%b2%e0%b8%a3%e0%b8%84%e0%b9%89%e0%b8%b2%e0%b9%80%e0%b8%94%e0%b8%ad%e0%b8%b0%e0%b8%a1%e0%b8%ad%e0%b8%a5%e0%b8%a5%e0%b9%8c%e0%b9%84-1447/
LOCATION:ศูนย์การค้าเดอะมอลล์ไลฟ์สโตร์ บางแค\, ศูนย์การค้าเดอะมอลล์ไลฟ์สโตร์ บางแค
CATEGORIES:ปฏิทินตารางหน่วยเคลื่อนที่
END:VEVENT
BEGIN:VEVENT
DTSTART;TZID=Asia/Krasnoyarsk:20260218T110000
DTEND;TZID=Asia/Krasnoyarsk:20260218T150000
DTSTAMP:20260424T022318
CREATED:20260218T023316Z
LAST-MODIFIED:20260218T023316Z
UID:10005675-1771412400-1771426800@thaibloodcentre.redcross.or.th
SUMMARY:สถาบันเทคโนโลยีไทย-ญี่ปุ่น []
DESCRIPTION:สถานที่เจาะ : อาคาร E ชั้น 506 \nที่อยู่ : 1771/1 ถนนพัฒนาการ แขวงสวนหลวง เขตสวนหลวง กรุงเทพฯ 0 2763 2621
URL:https://thaibloodcentre.redcross.or.th/event/%e0%b8%aa%e0%b8%96%e0%b8%b2%e0%b8%9a%e0%b8%b1%e0%b8%99%e0%b9%80%e0%b8%97%e0%b8%84%e0%b9%82%e0%b8%99%e0%b9%82%e0%b8%a5%e0%b8%a2%e0%b8%b5%e0%b9%84%e0%b8%97%e0%b8%a2-%e0%b8%8d%e0%b8%b5%e0%b9%88-2/
LOCATION:สถาบันเทคโนโลยีไทย-ญี่ปุ่น
CATEGORIES:ปฏิทินตารางหน่วยเคลื่อนที่
END:VEVENT
END:VCALENDAR