BEGIN:VCALENDAR
VERSION:2.0
PRODID:-//เว็บไซต์ศูนย์บริการโลหิตแห่งชาติ - ECPv6.11.2.1//NONSGML v1.0//EN
CALSCALE:GREGORIAN
METHOD:PUBLISH
X-ORIGINAL-URL:https://thaibloodcentre.redcross.or.th
X-WR-CALDESC:Events for เว็บไซต์ศูนย์บริการโลหิตแห่งชาติ
REFRESH-INTERVAL;VALUE=DURATION:PT1H
X-Robots-Tag:noindex
X-PUBLISHED-TTL:PT1H
BEGIN:VTIMEZONE
TZID:Asia/Bangkok
BEGIN:STANDARD
TZOFFSETFROM:+0700
TZOFFSETTO:+0700
TZNAME:+07
DTSTART:20250101T000000
END:STANDARD
END:VTIMEZONE
BEGIN:VEVENT
DTSTART;TZID=Asia/Bangkok:20251022T150000
DTEND;TZID=Asia/Bangkok:20251022T150000
DTSTAMP:20260426T105140
CREATED:20251014T072007Z
LAST-MODIFIED:20251014T072007Z
UID:10003748-1761145200-1761145200@thaibloodcentre.redcross.or.th
SUMMARY:ธนาคารกรุงเทพ จำกัด (มหาชน) สำนักงานพระราม 3 [ธนาคารกรุงเทพ จำกัด (มหาชน) พระราม 3]
DESCRIPTION:สถานที่เจาะ : ถนนพระราม 3 \nที่อยู่ : เขตยานนาวา กรุงเทพฯ 0 2685 7827
URL:https://thaibloodcentre.redcross.or.th/event/%e0%b8%98%e0%b8%99%e0%b8%b2%e0%b8%84%e0%b8%b2%e0%b8%a3%e0%b8%81%e0%b8%a3%e0%b8%b8%e0%b8%87%e0%b9%80%e0%b8%97%e0%b8%9e-%e0%b8%88%e0%b8%b3%e0%b8%81%e0%b8%b1%e0%b8%94-%e0%b8%a1%e0%b8%ab%e0%b8%b2-4/
LOCATION:ธนาคารกรุงเทพ จำกัด (มหาชน) สำนักงานพระราม 3\, 2222 ถนนพระราม 3 แขวงช่องนนทรี เขตยานนาวา กรุงเทพมหานคร 10120 0.375
CATEGORIES:ปฏิทินตารางหน่วยเคลื่อนที่
END:VEVENT
BEGIN:VEVENT
DTSTART;TZID=Asia/Bangkok:20251022T150000
DTEND;TZID=Asia/Bangkok:20251022T150000
DTSTAMP:20260426T105140
CREATED:20251014T072009Z
LAST-MODIFIED:20251014T072009Z
UID:10003749-1761145200-1761145200@thaibloodcentre.redcross.or.th
SUMMARY:โรงพยาบาลเมืองสมุทร ปากน้ำ [โรงพยาบาลเมืองสมุทร ปากน้ำ]
DESCRIPTION:สถานที่เจาะ : 156 ถ.เทศบาล 12 \nที่อยู่ : ต.ปากน้ำ อ.เมือง จ.สมุทรปราการ 0 2175 7766-75
URL:https://thaibloodcentre.redcross.or.th/event/%e0%b9%82%e0%b8%a3%e0%b8%87%e0%b8%9e%e0%b8%a2%e0%b8%b2%e0%b8%9a%e0%b8%b2%e0%b8%a5%e0%b9%80%e0%b8%a1%e0%b8%b7%e0%b8%ad%e0%b8%87%e0%b8%aa%e0%b8%a1%e0%b8%b8%e0%b8%97%e0%b8%a3-%e0%b8%9b%e0%b8%b2-2/
LOCATION:โรงพยาบาลเมืองสมุทร ปากน้ำ\, โรงพยาบาลเมืองสมุทร ปากน้ำ 156 ถ.เทศบาล 12 ต.ปากน้ำ อ.เมืองสมุทรปราการ จ.สมุทรปราการ 10270
CATEGORIES:ปฏิทินตารางหน่วยเคลื่อนที่
END:VEVENT
BEGIN:VEVENT
DTSTART;TZID=Asia/Bangkok:20251022T150000
DTEND;TZID=Asia/Bangkok:20251022T150000
DTSTAMP:20260426T105141
CREATED:20251014T072012Z
LAST-MODIFIED:20251014T072012Z
UID:10003750-1761145200-1761145200@thaibloodcentre.redcross.or.th
SUMMARY:อาคาร เคเคพี ทาวเวอร์ [ธนาคารเกียรตินาคินภัทร จำกัด (มหาชน)]
DESCRIPTION:สถานที่เจาะ : 209 ถนนสุขุมวิท 21 (อโศก) \nที่อยู่ : แขวงคลองเตย เขตวัฒนา กรุงเทพฯ 0 2495 3450
URL:https://thaibloodcentre.redcross.or.th/event/%e0%b8%ad%e0%b8%b2%e0%b8%84%e0%b8%b2%e0%b8%a3-%e0%b9%80%e0%b8%84%e0%b9%80%e0%b8%84%e0%b8%9e%e0%b8%b5-%e0%b8%97%e0%b8%b2%e0%b8%a7%e0%b9%80%e0%b8%a7%e0%b8%ad%e0%b8%a3%e0%b9%8c-%e0%b8%98%e0%b8%99/
LOCATION:อาคาร เคเคพี ทาวเวอร์\, 209 ถนนสุขุมวิท 21 แขวงคลองเตยเหนือ เขตวัฒนา กรุงเทพมหานคร 10110 0.375
CATEGORIES:ปฏิทินตารางหน่วยเคลื่อนที่
END:VEVENT
BEGIN:VEVENT
DTSTART;TZID=Asia/Bangkok:20251022T150000
DTEND;TZID=Asia/Bangkok:20251022T150000
DTSTAMP:20260426T105141
CREATED:20251014T072014Z
LAST-MODIFIED:20251014T072014Z
UID:10003751-1761145200-1761145200@thaibloodcentre.redcross.or.th
SUMMARY:บริษัท เคซีอี อีเลคโทรนิคส์ จำกัด ( มหาชน ) [บริษัท เคซีอี อีเลคโทรนิคส์ จำกัด (มหาชน)]
DESCRIPTION:สถานที่เจาะ : 72-72/1-3 ซอยฉลองกรุง 31 \nที่อยู่ : แขวงลำปลาทิว เขตลาดกระบัง กรุงเทพฯ
URL:https://thaibloodcentre.redcross.or.th/event/%e0%b8%9a%e0%b8%a3%e0%b8%b4%e0%b8%a9%e0%b8%b1%e0%b8%97-%e0%b9%80%e0%b8%84%e0%b8%8b%e0%b8%b5%e0%b8%ad%e0%b8%b5-%e0%b8%ad%e0%b8%b5%e0%b9%80%e0%b8%a5%e0%b8%84%e0%b9%82%e0%b8%97%e0%b8%a3%e0%b8%99-2/
LOCATION:บริษัท เคซีอี อีเลคโทรนิคส์ จำกัด ( มหาชน )\, 72-72/1-3 ซอยฉลองกรุง 31 แขวงลำปลาทิว เขตลาดกระบัง กรุงเทพมหานคร 10520 0.375
CATEGORIES:ปฏิทินตารางหน่วยเคลื่อนที่
END:VEVENT
BEGIN:VEVENT
DTSTART;TZID=Asia/Bangkok:20251022T150000
DTEND;TZID=Asia/Bangkok:20251022T150000
DTSTAMP:20260426T105141
CREATED:20251014T072024Z
LAST-MODIFIED:20251014T072024Z
UID:10003752-1761145200-1761145200@thaibloodcentre.redcross.or.th
SUMMARY:บริษัท ไทยสมุทรประกันชีวิต จำกัด (มหาชน) [บริษัท ไทยสมุทรประกันชีวิต จำกัด (มหาชน)]
DESCRIPTION:สถานที่เจาะ : 170/74-83 ถนนรัชดาภิเษก \nที่อยู่ : แขวงคลองเตย เขตคลองเตย กรุงเทพฯ 0 2261 2300
URL:https://thaibloodcentre.redcross.or.th/event/%e0%b8%9a%e0%b8%a3%e0%b8%b4%e0%b8%a9%e0%b8%b1%e0%b8%97-%e0%b9%84%e0%b8%97%e0%b8%a2%e0%b8%aa%e0%b8%a1%e0%b8%b8%e0%b8%97%e0%b8%a3%e0%b8%9b%e0%b8%a3%e0%b8%b0%e0%b8%81%e0%b8%b1%e0%b8%99%e0%b8%8a-2/
LOCATION:บริษัท ไทยสมุทรประกันชีวิต จำกัด (มหาชน)\, บริษัท ไทยสมุทรประกันชีวิต จำกัด (มหาชน) 170/74-83 อาคารโอเชี่ยนทาวเวอร์ 1 ถนนรัชดาภิเษก แขวงคลองเตย เขตคลองเตย กรุงเทพมหานคร 10110
CATEGORIES:ปฏิทินตารางหน่วยเคลื่อนที่
END:VEVENT
BEGIN:VEVENT
DTSTART;TZID=Asia/Bangkok:20251022T150000
DTEND;TZID=Asia/Bangkok:20251022T150000
DTSTAMP:20260426T105141
CREATED:20251014T072028Z
LAST-MODIFIED:20251014T072028Z
UID:10003753-1761145200-1761145200@thaibloodcentre.redcross.or.th
SUMMARY:สินสาทร ทาวเวอร์ [นิติบุคคลอาคารชุดสินสาธรทาวเวอร์]
DESCRIPTION:สถานที่เจาะ : 77/33 ถนนกรุงธนบุรี \nที่อยู่ : แขวงคลองต้นไทร เขตคลองสาน กรุงเทพฯ 0 2440 0225-9
URL:https://thaibloodcentre.redcross.or.th/event/%e0%b8%aa%e0%b8%b4%e0%b8%99%e0%b8%aa%e0%b8%b2%e0%b8%97%e0%b8%a3-%e0%b8%97%e0%b8%b2%e0%b8%a7%e0%b9%80%e0%b8%a7%e0%b8%ad%e0%b8%a3%e0%b9%8c-%e0%b8%99%e0%b8%b4%e0%b8%95%e0%b8%b4%e0%b8%9a%e0%b8%b8/
LOCATION:สินสาทร ทาวเวอร์\, 77 ถนนกรุงธนบุรี แขวงคลองต้นไทร คลองสาน กรุงเทพมหานคร 10600 0.375
CATEGORIES:ปฏิทินตารางหน่วยเคลื่อนที่
END:VEVENT
BEGIN:VEVENT
DTSTART;TZID=Asia/Bangkok:20251022T150000
DTEND;TZID=Asia/Bangkok:20251022T150000
DTSTAMP:20260426T105141
CREATED:20251014T072030Z
LAST-MODIFIED:20251014T072030Z
UID:10003754-1761145200-1761145200@thaibloodcentre.redcross.or.th
SUMMARY:อาคารเบอรี่ ยุคเกอร์ [กลุ่มบีเจซี บิ๊กซี]
DESCRIPTION:สถานที่เจาะ : 99 ซอยรูเบีย \nที่อยู่ : แขวงพระโขนง เขตคลองเตย กรุงเทพฯ
URL:https://thaibloodcentre.redcross.or.th/event/%e0%b8%ad%e0%b8%b2%e0%b8%84%e0%b8%b2%e0%b8%a3%e0%b9%80%e0%b8%9a%e0%b8%ad%e0%b8%a3%e0%b8%b5%e0%b9%88-%e0%b8%a2%e0%b8%b8%e0%b8%84%e0%b9%80%e0%b8%81%e0%b8%ad%e0%b8%a3%e0%b9%8c-%e0%b8%81%e0%b8%a5/
LOCATION:อาคารเบอรี่ ยุคเกอร์\, 99 ซอยรูเบีย แขวงพระโขนง เขตคลองเตย กรุงเทพมหานคร 10110 0.375
CATEGORIES:ปฏิทินตารางหน่วยเคลื่อนที่
END:VEVENT
BEGIN:VEVENT
DTSTART;TZID=Asia/Bangkok:20251022T150000
DTEND;TZID=Asia/Bangkok:20251022T150000
DTSTAMP:20260426T105141
CREATED:20251014T072033Z
LAST-MODIFIED:20251014T072033Z
UID:10003755-1761145200-1761145200@thaibloodcentre.redcross.or.th
SUMMARY:การประปานครหลวง [การประปานครหลวง]
DESCRIPTION:สถานที่เจาะ : 400 ถนนประชาชื่น \nที่อยู่ : แขวงทุ่งสองห้อง เขตหลักสี่ กรุงเทพฯ 0 2500 2630
URL:https://thaibloodcentre.redcross.or.th/event/%e0%b8%81%e0%b8%b2%e0%b8%a3%e0%b8%9b%e0%b8%a3%e0%b8%b0%e0%b8%9b%e0%b8%b2%e0%b8%99%e0%b8%84%e0%b8%a3%e0%b8%ab%e0%b8%a5%e0%b8%a7%e0%b8%87-%e0%b8%81%e0%b8%b2%e0%b8%a3%e0%b8%9b%e0%b8%a3%e0%b8%b0%e0%b8%9b/
LOCATION:การประปานครหลวง
CATEGORIES:ปฏิทินตารางหน่วยเคลื่อนที่
END:VEVENT
BEGIN:VEVENT
DTSTART;TZID=Asia/Bangkok:20251022T180000
DTEND;TZID=Asia/Bangkok:20251022T180000
DTSTAMP:20260426T105141
CREATED:20251014T071928Z
LAST-MODIFIED:20251014T071928Z
UID:10003740-1761156000-1761156000@thaibloodcentre.redcross.or.th
SUMMARY:เดอะมอลล์ไลฟ์สโตร์ บางแค [ศูนย์การค้าเดอะมอลล์ไลฟ์สโตร์ บางแค]
DESCRIPTION:สถานที่เจาะ : ถนนเพชรเกษม \nที่อยู่ : แขวงบางแคเหนือ เขตภาษีเจริญ กรุงเทพฯ 02 487 1221
URL:https://thaibloodcentre.redcross.or.th/event/%e0%b9%80%e0%b8%94%e0%b8%ad%e0%b8%b0%e0%b8%a1%e0%b8%ad%e0%b8%a5%e0%b8%a5%e0%b9%8c%e0%b9%84%e0%b8%a5%e0%b8%9f%e0%b9%8c%e0%b8%aa%e0%b9%82%e0%b8%95%e0%b8%a3%e0%b9%8c-%e0%b8%9a%e0%b8%b2%e0%b8%87-10/
LOCATION:เดอะมอลล์ไลฟ์สโตร์ บางแค\, 518 ถ.เพชรเกษม แขวงบางแคเหนือ เขตบางแค กรุงเทพมหานคร 10160 0.5
CATEGORIES:ปฏิทินตารางหน่วยเคลื่อนที่
END:VEVENT
BEGIN:VEVENT
DTSTART;TZID=Asia/Bangkok:20251022T180000
DTEND;TZID=Asia/Bangkok:20251022T180000
DTSTAMP:20260426T105141
CREATED:20251014T071933Z
LAST-MODIFIED:20251014T071933Z
UID:10003741-1761156000-1761156000@thaibloodcentre.redcross.or.th
SUMMARY:เดอะมอลล์ไลฟ์สโตร์ บางกะปิ [ศูนย์การค้าเดอะมอลล์ไลฟ์สโตร์ บางกะปิ]
DESCRIPTION:สถานที่เจาะ : ถนนลาดพร้าว \nที่อยู่ : แขวงคลองจั่น เขตบางกะปิ กรุงเทพฯ 0 2310 2278
URL:https://thaibloodcentre.redcross.or.th/event/%e0%b9%80%e0%b8%94%e0%b8%ad%e0%b8%b0%e0%b8%a1%e0%b8%ad%e0%b8%a5%e0%b8%a5%e0%b9%8c%e0%b9%84%e0%b8%a5%e0%b8%9f%e0%b9%8c%e0%b8%aa%e0%b9%82%e0%b8%95%e0%b8%a3%e0%b9%8c-%e0%b8%9a%e0%b8%b2%e0%b8%87-11/
LOCATION:เดอะมอลล์ไลฟ์สโตร์ บางกะปิ\, 3522 ถ. ลาดพร้าว แขวงคลองจั่น เขตบางกะปิ กรุงเทพมหานคร 10240 0.5
CATEGORIES:ปฏิทินตารางหน่วยเคลื่อนที่
END:VEVENT
BEGIN:VEVENT
DTSTART;TZID=Asia/Bangkok:20251022T180000
DTEND;TZID=Asia/Bangkok:20251022T180000
DTSTAMP:20260426T105141
CREATED:20251014T071943Z
LAST-MODIFIED:20251014T071943Z
UID:10003742-1761156000-1761156000@thaibloodcentre.redcross.or.th
SUMMARY:เดอะมอลล์ ไลฟ์สโตร์ งามวงศ์วาน [ศูนย์การค้าเดอะมอลล์ไลฟ์สโตร์ งามวงศ์วาน]
DESCRIPTION:สถานที่เจาะ : ถนนงามวงศ์วาน \nที่อยู่ : ต.บางเขน อ.เมือง จ.นนทบุรี 0 2555 1550
URL:https://thaibloodcentre.redcross.or.th/event/%e0%b9%80%e0%b8%94%e0%b8%ad%e0%b8%b0%e0%b8%a1%e0%b8%ad%e0%b8%a5%e0%b8%a5%e0%b9%8c-%e0%b9%84%e0%b8%a5%e0%b8%9f%e0%b9%8c%e0%b8%aa%e0%b9%82%e0%b8%95%e0%b8%a3%e0%b9%8c-%e0%b8%87%e0%b8%b2%e0%b8%a1-6/
LOCATION:เดอะมอลล์ ไลฟ์สโตร์ งามวงศ์วาน\, 430 ถนน งามวงศ์วาน ตำบลบางเขน อำเภอเมืองนนทบุรี นนทบุรี 11000 0.5
CATEGORIES:ปฏิทินตารางหน่วยเคลื่อนที่
END:VEVENT
BEGIN:VEVENT
DTSTART;TZID=Asia/Bangkok:20251022T180000
DTEND;TZID=Asia/Bangkok:20251022T180000
DTSTAMP:20260426T105141
CREATED:20251014T071946Z
LAST-MODIFIED:20251014T071946Z
UID:10003743-1761156000-1761156000@thaibloodcentre.redcross.or.th
SUMMARY:เอ็มโพเรียม [ศูนย์การค้า เอ็มโพเรียม]
DESCRIPTION:สถานที่เจาะ : 622 ถนนสุขุมวิท \nที่อยู่ : แขวงคลองตัน เขตคลองเตย กรุงเทพฯ 0 2269 1515
URL:https://thaibloodcentre.redcross.or.th/event/%e0%b9%80%e0%b8%ad%e0%b9%87%e0%b8%a1%e0%b9%82%e0%b8%9e%e0%b9%80%e0%b8%a3%e0%b8%b5%e0%b8%a2%e0%b8%a1-%e0%b8%a8%e0%b8%b9%e0%b8%99%e0%b8%a2%e0%b9%8c%e0%b8%81%e0%b8%b2%e0%b8%a3%e0%b8%84%e0%b9%89-6/
LOCATION:เอ็มโพเรียม\, 622 ถ. สุขุมวิท แขวงคลองตัน เขตคลองเตย กรุงเทพมหานคร 10110 0.5
CATEGORIES:ปฏิทินตารางหน่วยเคลื่อนที่
END:VEVENT
BEGIN:VEVENT
DTSTART;TZID=Asia/Bangkok:20251022T180000
DTEND;TZID=Asia/Bangkok:20251022T180000
DTSTAMP:20260426T105141
CREATED:20251014T071949Z
LAST-MODIFIED:20251014T071949Z
UID:10003744-1761156000-1761156000@thaibloodcentre.redcross.or.th
SUMMARY:เดอะมอลล์ไลฟ์สโตร์ ท่าพระ [ศูนย์การค้าเดอะมอลล์ไลฟ์สโตร์ ท่าพระ]
DESCRIPTION:สถานที่เจาะ : 99 ถนนรัชดาท่าพระตัดใหม่ \nที่อยู่ : แขวงบุคคโล เขตธนบุรี กรุงเทพฯ 0 2469-1000
URL:https://thaibloodcentre.redcross.or.th/event/%e0%b9%80%e0%b8%94%e0%b8%ad%e0%b8%b0%e0%b8%a1%e0%b8%ad%e0%b8%a5%e0%b8%a5%e0%b9%8c%e0%b9%84%e0%b8%a5%e0%b8%9f%e0%b9%8c%e0%b8%aa%e0%b9%82%e0%b8%95%e0%b8%a3%e0%b9%8c-%e0%b8%97%e0%b9%88%e0%b8%b2-7/
LOCATION:เดอะมอลล์ไลฟ์สโตร์ ท่าพระ\, 129 ถ. รัชดาภิเษก แขวงบุคคโล เขตธนบุรี กรุงเทพมหานคร 10600 0.5
CATEGORIES:ปฏิทินตารางหน่วยเคลื่อนที่
END:VEVENT
BEGIN:VEVENT
DTSTART;TZID=Asia/Bangkok:20251022T193000
DTEND;TZID=Asia/Bangkok:20251022T193000
DTSTAMP:20260426T105141
CREATED:20251014T071922Z
LAST-MODIFIED:20251014T071922Z
UID:10003739-1761161400-1761161400@thaibloodcentre.redcross.or.th
SUMMARY:ศูนย์บริการโลหิตแห่งชาติ สภากาชาดไทย [ศูนย์บริการโลหิตแห่งชาติ สภากาชาดไทย]
DESCRIPTION:สถานที่เจาะ : 1871 ถ. อังรีดูนังต์ แขวงปทุมวัน เขตปทุมวัน
URL:https://thaibloodcentre.redcross.or.th/event/%e0%b8%a8%e0%b8%b9%e0%b8%99%e0%b8%a2%e0%b9%8c%e0%b8%9a%e0%b8%a3%e0%b8%b4%e0%b8%81%e0%b8%b2%e0%b8%a3%e0%b9%82%e0%b8%a5%e0%b8%ab%e0%b8%b4%e0%b8%95%e0%b9%81%e0%b8%ab%e0%b9%88%e0%b8%87%e0%b8%8a-300/
LOCATION:ศูนย์บริการโลหิตแห่งชาติ สภากาชาดไทย\, ศูนย์บริการโลหิตแห่งชาติ สภากาชาดไทย 1871 ถ. อังรีดูนังต์ แขวงปทุมวัน เขตปทุมวัน กรุงเทพมหานคร 10330
CATEGORIES:ปฏิทินตารางหน่วยเคลื่อนที่
END:VEVENT
BEGIN:VEVENT
DTSTART;TZID=Asia/Bangkok:20251022T193000
DTEND;TZID=Asia/Bangkok:20251022T193000
DTSTAMP:20260426T105141
CREATED:20251014T071952Z
LAST-MODIFIED:20251014T071952Z
UID:10003745-1761161400-1761161400@thaibloodcentre.redcross.or.th
SUMMARY:สถานีกาชาดที่ 11 วิเศษนิยม สภากาชาดไทย [สถานีกาชาด 11 วิเศษนิยม]
DESCRIPTION:สถานที่เจาะ : 33/3 ถนนเพชรเกษม \nที่อยู่ : แขวงบางหว้า เขตภาษีเจริญ กรุงเทพฯ 0633450711
URL:https://thaibloodcentre.redcross.or.th/event/%e0%b8%aa%e0%b8%96%e0%b8%b2%e0%b8%99%e0%b8%b5%e0%b8%81%e0%b8%b2%e0%b8%8a%e0%b8%b2%e0%b8%94%e0%b8%97%e0%b8%b5%e0%b9%88-11-%e0%b8%a7%e0%b8%b4%e0%b9%80%e0%b8%a8%e0%b8%a9%e0%b8%99%e0%b8%b4%e0%b8%a2-6/
LOCATION:สถานีกาชาดที่ 11 วิเศษนิยม สภากาชาดไทย\, 605 ถ.เพชรเกษม แขวงบางหว้า เขตภาษีเจริญ กรุงเทพมหานคร 10160 0.35416666666667
CATEGORIES:ปฏิทินตารางหน่วยเคลื่อนที่
END:VEVENT
BEGIN:VEVENT
DTSTART;TZID=Asia/Bangkok:20251023T150000
DTEND;TZID=Asia/Bangkok:20251023T150000
DTSTAMP:20260426T105141
CREATED:20251014T073412Z
LAST-MODIFIED:20251014T074416Z
UID:10003763-1761231600-1761231600@thaibloodcentre.redcross.or.th
SUMMARY:หน่วยรับบริจาคโลหิต บ้านทรงไทย(ย่านวงศ์สว่าง) [บ้านทรงไทย (ย่านวงศ์สว่าง)]
DESCRIPTION:สถานที่เจาะ : 1423 ถนนกรุงเทพ – นนทบุรี \nที่อยู่ : แขวงวงศ์สว่าง เขตบางซื่อ กรุงเทพฯ 0 2256 4300
URL:https://thaibloodcentre.redcross.or.th/event/%e0%b8%ab%e0%b8%99%e0%b9%88%e0%b8%a7%e0%b8%a2%e0%b8%a3%e0%b8%b1%e0%b8%9a%e0%b8%9a%e0%b8%a3%e0%b8%b4%e0%b8%88%e0%b8%b2%e0%b8%84%e0%b9%82%e0%b8%a5%e0%b8%ab%e0%b8%b4%e0%b8%95-%e0%b8%9a%e0%b9%89-7/
LOCATION:หน่วยรับบริจาคโลหิต บ้านทรงไทย(ย่านวงศ์สว่าง)\, 1423 ถนนกรุงเทพ-นนทบุรี แขวงวงศ์สว่าง เขตบางซื่อ กรุงเทพมหานคร 10800 0.375
CATEGORIES:ปฏิทินตารางหน่วยเคลื่อนที่
END:VEVENT
BEGIN:VEVENT
DTSTART;TZID=Asia/Bangkok:20251023T150000
DTEND;TZID=Asia/Bangkok:20251023T150000
DTSTAMP:20260426T105141
CREATED:20251014T073414Z
LAST-MODIFIED:20251014T074417Z
UID:10003764-1761231600-1761231600@thaibloodcentre.redcross.or.th
SUMMARY:วัดพุทธบูชา [ชมรมบริจาคโลหิตวัดพุทธบูชา]
DESCRIPTION:สถานที่เจาะ : 181 พุทธบูชา 30 ริมคลองบางมด \nที่อยู่ : แขวงบางมด เขตทุ่งครุ กรุงเทพฯ 0 2046 8792
URL:https://thaibloodcentre.redcross.or.th/event/%e0%b8%a7%e0%b8%b1%e0%b8%94%e0%b8%9e%e0%b8%b8%e0%b8%97%e0%b8%98%e0%b8%9a%e0%b8%b9%e0%b8%8a%e0%b8%b2-%e0%b8%8a%e0%b8%a1%e0%b8%a3%e0%b8%a1%e0%b8%9a%e0%b8%a3%e0%b8%b4%e0%b8%88%e0%b8%b2%e0%b8%84%e0%b9%82/
LOCATION:วัดพุทธบูชา\, 181 หมู่ที่ 3 ถนน พุทธบูชา แขวงบางมด เขตทุ่งครุ กรุงเทพมหานคร 10140 0.375
CATEGORIES:ปฏิทินตารางหน่วยเคลื่อนที่
END:VEVENT
BEGIN:VEVENT
DTSTART;TZID=Asia/Bangkok:20251023T150000
DTEND;TZID=Asia/Bangkok:20251023T150000
DTSTAMP:20260426T105141
CREATED:20251014T073417Z
LAST-MODIFIED:20251014T074418Z
UID:10003765-1761231600-1761231600@thaibloodcentre.redcross.or.th
SUMMARY:บริษัท พีวีพูนทรัพย์ จำกัด (ตลาดพูนทรัพย์) [บริษัท พีวีพูนทรัพย์ จำกัด (ตลาดพูนทรัพย์)]
DESCRIPTION:สถานที่เจาะ : 136/10 ม. 2 ถ.รังสิต – ปทุมธานี \nที่อยู่ : ต.บ้านกลาง อ.เมือง ปทุมธานี 0 2979 6930-4
URL:https://thaibloodcentre.redcross.or.th/event/%e0%b8%9a%e0%b8%a3%e0%b8%b4%e0%b8%a9%e0%b8%b1%e0%b8%97-%e0%b8%9e%e0%b8%b5%e0%b8%a7%e0%b8%b5%e0%b8%9e%e0%b8%b9%e0%b8%99%e0%b8%97%e0%b8%a3%e0%b8%b1%e0%b8%9e%e0%b8%a2%e0%b9%8c-%e0%b8%88%e0%b8%b3%e0%b8%81/
LOCATION:บริษัท พีวีพูนทรัพย์ จำกัด (ตลาดพูนทรัพย์)\, 136/10 ม.2 ต.บ้านกลาง อ.เมืองปทุมธานี ปทุมธานี 12000 0.45833333333333
CATEGORIES:ปฏิทินตารางหน่วยเคลื่อนที่
END:VEVENT
BEGIN:VEVENT
DTSTART;TZID=Asia/Bangkok:20251023T150000
DTEND;TZID=Asia/Bangkok:20251023T150000
DTSTAMP:20260426T105141
CREATED:20251014T074019Z
LAST-MODIFIED:20251014T074424Z
UID:10003766-1761231600-1761231600@thaibloodcentre.redcross.or.th
SUMMARY:มณีรินทร์ เลค แอนด์ พาร์ค ราชพฤกษ์ – ติวานนท์ [มณีรินทร์ เลค แอนด์ พาร์ค ราชพฤกษ์ – ติวานนท์]
DESCRIPTION:สถานที่เจาะ : 60 หมู่ที่ 11 \nที่อยู่ : ตำบลบางคูวัด อำเภอเมืองปทุมธานี ปทุมธานี
URL:https://thaibloodcentre.redcross.or.th/event/%e0%b8%a1%e0%b8%93%e0%b8%b5%e0%b8%a3%e0%b8%b4%e0%b8%99%e0%b8%97%e0%b8%a3%e0%b9%8c-%e0%b9%80%e0%b8%a5%e0%b8%84-%e0%b9%81%e0%b8%ad%e0%b8%99%e0%b8%94%e0%b9%8c-%e0%b8%9e%e0%b8%b2%e0%b8%a3%e0%b9%8c-2/
LOCATION:มณีรินทร์ เลค แอนด์ พาร์ค ราชพฤกษ์ – ติวานนท์\, มาสเตอร์คลับ มณีรินทร์ ติวานนท์ วงแหวน สโมสร 123/4 ซอย หมู่บ้านมณีรินทร์เลคแอนด์พาร์ค ตำบล บางคูวัด อำเภอเมืองปทุมธานี ปทุมธานี 12000
CATEGORIES:ปฏิทินตารางหน่วยเคลื่อนที่
END:VEVENT
BEGIN:VEVENT
DTSTART;TZID=Asia/Bangkok:20251023T153000
DTEND;TZID=Asia/Bangkok:20251023T153000
DTSTAMP:20260426T105141
CREATED:20251014T073351Z
LAST-MODIFIED:20251014T074405Z
UID:10003756-1761233400-1761233400@thaibloodcentre.redcross.or.th
SUMMARY:ศูนย์บริการโลหิตแห่งชาติ สภากาชาดไทย [ศูนย์บริการโลหิตแห่งชาติ สภากาชาดไทย]
DESCRIPTION:สถานที่เจาะ : 1871 ถ. อังรีดูนังต์ แขวงปทุมวัน เขตปทุมวัน
URL:https://thaibloodcentre.redcross.or.th/event/%e0%b8%a8%e0%b8%b9%e0%b8%99%e0%b8%a2%e0%b9%8c%e0%b8%9a%e0%b8%a3%e0%b8%b4%e0%b8%81%e0%b8%b2%e0%b8%a3%e0%b9%82%e0%b8%a5%e0%b8%ab%e0%b8%b4%e0%b8%95%e0%b9%81%e0%b8%ab%e0%b9%88%e0%b8%87%e0%b8%8a-301/
LOCATION:ศูนย์บริการโลหิตแห่งชาติ สภากาชาดไทย\, ศูนย์บริการโลหิตแห่งชาติ สภากาชาดไทย 1871 ถ. อังรีดูนังต์ แขวงปทุมวัน เขตปทุมวัน กรุงเทพมหานคร 10330
CATEGORIES:ปฏิทินตารางหน่วยเคลื่อนที่
END:VEVENT
BEGIN:VEVENT
DTSTART;TZID=Asia/Bangkok:20251023T153000
DTEND;TZID=Asia/Bangkok:20251023T153000
DTSTAMP:20260426T105141
CREATED:20251014T073409Z
LAST-MODIFIED:20251014T074415Z
UID:10003762-1761233400-1761233400@thaibloodcentre.redcross.or.th
SUMMARY:สถานีกาชาดที่ 11 วิเศษนิยม สภากาชาดไทย [สถานีกาชาด 11 วิเศษนิยม]
DESCRIPTION:สถานที่เจาะ : 33/3 ถนนเพชรเกษม \nที่อยู่ : แขวงบางหว้า เขตภาษีเจริญ กรุงเทพฯ 0633450711
URL:https://thaibloodcentre.redcross.or.th/event/%e0%b8%aa%e0%b8%96%e0%b8%b2%e0%b8%99%e0%b8%b5%e0%b8%81%e0%b8%b2%e0%b8%8a%e0%b8%b2%e0%b8%94%e0%b8%97%e0%b8%b5%e0%b9%88-11-%e0%b8%a7%e0%b8%b4%e0%b9%80%e0%b8%a8%e0%b8%a9%e0%b8%99%e0%b8%b4%e0%b8%a2-7/
LOCATION:สถานีกาชาดที่ 11 วิเศษนิยม สภากาชาดไทย\, 605 ถ.เพชรเกษม แขวงบางหว้า เขตภาษีเจริญ กรุงเทพมหานคร 10160 0.35416666666667
CATEGORIES:ปฏิทินตารางหน่วยเคลื่อนที่
END:VEVENT
BEGIN:VEVENT
DTSTART;TZID=Asia/Bangkok:20251023T180000
DTEND;TZID=Asia/Bangkok:20251023T180000
DTSTAMP:20260426T105141
CREATED:20251014T073354Z
LAST-MODIFIED:20251014T074406Z
UID:10003757-1761242400-1761242400@thaibloodcentre.redcross.or.th
SUMMARY:เดอะมอลล์ไลฟ์สโตร์ บางแค [ศูนย์การค้าเดอะมอลล์ไลฟ์สโตร์ บางแค]
DESCRIPTION:สถานที่เจาะ : ถนนเพชรเกษม \nที่อยู่ : แขวงบางแคเหนือ เขตภาษีเจริญ กรุงเทพฯ 02 487 1221
URL:https://thaibloodcentre.redcross.or.th/event/%e0%b9%80%e0%b8%94%e0%b8%ad%e0%b8%b0%e0%b8%a1%e0%b8%ad%e0%b8%a5%e0%b8%a5%e0%b9%8c%e0%b9%84%e0%b8%a5%e0%b8%9f%e0%b9%8c%e0%b8%aa%e0%b9%82%e0%b8%95%e0%b8%a3%e0%b9%8c-%e0%b8%9a%e0%b8%b2%e0%b8%87-12/
LOCATION:เดอะมอลล์ไลฟ์สโตร์ บางแค\, 518 ถ.เพชรเกษม แขวงบางแคเหนือ เขตบางแค กรุงเทพมหานคร 10160 0.5
CATEGORIES:ปฏิทินตารางหน่วยเคลื่อนที่
END:VEVENT
BEGIN:VEVENT
DTSTART;TZID=Asia/Bangkok:20251023T180000
DTEND;TZID=Asia/Bangkok:20251023T180000
DTSTAMP:20260426T105141
CREATED:20251014T073357Z
LAST-MODIFIED:20251014T074407Z
UID:10003758-1761242400-1761242400@thaibloodcentre.redcross.or.th
SUMMARY:เดอะมอลล์ไลฟ์สโตร์ บางกะปิ [ศูนย์การค้าเดอะมอลล์ไลฟ์สโตร์ บางกะปิ]
DESCRIPTION:สถานที่เจาะ : ถนนลาดพร้าว \nที่อยู่ : แขวงคลองจั่น เขตบางกะปิ กรุงเทพฯ 0 2310 2278
URL:https://thaibloodcentre.redcross.or.th/event/%e0%b9%80%e0%b8%94%e0%b8%ad%e0%b8%b0%e0%b8%a1%e0%b8%ad%e0%b8%a5%e0%b8%a5%e0%b9%8c%e0%b9%84%e0%b8%a5%e0%b8%9f%e0%b9%8c%e0%b8%aa%e0%b9%82%e0%b8%95%e0%b8%a3%e0%b9%8c-%e0%b8%9a%e0%b8%b2%e0%b8%87-13/
LOCATION:เดอะมอลล์ไลฟ์สโตร์ บางกะปิ\, 3522 ถ. ลาดพร้าว แขวงคลองจั่น เขตบางกะปิ กรุงเทพมหานคร 10240 0.5
CATEGORIES:ปฏิทินตารางหน่วยเคลื่อนที่
END:VEVENT
BEGIN:VEVENT
DTSTART;TZID=Asia/Bangkok:20251023T180000
DTEND;TZID=Asia/Bangkok:20251023T180000
DTSTAMP:20260426T105141
CREATED:20251014T073359Z
LAST-MODIFIED:20251014T074408Z
UID:10003759-1761242400-1761242400@thaibloodcentre.redcross.or.th
SUMMARY:เดอะมอลล์ ไลฟ์สโตร์ งามวงศ์วาน [ศูนย์การค้าเดอะมอลล์ไลฟ์สโตร์ งามวงศ์วาน]
DESCRIPTION:สถานที่เจาะ : ถนนงามวงศ์วาน \nที่อยู่ : ต.บางเขน อ.เมือง จ.นนทบุรี 0 2555 1550
URL:https://thaibloodcentre.redcross.or.th/event/%e0%b9%80%e0%b8%94%e0%b8%ad%e0%b8%b0%e0%b8%a1%e0%b8%ad%e0%b8%a5%e0%b8%a5%e0%b9%8c-%e0%b9%84%e0%b8%a5%e0%b8%9f%e0%b9%8c%e0%b8%aa%e0%b9%82%e0%b8%95%e0%b8%a3%e0%b9%8c-%e0%b8%87%e0%b8%b2%e0%b8%a1-7/
LOCATION:เดอะมอลล์ ไลฟ์สโตร์ งามวงศ์วาน\, 430 ถนน งามวงศ์วาน ตำบลบางเขน อำเภอเมืองนนทบุรี นนทบุรี 11000 0.5
CATEGORIES:ปฏิทินตารางหน่วยเคลื่อนที่
END:VEVENT
BEGIN:VEVENT
DTSTART;TZID=Asia/Bangkok:20251023T180000
DTEND;TZID=Asia/Bangkok:20251023T180000
DTSTAMP:20260426T105141
CREATED:20251014T073402Z
LAST-MODIFIED:20251014T074409Z
UID:10003760-1761242400-1761242400@thaibloodcentre.redcross.or.th
SUMMARY:เอ็มโพเรียม [ศูนย์การค้า เอ็มโพเรียม]
DESCRIPTION:สถานที่เจาะ : 622 ถนนสุขุมวิท \nที่อยู่ : แขวงคลองตัน เขตคลองเตย กรุงเทพฯ 0 2269 1515
URL:https://thaibloodcentre.redcross.or.th/event/%e0%b9%80%e0%b8%ad%e0%b9%87%e0%b8%a1%e0%b9%82%e0%b8%9e%e0%b9%80%e0%b8%a3%e0%b8%b5%e0%b8%a2%e0%b8%a1-%e0%b8%a8%e0%b8%b9%e0%b8%99%e0%b8%a2%e0%b9%8c%e0%b8%81%e0%b8%b2%e0%b8%a3%e0%b8%84%e0%b9%89-7/
LOCATION:เอ็มโพเรียม\, 622 ถ. สุขุมวิท แขวงคลองตัน เขตคลองเตย กรุงเทพมหานคร 10110 0.5
CATEGORIES:ปฏิทินตารางหน่วยเคลื่อนที่
END:VEVENT
BEGIN:VEVENT
DTSTART;TZID=Asia/Bangkok:20251023T180000
DTEND;TZID=Asia/Bangkok:20251023T180000
DTSTAMP:20260426T105141
CREATED:20251014T073407Z
LAST-MODIFIED:20251014T074414Z
UID:10003761-1761242400-1761242400@thaibloodcentre.redcross.or.th
SUMMARY:เดอะมอลล์ไลฟ์สโตร์ ท่าพระ [ศูนย์การค้าเดอะมอลล์ไลฟ์สโตร์ ท่าพระ]
DESCRIPTION:สถานที่เจาะ : 99 ถนนรัชดาท่าพระตัดใหม่ \nที่อยู่ : แขวงบุคคโล เขตธนบุรี กรุงเทพฯ 0 2469-1000
URL:https://thaibloodcentre.redcross.or.th/event/%e0%b9%80%e0%b8%94%e0%b8%ad%e0%b8%b0%e0%b8%a1%e0%b8%ad%e0%b8%a5%e0%b8%a5%e0%b9%8c%e0%b9%84%e0%b8%a5%e0%b8%9f%e0%b9%8c%e0%b8%aa%e0%b9%82%e0%b8%95%e0%b8%a3%e0%b9%8c-%e0%b8%97%e0%b9%88%e0%b8%b2-8/
LOCATION:เดอะมอลล์ไลฟ์สโตร์ ท่าพระ\, 129 ถ. รัชดาภิเษก แขวงบุคคโล เขตธนบุรี กรุงเทพมหานคร 10600 0.5
CATEGORIES:ปฏิทินตารางหน่วยเคลื่อนที่
END:VEVENT
BEGIN:VEVENT
DTSTART;TZID=Asia/Bangkok:20251026T130000
DTEND;TZID=Asia/Bangkok:20251026T130000
DTSTAMP:20260426T105141
CREATED:20251017T034304Z
LAST-MODIFIED:20251017T034453Z
UID:10003776-1761483600-1761483600@thaibloodcentre.redcross.or.th
SUMMARY:สมาคมศรีคุรุสิงห์สภา [สมาคมศรีคุรุสิงห์สภา]
DESCRIPTION:สถานที่เจาะ : 565 ถนนจักรเพชร \nที่อยู่ : แขวงวังบูรพา เขตพระนคร กรุงเทพฯ 0 2221 1011
URL:https://thaibloodcentre.redcross.or.th/event/%e0%b8%aa%e0%b8%a1%e0%b8%b2%e0%b8%84%e0%b8%a1%e0%b8%a8%e0%b8%a3%e0%b8%b5%e0%b8%84%e0%b8%b8%e0%b8%a3%e0%b8%b8%e0%b8%aa%e0%b8%b4%e0%b8%87%e0%b8%ab%e0%b9%8c%e0%b8%aa%e0%b8%a0%e0%b8%b2-%e0%b8%aa%e0%b8%a1/
LOCATION:สมาคมศรีคุรุสิงห์สภา
CATEGORIES:ปฏิทินตารางหน่วยเคลื่อนที่
END:VEVENT
BEGIN:VEVENT
DTSTART;TZID=Asia/Bangkok:20251026T150000
DTEND;TZID=Asia/Bangkok:20251026T150000
DTSTAMP:20260426T105141
CREATED:20251017T034300Z
LAST-MODIFIED:20251017T034452Z
UID:10003774-1761490800-1761490800@thaibloodcentre.redcross.or.th
SUMMARY:หน่วยรับบริจาคโลหิต บ้านทรงไทย(ย่านวงศ์สว่าง) [บ้านทรงไทย (ย่านวงศ์สว่าง)]
DESCRIPTION:สถานที่เจาะ : 1423 ถนนกรุงเทพ – นนทบุรี \nที่อยู่ : แขวงวงศ์สว่าง เขตบางซื่อ กรุงเทพฯ 0 2256 4300
URL:https://thaibloodcentre.redcross.or.th/event/%e0%b8%ab%e0%b8%99%e0%b9%88%e0%b8%a7%e0%b8%a2%e0%b8%a3%e0%b8%b1%e0%b8%9a%e0%b8%9a%e0%b8%a3%e0%b8%b4%e0%b8%88%e0%b8%b2%e0%b8%84%e0%b9%82%e0%b8%a5%e0%b8%ab%e0%b8%b4%e0%b8%95-%e0%b8%9a%e0%b9%89-8/
LOCATION:หน่วยรับบริจาคโลหิต บ้านทรงไทย(ย่านวงศ์สว่าง)\, 1423 ถนนกรุงเทพ-นนทบุรี แขวงวงศ์สว่าง เขตบางซื่อ กรุงเทพมหานคร 10800 0.375
CATEGORIES:ปฏิทินตารางหน่วยเคลื่อนที่
END:VEVENT
BEGIN:VEVENT
DTSTART;TZID=Asia/Bangkok:20251026T150000
DTEND;TZID=Asia/Bangkok:20251026T150000
DTSTAMP:20260426T105141
CREATED:20251017T034302Z
LAST-MODIFIED:20251017T034453Z
UID:10003775-1761490800-1761490800@thaibloodcentre.redcross.or.th
SUMMARY:บิ๊กซี ซูเปอร์เซ็นเตอร์ สาขาธนบุรี-ปากท่อ [บิ๊กซี ซูเปอร์เซ็นเตอร์ สาขาธนบุรี-ปากท่อ]
DESCRIPTION:สถานที่เจาะ : 127 ถนนพระราม 2 \nที่อยู่ : แขวงแสมดำ เขตบางขุนเทียน กรุงเทพฯ 0 2895 7600
URL:https://thaibloodcentre.redcross.or.th/event/%e0%b8%9a%e0%b8%b4%e0%b9%8a%e0%b8%81%e0%b8%8b%e0%b8%b5-%e0%b8%8b%e0%b8%b9%e0%b9%80%e0%b8%9b%e0%b8%ad%e0%b8%a3%e0%b9%8c%e0%b9%80%e0%b8%8b%e0%b9%87%e0%b8%99%e0%b9%80%e0%b8%95%e0%b8%ad%e0%b8%a3-28/
LOCATION:บิ๊กซี ซูเปอร์เซ็นเตอร์ สาขาธนบุรี-ปากท่อ\, บิ๊กซี ซูเปอร์เซ็นเตอร์ สาขาธนบุรี-ปากท่อ 127 ถนนพระรามที่ 2 แขวงแสมดำ เขตบางขุนเทียน กรุงเทพมหานคร 10150
CATEGORIES:ปฏิทินตารางหน่วยเคลื่อนที่
END:VEVENT
BEGIN:VEVENT
DTSTART;TZID=Asia/Bangkok:20251026T150000
DTEND;TZID=Asia/Bangkok:20251026T150000
DTSTAMP:20260426T105141
CREATED:20251017T034313Z
LAST-MODIFIED:20251017T034653Z
UID:10003777-1761490800-1761490800@thaibloodcentre.redcross.or.th
SUMMARY:บริษัท ซีพี แอ็กซ์ตร้า จำกัด (มหาชน) สาขาตลาดรุ่งโรจน์ (คลอง 4) [บริษัท ซีพี แอ็กซ์ตร้า จำกัด (มหาชน) สาขาตลาดรุ่งโรจน์ (คลอง 4)]
DESCRIPTION:สถานที่เจาะ : 111/1330 ม. 1 \nที่อยู่ : ต.บึงยี่โถ อ.ธัญบุรี ปทุมธานี 0 2021 1830
URL:https://thaibloodcentre.redcross.or.th/event/%e0%b8%9a%e0%b8%a3%e0%b8%b4%e0%b8%a9%e0%b8%b1%e0%b8%97-%e0%b8%8b%e0%b8%b5%e0%b8%9e%e0%b8%b5-%e0%b9%81%e0%b8%ad%e0%b9%87%e0%b8%81%e0%b8%8b%e0%b9%8c%e0%b8%95%e0%b8%a3%e0%b9%89%e0%b8%b2-%e0%b8%88-32/
LOCATION:บริษัท ซีพี แอ็กซ์ตร้า จำกัด (มหาชน) สาขาตลาดรุ่งโรจน์ (คลอง 4)\, บริษัท ซีพี แอ็กซ์ตร้า จำกัด (มหาชน) สาขาตลาดรุ่งโรจน์ (คลอง 4) 111/1330 ม.1 ต.บึงยี่โถ อ.ธัญบุรี จ.ปทุมธานี 12130
CATEGORIES:ปฏิทินตารางหน่วยเคลื่อนที่
END:VEVENT
END:VCALENDAR