BEGIN:VCALENDAR
VERSION:2.0
PRODID:-//เว็บไซต์ศูนย์บริการโลหิตแห่งชาติ - ECPv6.11.2.1//NONSGML v1.0//EN
CALSCALE:GREGORIAN
METHOD:PUBLISH
X-WR-CALNAME:เว็บไซต์ศูนย์บริการโลหิตแห่งชาติ
X-ORIGINAL-URL:https://thaibloodcentre.redcross.or.th
X-WR-CALDESC:Events for เว็บไซต์ศูนย์บริการโลหิตแห่งชาติ
REFRESH-INTERVAL;VALUE=DURATION:PT1H
X-Robots-Tag:noindex
X-PUBLISHED-TTL:PT1H
BEGIN:VTIMEZONE
TZID:Asia/Krasnoyarsk
BEGIN:STANDARD
TZOFFSETFROM:+0700
TZOFFSETTO:+0700
TZNAME:+07
DTSTART:20250101T000000
END:STANDARD
END:VTIMEZONE
BEGIN:VEVENT
DTSTART;TZID=Asia/Krasnoyarsk:20251112T093000
DTEND;TZID=Asia/Krasnoyarsk:20251112T150000
DTSTAMP:20260425T213920
CREATED:20251111T050159Z
LAST-MODIFIED:20251111T050219Z
UID:10004213-1762939800-1762959600@thaibloodcentre.redcross.or.th
SUMMARY:บริษัท คอนติเนนตัลบรรจุภัณฑ์ (ไทยแลนด์) จำกัด []
DESCRIPTION:สถานที่เจาะ : ลานจอดรถ (พัก 11.30-12.30 น.) \nที่อยู่ : 86 ม.13 ถ.บางนา-ตราด กม.10 ต.บางพลีใหญ่ อ.บางพลี จ.สมุทรปราการ  \nโทร : 0 2316 6796
URL:https://thaibloodcentre.redcross.or.th/event/%e0%b8%9a%e0%b8%a3%e0%b8%b4%e0%b8%a9%e0%b8%b1%e0%b8%97-%e0%b8%84%e0%b8%ad%e0%b8%99%e0%b8%95%e0%b8%b4%e0%b9%80%e0%b8%99%e0%b8%99%e0%b8%95%e0%b8%b1%e0%b8%a5%e0%b8%9a%e0%b8%a3%e0%b8%a3%e0%b8%88-5/
LOCATION:บริษัท คอนติเนนตัลบรรจุภัณฑ์ (ไทยแลนด์) จำกัด\, บริษัท คอนติเนนตัลบรรจุภัณฑ์ (ไทยแลนด์) จำกัด 86 หมู่ 13 ถ.บางนา-ตราด บางพลี-ใหญ่ บางพลี สมุทรปราการ 10540
CATEGORIES:ปฏิทินตารางหน่วยเคลื่อนที่
END:VEVENT
BEGIN:VEVENT
DTSTART;TZID=Asia/Krasnoyarsk:20251112T110000
DTEND;TZID=Asia/Krasnoyarsk:20251112T150000
DTSTAMP:20260425T213920
CREATED:20251111T050147Z
LAST-MODIFIED:20251111T050147Z
UID:10004211-1762945200-1762959600@thaibloodcentre.redcross.or.th
SUMMARY:เซ็นทรัลพลาซา แจ้งวัฒนะ []
DESCRIPTION:สถานที่เจาะ : ชั้น 7 Education Zone \nที่อยู่ : 99/99 ม.2 ถ.แจ้งวัฒนะ ต.บางตลาด อ.ปากเกร็ด จ.นนทบุรี  \nโทร : 0 2101 0000
URL:https://thaibloodcentre.redcross.or.th/event/%e0%b9%80%e0%b8%8b%e0%b9%87%e0%b8%99%e0%b8%97%e0%b8%a3%e0%b8%b1%e0%b8%a5%e0%b8%9e%e0%b8%a5%e0%b8%b2%e0%b8%8b%e0%b8%b2-%e0%b9%81%e0%b8%88%e0%b9%89%e0%b8%87%e0%b8%a7%e0%b8%b1%e0%b8%92%e0%b8%99-12/
LOCATION:เซ็นทรัลพลาซา แจ้งวัฒนะ\, เซ็นทรัลพลาซา แจ้งวัฒนะ 99-99/9 หมู่ที่ 2 ถ. แจ้งวัฒนะ ตำบลบางตลาด อำเภอปากเกร็ด นนทบุรี 11120
CATEGORIES:ปฏิทินตารางหน่วยเคลื่อนที่
END:VEVENT
BEGIN:VEVENT
DTSTART;TZID=Asia/Krasnoyarsk:20251112T110000
DTEND;TZID=Asia/Krasnoyarsk:20251112T150000
DTSTAMP:20260425T213920
CREATED:20251111T050207Z
LAST-MODIFIED:20251111T050221Z
UID:10004215-1762945200-1762959600@thaibloodcentre.redcross.or.th
SUMMARY:มหาวิทยาลัยเอเชียอาคเนย์ []
DESCRIPTION:สถานที่เจาะ : หน้าโรงอาหาร \nที่อยู่ : 19/1 ถนนเพชรเกษม แขวงหนองค้างพลู เขตหนองแขม กรุงเทพฯ  \nโทร : 0 2807 4500-2
URL:https://thaibloodcentre.redcross.or.th/event/%e0%b8%a1%e0%b8%ab%e0%b8%b2%e0%b8%a7%e0%b8%b4%e0%b8%97%e0%b8%a2%e0%b8%b2%e0%b8%a5%e0%b8%b1%e0%b8%a2%e0%b9%80%e0%b8%ad%e0%b9%80%e0%b8%8a%e0%b8%b5%e0%b8%a2%e0%b8%ad%e0%b8%b2%e0%b8%84%e0%b9%80%e0%b8%99-5/
LOCATION:มหาวิทยาลัยเอเชียอาคเนย์
CATEGORIES:ปฏิทินตารางหน่วยเคลื่อนที่
END:VEVENT
BEGIN:VEVENT
DTSTART;TZID=Asia/Krasnoyarsk:20251112T110000
DTEND;TZID=Asia/Krasnoyarsk:20251112T150000
DTSTAMP:20260425T213920
CREATED:20251111T050213Z
LAST-MODIFIED:20251111T050213Z
UID:10004216-1762945200-1762959600@thaibloodcentre.redcross.or.th
SUMMARY:เซ็นทรัลพลาซา แจ้งวัฒนะ []
DESCRIPTION:สถานที่เจาะ : ชั้น 7 Education Zone \nที่อยู่ : 99/99 ม.2 ถ.แจ้งวัฒนะ ต.บางตลาด อ.ปากเกร็ด จ.นนทบุรี  \nโทร : 0 2101 0000
URL:https://thaibloodcentre.redcross.or.th/event/%e0%b9%80%e0%b8%8b%e0%b9%87%e0%b8%99%e0%b8%97%e0%b8%a3%e0%b8%b1%e0%b8%a5%e0%b8%9e%e0%b8%a5%e0%b8%b2%e0%b8%8b%e0%b8%b2-%e0%b9%81%e0%b8%88%e0%b9%89%e0%b8%87%e0%b8%a7%e0%b8%b1%e0%b8%92%e0%b8%99-13/
LOCATION:เซ็นทรัลพลาซา แจ้งวัฒนะ\, เซ็นทรัลพลาซา แจ้งวัฒนะ 99-99/9 หมู่ที่ 2 ถ. แจ้งวัฒนะ ตำบลบางตลาด อำเภอปากเกร็ด นนทบุรี 11120
CATEGORIES:ปฏิทินตารางหน่วยเคลื่อนที่
END:VEVENT
BEGIN:VEVENT
DTSTART;TZID=Asia/Krasnoyarsk:20251112T120000
DTEND;TZID=Asia/Krasnoyarsk:20251112T180000
DTSTAMP:20260425T213920
CREATED:20251111T050028Z
LAST-MODIFIED:20251111T050028Z
UID:10004204-1762948800-1762970400@thaibloodcentre.redcross.or.th
SUMMARY:ศูนย์การค้าเดอะมอลล์ไลฟ์สโตร์ บางแค []
DESCRIPTION:สถานที่เจาะ : ชั้น 3 ตรงข้ามร้านโอ้กะจู๋ \nที่อยู่ : ถนนเพชรเกษม แขวงบางแคเหนือ เขตภาษีเจริญ กรุงเทพฯ  \nโทร : 02 487 1221
URL:https://thaibloodcentre.redcross.or.th/event/%e0%b8%a8%e0%b8%b9%e0%b8%99%e0%b8%a2%e0%b9%8c%e0%b8%81%e0%b8%b2%e0%b8%a3%e0%b8%84%e0%b9%89%e0%b8%b2%e0%b9%80%e0%b8%94%e0%b8%ad%e0%b8%b0%e0%b8%a1%e0%b8%ad%e0%b8%a5%e0%b8%a5%e0%b9%8c%e0%b9%84-1024/
LOCATION:ศูนย์การค้าเดอะมอลล์ไลฟ์สโตร์ บางแค\, ศูนย์การค้าเดอะมอลล์ไลฟ์สโตร์ บางแค
CATEGORIES:ปฏิทินตารางหน่วยเคลื่อนที่
END:VEVENT
BEGIN:VEVENT
DTSTART;TZID=Asia/Krasnoyarsk:20251112T120000
DTEND;TZID=Asia/Krasnoyarsk:20251112T180000
DTSTAMP:20260425T213920
CREATED:20251111T050038Z
LAST-MODIFIED:20251111T050038Z
UID:10004205-1762948800-1762970400@thaibloodcentre.redcross.or.th
SUMMARY:ศูนย์การค้าเดอะมอลล์ไลฟ์สโตร์ บางกะปิ []
DESCRIPTION:สถานที่เจาะ : ชั้น 2 ทางออกลานจอดรถ \nที่อยู่ : ถนนลาดพร้าว แขวงคลองจั่น เขตบางกะปิ กรุงเทพฯ  \nโทร : 0 2310 2278
URL:https://thaibloodcentre.redcross.or.th/event/%e0%b8%a8%e0%b8%b9%e0%b8%99%e0%b8%a2%e0%b9%8c%e0%b8%81%e0%b8%b2%e0%b8%a3%e0%b8%84%e0%b9%89%e0%b8%b2%e0%b9%80%e0%b8%94%e0%b8%ad%e0%b8%b0%e0%b8%a1%e0%b8%ad%e0%b8%a5%e0%b8%a5%e0%b9%8c%e0%b9%84-1025/
LOCATION:ศูนย์การค้าเดอะมอลล์ไลฟ์สโตร์ บางกะปิ\, เดอะมอลล์ไลฟ์สโตร์ บางกะปิ 3522 ถ. ลาดพร้าว แขวงคลองจั่น เขตบางกะปิ กรุงเทพมหานคร 10240
CATEGORIES:ปฏิทินตารางหน่วยเคลื่อนที่
END:VEVENT
BEGIN:VEVENT
DTSTART;TZID=Asia/Krasnoyarsk:20251112T120000
DTEND;TZID=Asia/Krasnoyarsk:20251112T180000
DTSTAMP:20260425T213920
CREATED:20251111T050102Z
LAST-MODIFIED:20251111T050102Z
UID:10004206-1762948800-1762970400@thaibloodcentre.redcross.or.th
SUMMARY:ศูนย์การค้าเดอะมอลล์ไลฟ์สโตร์ งามวงศ์วาน []
DESCRIPTION:สถานที่เจาะ : ชั้น 5 โซน Government Center \nที่อยู่ : ถนนงามวงศ์วาน ต.บางเขน อ.เมือง จ.นนทบุรี  \nโทร : 0 2555 1550
URL:https://thaibloodcentre.redcross.or.th/event/%e0%b8%a8%e0%b8%b9%e0%b8%99%e0%b8%a2%e0%b9%8c%e0%b8%81%e0%b8%b2%e0%b8%a3%e0%b8%84%e0%b9%89%e0%b8%b2%e0%b9%80%e0%b8%94%e0%b8%ad%e0%b8%b0%e0%b8%a1%e0%b8%ad%e0%b8%a5%e0%b8%a5%e0%b9%8c%e0%b9%84-1026/
LOCATION:ศูนย์การค้าเดอะมอลล์ไลฟ์สโตร์ งามวงศ์วาน\, เดอะมอลล์ ไลฟ์สโตร์ งามวงศ์วาน 430 ถนน งามวงศ์วาน ตำบลบางเขน อำเภอเมืองนนทบุรี นนทบุรี 11000
CATEGORIES:ปฏิทินตารางหน่วยเคลื่อนที่
END:VEVENT
BEGIN:VEVENT
DTSTART;TZID=Asia/Krasnoyarsk:20251112T120000
DTEND;TZID=Asia/Krasnoyarsk:20251112T180000
DTSTAMP:20260425T213920
CREATED:20251111T050111Z
LAST-MODIFIED:20251111T050111Z
UID:10004207-1762948800-1762970400@thaibloodcentre.redcross.or.th
SUMMARY:ศูนย์การค้า เอ็มโพเรียม []
DESCRIPTION:สถานที่เจาะ : ชั้น M ศูนย์การค้า ดิ เอ็มโพเรียม เชื่อมลานจอดรถอาคาร B \nที่อยู่ : 622 ถนนสุขุมวิท แขวงคลองตัน เขตคลองเตย กรุงเทพฯ  \nโทร : 0 2269 1515
URL:https://thaibloodcentre.redcross.or.th/event/%e0%b8%a8%e0%b8%b9%e0%b8%99%e0%b8%a2%e0%b9%8c%e0%b8%81%e0%b8%b2%e0%b8%a3%e0%b8%84%e0%b9%89%e0%b8%b2-%e0%b9%80%e0%b8%ad%e0%b9%87%e0%b8%a1%e0%b9%82%e0%b8%9e%e0%b9%80%e0%b8%a3%e0%b8%b5%e0%b8%a2-252/
LOCATION:ศูนย์การค้า เอ็มโพเรียม\, เอ็มโพเรียม 622 ถ. สุขุมวิท แขวงคลองตัน เขตคลองเตย กรุงเทพมหานคร 10110
CATEGORIES:ปฏิทินตารางหน่วยเคลื่อนที่
END:VEVENT
BEGIN:VEVENT
DTSTART;TZID=Asia/Krasnoyarsk:20251112T120000
DTEND;TZID=Asia/Krasnoyarsk:20251112T180000
DTSTAMP:20260425T213920
CREATED:20251111T050116Z
LAST-MODIFIED:20251111T050116Z
UID:10004208-1762948800-1762970400@thaibloodcentre.redcross.or.th
SUMMARY:ศูนย์การค้าเดอะมอลล์ไลฟ์สโตร์ ท่าพระ []
DESCRIPTION:สถานที่เจาะ : ชั้น 1 (ติดลานจอดรถ) \nที่อยู่ : 99 ถนนรัชดาท่าพระตัดใหม่ แขวงบุคคโล เขตธนบุรี กรุงเทพฯ  \nโทร : 0 2469-1000
URL:https://thaibloodcentre.redcross.or.th/event/%e0%b8%a8%e0%b8%b9%e0%b8%99%e0%b8%a2%e0%b9%8c%e0%b8%81%e0%b8%b2%e0%b8%a3%e0%b8%84%e0%b9%89%e0%b8%b2%e0%b9%80%e0%b8%94%e0%b8%ad%e0%b8%b0%e0%b8%a1%e0%b8%ad%e0%b8%a5%e0%b8%a5%e0%b9%8c%e0%b9%84-1027/
LOCATION:ศูนย์การค้าเดอะมอลล์ไลฟ์สโตร์ ท่าพระ\, เดอะมอลล์ไลฟ์สโตร์ ท่าพระ 129 ถ. รัชดาภิเษก แขวงบุคคโล เขตธนบุรี กรุงเทพมหานคร 10600
CATEGORIES:ปฏิทินตารางหน่วยเคลื่อนที่
END:VEVENT
BEGIN:VEVENT
DTSTART;TZID=Asia/Krasnoyarsk:20251113T073000
DTEND;TZID=Asia/Krasnoyarsk:20251113T193000
DTSTAMP:20260425T213920
CREATED:20251111T050232Z
LAST-MODIFIED:20251111T050232Z
UID:10004217-1763019000-1763062200@thaibloodcentre.redcross.or.th
SUMMARY:ศูนย์บริการโลหิตแห่งชาติ สภากาชาดไทย []
DESCRIPTION:ที่อยู่ : 1871 ถ. อังรีดูนังต์ แขวงปทุมวัน เขตปทุมวัน
URL:https://thaibloodcentre.redcross.or.th/event/%e0%b8%a8%e0%b8%b9%e0%b8%99%e0%b8%a2%e0%b9%8c%e0%b8%9a%e0%b8%a3%e0%b8%b4%e0%b8%81%e0%b8%b2%e0%b8%a3%e0%b9%82%e0%b8%a5%e0%b8%ab%e0%b8%b4%e0%b8%95%e0%b9%81%e0%b8%ab%e0%b9%88%e0%b8%87%e0%b8%8a-338/
LOCATION:ศูนย์บริการโลหิตแห่งชาติ สภากาชาดไทย\, ศูนย์บริการโลหิตแห่งชาติ สภากาชาดไทย 1871 ถ. อังรีดูนังต์ แขวงปทุมวัน เขตปทุมวัน กรุงเทพมหานคร 10330
CATEGORIES:ปฏิทินตารางหน่วยเคลื่อนที่
END:VEVENT
BEGIN:VEVENT
DTSTART;TZID=Asia/Krasnoyarsk:20251113T083000
DTEND;TZID=Asia/Krasnoyarsk:20251113T193000
DTSTAMP:20260425T213920
CREATED:20251111T050326Z
LAST-MODIFIED:20251111T050326Z
UID:10004223-1763022600-1763062200@thaibloodcentre.redcross.or.th
SUMMARY:สถานีกาชาด 11 วิเศษนิยม []
DESCRIPTION:สถานที่เจาะ : ชั้น 3 \nที่อยู่ : 33/3 ถนนเพชรเกษม แขวงบางหว้า เขตภาษีเจริญ กรุงเทพฯ
URL:https://thaibloodcentre.redcross.or.th/event/%e0%b8%aa%e0%b8%96%e0%b8%b2%e0%b8%99%e0%b8%b5%e0%b8%81%e0%b8%b2%e0%b8%8a%e0%b8%b2%e0%b8%94-11-%e0%b8%a7%e0%b8%b4%e0%b9%80%e0%b8%a8%e0%b8%a9%e0%b8%99%e0%b8%b4%e0%b8%a2%e0%b8%a1-86/
LOCATION:สถานีกาชาด 11 วิเศษนิยม\, สถานีกาชาด 11 วิเศษนิยม 605 ถ.เพชรเกษม แขวงบางหว้า เขตภาษีเจริญ กรุงเทพมหานคร 10160
CATEGORIES:ปฏิทินตารางหน่วยเคลื่อนที่
END:VEVENT
BEGIN:VEVENT
DTSTART;TZID=Asia/Krasnoyarsk:20251113T090000
DTEND;TZID=Asia/Krasnoyarsk:20251113T120000
DTSTAMP:20260425T213920
CREATED:20251111T050339Z
LAST-MODIFIED:20251111T050339Z
UID:10004226-1763024400-1763035200@thaibloodcentre.redcross.or.th
SUMMARY:กลุ่มเซ็นทรัล ศูนย์กระจายสินค้าบางนา []
DESCRIPTION:สถานที่เจาะ : New DC คลองส่งน้ำ \nที่อยู่ : 105-106 ซ.คุปรัฐ ถ.บางนา-ตราด กม.20 ต.ศรีษะจรเข้ใหญ่ อ.บางเสาธง จ.สมุทรปราการ  \nโทร : 0 2136 3075
URL:https://thaibloodcentre.redcross.or.th/event/%e0%b8%81%e0%b8%a5%e0%b8%b8%e0%b9%88%e0%b8%a1%e0%b9%80%e0%b8%8b%e0%b9%87%e0%b8%99%e0%b8%97%e0%b8%a3%e0%b8%b1%e0%b8%a5-%e0%b8%a8%e0%b8%b9%e0%b8%99%e0%b8%a2%e0%b9%8c%e0%b8%81%e0%b8%a3%e0%b8%b0-9/
LOCATION:กลุ่มเซ็นทรัล ศูนย์กระจายสินค้าบางนา\, กลุ่มเซ็นทรัล ศูนย์กระจายสินค้าบางนา 105-106 หมู่ 1 ต.ศีรษะจรเข้ใหญ่ อ.บางเสาธง จ.สมุทรปราการ 10540
CATEGORIES:ปฏิทินตารางหน่วยเคลื่อนที่
END:VEVENT
BEGIN:VEVENT
DTSTART;TZID=Asia/Krasnoyarsk:20251113T090000
DTEND;TZID=Asia/Krasnoyarsk:20251113T150000
DTSTAMP:20260425T213920
CREATED:20251111T050330Z
LAST-MODIFIED:20251111T050330Z
UID:10004224-1763024400-1763046000@thaibloodcentre.redcross.or.th
SUMMARY:บ้านทรงไทย (ย่านวงศ์สว่าง) []
DESCRIPTION:สถานที่เจาะ : (พัก 12.30-13.00 น.) \nที่อยู่ : 1423 ถนนกรุงเทพ – นนทบุรี แขวงวงศ์สว่าง เขตบางซื่อ กรุงเทพฯ  \nโทร : 0 2256 4300
URL:https://thaibloodcentre.redcross.or.th/event/%e0%b8%9a%e0%b9%89%e0%b8%b2%e0%b8%99%e0%b8%97%e0%b8%a3%e0%b8%87%e0%b9%84%e0%b8%97%e0%b8%a2-%e0%b8%a2%e0%b9%88%e0%b8%b2%e0%b8%99%e0%b8%a7%e0%b8%87%e0%b8%a8%e0%b9%8c%e0%b8%aa%e0%b8%a7%e0%b9%88-255/
LOCATION:บ้านทรงไทย (ย่านวงศ์สว่าง)\, หน่วยรับบริจาคโลหิต บ้านทรงไทย(ย่านวงศ์สว่าง) 1423 ถนนกรุงเทพ-นนทบุรี แขวงวงศ์สว่าง เขตบางซื่อ กรุงเทพมหานคร 10800
CATEGORIES:ปฏิทินตารางหน่วยเคลื่อนที่
END:VEVENT
BEGIN:VEVENT
DTSTART;TZID=Asia/Krasnoyarsk:20251113T090000
DTEND;TZID=Asia/Krasnoyarsk:20251113T150000
DTSTAMP:20260425T213920
CREATED:20251111T050336Z
LAST-MODIFIED:20251111T050336Z
UID:10004225-1763024400-1763046000@thaibloodcentre.redcross.or.th
SUMMARY:ธนาคารไทยพาณิชย์ จำกัด (มหาชน) []
DESCRIPTION:สถานที่เจาะ : ห้องประชุมมหิศร \nที่อยู่ : 9 ถนนรัชดาภิเษก แขวงลาดยาว เขตจตุจักร กรุงเทพฯ  \nโทร : 0 2544 7037
URL:https://thaibloodcentre.redcross.or.th/event/%e0%b8%98%e0%b8%99%e0%b8%b2%e0%b8%84%e0%b8%b2%e0%b8%a3%e0%b9%84%e0%b8%97%e0%b8%a2%e0%b8%9e%e0%b8%b2%e0%b8%93%e0%b8%b4%e0%b8%8a%e0%b8%a2%e0%b9%8c-%e0%b8%88%e0%b8%b3%e0%b8%81%e0%b8%b1%e0%b8%94-14/
LOCATION:ธนาคารไทยพาณิชย์ จำกัด (มหาชน)\, ธนาคารไทยพาณิชย์ จำกัด (มหาชน) สำนักงานใหญ่ 9 ถนนรัชดาภิเษก เขตจตุจักร กรุงเทพฯ 10900
CATEGORIES:ปฏิทินตารางหน่วยเคลื่อนที่
END:VEVENT
BEGIN:VEVENT
DTSTART;TZID=Asia/Krasnoyarsk:20251113T090000
DTEND;TZID=Asia/Krasnoyarsk:20251113T150000
DTSTAMP:20260425T213920
CREATED:20251111T050352Z
LAST-MODIFIED:20251111T050352Z
UID:10004229-1763024400-1763046000@thaibloodcentre.redcross.or.th
SUMMARY:โรงพยาบาลกรุงเทพ []
DESCRIPTION:สถานที่เจาะ : อาคารกายภาพ ชั้น 7 ห้องประชุม 7R2 (พัก 12-13 น.) \nที่อยู่ : 2 ซอยศูนย์วิจัย 7 ถนนเพชรบุรีตัดใหม่ แขวงบางกะปิ เขตห้วยขวาง กรุงเทพฯ  \nโทร : 0 2310 3960
URL:https://thaibloodcentre.redcross.or.th/event/%e0%b9%82%e0%b8%a3%e0%b8%87%e0%b8%9e%e0%b8%a2%e0%b8%b2%e0%b8%9a%e0%b8%b2%e0%b8%a5%e0%b8%81%e0%b8%a3%e0%b8%b8%e0%b8%87%e0%b9%80%e0%b8%97%e0%b8%9e-2/
LOCATION:โรงพยาบาลกรุงเทพ\, โรงพยาบาลกรุงเทพ 2 ซ.ศูนย์วิจัย 7 ถ.เพชรบุรีตัดใหม่ แขวงบางกะปิ เขตห้วยขวาง กทม. 10310
CATEGORIES:ปฏิทินตารางหน่วยเคลื่อนที่
END:VEVENT
BEGIN:VEVENT
DTSTART;TZID=Asia/Krasnoyarsk:20251113T110000
DTEND;TZID=Asia/Krasnoyarsk:20251113T150000
DTSTAMP:20260425T213920
CREATED:20251111T050350Z
LAST-MODIFIED:20251111T050350Z
UID:10004228-1763031600-1763046000@thaibloodcentre.redcross.or.th
SUMMARY:บริษัท ไทยโตชิบาอุตสาหกรรม จำกัด (สนามบินน้ำ) []
DESCRIPTION:สถานที่เจาะ : ห้องประชุม ชั้น 3 \nที่อยู่ : 129/1-5 ถ.ติวานนท์ ต.ท่าทราย อ.เมืองนนทบุรี จ.นนทบุรี  \nโทร : 0 2589 0160-7
URL:https://thaibloodcentre.redcross.or.th/event/%e0%b8%9a%e0%b8%a3%e0%b8%b4%e0%b8%a9%e0%b8%b1%e0%b8%97-%e0%b9%84%e0%b8%97%e0%b8%a2%e0%b9%82%e0%b8%95%e0%b8%8a%e0%b8%b4%e0%b8%9a%e0%b8%b2%e0%b8%ad%e0%b8%b8%e0%b8%95%e0%b8%aa%e0%b8%b2%e0%b8%ab-8/
LOCATION:บริษัท ไทยโตชิบาอุตสาหกรรม จำกัด (สนามบินน้ำ)
CATEGORIES:ปฏิทินตารางหน่วยเคลื่อนที่
END:VEVENT
BEGIN:VEVENT
DTSTART;TZID=Asia/Krasnoyarsk:20251113T120000
DTEND;TZID=Asia/Krasnoyarsk:20251113T180000
DTSTAMP:20260425T213920
CREATED:20251111T050237Z
LAST-MODIFIED:20251111T050237Z
UID:10004218-1763035200-1763056800@thaibloodcentre.redcross.or.th
SUMMARY:ศูนย์การค้าเดอะมอลล์ไลฟ์สโตร์ บางแค []
DESCRIPTION:สถานที่เจาะ : ชั้น 3 ตรงข้ามร้านโอ้กะจู๋ \nที่อยู่ : ถนนเพชรเกษม แขวงบางแคเหนือ เขตภาษีเจริญ กรุงเทพฯ  \nโทร : 02 487 1221
URL:https://thaibloodcentre.redcross.or.th/event/%e0%b8%a8%e0%b8%b9%e0%b8%99%e0%b8%a2%e0%b9%8c%e0%b8%81%e0%b8%b2%e0%b8%a3%e0%b8%84%e0%b9%89%e0%b8%b2%e0%b9%80%e0%b8%94%e0%b8%ad%e0%b8%b0%e0%b8%a1%e0%b8%ad%e0%b8%a5%e0%b8%a5%e0%b9%8c%e0%b9%84-1028/
LOCATION:ศูนย์การค้าเดอะมอลล์ไลฟ์สโตร์ บางแค\, ศูนย์การค้าเดอะมอลล์ไลฟ์สโตร์ บางแค
CATEGORIES:ปฏิทินตารางหน่วยเคลื่อนที่
END:VEVENT
BEGIN:VEVENT
DTSTART;TZID=Asia/Krasnoyarsk:20251113T120000
DTEND;TZID=Asia/Krasnoyarsk:20251113T180000
DTSTAMP:20260425T213920
CREATED:20251111T050245Z
LAST-MODIFIED:20251111T050245Z
UID:10004219-1763035200-1763056800@thaibloodcentre.redcross.or.th
SUMMARY:ศูนย์การค้าเดอะมอลล์ไลฟ์สโตร์ บางกะปิ []
DESCRIPTION:สถานที่เจาะ : ชั้น 2 ทางออกลานจอดรถ \nที่อยู่ : ถนนลาดพร้าว แขวงคลองจั่น เขตบางกะปิ กรุงเทพฯ  \nโทร : 0 2310 2278
URL:https://thaibloodcentre.redcross.or.th/event/%e0%b8%a8%e0%b8%b9%e0%b8%99%e0%b8%a2%e0%b9%8c%e0%b8%81%e0%b8%b2%e0%b8%a3%e0%b8%84%e0%b9%89%e0%b8%b2%e0%b9%80%e0%b8%94%e0%b8%ad%e0%b8%b0%e0%b8%a1%e0%b8%ad%e0%b8%a5%e0%b8%a5%e0%b9%8c%e0%b9%84-1029/
LOCATION:ศูนย์การค้าเดอะมอลล์ไลฟ์สโตร์ บางกะปิ\, เดอะมอลล์ไลฟ์สโตร์ บางกะปิ 3522 ถ. ลาดพร้าว แขวงคลองจั่น เขตบางกะปิ กรุงเทพมหานคร 10240
CATEGORIES:ปฏิทินตารางหน่วยเคลื่อนที่
END:VEVENT
BEGIN:VEVENT
DTSTART;TZID=Asia/Krasnoyarsk:20251113T120000
DTEND;TZID=Asia/Krasnoyarsk:20251113T180000
DTSTAMP:20260425T213920
CREATED:20251111T050254Z
LAST-MODIFIED:20251111T050254Z
UID:10004220-1763035200-1763056800@thaibloodcentre.redcross.or.th
SUMMARY:ศูนย์การค้าเดอะมอลล์ไลฟ์สโตร์ งามวงศ์วาน []
DESCRIPTION:สถานที่เจาะ : ชั้น 5 โซน Government Center \nที่อยู่ : ถนนงามวงศ์วาน ต.บางเขน อ.เมือง จ.นนทบุรี  \nโทร : 0 2555 1550
URL:https://thaibloodcentre.redcross.or.th/event/%e0%b8%a8%e0%b8%b9%e0%b8%99%e0%b8%a2%e0%b9%8c%e0%b8%81%e0%b8%b2%e0%b8%a3%e0%b8%84%e0%b9%89%e0%b8%b2%e0%b9%80%e0%b8%94%e0%b8%ad%e0%b8%b0%e0%b8%a1%e0%b8%ad%e0%b8%a5%e0%b8%a5%e0%b9%8c%e0%b9%84-1030/
LOCATION:ศูนย์การค้าเดอะมอลล์ไลฟ์สโตร์ งามวงศ์วาน\, เดอะมอลล์ ไลฟ์สโตร์ งามวงศ์วาน 430 ถนน งามวงศ์วาน ตำบลบางเขน อำเภอเมืองนนทบุรี นนทบุรี 11000
CATEGORIES:ปฏิทินตารางหน่วยเคลื่อนที่
END:VEVENT
BEGIN:VEVENT
DTSTART;TZID=Asia/Krasnoyarsk:20251113T120000
DTEND;TZID=Asia/Krasnoyarsk:20251113T180000
DTSTAMP:20260425T213920
CREATED:20251111T050304Z
LAST-MODIFIED:20251111T050304Z
UID:10004221-1763035200-1763056800@thaibloodcentre.redcross.or.th
SUMMARY:ศูนย์การค้า เอ็มโพเรียม []
DESCRIPTION:สถานที่เจาะ : ชั้น M ศูนย์การค้า ดิ เอ็มโพเรียม เชื่อมลานจอดรถอาคาร B \nที่อยู่ : 622 ถนนสุขุมวิท แขวงคลองตัน เขตคลองเตย กรุงเทพฯ  \nโทร : 0 2269 1515
URL:https://thaibloodcentre.redcross.or.th/event/%e0%b8%a8%e0%b8%b9%e0%b8%99%e0%b8%a2%e0%b9%8c%e0%b8%81%e0%b8%b2%e0%b8%a3%e0%b8%84%e0%b9%89%e0%b8%b2-%e0%b9%80%e0%b8%ad%e0%b9%87%e0%b8%a1%e0%b9%82%e0%b8%9e%e0%b9%80%e0%b8%a3%e0%b8%b5%e0%b8%a2-253/
LOCATION:ศูนย์การค้า เอ็มโพเรียม\, เอ็มโพเรียม 622 ถ. สุขุมวิท แขวงคลองตัน เขตคลองเตย กรุงเทพมหานคร 10110
CATEGORIES:ปฏิทินตารางหน่วยเคลื่อนที่
END:VEVENT
BEGIN:VEVENT
DTSTART;TZID=Asia/Krasnoyarsk:20251113T120000
DTEND;TZID=Asia/Krasnoyarsk:20251113T180000
DTSTAMP:20260425T213920
CREATED:20251111T050317Z
LAST-MODIFIED:20251111T050317Z
UID:10004222-1763035200-1763056800@thaibloodcentre.redcross.or.th
SUMMARY:ศูนย์การค้าเดอะมอลล์ไลฟ์สโตร์ ท่าพระ []
DESCRIPTION:สถานที่เจาะ : ชั้น 1 (ติดลานจอดรถ) \nที่อยู่ : 99 ถนนรัชดาท่าพระตัดใหม่ แขวงบุคคโล เขตธนบุรี กรุงเทพฯ  \nโทร : 0 2469-1000
URL:https://thaibloodcentre.redcross.or.th/event/%e0%b8%a8%e0%b8%b9%e0%b8%99%e0%b8%a2%e0%b9%8c%e0%b8%81%e0%b8%b2%e0%b8%a3%e0%b8%84%e0%b9%89%e0%b8%b2%e0%b9%80%e0%b8%94%e0%b8%ad%e0%b8%b0%e0%b8%a1%e0%b8%ad%e0%b8%a5%e0%b8%a5%e0%b9%8c%e0%b9%84-1031/
LOCATION:ศูนย์การค้าเดอะมอลล์ไลฟ์สโตร์ ท่าพระ\, เดอะมอลล์ไลฟ์สโตร์ ท่าพระ 129 ถ. รัชดาภิเษก แขวงบุคคโล เขตธนบุรี กรุงเทพมหานคร 10600
CATEGORIES:ปฏิทินตารางหน่วยเคลื่อนที่
END:VEVENT
BEGIN:VEVENT
DTSTART;TZID=Asia/Krasnoyarsk:20251113T130000
DTEND;TZID=Asia/Krasnoyarsk:20251113T150000
DTSTAMP:20260425T213920
CREATED:20251111T050346Z
LAST-MODIFIED:20251111T050346Z
UID:10004227-1763038800-1763046000@thaibloodcentre.redcross.or.th
SUMMARY:กลุ่มเซ็นทรัล ศูนย์กระจายสินค้าบางนา []
DESCRIPTION:สถานที่เจาะ : หน้าตู้ ATM \nที่อยู่ : 105-106 ซ.คุปรัฐ ถ.บางนา-ตราด กม.20 ต.ศรีษะจรเข้ใหญ่ อ.บางเสาธง จ.สมุทรปราการ  \nโทร : 0 2136 3075
URL:https://thaibloodcentre.redcross.or.th/event/%e0%b8%81%e0%b8%a5%e0%b8%b8%e0%b9%88%e0%b8%a1%e0%b9%80%e0%b8%8b%e0%b9%87%e0%b8%99%e0%b8%97%e0%b8%a3%e0%b8%b1%e0%b8%a5-%e0%b8%a8%e0%b8%b9%e0%b8%99%e0%b8%a2%e0%b9%8c%e0%b8%81%e0%b8%a3%e0%b8%b0-10/
LOCATION:กลุ่มเซ็นทรัล ศูนย์กระจายสินค้าบางนา\, กลุ่มเซ็นทรัล ศูนย์กระจายสินค้าบางนา 105-106 หมู่ 1 ต.ศีรษะจรเข้ใหญ่ อ.บางเสาธง จ.สมุทรปราการ 10540
CATEGORIES:ปฏิทินตารางหน่วยเคลื่อนที่
END:VEVENT
BEGIN:VEVENT
DTSTART;TZID=Asia/Krasnoyarsk:20251114T073000
DTEND;TZID=Asia/Krasnoyarsk:20251114T193000
DTSTAMP:20260425T213920
CREATED:20251111T050355Z
LAST-MODIFIED:20251111T050355Z
UID:10004230-1763105400-1763148600@thaibloodcentre.redcross.or.th
SUMMARY:ศูนย์บริการโลหิตแห่งชาติ สภากาชาดไทย []
DESCRIPTION:ที่อยู่ : 1871 ถ. อังรีดูนังต์ แขวงปทุมวัน เขตปทุมวัน
URL:https://thaibloodcentre.redcross.or.th/event/%e0%b8%a8%e0%b8%b9%e0%b8%99%e0%b8%a2%e0%b9%8c%e0%b8%9a%e0%b8%a3%e0%b8%b4%e0%b8%81%e0%b8%b2%e0%b8%a3%e0%b9%82%e0%b8%a5%e0%b8%ab%e0%b8%b4%e0%b8%95%e0%b9%81%e0%b8%ab%e0%b9%88%e0%b8%87%e0%b8%8a-339/
LOCATION:ศูนย์บริการโลหิตแห่งชาติ สภากาชาดไทย\, ศูนย์บริการโลหิตแห่งชาติ สภากาชาดไทย 1871 ถ. อังรีดูนังต์ แขวงปทุมวัน เขตปทุมวัน กรุงเทพมหานคร 10330
CATEGORIES:ปฏิทินตารางหน่วยเคลื่อนที่
END:VEVENT
BEGIN:VEVENT
DTSTART;TZID=Asia/Krasnoyarsk:20251114T083000
DTEND;TZID=Asia/Krasnoyarsk:20251114T193000
DTSTAMP:20260425T213920
CREATED:20251111T050452Z
LAST-MODIFIED:20251111T050452Z
UID:10004236-1763109000-1763148600@thaibloodcentre.redcross.or.th
SUMMARY:สถานีกาชาด 11 วิเศษนิยม []
DESCRIPTION:สถานที่เจาะ : ชั้น 3 \nที่อยู่ : 33/3 ถนนเพชรเกษม แขวงบางหว้า เขตภาษีเจริญ กรุงเทพฯ
URL:https://thaibloodcentre.redcross.or.th/event/%e0%b8%aa%e0%b8%96%e0%b8%b2%e0%b8%99%e0%b8%b5%e0%b8%81%e0%b8%b2%e0%b8%8a%e0%b8%b2%e0%b8%94-11-%e0%b8%a7%e0%b8%b4%e0%b9%80%e0%b8%a8%e0%b8%a9%e0%b8%99%e0%b8%b4%e0%b8%a2%e0%b8%a1-87/
LOCATION:สถานีกาชาด 11 วิเศษนิยม\, สถานีกาชาด 11 วิเศษนิยม 605 ถ.เพชรเกษม แขวงบางหว้า เขตภาษีเจริญ กรุงเทพมหานคร 10160
CATEGORIES:ปฏิทินตารางหน่วยเคลื่อนที่
END:VEVENT
BEGIN:VEVENT
DTSTART;TZID=Asia/Krasnoyarsk:20251114T090000
DTEND;TZID=Asia/Krasnoyarsk:20251114T150000
DTSTAMP:20260425T213920
CREATED:20251111T050502Z
LAST-MODIFIED:20251111T050502Z
UID:10004237-1763110800-1763132400@thaibloodcentre.redcross.or.th
SUMMARY:บ้านทรงไทย (ย่านวงศ์สว่าง) []
DESCRIPTION:สถานที่เจาะ : (พัก 12.30-13.00 น.) \nที่อยู่ : 1423 ถนนกรุงเทพ – นนทบุรี แขวงวงศ์สว่าง เขตบางซื่อ กรุงเทพฯ  \nโทร : 0 2256 4300
URL:https://thaibloodcentre.redcross.or.th/event/%e0%b8%9a%e0%b9%89%e0%b8%b2%e0%b8%99%e0%b8%97%e0%b8%a3%e0%b8%87%e0%b9%84%e0%b8%97%e0%b8%a2-%e0%b8%a2%e0%b9%88%e0%b8%b2%e0%b8%99%e0%b8%a7%e0%b8%87%e0%b8%a8%e0%b9%8c%e0%b8%aa%e0%b8%a7%e0%b9%88-256/
LOCATION:บ้านทรงไทย (ย่านวงศ์สว่าง)\, หน่วยรับบริจาคโลหิต บ้านทรงไทย(ย่านวงศ์สว่าง) 1423 ถนนกรุงเทพ-นนทบุรี แขวงวงศ์สว่าง เขตบางซื่อ กรุงเทพมหานคร 10800
CATEGORIES:ปฏิทินตารางหน่วยเคลื่อนที่
END:VEVENT
BEGIN:VEVENT
DTSTART;TZID=Asia/Krasnoyarsk:20251114T090000
DTEND;TZID=Asia/Krasnoyarsk:20251114T150000
DTSTAMP:20260425T213920
CREATED:20251111T050516Z
LAST-MODIFIED:20251111T050516Z
UID:10004240-1763110800-1763132400@thaibloodcentre.redcross.or.th
SUMMARY:โรงพยาบาลพญาไท พหลโยธิน []
DESCRIPTION:สถานที่เจาะ : ห้องประชุมคุณพ่อเปาโลชั้น 11 (พัก 12-13 น.) \nที่อยู่ : 670/1 ถนนพหลโยธิน แขวงสามเสนใน เขตพญาไท กรุงเทพฯ  \nโทร : 0 2271 7000
URL:https://thaibloodcentre.redcross.or.th/event/%e0%b9%82%e0%b8%a3%e0%b8%87%e0%b8%9e%e0%b8%a2%e0%b8%b2%e0%b8%9a%e0%b8%b2%e0%b8%a5%e0%b8%9e%e0%b8%8d%e0%b8%b2%e0%b9%84%e0%b8%97-%e0%b8%9e%e0%b8%ab%e0%b8%a5%e0%b9%82%e0%b8%a2%e0%b8%98%e0%b8%b4-5/
LOCATION:โรงพยาบาลพญาไท พหลโยธิน
CATEGORIES:ปฏิทินตารางหน่วยเคลื่อนที่
END:VEVENT
BEGIN:VEVENT
DTSTART;TZID=Asia/Krasnoyarsk:20251114T090000
DTEND;TZID=Asia/Krasnoyarsk:20251114T150000
DTSTAMP:20260425T213920
CREATED:20251111T050536Z
LAST-MODIFIED:20251111T050536Z
UID:10004243-1763110800-1763132400@thaibloodcentre.redcross.or.th
SUMMARY:วิทยาลัยพยาบาลบรมราชชนนี จังหวัดนนทบุรี []
DESCRIPTION:สถานที่เจาะ : หอประชุมดอกรัก (พัก 12-13 น.) \nที่อยู่ : 47/99 ถ.ติวานนท์ ต.ตลาดขวัญ อ.เมือง จ.นนทบุรี  \nโทร : 0 2525 3136
URL:https://thaibloodcentre.redcross.or.th/event/%e0%b8%a7%e0%b8%b4%e0%b8%97%e0%b8%a2%e0%b8%b2%e0%b8%a5%e0%b8%b1%e0%b8%a2%e0%b8%9e%e0%b8%a2%e0%b8%b2%e0%b8%9a%e0%b8%b2%e0%b8%a5%e0%b8%9a%e0%b8%a3%e0%b8%a1%e0%b8%a3%e0%b8%b2%e0%b8%8a%e0%b8%8a%e0%b8%99-4/
LOCATION:วิทยาลัยพยาบาลบรมราชชนนี จังหวัดนนทบุรี
CATEGORIES:ปฏิทินตารางหน่วยเคลื่อนที่
END:VEVENT
BEGIN:VEVENT
DTSTART;TZID=Asia/Krasnoyarsk:20251114T090000
DTEND;TZID=Asia/Krasnoyarsk:20251114T150000
DTSTAMP:20260425T213920
CREATED:20251111T050539Z
LAST-MODIFIED:20251111T050539Z
UID:10004244-1763110800-1763132400@thaibloodcentre.redcross.or.th
SUMMARY:สำนักงานนิคมอุตสาหกรรมบางพลี []
DESCRIPTION:สถานที่เจาะ : ห้องประชุม ชั้น 1 (พัก 11-12 น.) \nที่อยู่ : 136/2 ม.17 ถ.เทพารักษ์ซอย 4 ต.บางเสาธง อ.บางเสาธง จ.สมุทรปราการ  \nโทร : 0 2705 0697-8
URL:https://thaibloodcentre.redcross.or.th/event/%e0%b8%aa%e0%b8%b3%e0%b8%99%e0%b8%b1%e0%b8%81%e0%b8%87%e0%b8%b2%e0%b8%99%e0%b8%99%e0%b8%b4%e0%b8%84%e0%b8%a1%e0%b8%ad%e0%b8%b8%e0%b8%95%e0%b8%aa%e0%b8%b2%e0%b8%ab%e0%b8%81%e0%b8%a3%e0%b8%a3-18/
LOCATION:สำนักงานนิคมอุตสาหกรรมบางพลี\, 136/2 ม.17 ต.บางเสาธง อ.บางเสาธง จ.สมุทรปราการ 10570 0.375
CATEGORIES:ปฏิทินตารางหน่วยเคลื่อนที่
END:VEVENT
BEGIN:VEVENT
DTSTART;TZID=Asia/Krasnoyarsk:20251114T100000
DTEND;TZID=Asia/Krasnoyarsk:20251114T150000
DTSTAMP:20260425T213920
CREATED:20251111T050513Z
LAST-MODIFIED:20251111T050513Z
UID:10004239-1763114400-1763132400@thaibloodcentre.redcross.or.th
SUMMARY:บริษัท เฟดเดอรัล อีเลคตริค จำกัด []
DESCRIPTION:สถานที่เจาะ : ลานด้านหลังอาคารสำนักงาน (พัก 12-13 น.) \nที่อยู่ : 64/1 ม. 4 ถ.กิ่งแก้ว ต.ราชาเทวะ อ.บางพลี จ.สมุทรปราการ  \nโทร : 0 2312 4190-5
URL:https://thaibloodcentre.redcross.or.th/event/%e0%b8%9a%e0%b8%a3%e0%b8%b4%e0%b8%a9%e0%b8%b1%e0%b8%97-%e0%b9%80%e0%b8%9f%e0%b8%94%e0%b9%80%e0%b8%94%e0%b8%ad%e0%b8%a3%e0%b8%b1%e0%b8%a5-%e0%b8%ad%e0%b8%b5%e0%b9%80%e0%b8%a5%e0%b8%84%e0%b8%95-5/
LOCATION:บริษัท เฟดเดอรัล อีเลคตริค จำกัด\, บริษัท เฟดเดอรัล อีเลคตริค จำกัด 64/1 ม.4 ถ.กิ่งแก้ว ต.ราชาเทวะ อ.บางพลีตำบลราชาเทวะ อ.บางพลี สมุทรปราการ 10540
CATEGORIES:ปฏิทินตารางหน่วยเคลื่อนที่
END:VEVENT
BEGIN:VEVENT
DTSTART;TZID=Asia/Krasnoyarsk:20251114T110000
DTEND;TZID=Asia/Krasnoyarsk:20251114T150000
DTSTAMP:20260425T213920
CREATED:20251111T050508Z
LAST-MODIFIED:20251111T050508Z
UID:10004238-1763118000-1763132400@thaibloodcentre.redcross.or.th
SUMMARY:บริษัท กลุ่มเซ็นทรัล จำกัด สาขาไทวัสดุ บางนา []
DESCRIPTION:สถานที่เจาะ : พื้นที่พลาซ่า หน้า Tops \nที่อยู่ : 88/88 ม.13 ถ.บางนา-ตราด กม.8 ต.บางแก้ว อ.บางพลี จ.สมุทรปราการ  \nโทร : 0 2103 3333
URL:https://thaibloodcentre.redcross.or.th/event/%e0%b8%9a%e0%b8%a3%e0%b8%b4%e0%b8%a9%e0%b8%b1%e0%b8%97-%e0%b8%81%e0%b8%a5%e0%b8%b8%e0%b9%88%e0%b8%a1%e0%b9%80%e0%b8%8b%e0%b9%87%e0%b8%99%e0%b8%97%e0%b8%a3%e0%b8%b1%e0%b8%a5-%e0%b8%88%e0%b8%b3-6/
LOCATION:บริษัท กลุ่มเซ็นทรัล จำกัด สาขาไทวัสดุ บางนา
CATEGORIES:ปฏิทินตารางหน่วยเคลื่อนที่
END:VEVENT
END:VCALENDAR