BEGIN:VCALENDAR
VERSION:2.0
PRODID:-//เว็บไซต์ศูนย์บริการโลหิตแห่งชาติ - ECPv6.11.2.1//NONSGML v1.0//EN
CALSCALE:GREGORIAN
METHOD:PUBLISH
X-WR-CALNAME:เว็บไซต์ศูนย์บริการโลหิตแห่งชาติ
X-ORIGINAL-URL:https://thaibloodcentre.redcross.or.th
X-WR-CALDESC:Events for เว็บไซต์ศูนย์บริการโลหิตแห่งชาติ
REFRESH-INTERVAL;VALUE=DURATION:PT1H
X-Robots-Tag:noindex
X-PUBLISHED-TTL:PT1H
BEGIN:VTIMEZONE
TZID:Asia/Krasnoyarsk
BEGIN:STANDARD
TZOFFSETFROM:+0700
TZOFFSETTO:+0700
TZNAME:+07
DTSTART:20260101T000000
END:STANDARD
END:VTIMEZONE
BEGIN:VEVENT
DTSTART;TZID=Asia/Krasnoyarsk:20260324T120000
DTEND;TZID=Asia/Krasnoyarsk:20260324T180000
DTSTAMP:20260420T110051
CREATED:20260318T122323Z
LAST-MODIFIED:20260318T122323Z
UID:10006180-1774353600-1774375200@thaibloodcentre.redcross.or.th
SUMMARY:ศูนย์การค้าเดอะมอลล์ไลฟ์สโตร์ บางแค []
DESCRIPTION:สถานที่เจาะ : ชั้น 3 ตรงข้ามร้านโอ้กะจู๋ \nที่อยู่ : ถนนเพชรเกษม แขวงบางแคเหนือ เขตภาษีเจริญ กรุงเทพฯ  \nโทร : 02 487 1221
URL:https://thaibloodcentre.redcross.or.th/event/%e0%b8%a8%e0%b8%b9%e0%b8%99%e0%b8%a2%e0%b9%8c%e0%b8%81%e0%b8%b2%e0%b8%a3%e0%b8%84%e0%b9%89%e0%b8%b2%e0%b9%80%e0%b8%94%e0%b8%ad%e0%b8%b0%e0%b8%a1%e0%b8%ad%e0%b8%a5%e0%b8%a5%e0%b9%8c%e0%b9%84-1587/
LOCATION:ศูนย์การค้าเดอะมอลล์ไลฟ์สโตร์ บางแค\, ศูนย์การค้าเดอะมอลล์ไลฟ์สโตร์ บางแค
CATEGORIES:ปฏิทินตารางหน่วยเคลื่อนที่
END:VEVENT
BEGIN:VEVENT
DTSTART;TZID=Asia/Krasnoyarsk:20260324T110000
DTEND;TZID=Asia/Krasnoyarsk:20260324T190000
DTSTAMP:20260420T110051
CREATED:20260318T122443Z
LAST-MODIFIED:20260318T122443Z
UID:10006190-1774350000-1774378800@thaibloodcentre.redcross.or.th
SUMMARY:บริษัท เอ็ม บี เค จำกัด (มหาชน) []
DESCRIPTION:สถานที่เจาะ : SF Town ชั้น 7 โซน A (พัก 15-16 น.) \nที่อยู่ : 444 ชั้น 8 อาคาร เอ็ม บี เค เซ็นเตอร์ ถนนพญาไท แขวงวังใหม่ เขตปทุมวัน กรุงเทพฯ  \nโทร : 0 2853 9000
URL:https://thaibloodcentre.redcross.or.th/event/%e0%b8%9a%e0%b8%a3%e0%b8%b4%e0%b8%a9%e0%b8%b1%e0%b8%97-%e0%b9%80%e0%b8%ad%e0%b9%87%e0%b8%a1-%e0%b8%9a%e0%b8%b5-%e0%b9%80%e0%b8%84-%e0%b8%88%e0%b8%b3%e0%b8%81%e0%b8%b1%e0%b8%94-%e0%b8%a1%e0%b8%ab-5/
LOCATION:บริษัท เอ็ม บี เค จำกัด (มหาชน)\, ศูนย์การค้า เอ็ม บี เค เซ็นเตอร์ 444 ถนนพญาไท แขวงวังใหม่ เขตปทุมวัน กรุงเทพมหานคร 10330
CATEGORIES:ปฏิทินตารางหน่วยเคลื่อนที่
END:VEVENT
BEGIN:VEVENT
DTSTART;TZID=Asia/Krasnoyarsk:20260324T110000
DTEND;TZID=Asia/Krasnoyarsk:20260324T150000
DTSTAMP:20260420T110052
CREATED:20260318T122500Z
LAST-MODIFIED:20260318T122500Z
UID:10006196-1774350000-1774364400@thaibloodcentre.redcross.or.th
SUMMARY:บริษัท ซี.พี.แลนด์ รีทโกรท จำกัด []
DESCRIPTION:สถานที่เจาะ : ลานกิจกรรมชั้น 4 ศูนย์การค้าฟอร์จูนทาวน์ \nที่อยู่ : 1\,3\,5\,7 ถนนรัชดาภิเษก แขวงดินแดง เขตดินแดง กรุงเทพฯ  \nโทร : 0 2247 3737
URL:https://thaibloodcentre.redcross.or.th/event/%e0%b8%9a%e0%b8%a3%e0%b8%b4%e0%b8%a9%e0%b8%b1%e0%b8%97-%e0%b8%8b%e0%b8%b5-%e0%b8%9e%e0%b8%b5-%e0%b9%81%e0%b8%a5%e0%b8%99%e0%b8%94%e0%b9%8c-%e0%b8%a3%e0%b8%b5%e0%b8%97%e0%b9%82%e0%b8%81%e0%b8%a3-2/
LOCATION:บริษัท ซี.พี.แลนด์ รีทโกรท จำกัด\, อาคารฟอร์จูนทาวน์ ถนนรัชดาภิเษก แขวงดินแดง เขตดินแดง กรุงเทพมหานคร 10400
CATEGORIES:ปฏิทินตารางหน่วยเคลื่อนที่
END:VEVENT
BEGIN:VEVENT
DTSTART;TZID=Asia/Krasnoyarsk:20260324T110000
DTEND;TZID=Asia/Krasnoyarsk:20260324T150000
DTSTAMP:20260420T110052
CREATED:20260318T122436Z
LAST-MODIFIED:20260318T122436Z
UID:10006189-1774350000-1774364400@thaibloodcentre.redcross.or.th
SUMMARY:คณะบริหารธุรกิจ มหาวิทยาลัยหอการค้าไทย []
DESCRIPTION:สถานที่เจาะ : หอประชุมใหญ่ \nที่อยู่ : 126/1 วิภาวดีรังสิต 2 แขวงดินแดง เขตดินแดง กรุงเทพฯ
URL:https://thaibloodcentre.redcross.or.th/event/%e0%b8%84%e0%b8%93%e0%b8%b0%e0%b8%9a%e0%b8%a3%e0%b8%b4%e0%b8%ab%e0%b8%b2%e0%b8%a3%e0%b8%98%e0%b8%b8%e0%b8%a3%e0%b8%81%e0%b8%b4%e0%b8%88-%e0%b8%a1%e0%b8%ab%e0%b8%b2%e0%b8%a7%e0%b8%b4%e0%b8%97-7/
LOCATION:คณะบริหารธุรกิจ มหาวิทยาลัยหอการค้าไทย\, คณะบริหารธุรกิจ มหาวิทยาลัยหอการค้าไทย อาคาร 24 ชั้น 12A 126/1 ซอยวิภาวดีรังสิต 2 แขวงรัชดาภิเษก เขตดินแดง กรุงเทพมหานคร 10400
CATEGORIES:ปฏิทินตารางหน่วยเคลื่อนที่
END:VEVENT
BEGIN:VEVENT
DTSTART;TZID=Asia/Krasnoyarsk:20260324T090000
DTEND;TZID=Asia/Krasnoyarsk:20260324T150000
DTSTAMP:20260420T110052
CREATED:20260318T122458Z
LAST-MODIFIED:20260318T122458Z
UID:10006195-1774342800-1774364400@thaibloodcentre.redcross.or.th
SUMMARY:สถานีโทรทัศน์ ไทยพีบีเอส []
DESCRIPTION:สถานที่เจาะ : Convention Hall อาคาร D ชั้น 2 (พัก 12-13 น.) \nที่อยู่ : 145 ถนนวิภาวดีรังสิต แขวงตลาดบางเขน เขตหลักสี่ กรุงเทพฯ  \nโทร : 0 2790 2204
URL:https://thaibloodcentre.redcross.or.th/event/%e0%b8%aa%e0%b8%96%e0%b8%b2%e0%b8%99%e0%b8%b5%e0%b9%82%e0%b8%97%e0%b8%a3%e0%b8%97%e0%b8%b1%e0%b8%a8%e0%b8%99%e0%b9%8c-%e0%b9%84%e0%b8%97%e0%b8%a2%e0%b8%9e%e0%b8%b5%e0%b8%9a%e0%b8%b5%e0%b9%80-5/
LOCATION:สถานีโทรทัศน์ ไทยพีบีเอส\, สถานีโทรทัศน์ไทยพีบีเอส (องค์การกระจายเสียงและแพร่ภาพสาธารณะแห่งประเทศไทย) 145 ถนนวิภาวดีรังสิต แขวงตลาดบางเขน เขตหลักสี่ จังหวัดกรุงเทพ 10210
CATEGORIES:ปฏิทินตารางหน่วยเคลื่อนที่
END:VEVENT
BEGIN:VEVENT
DTSTART;TZID=Asia/Krasnoyarsk:20260324T090000
DTEND;TZID=Asia/Krasnoyarsk:20260324T150000
DTSTAMP:20260420T110052
CREATED:20260318T122447Z
LAST-MODIFIED:20260318T122447Z
UID:10006192-1774342800-1774364400@thaibloodcentre.redcross.or.th
SUMMARY:บริษัท สวอนอินดัสทรี่ส์ (ประเทศไทย) จำกัด []
DESCRIPTION:สถานที่เจาะ : ข้างอาคารโรงอาหาร (พัก 12-13 น.) \nที่อยู่ : 171 ม.17 ถ.บางนา-ตราด กม.23 ต.บางเสาธง อ.บางเสาธง จ.สมุทรปราการ  \nโทร : 0 2705 3051
URL:https://thaibloodcentre.redcross.or.th/event/%e0%b8%9a%e0%b8%a3%e0%b8%b4%e0%b8%a9%e0%b8%b1%e0%b8%97-%e0%b8%aa%e0%b8%a7%e0%b8%ad%e0%b8%99%e0%b8%ad%e0%b8%b4%e0%b8%99%e0%b8%94%e0%b8%b1%e0%b8%aa%e0%b8%97%e0%b8%a3%e0%b8%b5%e0%b9%88%e0%b8%aa-5/
LOCATION:บริษัท สวอนอินดัสทรี่ส์ (ประเทศไทย) จำกัด\, บริษัท สวอนอินดัสทรี่ส์ (ประเทศไทย) จำกัด 171 ม. 17 ถ.บางนา-ตราด ต.บางเสาธง อ.บางเสาธง จ.สมุทรปราการ 10570
CATEGORIES:ปฏิทินตารางหน่วยเคลื่อนที่
END:VEVENT
BEGIN:VEVENT
DTSTART;TZID=Asia/Krasnoyarsk:20260324T090000
DTEND;TZID=Asia/Krasnoyarsk:20260324T150000
DTSTAMP:20260420T110052
CREATED:20260318T122434Z
LAST-MODIFIED:20260318T122434Z
UID:10006188-1774342800-1774364400@thaibloodcentre.redcross.or.th
SUMMARY:บริษัท แอมเวย์ (ประเทศไทย) จำกัด []
DESCRIPTION:สถานที่เจาะ : ห้อง Rich&Jay 3 ชั้น 3 \nที่อยู่ : 1199/1 ถนนรามคำแหง แขวงหัวหมาก เขตบางกะปิ กรุงเทพฯ  \nโทร : 0 2840 8141
URL:https://thaibloodcentre.redcross.or.th/event/%e0%b8%9a%e0%b8%a3%e0%b8%b4%e0%b8%a9%e0%b8%b1%e0%b8%97-%e0%b9%81%e0%b8%ad%e0%b8%a1%e0%b9%80%e0%b8%a7%e0%b8%a2%e0%b9%8c-%e0%b8%9b%e0%b8%a3%e0%b8%b0%e0%b9%80%e0%b8%97%e0%b8%a8%e0%b9%84%e0%b8%97-6/
LOCATION:บริษัท แอมเวย์ (ประเทศไทย) จำกัด\, บริษัท แอมเวย์ (ประเทศไทย) จำกัด Phet Kasem Road \, Nong Khang Phlu \, 10160 Nong Khaem \, Bangkok\, 10160
CATEGORIES:ปฏิทินตารางหน่วยเคลื่อนที่
END:VEVENT
BEGIN:VEVENT
DTSTART;TZID=Asia/Krasnoyarsk:20260324T090000
DTEND;TZID=Asia/Krasnoyarsk:20260324T150000
DTSTAMP:20260420T110052
CREATED:20260318T122432Z
LAST-MODIFIED:20260318T122432Z
UID:10006187-1774342800-1774364400@thaibloodcentre.redcross.or.th
SUMMARY:มหาวิทยาลัยศรีปทุม []
DESCRIPTION:สถานที่เจาะ : อาคาร 11 ชั้น 1 โซน C (พัก 11-12 น.) \nที่อยู่ : 61 ถนนพหลโยธิน แขวงเสนานิคม เขตจตุจักร กรุงเทพฯ  \nโทร : 0 2579 1111
URL:https://thaibloodcentre.redcross.or.th/event/%e0%b8%a1%e0%b8%ab%e0%b8%b2%e0%b8%a7%e0%b8%b4%e0%b8%97%e0%b8%a2%e0%b8%b2%e0%b8%a5%e0%b8%b1%e0%b8%a2%e0%b8%a8%e0%b8%a3%e0%b8%b5%e0%b8%9b%e0%b8%97%e0%b8%b8%e0%b8%a1-3/
LOCATION:มหาวิทยาลัยศรีปทุม\, มหาวิทยาลัยศรีปทุม 2410/2 ถนนพหลโยธิน แขวงเสนานิคม เขตจตุจักร กรุงเทพมหานคร 10900
CATEGORIES:ปฏิทินตารางหน่วยเคลื่อนที่
END:VEVENT
BEGIN:VEVENT
DTSTART;TZID=Asia/Krasnoyarsk:20260324T090000
DTEND;TZID=Asia/Krasnoyarsk:20260324T150000
DTSTAMP:20260420T110052
CREATED:20260318T122427Z
LAST-MODIFIED:20260318T122427Z
UID:10006186-1774342800-1774364400@thaibloodcentre.redcross.or.th
SUMMARY:บ้านทรงไทย (ย่านวงศ์สว่าง) []
DESCRIPTION:สถานที่เจาะ : (พัก 12.30-13.00 น.) \nที่อยู่ : 1423 ถนนกรุงเทพ – นนทบุรี แขวงวงศ์สว่าง เขตบางซื่อ กรุงเทพฯ  \nโทร : 0 2256 4300
URL:https://thaibloodcentre.redcross.or.th/event/%e0%b8%9a%e0%b9%89%e0%b8%b2%e0%b8%99%e0%b8%97%e0%b8%a3%e0%b8%87%e0%b9%84%e0%b8%97%e0%b8%a2-%e0%b8%a2%e0%b9%88%e0%b8%b2%e0%b8%99%e0%b8%a7%e0%b8%87%e0%b8%a8%e0%b9%8c%e0%b8%aa%e0%b8%a7%e0%b9%88-394/
LOCATION:บ้านทรงไทย (ย่านวงศ์สว่าง)\, หน่วยรับบริจาคโลหิต บ้านทรงไทย(ย่านวงศ์สว่าง) 1423 ถนนกรุงเทพ-นนทบุรี แขวงวงศ์สว่าง เขตบางซื่อ กรุงเทพมหานคร 10800
CATEGORIES:ปฏิทินตารางหน่วยเคลื่อนที่
END:VEVENT
BEGIN:VEVENT
DTSTART;TZID=Asia/Krasnoyarsk:20260324T090000
DTEND;TZID=Asia/Krasnoyarsk:20260324T120000
DTSTAMP:20260420T110052
CREATED:20260318T122450Z
LAST-MODIFIED:20260318T122450Z
UID:10006193-1774342800-1774353600@thaibloodcentre.redcross.or.th
SUMMARY:บริษัท กรุงไทยแทรคเตอร์ จำกัด []
DESCRIPTION:สถานที่เจาะ : หน้าอาคารกรุงไทยแทรคเตอร์ \nที่อยู่ : 3675 ถนนพระราม 4 แขวงพระโขนง เขตคลองเตย กรุงเทพฯ  \nโทร : 0 2261 9999
URL:https://thaibloodcentre.redcross.or.th/event/%e0%b8%9a%e0%b8%a3%e0%b8%b4%e0%b8%a9%e0%b8%b1%e0%b8%97-%e0%b8%81%e0%b8%a3%e0%b8%b8%e0%b8%87%e0%b9%84%e0%b8%97%e0%b8%a2%e0%b9%81%e0%b8%97%e0%b8%a3%e0%b8%84%e0%b9%80%e0%b8%95%e0%b8%ad%e0%b8%a3-5/
LOCATION:บริษัท กรุงไทยแทรคเตอร์ จำกัด\, กรุงไทยแทรคเตอร์รังสิต 3675 ถนนพระราม 4 แขวงพระโขนง เขตคลองเตย กรุงเทพมหานคร 10110
CATEGORIES:ปฏิทินตารางหน่วยเคลื่อนที่
END:VEVENT
BEGIN:VEVENT
DTSTART;TZID=Asia/Krasnoyarsk:20260324T090000
DTEND;TZID=Asia/Krasnoyarsk:20260324T110000
DTSTAMP:20260420T110052
CREATED:20260318T122445Z
LAST-MODIFIED:20260318T122445Z
UID:10006191-1774342800-1774350000@thaibloodcentre.redcross.or.th
SUMMARY:บริษัท ซัมมิท วินด์มิลล์ กอล์ฟ คลับ จำกัด []
DESCRIPTION:สถานที่เจาะ : ทางเข้าคลับเฮ้าส์ข้างซุ้ม 5 \nที่อยู่ : 72 ม.14 ถ.บางนา-ตราด กม.10.5 ต.บางพลีใหญ่ อ.บางพลี จ.สมุทรปราการ  \nโทร : 0 2750 2112-20
URL:https://thaibloodcentre.redcross.or.th/event/%e0%b8%9a%e0%b8%a3%e0%b8%b4%e0%b8%a9%e0%b8%b1%e0%b8%97-%e0%b8%8b%e0%b8%b1%e0%b8%a1%e0%b8%a1%e0%b8%b4%e0%b8%97-%e0%b8%a7%e0%b8%b4%e0%b8%99%e0%b8%94%e0%b9%8c%e0%b8%a1%e0%b8%b4%e0%b8%a5%e0%b8%a5-4/
LOCATION:บริษัท ซัมมิท วินด์มิลล์ กอล์ฟ คลับ จำกัด\, บริษัท ซัมมิท วินด์มิลล์ กอล์ฟ คลับ จำกัด 72 ม.14 ถ.บางนา-ตราด กม.10.5 ต.บางพลีใหญ่ อ.บางพลี จ.สมุทรปราการ 10540
CATEGORIES:ปฏิทินตารางหน่วยเคลื่อนที่
END:VEVENT
BEGIN:VEVENT
DTSTART;TZID=Asia/Krasnoyarsk:20260324T083000
DTEND;TZID=Asia/Krasnoyarsk:20260324T193000
DTSTAMP:20260420T110052
CREATED:20260318T122424Z
LAST-MODIFIED:20260318T122424Z
UID:10006185-1774341000-1774380600@thaibloodcentre.redcross.or.th
SUMMARY:สถานีกาชาด 11 วิเศษนิยม []
DESCRIPTION:สถานที่เจาะ : ชั้น 3 \nที่อยู่ : 33/3 ถนนเพชรเกษม แขวงบางหว้า เขตภาษีเจริญ กรุงเทพฯ  \nโทร : 633450711
URL:https://thaibloodcentre.redcross.or.th/event/%e0%b8%aa%e0%b8%96%e0%b8%b2%e0%b8%99%e0%b8%b5%e0%b8%81%e0%b8%b2%e0%b8%8a%e0%b8%b2%e0%b8%94-11-%e0%b8%a7%e0%b8%b4%e0%b9%80%e0%b8%a8%e0%b8%a9%e0%b8%99%e0%b8%b4%e0%b8%a2%e0%b8%a1-212/
LOCATION:สถานีกาชาด 11 วิเศษนิยม\, สถานีกาชาด 11 วิเศษนิยม 605 ถ.เพชรเกษม แขวงบางหว้า เขตภาษีเจริญ กรุงเทพมหานคร 10160
CATEGORIES:ปฏิทินตารางหน่วยเคลื่อนที่
END:VEVENT
BEGIN:VEVENT
DTSTART;TZID=Asia/Krasnoyarsk:20260324T073000
DTEND;TZID=Asia/Krasnoyarsk:20260324T193000
DTSTAMP:20260420T110052
CREATED:20260318T122314Z
LAST-MODIFIED:20260318T122314Z
UID:10006179-1774337400-1774380600@thaibloodcentre.redcross.or.th
SUMMARY:ศูนย์บริการโลหิตแห่งชาติ สภากาชาดไทย []
DESCRIPTION:ที่อยู่ : 1871 ถ. อังรีดูนังต์ แขวงปทุมวัน เขตปทุมวัน
URL:https://thaibloodcentre.redcross.or.th/event/%e0%b8%a8%e0%b8%b9%e0%b8%99%e0%b8%a2%e0%b9%8c%e0%b8%9a%e0%b8%a3%e0%b8%b4%e0%b8%81%e0%b8%b2%e0%b8%a3%e0%b9%82%e0%b8%a5%e0%b8%ab%e0%b8%b4%e0%b8%95%e0%b9%81%e0%b8%ab%e0%b9%88%e0%b8%87%e0%b8%8a-477/
LOCATION:ศูนย์บริการโลหิตแห่งชาติ สภากาชาดไทย\, ศูนย์บริการโลหิตแห่งชาติ สภากาชาดไทย 1871 ถ. อังรีดูนังต์ แขวงปทุมวัน เขตปทุมวัน กรุงเทพมหานคร 10330
CATEGORIES:ปฏิทินตารางหน่วยเคลื่อนที่
END:VEVENT
BEGIN:VEVENT
DTSTART;TZID=Asia/Krasnoyarsk:20260323T120000
DTEND;TZID=Asia/Krasnoyarsk:20260323T180000
DTSTAMP:20260420T110052
CREATED:20260318T122228Z
LAST-MODIFIED:20260318T122228Z
UID:10006169-1774267200-1774288800@thaibloodcentre.redcross.or.th
SUMMARY:ศูนย์การค้าเดอะมอลล์ไลฟ์สโตร์ ท่าพระ []
DESCRIPTION:สถานที่เจาะ : ชั้น 1 (ติดลานจอดรถ) \nที่อยู่ : 99 ถนนรัชดาท่าพระตัดใหม่ แขวงบุคคโล เขตธนบุรี กรุงเทพฯ  \nโทร : 0 2469-1000
URL:https://thaibloodcentre.redcross.or.th/event/%e0%b8%a8%e0%b8%b9%e0%b8%99%e0%b8%a2%e0%b9%8c%e0%b8%81%e0%b8%b2%e0%b8%a3%e0%b8%84%e0%b9%89%e0%b8%b2%e0%b9%80%e0%b8%94%e0%b8%ad%e0%b8%b0%e0%b8%a1%e0%b8%ad%e0%b8%a5%e0%b8%a5%e0%b9%8c%e0%b9%84-1586/
LOCATION:ศูนย์การค้าเดอะมอลล์ไลฟ์สโตร์ ท่าพระ\, เดอะมอลล์ไลฟ์สโตร์ ท่าพระ 129 ถ. รัชดาภิเษก แขวงบุคคโล เขตธนบุรี กรุงเทพมหานคร 10600
CATEGORIES:ปฏิทินตารางหน่วยเคลื่อนที่
END:VEVENT
BEGIN:VEVENT
DTSTART;TZID=Asia/Krasnoyarsk:20260323T120000
DTEND;TZID=Asia/Krasnoyarsk:20260323T180000
DTSTAMP:20260420T110052
CREATED:20260318T122223Z
LAST-MODIFIED:20260318T122223Z
UID:10006168-1774267200-1774288800@thaibloodcentre.redcross.or.th
SUMMARY:ศูนย์การค้า เอ็มโพเรียม []
DESCRIPTION:สถานที่เจาะ : ชั้น M ศูนย์การค้า ดิ เอ็มโพเรียม เชื่อมลานจอดรถอาคาร B \nที่อยู่ : 622 ถนนสุขุมวิท แขวงคลองตัน เขตคลองเตย กรุงเทพฯ  \nโทร : 0 2269 1515
URL:https://thaibloodcentre.redcross.or.th/event/%e0%b8%a8%e0%b8%b9%e0%b8%99%e0%b8%a2%e0%b9%8c%e0%b8%81%e0%b8%b2%e0%b8%a3%e0%b8%84%e0%b9%89%e0%b8%b2-%e0%b9%80%e0%b8%ad%e0%b9%87%e0%b8%a1%e0%b9%82%e0%b8%9e%e0%b9%80%e0%b8%a3%e0%b8%b5%e0%b8%a2-393/
LOCATION:ศูนย์การค้า เอ็มโพเรียม\, เอ็มโพเรียม 622 ถ. สุขุมวิท แขวงคลองตัน เขตคลองเตย กรุงเทพมหานคร 10110
CATEGORIES:ปฏิทินตารางหน่วยเคลื่อนที่
END:VEVENT
BEGIN:VEVENT
DTSTART;TZID=Asia/Krasnoyarsk:20260323T120000
DTEND;TZID=Asia/Krasnoyarsk:20260323T180000
DTSTAMP:20260420T110052
CREATED:20260318T122210Z
LAST-MODIFIED:20260318T122210Z
UID:10006167-1774267200-1774288800@thaibloodcentre.redcross.or.th
SUMMARY:ศูนย์การค้าเดอะมอลล์ไลฟ์สโตร์ งามวงศ์วาน []
DESCRIPTION:สถานที่เจาะ : ชั้น 5 โซน Government Center \nที่อยู่ : ถนนงามวงศ์วาน ต.บางเขน อ.เมือง จ.นนทบุรี  \nโทร : 0 2555 1550
URL:https://thaibloodcentre.redcross.or.th/event/%e0%b8%a8%e0%b8%b9%e0%b8%99%e0%b8%a2%e0%b9%8c%e0%b8%81%e0%b8%b2%e0%b8%a3%e0%b8%84%e0%b9%89%e0%b8%b2%e0%b9%80%e0%b8%94%e0%b8%ad%e0%b8%b0%e0%b8%a1%e0%b8%ad%e0%b8%a5%e0%b8%a5%e0%b9%8c%e0%b9%84-1585/
LOCATION:ศูนย์การค้าเดอะมอลล์ไลฟ์สโตร์ งามวงศ์วาน\, เดอะมอลล์ ไลฟ์สโตร์ งามวงศ์วาน 430 ถนน งามวงศ์วาน ตำบลบางเขน อำเภอเมืองนนทบุรี นนทบุรี 11000
CATEGORIES:ปฏิทินตารางหน่วยเคลื่อนที่
END:VEVENT
BEGIN:VEVENT
DTSTART;TZID=Asia/Krasnoyarsk:20260323T120000
DTEND;TZID=Asia/Krasnoyarsk:20260323T180000
DTSTAMP:20260420T110052
CREATED:20260318T122157Z
LAST-MODIFIED:20260318T122157Z
UID:10006166-1774267200-1774288800@thaibloodcentre.redcross.or.th
SUMMARY:ศูนย์การค้าเดอะมอลล์ไลฟ์สโตร์ บางกะปิ []
DESCRIPTION:สถานที่เจาะ : ชั้น 2 ทางออกลานจอดรถ \nที่อยู่ : ถนนลาดพร้าว แขวงคลองจั่น เขตบางกะปิ กรุงเทพฯ  \nโทร : 0 2310 2278
URL:https://thaibloodcentre.redcross.or.th/event/%e0%b8%a8%e0%b8%b9%e0%b8%99%e0%b8%a2%e0%b9%8c%e0%b8%81%e0%b8%b2%e0%b8%a3%e0%b8%84%e0%b9%89%e0%b8%b2%e0%b9%80%e0%b8%94%e0%b8%ad%e0%b8%b0%e0%b8%a1%e0%b8%ad%e0%b8%a5%e0%b8%a5%e0%b9%8c%e0%b9%84-1584/
LOCATION:ศูนย์การค้าเดอะมอลล์ไลฟ์สโตร์ บางกะปิ\, เดอะมอลล์ไลฟ์สโตร์ บางกะปิ 3522 ถ. ลาดพร้าว แขวงคลองจั่น เขตบางกะปิ กรุงเทพมหานคร 10240
CATEGORIES:ปฏิทินตารางหน่วยเคลื่อนที่
END:VEVENT
BEGIN:VEVENT
DTSTART;TZID=Asia/Krasnoyarsk:20260323T120000
DTEND;TZID=Asia/Krasnoyarsk:20260323T180000
DTSTAMP:20260420T110052
CREATED:20260318T122144Z
LAST-MODIFIED:20260318T122144Z
UID:10006165-1774267200-1774288800@thaibloodcentre.redcross.or.th
SUMMARY:ศูนย์การค้าเดอะมอลล์ไลฟ์สโตร์ บางแค []
DESCRIPTION:สถานที่เจาะ : ชั้น 3 ตรงข้ามร้านโอ้กะจู๋ \nที่อยู่ : ถนนเพชรเกษม แขวงบางแคเหนือ เขตภาษีเจริญ กรุงเทพฯ  \nโทร : 02 487 1221
URL:https://thaibloodcentre.redcross.or.th/event/%e0%b8%a8%e0%b8%b9%e0%b8%99%e0%b8%a2%e0%b9%8c%e0%b8%81%e0%b8%b2%e0%b8%a3%e0%b8%84%e0%b9%89%e0%b8%b2%e0%b9%80%e0%b8%94%e0%b8%ad%e0%b8%b0%e0%b8%a1%e0%b8%ad%e0%b8%a5%e0%b8%a5%e0%b9%8c%e0%b9%84-1583/
LOCATION:ศูนย์การค้าเดอะมอลล์ไลฟ์สโตร์ บางแค\, ศูนย์การค้าเดอะมอลล์ไลฟ์สโตร์ บางแค
CATEGORIES:ปฏิทินตารางหน่วยเคลื่อนที่
END:VEVENT
BEGIN:VEVENT
DTSTART;TZID=Asia/Krasnoyarsk:20260323T110000
DTEND;TZID=Asia/Krasnoyarsk:20260323T150000
DTSTAMP:20260420T110052
CREATED:20260318T122255Z
LAST-MODIFIED:20260318T122255Z
UID:10006172-1774263600-1774278000@thaibloodcentre.redcross.or.th
SUMMARY:บริษัท ซี.พี.แลนด์ รีทโกรท จำกัด []
DESCRIPTION:สถานที่เจาะ : ลานกิจกรรมชั้น 4 ศูนย์การค้าฟอร์จูนทาวน์ \nที่อยู่ : 1\,3\,5\,7 ถนนรัชดาภิเษก แขวงดินแดง เขตดินแดง กรุงเทพฯ  \nโทร : 0 2247 3737
URL:https://thaibloodcentre.redcross.or.th/event/%e0%b8%9a%e0%b8%a3%e0%b8%b4%e0%b8%a9%e0%b8%b1%e0%b8%97-%e0%b8%8b%e0%b8%b5-%e0%b8%9e%e0%b8%b5-%e0%b9%81%e0%b8%a5%e0%b8%99%e0%b8%94%e0%b9%8c-%e0%b8%a3%e0%b8%b5%e0%b8%97%e0%b9%82%e0%b8%81%e0%b8%a3/
LOCATION:บริษัท ซี.พี.แลนด์ รีทโกรท จำกัด\, อาคารฟอร์จูนทาวน์ ถนนรัชดาภิเษก แขวงดินแดง เขตดินแดง กรุงเทพมหานคร 10400
CATEGORIES:ปฏิทินตารางหน่วยเคลื่อนที่
END:VEVENT
BEGIN:VEVENT
DTSTART;TZID=Asia/Krasnoyarsk:20260323T090000
DTEND;TZID=Asia/Krasnoyarsk:20260323T150000
DTSTAMP:20260420T110052
CREATED:20260318T122312Z
LAST-MODIFIED:20260318T122312Z
UID:10006178-1774256400-1774278000@thaibloodcentre.redcross.or.th
SUMMARY:ธนาคารอาคารสงเคราะห์ []
DESCRIPTION:สถานที่เจาะ : ห้องพิมานมาศ ชั้น 11 อาคารจอดรถ \nที่อยู่ : 63 ถนนพระราม 9 แขวงห้วยขวาง เขตห้วยขวาง กรุงเทพฯ  \nโทร : 0 2202 1637
URL:https://thaibloodcentre.redcross.or.th/event/%e0%b8%98%e0%b8%99%e0%b8%b2%e0%b8%84%e0%b8%b2%e0%b8%a3%e0%b8%ad%e0%b8%b2%e0%b8%84%e0%b8%b2%e0%b8%a3%e0%b8%aa%e0%b8%87%e0%b9%80%e0%b8%84%e0%b8%a3%e0%b8%b2%e0%b8%b0%e0%b8%ab%e0%b9%8c-3/
LOCATION:ธนาคารอาคารสงเคราะห์\, ธนาคารอาคารสงเคราะห์ 63 ถนนพระราม 9 เขตห้วยขวาง กรุงเทพมหานคร 10310
CATEGORIES:ปฏิทินตารางหน่วยเคลื่อนที่
END:VEVENT
BEGIN:VEVENT
DTSTART;TZID=Asia/Krasnoyarsk:20260323T090000
DTEND;TZID=Asia/Krasnoyarsk:20260323T150000
DTSTAMP:20260420T110052
CREATED:20260318T122310Z
LAST-MODIFIED:20260318T122310Z
UID:10006177-1774256400-1774278000@thaibloodcentre.redcross.or.th
SUMMARY:โรงพยาบาลราชพิพัฒน์ []
DESCRIPTION:สถานที่เจาะ : ห้องประชุมชั้น 2 ศูนย์พัฒนาองค์กรฯ (พัก 12-13 น.) \nที่อยู่ : 18 ถนนพุทธมณฑลสาย 3 ซอย 10 แขวงบางไผ่ เขตบางแค กรุงเทพฯ  \nโทร : 0 2444 0138
URL:https://thaibloodcentre.redcross.or.th/event/%e0%b9%82%e0%b8%a3%e0%b8%87%e0%b8%9e%e0%b8%a2%e0%b8%b2%e0%b8%9a%e0%b8%b2%e0%b8%a5%e0%b8%a3%e0%b8%b2%e0%b8%8a%e0%b8%9e%e0%b8%b4%e0%b8%9e%e0%b8%b1%e0%b8%92%e0%b8%99%e0%b9%8c-2/
LOCATION:โรงพยาบาลราชพิพัฒน์\, โรงพยาบาลราชพิพัฒน์ 18 ถนนพุทธมณฑลสาย 3 แขวงบางไผ่ เขตบางแค กรุงเทพมหานคร 10160
CATEGORIES:ปฏิทินตารางหน่วยเคลื่อนที่
END:VEVENT
BEGIN:VEVENT
DTSTART;TZID=Asia/Krasnoyarsk:20260323T090000
DTEND;TZID=Asia/Krasnoyarsk:20260323T150000
DTSTAMP:20260420T110052
CREATED:20260318T122308Z
LAST-MODIFIED:20260318T122308Z
UID:10006176-1774256400-1774278000@thaibloodcentre.redcross.or.th
SUMMARY:บริษัท กรุงไทยพานิชประกันภัย จำกัด (มหาชน) []
DESCRIPTION:สถานที่เจาะ : ห้องขอบฟ้าชั้น 24 (พัก 12-13 น.) \nที่อยู่ : 1122 ถนนเพชรบุรีตัดใหม่ แขวงมักกะสัน เขตราชเทวี กรุงเทพฯ  \nโทร : 0 2624 1111
URL:https://thaibloodcentre.redcross.or.th/event/%e0%b8%9a%e0%b8%a3%e0%b8%b4%e0%b8%a9%e0%b8%b1%e0%b8%97-%e0%b8%81%e0%b8%a3%e0%b8%b8%e0%b8%87%e0%b9%84%e0%b8%97%e0%b8%a2%e0%b8%9e%e0%b8%b2%e0%b8%99%e0%b8%b4%e0%b8%8a%e0%b8%9b%e0%b8%a3%e0%b8%b0-3/
LOCATION:บริษัท กรุงไทยพานิชประกันภัย จำกัด (มหาชน)\, อาคาร KPI ทาวเวอร์ เคพีไอทาวเวอร์ 1122 ถนนเพชรบุรีตัดใหม่ เขตมักกะสัน เขตราชเทวี กรุงเทพมหานคร 10400
CATEGORIES:ปฏิทินตารางหน่วยเคลื่อนที่
END:VEVENT
BEGIN:VEVENT
DTSTART;TZID=Asia/Krasnoyarsk:20260323T090000
DTEND;TZID=Asia/Krasnoyarsk:20260323T150000
DTSTAMP:20260420T110052
CREATED:20260318T122305Z
LAST-MODIFIED:20260318T122305Z
UID:10006175-1774256400-1774278000@thaibloodcentre.redcross.or.th
SUMMARY:กรมป่าไม้ []
DESCRIPTION:สถานที่เจาะ : ห้องประชุม 1 ชั้น 2 อาคารเทียมคมกฤส \nที่อยู่ : 61 ถนนพหลโยธิน แขวงลาดยาว เขตจตุจักร กรุงเทพฯ  \nโทร : 0 2561 4292-3
URL:https://thaibloodcentre.redcross.or.th/event/%e0%b8%81%e0%b8%a3%e0%b8%a1%e0%b8%9b%e0%b9%88%e0%b8%b2%e0%b9%84%e0%b8%a1%e0%b9%89-2/
LOCATION:กรมป่าไม้\, กรมป่าไม้ 61 ถนนพหลโยธิน แขวงลาดยาว เขตจตุจักร กรุงเทพฯ 10900
CATEGORIES:ปฏิทินตารางหน่วยเคลื่อนที่
END:VEVENT
BEGIN:VEVENT
DTSTART;TZID=Asia/Krasnoyarsk:20260323T090000
DTEND;TZID=Asia/Krasnoyarsk:20260323T150000
DTSTAMP:20260420T110052
CREATED:20260318T122259Z
LAST-MODIFIED:20260318T122259Z
UID:10006174-1774256400-1774278000@thaibloodcentre.redcross.or.th
SUMMARY:สำนักงานนิคมอุตสาหกรรมบางชัน []
DESCRIPTION:สถานที่เจาะ : หน้าอาคารสโมสร (พัก 12-13 น.) \nที่อยู่ : 60 เสรีไทย 87 แขวงมีนบุรี เขตมีนบุรี กรุงเทพฯ  \nโทร : 0 2517 0744
URL:https://thaibloodcentre.redcross.or.th/event/%e0%b8%aa%e0%b8%b3%e0%b8%99%e0%b8%b1%e0%b8%81%e0%b8%87%e0%b8%b2%e0%b8%99%e0%b8%99%e0%b8%b4%e0%b8%84%e0%b8%a1%e0%b8%ad%e0%b8%b8%e0%b8%95%e0%b8%aa%e0%b8%b2%e0%b8%ab%e0%b8%81%e0%b8%a3%e0%b8%a3-23/
LOCATION:สำนักงานนิคมอุตสาหกรรมบางชัน\, สำนักงานนิคมอุตสาหกรรมบางชัน 60 ซอยเสรีไทย 87 แขวงมีนบุรี เขตมีนบุรี กรุงเทพมหานคร 10510
CATEGORIES:ปฏิทินตารางหน่วยเคลื่อนที่
END:VEVENT
BEGIN:VEVENT
DTSTART;TZID=Asia/Krasnoyarsk:20260323T090000
DTEND;TZID=Asia/Krasnoyarsk:20260323T150000
DTSTAMP:20260420T110052
CREATED:20260318T122257Z
LAST-MODIFIED:20260318T122257Z
UID:10006173-1774256400-1774278000@thaibloodcentre.redcross.or.th
SUMMARY:อาคารบางนาทาวเวอร์ []
DESCRIPTION:สถานที่เจาะ : ข้างอาคารบางนาทาวเวอร์ A (พัก 12-13 น.) \nที่อยู่ : 2/3 อาคาร B ชั้น 17 ม.14 ถ.บางนา-ตราด กม.6.5 ต.บางแก้ว อ.บางพลี จ.สมุทรปราการ  \nโทร : 0 2312 0140-9
URL:https://thaibloodcentre.redcross.or.th/event/%e0%b8%ad%e0%b8%b2%e0%b8%84%e0%b8%b2%e0%b8%a3%e0%b8%9a%e0%b8%b2%e0%b8%87%e0%b8%99%e0%b8%b2%e0%b8%97%e0%b8%b2%e0%b8%a7%e0%b9%80%e0%b8%a7%e0%b8%ad%e0%b8%a3%e0%b9%8c-2/
LOCATION:อาคารบางนาทาวเวอร์\, อาคารบางนา ทาวเวอร์ A (Bangna Tower A) 2/3 ม.14 ถ.บางนา-ตราด กม. 6.5 ต.บางแก้ว อ.บางพลี จ.สมุทรปราการ 10540
CATEGORIES:ปฏิทินตารางหน่วยเคลื่อนที่
END:VEVENT
BEGIN:VEVENT
DTSTART;TZID=Asia/Krasnoyarsk:20260323T090000
DTEND;TZID=Asia/Krasnoyarsk:20260323T150000
DTSTAMP:20260420T110052
CREATED:20260318T122249Z
LAST-MODIFIED:20260318T122249Z
UID:10006171-1774256400-1774278000@thaibloodcentre.redcross.or.th
SUMMARY:บ้านทรงไทย (ย่านวงศ์สว่าง) []
DESCRIPTION:สถานที่เจาะ : (พัก 12.30-13.00 น.) \nที่อยู่ : 1423 ถนนกรุงเทพ – นนทบุรี แขวงวงศ์สว่าง เขตบางซื่อ กรุงเทพฯ  \nโทร : 0 2256 4300
URL:https://thaibloodcentre.redcross.or.th/event/%e0%b8%9a%e0%b9%89%e0%b8%b2%e0%b8%99%e0%b8%97%e0%b8%a3%e0%b8%87%e0%b9%84%e0%b8%97%e0%b8%a2-%e0%b8%a2%e0%b9%88%e0%b8%b2%e0%b8%99%e0%b8%a7%e0%b8%87%e0%b8%a8%e0%b9%8c%e0%b8%aa%e0%b8%a7%e0%b9%88-393/
LOCATION:บ้านทรงไทย (ย่านวงศ์สว่าง)\, หน่วยรับบริจาคโลหิต บ้านทรงไทย(ย่านวงศ์สว่าง) 1423 ถนนกรุงเทพ-นนทบุรี แขวงวงศ์สว่าง เขตบางซื่อ กรุงเทพมหานคร 10800
CATEGORIES:ปฏิทินตารางหน่วยเคลื่อนที่
END:VEVENT
BEGIN:VEVENT
DTSTART;TZID=Asia/Krasnoyarsk:20260323T083000
DTEND;TZID=Asia/Krasnoyarsk:20260323T193000
DTSTAMP:20260420T110052
CREATED:20260318T122246Z
LAST-MODIFIED:20260318T122246Z
UID:10006170-1774254600-1774294200@thaibloodcentre.redcross.or.th
SUMMARY:สถานีกาชาด 11 วิเศษนิยม []
DESCRIPTION:สถานที่เจาะ : ชั้น 3 \nที่อยู่ : 33/3 ถนนเพชรเกษม แขวงบางหว้า เขตภาษีเจริญ กรุงเทพฯ  \nโทร : 633450711
URL:https://thaibloodcentre.redcross.or.th/event/%e0%b8%aa%e0%b8%96%e0%b8%b2%e0%b8%99%e0%b8%b5%e0%b8%81%e0%b8%b2%e0%b8%8a%e0%b8%b2%e0%b8%94-11-%e0%b8%a7%e0%b8%b4%e0%b9%80%e0%b8%a8%e0%b8%a9%e0%b8%99%e0%b8%b4%e0%b8%a2%e0%b8%a1-211/
LOCATION:สถานีกาชาด 11 วิเศษนิยม\, สถานีกาชาด 11 วิเศษนิยม 605 ถ.เพชรเกษม แขวงบางหว้า เขตภาษีเจริญ กรุงเทพมหานคร 10160
CATEGORIES:ปฏิทินตารางหน่วยเคลื่อนที่
END:VEVENT
BEGIN:VEVENT
DTSTART;TZID=Asia/Krasnoyarsk:20260323T073000
DTEND;TZID=Asia/Krasnoyarsk:20260323T193000
DTSTAMP:20260420T110052
CREATED:20260318T122135Z
LAST-MODIFIED:20260318T122135Z
UID:10006164-1774251000-1774294200@thaibloodcentre.redcross.or.th
SUMMARY:ศูนย์บริการโลหิตแห่งชาติ สภากาชาดไทย []
DESCRIPTION:ที่อยู่ : 1871 ถ. อังรีดูนังต์ แขวงปทุมวัน เขตปทุมวัน
URL:https://thaibloodcentre.redcross.or.th/event/%e0%b8%a8%e0%b8%b9%e0%b8%99%e0%b8%a2%e0%b9%8c%e0%b8%9a%e0%b8%a3%e0%b8%b4%e0%b8%81%e0%b8%b2%e0%b8%a3%e0%b9%82%e0%b8%a5%e0%b8%ab%e0%b8%b4%e0%b8%95%e0%b9%81%e0%b8%ab%e0%b9%88%e0%b8%87%e0%b8%8a-476/
LOCATION:ศูนย์บริการโลหิตแห่งชาติ สภากาชาดไทย\, ศูนย์บริการโลหิตแห่งชาติ สภากาชาดไทย 1871 ถ. อังรีดูนังต์ แขวงปทุมวัน เขตปทุมวัน กรุงเทพมหานคร 10330
CATEGORIES:ปฏิทินตารางหน่วยเคลื่อนที่
END:VEVENT
BEGIN:VEVENT
DTSTART;TZID=Asia/Krasnoyarsk:20260322T120000
DTEND;TZID=Asia/Krasnoyarsk:20260322T180000
DTSTAMP:20260420T110052
CREATED:20260318T122102Z
LAST-MODIFIED:20260318T122102Z
UID:10006159-1774180800-1774202400@thaibloodcentre.redcross.or.th
SUMMARY:ศูนย์การค้าเดอะมอลล์ไลฟ์สโตร์ ท่าพระ []
DESCRIPTION:สถานที่เจาะ : ชั้น 1 (ติดลานจอดรถ) \nที่อยู่ : 99 ถนนรัชดาท่าพระตัดใหม่ แขวงบุคคโล เขตธนบุรี กรุงเทพฯ  \nโทร : 0 2469-1000
URL:https://thaibloodcentre.redcross.or.th/event/%e0%b8%a8%e0%b8%b9%e0%b8%99%e0%b8%a2%e0%b9%8c%e0%b8%81%e0%b8%b2%e0%b8%a3%e0%b8%84%e0%b9%89%e0%b8%b2%e0%b9%80%e0%b8%94%e0%b8%ad%e0%b8%b0%e0%b8%a1%e0%b8%ad%e0%b8%a5%e0%b8%a5%e0%b9%8c%e0%b9%84-1582/
LOCATION:ศูนย์การค้าเดอะมอลล์ไลฟ์สโตร์ ท่าพระ\, เดอะมอลล์ไลฟ์สโตร์ ท่าพระ 129 ถ. รัชดาภิเษก แขวงบุคคโล เขตธนบุรี กรุงเทพมหานคร 10600
CATEGORIES:ปฏิทินตารางหน่วยเคลื่อนที่
END:VEVENT
BEGIN:VEVENT
DTSTART;TZID=Asia/Krasnoyarsk:20260322T120000
DTEND;TZID=Asia/Krasnoyarsk:20260322T180000
DTSTAMP:20260420T110052
CREATED:20260318T122058Z
LAST-MODIFIED:20260318T122058Z
UID:10006158-1774180800-1774202400@thaibloodcentre.redcross.or.th
SUMMARY:ศูนย์การค้า เอ็มโพเรียม []
DESCRIPTION:สถานที่เจาะ : ชั้น M ศูนย์การค้า ดิ เอ็มโพเรียม เชื่อมลานจอดรถอาคาร B \nที่อยู่ : 622 ถนนสุขุมวิท แขวงคลองตัน เขตคลองเตย กรุงเทพฯ  \nโทร : 0 2269 1515
URL:https://thaibloodcentre.redcross.or.th/event/%e0%b8%a8%e0%b8%b9%e0%b8%99%e0%b8%a2%e0%b9%8c%e0%b8%81%e0%b8%b2%e0%b8%a3%e0%b8%84%e0%b9%89%e0%b8%b2-%e0%b9%80%e0%b8%ad%e0%b9%87%e0%b8%a1%e0%b9%82%e0%b8%9e%e0%b9%80%e0%b8%a3%e0%b8%b5%e0%b8%a2-392/
LOCATION:ศูนย์การค้า เอ็มโพเรียม\, เอ็มโพเรียม 622 ถ. สุขุมวิท แขวงคลองตัน เขตคลองเตย กรุงเทพมหานคร 10110
CATEGORIES:ปฏิทินตารางหน่วยเคลื่อนที่
END:VEVENT
END:VCALENDAR