BEGIN:VCALENDAR
VERSION:2.0
PRODID:-//เว็บไซต์ศูนย์บริการโลหิตแห่งชาติ - ECPv6.11.2.1//NONSGML v1.0//EN
CALSCALE:GREGORIAN
METHOD:PUBLISH
X-WR-CALNAME:เว็บไซต์ศูนย์บริการโลหิตแห่งชาติ
X-ORIGINAL-URL:https://thaibloodcentre.redcross.or.th
X-WR-CALDESC:Events for เว็บไซต์ศูนย์บริการโลหิตแห่งชาติ
REFRESH-INTERVAL;VALUE=DURATION:PT1H
X-Robots-Tag:noindex
X-PUBLISHED-TTL:PT1H
BEGIN:VTIMEZONE
TZID:Asia/Krasnoyarsk
BEGIN:STANDARD
TZOFFSETFROM:+0700
TZOFFSETTO:+0700
TZNAME:+07
DTSTART:20260101T000000
END:STANDARD
END:VTIMEZONE
BEGIN:VEVENT
DTSTART;TZID=Asia/Krasnoyarsk:20260227T110000
DTEND;TZID=Asia/Krasnoyarsk:20260227T150000
DTSTAMP:20260423T174950
CREATED:20260224T100306Z
LAST-MODIFIED:20260224T100306Z
UID:10005705-1772190000-1772204400@thaibloodcentre.redcross.or.th
SUMMARY:ศูนย์การค้าทรี ออน ธรี พระราม 3 []
DESCRIPTION:สถานที่เจาะ : ลานกิจกรรม ชั้น 1 \nที่อยู่ : 295 ถนนพระราม 3 แขวงบางคอแหลม เขตบางคอแหลม กรุงเทพฯ 0 2689 0917-9
URL:https://thaibloodcentre.redcross.or.th/event/%e0%b8%a8%e0%b8%b9%e0%b8%99%e0%b8%a2%e0%b9%8c%e0%b8%81%e0%b8%b2%e0%b8%a3%e0%b8%84%e0%b9%89%e0%b8%b2%e0%b8%97%e0%b8%a3%e0%b8%b5-%e0%b8%ad%e0%b8%ad%e0%b8%99-%e0%b8%98%e0%b8%a3%e0%b8%b5-%e0%b8%9e-11/
LOCATION:ศูนย์การค้าทรี ออน ธรี พระราม 3\, ทรี ออน ธรี 295 ถนนพระรามที่ 3 แขวงบางคอแหลม เขตบางคอแหลม กรุงเทพมหานคร 10120
CATEGORIES:ปฏิทินตารางหน่วยเคลื่อนที่
END:VEVENT
BEGIN:VEVENT
DTSTART;TZID=Asia/Krasnoyarsk:20260227T100000
DTEND;TZID=Asia/Krasnoyarsk:20260227T150000
DTSTAMP:20260423T174950
CREATED:20260224T100332Z
LAST-MODIFIED:20260224T100332Z
UID:10005710-1772186400-1772204400@thaibloodcentre.redcross.or.th
SUMMARY:บริษัท อาหารยอดคุณ จำกัด []
DESCRIPTION:สถานที่เจาะ : ห้องประชุมใหญ่ (25 ปี) (พัก 12.00-13.00 น.) \nที่อยู่ : 9 ถนนนิมิตใหม่ แขวงมีนบุรี เขตมีนบุรี กรุงเทพฯ 0 2181 0039-45
URL:https://thaibloodcentre.redcross.or.th/event/%e0%b8%9a%e0%b8%a3%e0%b8%b4%e0%b8%a9%e0%b8%b1%e0%b8%97-%e0%b8%ad%e0%b8%b2%e0%b8%ab%e0%b8%b2%e0%b8%a3%e0%b8%a2%e0%b8%ad%e0%b8%94%e0%b8%84%e0%b8%b8%e0%b8%93-%e0%b8%88%e0%b8%b3%e0%b8%81%e0%b8%b1-6/
LOCATION:บริษัท อาหารยอดคุณ จำกัด\, บริษัท อาหารยอดคุณ จำกัด 9 ถ.นิมิตใหม่ แขวงมีนบุรี เขตมีนบุรี กรุงเทพมหานคร 10510
CATEGORIES:ปฏิทินตารางหน่วยเคลื่อนที่
END:VEVENT
BEGIN:VEVENT
DTSTART;TZID=Asia/Krasnoyarsk:20260227T090000
DTEND;TZID=Asia/Krasnoyarsk:20260227T150000
DTSTAMP:20260423T174950
CREATED:20260224T100353Z
LAST-MODIFIED:20260224T100353Z
UID:10005713-1772182800-1772204400@thaibloodcentre.redcross.or.th
SUMMARY:กรมสรรพากร []
DESCRIPTION:สถานที่เจาะ : ห้องพระอุเทน 1 ชั้น 2 (พัก 12.00-13.00 น.) \nที่อยู่ : 90 อาคารสรรพากร พหลโยธิน 7 แขวงสามเสนใน เขตพญาไท กรุงเทพฯ 0 2272 8173
URL:https://thaibloodcentre.redcross.or.th/event/%e0%b8%81%e0%b8%a3%e0%b8%a1%e0%b8%aa%e0%b8%a3%e0%b8%a3%e0%b8%9e%e0%b8%b2%e0%b8%81%e0%b8%a3-3/
LOCATION:กรมสรรพากร\, กรมสรรพากร 90 ซอยพหลโยธิน 7 แขวงพญาไท เขตพญาไท กรุงเทพมหานคร 10400
CATEGORIES:ปฏิทินตารางหน่วยเคลื่อนที่
END:VEVENT
BEGIN:VEVENT
DTSTART;TZID=Asia/Krasnoyarsk:20260227T090000
DTEND;TZID=Asia/Krasnoyarsk:20260227T150000
DTSTAMP:20260423T174950
CREATED:20260224T100330Z
LAST-MODIFIED:20260224T100330Z
UID:10005709-1772182800-1772204400@thaibloodcentre.redcross.or.th
SUMMARY:โรงพยาบาลพญาไท พหลโยธิน []
DESCRIPTION:สถานที่เจาะ : อาคาร 4 ชั้น 4 (พัก 12.00-13.00 น.) \nที่อยู่ : 670/1 ถนนพหลโยธิน แขวงสามเสนใน เขตพญาไท กรุงเทพฯ 0 2271 7000
URL:https://thaibloodcentre.redcross.or.th/event/%e0%b9%82%e0%b8%a3%e0%b8%87%e0%b8%9e%e0%b8%a2%e0%b8%b2%e0%b8%9a%e0%b8%b2%e0%b8%a5%e0%b8%9e%e0%b8%8d%e0%b8%b2%e0%b9%84%e0%b8%97-%e0%b8%9e%e0%b8%ab%e0%b8%a5%e0%b9%82%e0%b8%a2%e0%b8%98%e0%b8%b4-6/
LOCATION:โรงพยาบาลพญาไท พหลโยธิน
CATEGORIES:ปฏิทินตารางหน่วยเคลื่อนที่
END:VEVENT
BEGIN:VEVENT
DTSTART;TZID=Asia/Krasnoyarsk:20260227T090000
DTEND;TZID=Asia/Krasnoyarsk:20260227T150000
DTSTAMP:20260423T174950
CREATED:20260224T100328Z
LAST-MODIFIED:20260224T100328Z
UID:10005708-1772182800-1772204400@thaibloodcentre.redcross.or.th
SUMMARY:โรงเรียนราชประชาสมาสัย ฝ่ายมัธยม รัชดาภิเษก ในพระบรมราชูปถัมภ์ []
DESCRIPTION:สถานที่เจาะ : หอประชุมอาคาร 5 (พัก 12.00-13.00 น.) \nที่อยู่ : 51 ม.1 ถ.สุขสวัสดิ์ ต.บางจาก อ.พระประแดง จ.สมุทรปราการ 0 2463 5143
URL:https://thaibloodcentre.redcross.or.th/event/%e0%b9%82%e0%b8%a3%e0%b8%87%e0%b9%80%e0%b8%a3%e0%b8%b5%e0%b8%a2%e0%b8%99%e0%b8%a3%e0%b8%b2%e0%b8%8a%e0%b8%9b%e0%b8%a3%e0%b8%b0%e0%b8%8a%e0%b8%b2%e0%b8%aa%e0%b8%a1%e0%b8%b2%e0%b8%aa%e0%b8%b1%e0%b8%a2-5/
LOCATION:โรงเรียนราชประชาสมาสัย ฝ่ายมัธยม รัชดาภิเษก ในพระบรมราชูปถัมภ์\, โรงเรียนราชประชาสมาสัย ฝ่ายมัธยม รัชดาภิเษก ในพระบรมราชูปถัมภ์ 99 หมู่ที่ 1 ถนนสุขสวัสดิ์ ตำบลบางจาก อำเภอพระประแดง จังหวัดสมุทรปราการ 10130
CATEGORIES:ปฏิทินตารางหน่วยเคลื่อนที่
END:VEVENT
BEGIN:VEVENT
DTSTART;TZID=Asia/Krasnoyarsk:20260227T090000
DTEND;TZID=Asia/Krasnoyarsk:20260227T150000
DTSTAMP:20260423T174950
CREATED:20260224T100326Z
LAST-MODIFIED:20260224T100326Z
UID:10005707-1772182800-1772204400@thaibloodcentre.redcross.or.th
SUMMARY:อาคารซันทาวเวอร์ส บี []
DESCRIPTION:สถานที่เจาะ : หน้าอาคารซันทาวเวอร์ส บี (พัก 11.00-12.00 น.) \nที่อยู่ : 123 ถนนวิภาวดีรังสิต แขวงจอมพล เขตจตุจักร กรุงเทพฯ 0 2617 8333
URL:https://thaibloodcentre.redcross.or.th/event/%e0%b8%ad%e0%b8%b2%e0%b8%84%e0%b8%b2%e0%b8%a3%e0%b8%8b%e0%b8%b1%e0%b8%99%e0%b8%97%e0%b8%b2%e0%b8%a7%e0%b9%80%e0%b8%a7%e0%b8%ad%e0%b8%a3%e0%b9%8c%e0%b8%aa-%e0%b8%9a%e0%b8%b5-4/
LOCATION:อาคารซันทาวเวอร์ส บี\, อาคารซันทาวเวอร์ส บี 123 อาคารซันทาวเวอร์ส บี ถนนวิภาวดีรังสิต แขวงจอมพล เขตจตุจักร กรุงเทพมหานคร 10900
CATEGORIES:ปฏิทินตารางหน่วยเคลื่อนที่
END:VEVENT
BEGIN:VEVENT
DTSTART;TZID=Asia/Krasnoyarsk:20260227T090000
DTEND;TZID=Asia/Krasnoyarsk:20260227T150000
DTSTAMP:20260423T174950
CREATED:20260224T100309Z
LAST-MODIFIED:20260224T100309Z
UID:10005706-1772182800-1772204400@thaibloodcentre.redcross.or.th
SUMMARY:กองอำนวยการรักษาความมั่นคงภายในราชอาณาจักร []
DESCRIPTION:สถานที่เจาะ : ห้องอาหาร ชั้น 1 อาคารรื่นฤดี (พัก 12.00-13.00 น.) \nที่อยู่ : สวนรื่นฤดี ถนนนครราชสีมา แขวงดุสิต เขตดุสิต กรุงเทพฯ 0 2241 4045
URL:https://thaibloodcentre.redcross.or.th/event/%e0%b8%81%e0%b8%ad%e0%b8%87%e0%b8%ad%e0%b8%b3%e0%b8%99%e0%b8%a7%e0%b8%a2%e0%b8%81%e0%b8%b2%e0%b8%a3%e0%b8%a3%e0%b8%b1%e0%b8%81%e0%b8%a9%e0%b8%b2%e0%b8%84%e0%b8%a7%e0%b8%b2%e0%b8%a1%e0%b8%a1%e0%b8%b1-5/
LOCATION:กองอำนวยการรักษาความมั่นคงภายในราชอาณาจักร\, กองอำนวยการรักษาความมั่นคงภายในราชอาณาจักร สวนรื่นฤดี ถ.นครราชสีมา แขวงดุสิต เขตดุสิต กรุงเทพมหานคร 10300
CATEGORIES:ปฏิทินตารางหน่วยเคลื่อนที่
END:VEVENT
BEGIN:VEVENT
DTSTART;TZID=Asia/Krasnoyarsk:20260227T090000
DTEND;TZID=Asia/Krasnoyarsk:20260227T150000
DTSTAMP:20260423T174950
CREATED:20260224T100302Z
LAST-MODIFIED:20260224T100302Z
UID:10005704-1772182800-1772204400@thaibloodcentre.redcross.or.th
SUMMARY:บ้านทรงไทย (ย่านวงศ์สว่าง) []
DESCRIPTION:สถานที่เจาะ : (พัก 12.30-13.00 น.) \nที่อยู่ : 1423 ถนนกรุงเทพ – นนทบุรี แขวงวงศ์สว่าง เขตบางซื่อ กรุงเทพฯ 0 2256 4300
URL:https://thaibloodcentre.redcross.or.th/event/%e0%b8%9a%e0%b9%89%e0%b8%b2%e0%b8%99%e0%b8%97%e0%b8%a3%e0%b8%87%e0%b9%84%e0%b8%97%e0%b8%a2-%e0%b8%a2%e0%b9%88%e0%b8%b2%e0%b8%99%e0%b8%a7%e0%b8%87%e0%b8%a8%e0%b9%8c%e0%b8%aa%e0%b8%a7%e0%b9%88-361/
LOCATION:บ้านทรงไทย (ย่านวงศ์สว่าง)\, หน่วยรับบริจาคโลหิต บ้านทรงไทย(ย่านวงศ์สว่าง) 1423 ถนนกรุงเทพ-นนทบุรี แขวงวงศ์สว่าง เขตบางซื่อ กรุงเทพมหานคร 10800
CATEGORIES:ปฏิทินตารางหน่วยเคลื่อนที่
END:VEVENT
BEGIN:VEVENT
DTSTART;TZID=Asia/Krasnoyarsk:20260227T090000
DTEND;TZID=Asia/Krasnoyarsk:20260227T120000
DTSTAMP:20260423T174950
CREATED:20260224T100334Z
LAST-MODIFIED:20260224T100334Z
UID:10005711-1772182800-1772193600@thaibloodcentre.redcross.or.th
SUMMARY:สำนักงานไปรษณีย์นครหลวง 3 []
DESCRIPTION:สถานที่เจาะ : หน้าอาคารไปรษณีย์กลาง \nที่อยู่ : 4 เจริญกรุง 32 แขวงสี่พระยา เขตบางรัก กรุงเทพฯ 0 2614 7439
URL:https://thaibloodcentre.redcross.or.th/event/%e0%b8%aa%e0%b8%b3%e0%b8%99%e0%b8%b1%e0%b8%81%e0%b8%87%e0%b8%b2%e0%b8%99%e0%b9%84%e0%b8%9b%e0%b8%a3%e0%b8%a9%e0%b8%93%e0%b8%b5%e0%b8%a2%e0%b9%8c%e0%b8%99%e0%b8%84%e0%b8%a3%e0%b8%ab%e0%b8%a5%e0%b8%a7-5/
LOCATION:สำนักงานไปรษณีย์นครหลวง 3\, สำนักงานไปรษณีย์นครหลวง 3 4 ซอยเจริญกรุง 32 แขวงบางรัก เขตบางรัก กรุงเทพมหานคร 10500
CATEGORIES:ปฏิทินตารางหน่วยเคลื่อนที่
END:VEVENT
BEGIN:VEVENT
DTSTART;TZID=Asia/Krasnoyarsk:20260227T083000
DTEND;TZID=Asia/Krasnoyarsk:20260227T193000
DTSTAMP:20260423T174950
CREATED:20260224T100259Z
LAST-MODIFIED:20260224T100259Z
UID:10005703-1772181000-1772220600@thaibloodcentre.redcross.or.th
SUMMARY:สถานีกาชาด 11 วิเศษนิยม []
DESCRIPTION:สถานที่เจาะ : ชั้น 3 \nที่อยู่ : 33/3 ถนนเพชรเกษม แขวงบางหว้า เขตภาษีเจริญ กรุงเทพฯ 0633450711
URL:https://thaibloodcentre.redcross.or.th/event/%e0%b8%aa%e0%b8%96%e0%b8%b2%e0%b8%99%e0%b8%b5%e0%b8%81%e0%b8%b2%e0%b8%8a%e0%b8%b2%e0%b8%94-11-%e0%b8%a7%e0%b8%b4%e0%b9%80%e0%b8%a8%e0%b8%a9%e0%b8%99%e0%b8%b4%e0%b8%a2%e0%b8%a1-178/
LOCATION:สถานีกาชาด 11 วิเศษนิยม\, สถานีกาชาด 11 วิเศษนิยม 605 ถ.เพชรเกษม แขวงบางหว้า เขตภาษีเจริญ กรุงเทพมหานคร 10160
CATEGORIES:ปฏิทินตารางหน่วยเคลื่อนที่
END:VEVENT
BEGIN:VEVENT
DTSTART;TZID=Asia/Krasnoyarsk:20260227T073000
DTEND;TZID=Asia/Krasnoyarsk:20260227T193000
DTSTAMP:20260423T174950
CREATED:20260224T100142Z
LAST-MODIFIED:20260224T100225Z
UID:10005697-1772177400-1772220600@thaibloodcentre.redcross.or.th
SUMMARY:ศูนย์บริการโลหิตแห่งชาติ สภากาชาดไทย []
DESCRIPTION:ที่อยู่ : 1871 ถ. อังรีดูนังต์ แขวงปทุมวัน เขตปทุมวัน
URL:https://thaibloodcentre.redcross.or.th/event/%e0%b8%a8%e0%b8%b9%e0%b8%99%e0%b8%a2%e0%b9%8c%e0%b8%9a%e0%b8%a3%e0%b8%b4%e0%b8%81%e0%b8%b2%e0%b8%a3%e0%b9%82%e0%b8%a5%e0%b8%ab%e0%b8%b4%e0%b8%95%e0%b9%81%e0%b8%ab%e0%b9%88%e0%b8%87%e0%b8%8a-444/
LOCATION:ศูนย์บริการโลหิตแห่งชาติ สภากาชาดไทย\, ศูนย์บริการโลหิตแห่งชาติ สภากาชาดไทย 1871 ถ. อังรีดูนังต์ แขวงปทุมวัน เขตปทุมวัน กรุงเทพมหานคร 10330
CATEGORIES:ปฏิทินตารางหน่วยเคลื่อนที่
END:VEVENT
BEGIN:VEVENT
DTSTART;TZID=Asia/Krasnoyarsk:20260226T120000
DTEND;TZID=Asia/Krasnoyarsk:20260226T180000
DTSTAMP:20260423T174950
CREATED:20260224T100051Z
LAST-MODIFIED:20260224T100051Z
UID:10005687-1772107200-1772128800@thaibloodcentre.redcross.or.th
SUMMARY:ศูนย์การค้าเดอะมอลล์ไลฟ์สโตร์ ท่าพระ []
DESCRIPTION:สถานที่เจาะ : ชั้น 1 (ติดลานจอดรถ) \nที่อยู่ : 99 ถนนรัชดาท่าพระตัดใหม่ แขวงบุคคโล เขตธนบุรี กรุงเทพฯ 0 2469-1000
URL:https://thaibloodcentre.redcross.or.th/event/%e0%b8%a8%e0%b8%b9%e0%b8%99%e0%b8%a2%e0%b9%8c%e0%b8%81%e0%b8%b2%e0%b8%a3%e0%b8%84%e0%b9%89%e0%b8%b2%e0%b9%80%e0%b8%94%e0%b8%ad%e0%b8%b0%e0%b8%a1%e0%b8%ad%e0%b8%a5%e0%b8%a5%e0%b9%8c%e0%b9%84-1454/
LOCATION:ศูนย์การค้าเดอะมอลล์ไลฟ์สโตร์ ท่าพระ\, เดอะมอลล์ไลฟ์สโตร์ ท่าพระ 129 ถ. รัชดาภิเษก แขวงบุคคโล เขตธนบุรี กรุงเทพมหานคร 10600
CATEGORIES:ปฏิทินตารางหน่วยเคลื่อนที่
END:VEVENT
BEGIN:VEVENT
DTSTART;TZID=Asia/Krasnoyarsk:20260226T120000
DTEND;TZID=Asia/Krasnoyarsk:20260226T180000
DTSTAMP:20260423T174950
CREATED:20260224T100043Z
LAST-MODIFIED:20260224T100043Z
UID:10005686-1772107200-1772128800@thaibloodcentre.redcross.or.th
SUMMARY:ศูนย์การค้า เอ็มโพเรียม []
DESCRIPTION:สถานที่เจาะ : ชั้น M ศูนย์การค้า ดิ เอ็มโพเรียม เชื่อมลานจอดรถอาคาร B \nที่อยู่ : 622 ถนนสุขุมวิท แขวงคลองตัน เขตคลองเตย กรุงเทพฯ 0 2269 1515
URL:https://thaibloodcentre.redcross.or.th/event/%e0%b8%a8%e0%b8%b9%e0%b8%99%e0%b8%a2%e0%b9%8c%e0%b8%81%e0%b8%b2%e0%b8%a3%e0%b8%84%e0%b9%89%e0%b8%b2-%e0%b9%80%e0%b8%ad%e0%b9%87%e0%b8%a1%e0%b9%82%e0%b8%9e%e0%b9%80%e0%b8%a3%e0%b8%b5%e0%b8%a2-359/
LOCATION:ศูนย์การค้า เอ็มโพเรียม\, เอ็มโพเรียม 622 ถ. สุขุมวิท แขวงคลองตัน เขตคลองเตย กรุงเทพมหานคร 10110
CATEGORIES:ปฏิทินตารางหน่วยเคลื่อนที่
END:VEVENT
BEGIN:VEVENT
DTSTART;TZID=Asia/Krasnoyarsk:20260226T120000
DTEND;TZID=Asia/Krasnoyarsk:20260226T180000
DTSTAMP:20260423T174950
CREATED:20260224T100031Z
LAST-MODIFIED:20260224T100031Z
UID:10005685-1772107200-1772128800@thaibloodcentre.redcross.or.th
SUMMARY:ศูนย์การค้าเดอะมอลล์ไลฟ์สโตร์ งามวงศ์วาน []
DESCRIPTION:สถานที่เจาะ : ชั้น 5 โซน Government Center \nที่อยู่ : ถนนงามวงศ์วาน ต.บางเขน อ.เมือง จ.นนทบุรี 0 2555 1550
URL:https://thaibloodcentre.redcross.or.th/event/%e0%b8%a8%e0%b8%b9%e0%b8%99%e0%b8%a2%e0%b9%8c%e0%b8%81%e0%b8%b2%e0%b8%a3%e0%b8%84%e0%b9%89%e0%b8%b2%e0%b9%80%e0%b8%94%e0%b8%ad%e0%b8%b0%e0%b8%a1%e0%b8%ad%e0%b8%a5%e0%b8%a5%e0%b9%8c%e0%b9%84-1453/
LOCATION:ศูนย์การค้าเดอะมอลล์ไลฟ์สโตร์ งามวงศ์วาน\, เดอะมอลล์ ไลฟ์สโตร์ งามวงศ์วาน 430 ถนน งามวงศ์วาน ตำบลบางเขน อำเภอเมืองนนทบุรี นนทบุรี 11000
CATEGORIES:ปฏิทินตารางหน่วยเคลื่อนที่
END:VEVENT
BEGIN:VEVENT
DTSTART;TZID=Asia/Krasnoyarsk:20260226T120000
DTEND;TZID=Asia/Krasnoyarsk:20260226T180000
DTSTAMP:20260423T174950
CREATED:20260224T100019Z
LAST-MODIFIED:20260224T100019Z
UID:10005684-1772107200-1772128800@thaibloodcentre.redcross.or.th
SUMMARY:ศูนย์การค้าเดอะมอลล์ไลฟ์สโตร์ บางกะปิ []
DESCRIPTION:สถานที่เจาะ : ชั้น 2 ทางออกลานจอดรถ \nที่อยู่ : ถนนลาดพร้าว แขวงคลองจั่น เขตบางกะปิ กรุงเทพฯ 0 2310 2278
URL:https://thaibloodcentre.redcross.or.th/event/%e0%b8%a8%e0%b8%b9%e0%b8%99%e0%b8%a2%e0%b9%8c%e0%b8%81%e0%b8%b2%e0%b8%a3%e0%b8%84%e0%b9%89%e0%b8%b2%e0%b9%80%e0%b8%94%e0%b8%ad%e0%b8%b0%e0%b8%a1%e0%b8%ad%e0%b8%a5%e0%b8%a5%e0%b9%8c%e0%b9%84-1452/
LOCATION:ศูนย์การค้าเดอะมอลล์ไลฟ์สโตร์ บางกะปิ\, เดอะมอลล์ไลฟ์สโตร์ บางกะปิ 3522 ถ. ลาดพร้าว แขวงคลองจั่น เขตบางกะปิ กรุงเทพมหานคร 10240
CATEGORIES:ปฏิทินตารางหน่วยเคลื่อนที่
END:VEVENT
BEGIN:VEVENT
DTSTART;TZID=Asia/Krasnoyarsk:20260226T120000
DTEND;TZID=Asia/Krasnoyarsk:20260226T180000
DTSTAMP:20260423T174950
CREATED:20260224T100007Z
LAST-MODIFIED:20260224T100007Z
UID:10005683-1772107200-1772128800@thaibloodcentre.redcross.or.th
SUMMARY:ศูนย์การค้าเดอะมอลล์ไลฟ์สโตร์ บางแค []
DESCRIPTION:สถานที่เจาะ : ชั้น 3 ตรงข้ามร้านโอ้กะจู๋ \nที่อยู่ : ถนนเพชรเกษม แขวงบางแคเหนือ เขตภาษีเจริญ กรุงเทพฯ 02 487 1221
URL:https://thaibloodcentre.redcross.or.th/event/%e0%b8%a8%e0%b8%b9%e0%b8%99%e0%b8%a2%e0%b9%8c%e0%b8%81%e0%b8%b2%e0%b8%a3%e0%b8%84%e0%b9%89%e0%b8%b2%e0%b9%80%e0%b8%94%e0%b8%ad%e0%b8%b0%e0%b8%a1%e0%b8%ad%e0%b8%a5%e0%b8%a5%e0%b9%8c%e0%b9%84-1451/
LOCATION:ศูนย์การค้าเดอะมอลล์ไลฟ์สโตร์ บางแค\, ศูนย์การค้าเดอะมอลล์ไลฟ์สโตร์ บางแค
CATEGORIES:ปฏิทินตารางหน่วยเคลื่อนที่
END:VEVENT
BEGIN:VEVENT
DTSTART;TZID=Asia/Krasnoyarsk:20260226T110000
DTEND;TZID=Asia/Krasnoyarsk:20260226T150000
DTSTAMP:20260423T174950
CREATED:20260224T100125Z
LAST-MODIFIED:20260224T100125Z
UID:10005693-1772103600-1772118000@thaibloodcentre.redcross.or.th
SUMMARY:คณะศึกษาศาสตร์ มหาวิทยาลัยศรีนครินทรวิโรฒประสานมิตร []
DESCRIPTION:สถานที่เจาะ : อาคารนวัตกรรม ศ.ดร.สาโรช บัวศรี ชั้น 2 \nที่อยู่ : 114 ถนนสุขุมวิท 23 เขตวัฒนา กรุงเทพฯ
URL:https://thaibloodcentre.redcross.or.th/event/%e0%b8%84%e0%b8%93%e0%b8%b0%e0%b8%a8%e0%b8%b6%e0%b8%81%e0%b8%a9%e0%b8%b2%e0%b8%a8%e0%b8%b2%e0%b8%aa%e0%b8%95%e0%b8%a3%e0%b9%8c-%e0%b8%a1%e0%b8%ab%e0%b8%b2%e0%b8%a7%e0%b8%b4%e0%b8%97%e0%b8%a2-6/
LOCATION:คณะศึกษาศาสตร์ มหาวิทยาลัยศรีนครินทรวิโรฒประสานมิตร\, คณะศึกษาศาสตร์ มหาวิทยาลัยศรีนครินทรวิโรฒประสานมิตร 114 ซ.สุขุมวิท 23 แขวงคลองเตยเหนือ เขตวัฒนา กรุงเทพมหานคร 10110
CATEGORIES:ปฏิทินตารางหน่วยเคลื่อนที่
END:VEVENT
BEGIN:VEVENT
DTSTART;TZID=Asia/Krasnoyarsk:20260226T110000
DTEND;TZID=Asia/Krasnoyarsk:20260226T150000
DTSTAMP:20260423T174950
CREATED:20260224T100123Z
LAST-MODIFIED:20260224T100123Z
UID:10005692-1772103600-1772118000@thaibloodcentre.redcross.or.th
SUMMARY:ห้างสรรพสินค้าเซ็นทรัล สาขาเมกาบางนา []
DESCRIPTION:สถานที่เจาะ : หน้าห้าง ฝั่ง Tops \nที่อยู่ : 39 ม.6 ต.บางแก้ว อ.บางพลี จ.สมุทรปราการ 0 2105 1333-42
URL:https://thaibloodcentre.redcross.or.th/event/%e0%b8%ab%e0%b9%89%e0%b8%b2%e0%b8%87%e0%b8%aa%e0%b8%a3%e0%b8%a3%e0%b8%9e%e0%b8%aa%e0%b8%b4%e0%b8%99%e0%b8%84%e0%b9%89%e0%b8%b2%e0%b9%80%e0%b8%8b%e0%b9%87%e0%b8%99%e0%b8%97%e0%b8%a3%e0%b8%b1%e0%b8%a5-3/
LOCATION:ห้างสรรพสินค้าเซ็นทรัล สาขาเมกาบางนา\, ห้างสรรพสินค้าเซ็นทรัล สาขาเมกาบางนา 39 ม.6 ทางคู่ขนาน ถ.บางนา-ตราด ต.บางแก้ว อ.บางพลี สมุทรปราการ 10540
CATEGORIES:ปฏิทินตารางหน่วยเคลื่อนที่
END:VEVENT
BEGIN:VEVENT
DTSTART;TZID=Asia/Krasnoyarsk:20260226T093000
DTEND;TZID=Asia/Krasnoyarsk:20260226T150000
DTSTAMP:20260423T174950
CREATED:20260224T100127Z
LAST-MODIFIED:20260224T100127Z
UID:10005694-1772098200-1772118000@thaibloodcentre.redcross.or.th
SUMMARY:บริษัท จีเอ็มเอ็ม แกรมมี่ จำกัด (มหาชน) []
DESCRIPTION:สถานที่เจาะ : ชั้น 21 ห้องออดิทอเรียม  (พัก 12.00-13.00 น.) \nที่อยู่ : 50 สุขุมวิท 21 (อโศก) แขวงคลองเตยเหนือ  เขตคลองเตย กรุงเทพฯ 0 2669 8166
URL:https://thaibloodcentre.redcross.or.th/event/%e0%b8%9a%e0%b8%a3%e0%b8%b4%e0%b8%a9%e0%b8%b1%e0%b8%97-%e0%b8%88%e0%b8%b5%e0%b9%80%e0%b8%ad%e0%b9%87%e0%b8%a1%e0%b9%80%e0%b8%ad%e0%b9%87%e0%b8%a1-%e0%b9%81%e0%b8%81%e0%b8%a3%e0%b8%a1%e0%b8%a1-4/
LOCATION:บริษัท จีเอ็มเอ็ม แกรมมี่ จำกัด (มหาชน)\, บริษัท จีเอ็มเอ็ม แกรมมี่ จำกัด (มหาชน) 50 จีเอ็มเอ็ม แกรมมี่ เพลส สุขุมวิท 21 ถนนอโศกมนตรี แขวงคลองเตยเหนือ เขตวัฒนา กรุงเทพมหานคร 10110
CATEGORIES:ปฏิทินตารางหน่วยเคลื่อนที่
END:VEVENT
BEGIN:VEVENT
DTSTART;TZID=Asia/Krasnoyarsk:20260226T093000
DTEND;TZID=Asia/Krasnoyarsk:20260226T150000
DTSTAMP:20260423T174950
CREATED:20260224T100111Z
LAST-MODIFIED:20260224T100111Z
UID:10005690-1772098200-1772118000@thaibloodcentre.redcross.or.th
SUMMARY:บริษัท ชาญอิสสระ ดีเวล็อปเมนท์ จำกัด (มหาชน) []
DESCRIPTION:สถานที่เจาะ : ห้องประชุมชั้น 21 อาคารชาญอิสระ 2 (พัก 11.30-12.30 น.) \nที่อยู่ : 2922/200 ถนนเพชรบุรีตัดใหม่ แขวงบางกะปิ เขตห้วยขวาง กรุงเทพฯ 0 2308 2020
URL:https://thaibloodcentre.redcross.or.th/event/%e0%b8%9a%e0%b8%a3%e0%b8%b4%e0%b8%a9%e0%b8%b1%e0%b8%97-%e0%b8%8a%e0%b8%b2%e0%b8%8d%e0%b8%ad%e0%b8%b4%e0%b8%aa%e0%b8%aa%e0%b8%a3%e0%b8%b0-%e0%b8%94%e0%b8%b5%e0%b9%80%e0%b8%a7%e0%b8%a5%e0%b9%87-3/
LOCATION:บริษัท ชาญอิสสระ ดีเวล็อปเมนท์ จำกัด (มหาชน)\, บริษัท ชาญอิสสระ ดีเวล็อปเมนท์ จำกัด (มหาชน) 2922/200 ถนนเพชรบุรีตัดใหม่ แขวงบางกะปิ เขตห้วยขวาง กรุงเทพมหานคร 10310
CATEGORIES:ปฏิทินตารางหน่วยเคลื่อนที่
END:VEVENT
BEGIN:VEVENT
DTSTART;TZID=Asia/Krasnoyarsk:20260226T090000
DTEND;TZID=Asia/Krasnoyarsk:20260226T150000
DTSTAMP:20260423T174950
CREATED:20260224T100131Z
LAST-MODIFIED:20260224T100131Z
UID:10005696-1772096400-1772118000@thaibloodcentre.redcross.or.th
SUMMARY:บริษัท เอไอเอ จำกัด []
DESCRIPTION:สถานที่เจาะ : ห้องฝึกอบรม 1-2 อาคารเอไอเอ ทาวเวอร์ 2 ชั้น 2 (พัก 12.00-13.00 น.) \nที่อยู่ : 181 ถนนสุรวงศ์ แขวงสุริยวงศ์ เขตบางรัก กรุงเทพฯ 0 2783 7366
URL:https://thaibloodcentre.redcross.or.th/event/%e0%b8%9a%e0%b8%a3%e0%b8%b4%e0%b8%a9%e0%b8%b1%e0%b8%97-%e0%b9%80%e0%b8%ad%e0%b9%84%e0%b8%ad%e0%b9%80%e0%b8%ad-%e0%b8%88%e0%b8%b3%e0%b8%81%e0%b8%b1%e0%b8%94/
LOCATION:บริษัท เอไอเอ จำกัด\, บริษัท เอไอเอ จำกัด 182 ถ.สุรวงศ์ แขวงสุริยวงศ์ เขตบางรัก กรุงเทพมหานคร 10500
CATEGORIES:ปฏิทินตารางหน่วยเคลื่อนที่
END:VEVENT
BEGIN:VEVENT
DTSTART;TZID=Asia/Krasnoyarsk:20260226T090000
DTEND;TZID=Asia/Krasnoyarsk:20260226T150000
DTSTAMP:20260423T174950
CREATED:20260224T100129Z
LAST-MODIFIED:20260224T100129Z
UID:10005695-1772096400-1772118000@thaibloodcentre.redcross.or.th
SUMMARY:อาคารซันทาวเวอร์ส บี []
DESCRIPTION:สถานที่เจาะ : หน้าอาคารซันทาวเวอร์ส บี (พัก 11.00-12.00 น.) \nที่อยู่ : 123 ถนนวิภาวดีรังสิต แขวงจอมพล เขตจตุจักร กรุงเทพฯ 0 2617 8333
URL:https://thaibloodcentre.redcross.or.th/event/%e0%b8%ad%e0%b8%b2%e0%b8%84%e0%b8%b2%e0%b8%a3%e0%b8%8b%e0%b8%b1%e0%b8%99%e0%b8%97%e0%b8%b2%e0%b8%a7%e0%b9%80%e0%b8%a7%e0%b8%ad%e0%b8%a3%e0%b9%8c%e0%b8%aa-%e0%b8%9a%e0%b8%b5-3/
LOCATION:อาคารซันทาวเวอร์ส บี\, อาคารซันทาวเวอร์ส บี 123 อาคารซันทาวเวอร์ส บี ถนนวิภาวดีรังสิต แขวงจอมพล เขตจตุจักร กรุงเทพมหานคร 10900
CATEGORIES:ปฏิทินตารางหน่วยเคลื่อนที่
END:VEVENT
BEGIN:VEVENT
DTSTART;TZID=Asia/Krasnoyarsk:20260226T090000
DTEND;TZID=Asia/Krasnoyarsk:20260226T150000
DTSTAMP:20260423T174950
CREATED:20260224T100113Z
LAST-MODIFIED:20260224T100113Z
UID:10005691-1772096400-1772118000@thaibloodcentre.redcross.or.th
SUMMARY:อาคารปาร์คเวนเชอร์ อีโคเพล็กซ์ []
DESCRIPTION:สถานที่เจาะ : ช่องจอดรถ VIP ด้านหน้าอาคารปาร์คเวนเซอร์ (พัก 12.00-13.00 น.) \nที่อยู่ : 57 ปาร์คเวนเซอร์ อีโคเพล็กซ์ ชั้น 1 ถนนวิทยุ แขวงลุมพินี เขตปทุมวัน กรุงเทพฯ 0 2483 0000
URL:https://thaibloodcentre.redcross.or.th/event/%e0%b8%ad%e0%b8%b2%e0%b8%84%e0%b8%b2%e0%b8%a3%e0%b8%9b%e0%b8%b2%e0%b8%a3%e0%b9%8c%e0%b8%84%e0%b9%80%e0%b8%a7%e0%b8%99%e0%b9%80%e0%b8%8a%e0%b8%ad%e0%b8%a3%e0%b9%8c-%e0%b8%ad%e0%b8%b5%e0%b9%82-3/
LOCATION:อาคารปาร์คเวนเชอร์ อีโคเพล็กซ์\, ปาร์คเวนเชอร์ อีโคเพล็กซ์ 57 ถ.วิทยุ แขวงลุมพินี เขตปทุมวัน กรุงเทพมหานคร 10330
CATEGORIES:ปฏิทินตารางหน่วยเคลื่อนที่
END:VEVENT
BEGIN:VEVENT
DTSTART;TZID=Asia/Krasnoyarsk:20260226T090000
DTEND;TZID=Asia/Krasnoyarsk:20260226T150000
DTSTAMP:20260423T174950
CREATED:20260224T100106Z
LAST-MODIFIED:20260224T100106Z
UID:10005689-1772096400-1772118000@thaibloodcentre.redcross.or.th
SUMMARY:บ้านทรงไทย (ย่านวงศ์สว่าง) []
DESCRIPTION:สถานที่เจาะ : (พัก 12.30-13.00 น.) \nที่อยู่ : 1423 ถนนกรุงเทพ – นนทบุรี แขวงวงศ์สว่าง เขตบางซื่อ กรุงเทพฯ 0 2256 4300
URL:https://thaibloodcentre.redcross.or.th/event/%e0%b8%9a%e0%b9%89%e0%b8%b2%e0%b8%99%e0%b8%97%e0%b8%a3%e0%b8%87%e0%b9%84%e0%b8%97%e0%b8%a2-%e0%b8%a2%e0%b9%88%e0%b8%b2%e0%b8%99%e0%b8%a7%e0%b8%87%e0%b8%a8%e0%b9%8c%e0%b8%aa%e0%b8%a7%e0%b9%88-360/
LOCATION:บ้านทรงไทย (ย่านวงศ์สว่าง)\, หน่วยรับบริจาคโลหิต บ้านทรงไทย(ย่านวงศ์สว่าง) 1423 ถนนกรุงเทพ-นนทบุรี แขวงวงศ์สว่าง เขตบางซื่อ กรุงเทพมหานคร 10800
CATEGORIES:ปฏิทินตารางหน่วยเคลื่อนที่
END:VEVENT
BEGIN:VEVENT
DTSTART;TZID=Asia/Krasnoyarsk:20260226T083000
DTEND;TZID=Asia/Krasnoyarsk:20260226T193000
DTSTAMP:20260423T174951
CREATED:20260224T100103Z
LAST-MODIFIED:20260224T100103Z
UID:10005688-1772094600-1772134200@thaibloodcentre.redcross.or.th
SUMMARY:สถานีกาชาด 11 วิเศษนิยม []
DESCRIPTION:สถานที่เจาะ : ชั้น 3 \nที่อยู่ : 33/3 ถนนเพชรเกษม แขวงบางหว้า เขตภาษีเจริญ กรุงเทพฯ 0633450711
URL:https://thaibloodcentre.redcross.or.th/event/%e0%b8%aa%e0%b8%96%e0%b8%b2%e0%b8%99%e0%b8%b5%e0%b8%81%e0%b8%b2%e0%b8%8a%e0%b8%b2%e0%b8%94-11-%e0%b8%a7%e0%b8%b4%e0%b9%80%e0%b8%a8%e0%b8%a9%e0%b8%99%e0%b8%b4%e0%b8%a2%e0%b8%a1-177/
LOCATION:สถานีกาชาด 11 วิเศษนิยม\, สถานีกาชาด 11 วิเศษนิยม 605 ถ.เพชรเกษม แขวงบางหว้า เขตภาษีเจริญ กรุงเทพมหานคร 10160
CATEGORIES:ปฏิทินตารางหน่วยเคลื่อนที่
END:VEVENT
BEGIN:VEVENT
DTSTART;TZID=Asia/Krasnoyarsk:20260226T073000
DTEND;TZID=Asia/Krasnoyarsk:20260226T193000
DTSTAMP:20260423T174951
CREATED:20260224T100002Z
LAST-MODIFIED:20260224T100002Z
UID:10005682-1772091000-1772134200@thaibloodcentre.redcross.or.th
SUMMARY:ศูนย์บริการโลหิตแห่งชาติ สภากาชาดไทย []
DESCRIPTION:ที่อยู่ : 1871 ถ. อังรีดูนังต์ แขวงปทุมวัน เขตปทุมวัน
URL:https://thaibloodcentre.redcross.or.th/event/%e0%b8%a8%e0%b8%b9%e0%b8%99%e0%b8%a2%e0%b9%8c%e0%b8%9a%e0%b8%a3%e0%b8%b4%e0%b8%81%e0%b8%b2%e0%b8%a3%e0%b9%82%e0%b8%a5%e0%b8%ab%e0%b8%b4%e0%b8%95%e0%b9%81%e0%b8%ab%e0%b9%88%e0%b8%87%e0%b8%8a-443/
LOCATION:ศูนย์บริการโลหิตแห่งชาติ สภากาชาดไทย\, ศูนย์บริการโลหิตแห่งชาติ สภากาชาดไทย 1871 ถ. อังรีดูนังต์ แขวงปทุมวัน เขตปทุมวัน กรุงเทพมหานคร 10330
CATEGORIES:ปฏิทินตารางหน่วยเคลื่อนที่
END:VEVENT
BEGIN:VEVENT
DTSTART;TZID=Asia/Krasnoyarsk:20260225T120000
DTEND;TZID=Asia/Krasnoyarsk:20260225T180000
DTSTAMP:20260423T174951
CREATED:20260217T092237Z
LAST-MODIFIED:20260217T092237Z
UID:10005654-1772020800-1772042400@thaibloodcentre.redcross.or.th
SUMMARY:ศูนย์การค้าเดอะมอลล์ไลฟ์สโตร์ ท่าพระ []
DESCRIPTION:สถานที่เจาะ : ชั้น 1 (ติดลานจอดรถ) \nที่อยู่ : 99 ถนนรัชดาท่าพระตัดใหม่ แขวงบุคคโล เขตธนบุรี กรุงเทพฯ 0 2469-1000
URL:https://thaibloodcentre.redcross.or.th/event/%e0%b8%a8%e0%b8%b9%e0%b8%99%e0%b8%a2%e0%b9%8c%e0%b8%81%e0%b8%b2%e0%b8%a3%e0%b8%84%e0%b9%89%e0%b8%b2%e0%b9%80%e0%b8%94%e0%b8%ad%e0%b8%b0%e0%b8%a1%e0%b8%ad%e0%b8%a5%e0%b8%a5%e0%b9%8c%e0%b9%84-1446/
LOCATION:ศูนย์การค้าเดอะมอลล์ไลฟ์สโตร์ ท่าพระ\, เดอะมอลล์ไลฟ์สโตร์ ท่าพระ 129 ถ. รัชดาภิเษก แขวงบุคคโล เขตธนบุรี กรุงเทพมหานคร 10600
CATEGORIES:ปฏิทินตารางหน่วยเคลื่อนที่
END:VEVENT
BEGIN:VEVENT
DTSTART;TZID=Asia/Krasnoyarsk:20260225T120000
DTEND;TZID=Asia/Krasnoyarsk:20260225T180000
DTSTAMP:20260423T174951
CREATED:20260217T092232Z
LAST-MODIFIED:20260217T092232Z
UID:10005653-1772020800-1772042400@thaibloodcentre.redcross.or.th
SUMMARY:ศูนย์การค้า เอ็มโพเรียม []
DESCRIPTION:สถานที่เจาะ : ชั้น M ศูนย์การค้า ดิ เอ็มโพเรียม เชื่อมลานจอดรถอาคาร B \nที่อยู่ : 622 ถนนสุขุมวิท แขวงคลองตัน เขตคลองเตย กรุงเทพฯ 0 2269 1515
URL:https://thaibloodcentre.redcross.or.th/event/%e0%b8%a8%e0%b8%b9%e0%b8%99%e0%b8%a2%e0%b9%8c%e0%b8%81%e0%b8%b2%e0%b8%a3%e0%b8%84%e0%b9%89%e0%b8%b2-%e0%b9%80%e0%b8%ad%e0%b9%87%e0%b8%a1%e0%b9%82%e0%b8%9e%e0%b9%80%e0%b8%a3%e0%b8%b5%e0%b8%a2-357/
LOCATION:ศูนย์การค้า เอ็มโพเรียม\, เอ็มโพเรียม 622 ถ. สุขุมวิท แขวงคลองตัน เขตคลองเตย กรุงเทพมหานคร 10110
CATEGORIES:ปฏิทินตารางหน่วยเคลื่อนที่
END:VEVENT
BEGIN:VEVENT
DTSTART;TZID=Asia/Krasnoyarsk:20260225T120000
DTEND;TZID=Asia/Krasnoyarsk:20260225T180000
DTSTAMP:20260423T174951
CREATED:20260217T092218Z
LAST-MODIFIED:20260217T092218Z
UID:10005652-1772020800-1772042400@thaibloodcentre.redcross.or.th
SUMMARY:ศูนย์การค้าเดอะมอลล์ไลฟ์สโตร์ งามวงศ์วาน []
DESCRIPTION:สถานที่เจาะ : ชั้น 5 โซน Government Center \nที่อยู่ : ถนนงามวงศ์วาน ต.บางเขน อ.เมือง จ.นนทบุรี 0 2555 1550
URL:https://thaibloodcentre.redcross.or.th/event/%e0%b8%a8%e0%b8%b9%e0%b8%99%e0%b8%a2%e0%b9%8c%e0%b8%81%e0%b8%b2%e0%b8%a3%e0%b8%84%e0%b9%89%e0%b8%b2%e0%b9%80%e0%b8%94%e0%b8%ad%e0%b8%b0%e0%b8%a1%e0%b8%ad%e0%b8%a5%e0%b8%a5%e0%b9%8c%e0%b9%84-1445/
LOCATION:ศูนย์การค้าเดอะมอลล์ไลฟ์สโตร์ งามวงศ์วาน\, เดอะมอลล์ ไลฟ์สโตร์ งามวงศ์วาน 430 ถนน งามวงศ์วาน ตำบลบางเขน อำเภอเมืองนนทบุรี นนทบุรี 11000
CATEGORIES:ปฏิทินตารางหน่วยเคลื่อนที่
END:VEVENT
BEGIN:VEVENT
DTSTART;TZID=Asia/Krasnoyarsk:20260225T120000
DTEND;TZID=Asia/Krasnoyarsk:20260225T180000
DTSTAMP:20260423T174951
CREATED:20260217T092205Z
LAST-MODIFIED:20260217T092205Z
UID:10005651-1772020800-1772042400@thaibloodcentre.redcross.or.th
SUMMARY:ศูนย์การค้าเดอะมอลล์ไลฟ์สโตร์ บางกะปิ []
DESCRIPTION:สถานที่เจาะ : ชั้น 2 ทางออกลานจอดรถ \nที่อยู่ : ถนนลาดพร้าว แขวงคลองจั่น เขตบางกะปิ กรุงเทพฯ 0 2310 2278
URL:https://thaibloodcentre.redcross.or.th/event/%e0%b8%a8%e0%b8%b9%e0%b8%99%e0%b8%a2%e0%b9%8c%e0%b8%81%e0%b8%b2%e0%b8%a3%e0%b8%84%e0%b9%89%e0%b8%b2%e0%b9%80%e0%b8%94%e0%b8%ad%e0%b8%b0%e0%b8%a1%e0%b8%ad%e0%b8%a5%e0%b8%a5%e0%b9%8c%e0%b9%84-1444/
LOCATION:ศูนย์การค้าเดอะมอลล์ไลฟ์สโตร์ บางกะปิ\, เดอะมอลล์ไลฟ์สโตร์ บางกะปิ 3522 ถ. ลาดพร้าว แขวงคลองจั่น เขตบางกะปิ กรุงเทพมหานคร 10240
CATEGORIES:ปฏิทินตารางหน่วยเคลื่อนที่
END:VEVENT
END:VCALENDAR