BEGIN:VCALENDAR
VERSION:2.0
PRODID:-//เว็บไซต์ศูนย์บริการโลหิตแห่งชาติ - ECPv6.11.2.1//NONSGML v1.0//EN
CALSCALE:GREGORIAN
METHOD:PUBLISH
X-WR-CALNAME:เว็บไซต์ศูนย์บริการโลหิตแห่งชาติ
X-ORIGINAL-URL:https://thaibloodcentre.redcross.or.th
X-WR-CALDESC:Events for เว็บไซต์ศูนย์บริการโลหิตแห่งชาติ
REFRESH-INTERVAL;VALUE=DURATION:PT1H
X-Robots-Tag:noindex
X-PUBLISHED-TTL:PT1H
BEGIN:VTIMEZONE
TZID:Asia/Krasnoyarsk
BEGIN:STANDARD
TZOFFSETFROM:+0700
TZOFFSETTO:+0700
TZNAME:+07
DTSTART:20260101T000000
END:STANDARD
END:VTIMEZONE
BEGIN:VEVENT
DTSTART;TZID=Asia/Krasnoyarsk:20260224T120000
DTEND;TZID=Asia/Krasnoyarsk:20260224T180000
DTSTAMP:20260423T114007
CREATED:20260217T092102Z
LAST-MODIFIED:20260217T092102Z
UID:10005638-1771934400-1771956000@thaibloodcentre.redcross.or.th
SUMMARY:ศูนย์การค้า เอ็มโพเรียม []
DESCRIPTION:สถานที่เจาะ : ชั้น M ศูนย์การค้า ดิ เอ็มโพเรียม เชื่อมลานจอดรถอาคาร B \nที่อยู่ : 622 ถนนสุขุมวิท แขวงคลองตัน เขตคลองเตย กรุงเทพฯ 0 2269 1515
URL:https://thaibloodcentre.redcross.or.th/event/%e0%b8%a8%e0%b8%b9%e0%b8%99%e0%b8%a2%e0%b9%8c%e0%b8%81%e0%b8%b2%e0%b8%a3%e0%b8%84%e0%b9%89%e0%b8%b2-%e0%b9%80%e0%b8%ad%e0%b9%87%e0%b8%a1%e0%b9%82%e0%b8%9e%e0%b9%80%e0%b8%a3%e0%b8%b5%e0%b8%a2-356/
LOCATION:ศูนย์การค้า เอ็มโพเรียม\, เอ็มโพเรียม 622 ถ. สุขุมวิท แขวงคลองตัน เขตคลองเตย กรุงเทพมหานคร 10110
CATEGORIES:ปฏิทินตารางหน่วยเคลื่อนที่
END:VEVENT
BEGIN:VEVENT
DTSTART;TZID=Asia/Krasnoyarsk:20260224T120000
DTEND;TZID=Asia/Krasnoyarsk:20260224T180000
DTSTAMP:20260423T114008
CREATED:20260217T092050Z
LAST-MODIFIED:20260217T092050Z
UID:10005637-1771934400-1771956000@thaibloodcentre.redcross.or.th
SUMMARY:ศูนย์การค้าเดอะมอลล์ไลฟ์สโตร์ งามวงศ์วาน []
DESCRIPTION:สถานที่เจาะ : ชั้น 5 โซน Government Center \nที่อยู่ : ถนนงามวงศ์วาน ต.บางเขน อ.เมือง จ.นนทบุรี 0 2555 1550
URL:https://thaibloodcentre.redcross.or.th/event/%e0%b8%a8%e0%b8%b9%e0%b8%99%e0%b8%a2%e0%b9%8c%e0%b8%81%e0%b8%b2%e0%b8%a3%e0%b8%84%e0%b9%89%e0%b8%b2%e0%b9%80%e0%b8%94%e0%b8%ad%e0%b8%b0%e0%b8%a1%e0%b8%ad%e0%b8%a5%e0%b8%a5%e0%b9%8c%e0%b9%84-1441/
LOCATION:ศูนย์การค้าเดอะมอลล์ไลฟ์สโตร์ งามวงศ์วาน\, เดอะมอลล์ ไลฟ์สโตร์ งามวงศ์วาน 430 ถนน งามวงศ์วาน ตำบลบางเขน อำเภอเมืองนนทบุรี นนทบุรี 11000
CATEGORIES:ปฏิทินตารางหน่วยเคลื่อนที่
END:VEVENT
BEGIN:VEVENT
DTSTART;TZID=Asia/Krasnoyarsk:20260224T120000
DTEND;TZID=Asia/Krasnoyarsk:20260224T180000
DTSTAMP:20260423T114008
CREATED:20260217T092038Z
LAST-MODIFIED:20260217T092038Z
UID:10005636-1771934400-1771956000@thaibloodcentre.redcross.or.th
SUMMARY:ศูนย์การค้าเดอะมอลล์ไลฟ์สโตร์ บางกะปิ []
DESCRIPTION:สถานที่เจาะ : ชั้น 2 ทางออกลานจอดรถ \nที่อยู่ : ถนนลาดพร้าว แขวงคลองจั่น เขตบางกะปิ กรุงเทพฯ 0 2310 2278
URL:https://thaibloodcentre.redcross.or.th/event/%e0%b8%a8%e0%b8%b9%e0%b8%99%e0%b8%a2%e0%b9%8c%e0%b8%81%e0%b8%b2%e0%b8%a3%e0%b8%84%e0%b9%89%e0%b8%b2%e0%b9%80%e0%b8%94%e0%b8%ad%e0%b8%b0%e0%b8%a1%e0%b8%ad%e0%b8%a5%e0%b8%a5%e0%b9%8c%e0%b9%84-1440/
LOCATION:ศูนย์การค้าเดอะมอลล์ไลฟ์สโตร์ บางกะปิ\, เดอะมอลล์ไลฟ์สโตร์ บางกะปิ 3522 ถ. ลาดพร้าว แขวงคลองจั่น เขตบางกะปิ กรุงเทพมหานคร 10240
CATEGORIES:ปฏิทินตารางหน่วยเคลื่อนที่
END:VEVENT
BEGIN:VEVENT
DTSTART;TZID=Asia/Krasnoyarsk:20260224T120000
DTEND;TZID=Asia/Krasnoyarsk:20260224T180000
DTSTAMP:20260423T114008
CREATED:20260217T092026Z
LAST-MODIFIED:20260217T092026Z
UID:10005635-1771934400-1771956000@thaibloodcentre.redcross.or.th
SUMMARY:ศูนย์การค้าเดอะมอลล์ไลฟ์สโตร์ บางแค []
DESCRIPTION:สถานที่เจาะ : ชั้น 3 ตรงข้ามร้านโอ้กะจู๋ \nที่อยู่ : ถนนเพชรเกษม แขวงบางแคเหนือ เขตภาษีเจริญ กรุงเทพฯ 02 487 1221
URL:https://thaibloodcentre.redcross.or.th/event/%e0%b8%a8%e0%b8%b9%e0%b8%99%e0%b8%a2%e0%b9%8c%e0%b8%81%e0%b8%b2%e0%b8%a3%e0%b8%84%e0%b9%89%e0%b8%b2%e0%b9%80%e0%b8%94%e0%b8%ad%e0%b8%b0%e0%b8%a1%e0%b8%ad%e0%b8%a5%e0%b8%a5%e0%b9%8c%e0%b9%84-1439/
LOCATION:ศูนย์การค้าเดอะมอลล์ไลฟ์สโตร์ บางแค\, ศูนย์การค้าเดอะมอลล์ไลฟ์สโตร์ บางแค
CATEGORIES:ปฏิทินตารางหน่วยเคลื่อนที่
END:VEVENT
BEGIN:VEVENT
DTSTART;TZID=Asia/Krasnoyarsk:20260224T090000
DTEND;TZID=Asia/Krasnoyarsk:20260224T150000
DTSTAMP:20260423T114008
CREATED:20260217T092145Z
LAST-MODIFIED:20260217T092145Z
UID:10005648-1771923600-1771945200@thaibloodcentre.redcross.or.th
SUMMARY:ซีดีจี กรุ๊ป []
DESCRIPTION:สถานที่เจาะ : ห้องประชุม Learning 1-3 ชั้น 18 (พัก 12.00-13.00 น.) \nที่อยู่ : 202 ถนนนางลิ้นจี่ แขวงช่องนนทรี เขตยานนาวา กรุงเทพฯ 0 2678 0200
URL:https://thaibloodcentre.redcross.or.th/event/%e0%b8%8b%e0%b8%b5%e0%b8%94%e0%b8%b5%e0%b8%88%e0%b8%b5-%e0%b8%81%e0%b8%a3%e0%b8%b8%e0%b9%8a%e0%b8%9b-2/
LOCATION:ซีดีจี กรุ๊ป\, ซีดีจี กรุ๊ป 202 ถนนนางลิ้นจี่ แขวงช่องนนทรี เขตยานนาวา กรุงเทพมหานคร 10120
CATEGORIES:ปฏิทินตารางหน่วยเคลื่อนที่
END:VEVENT
BEGIN:VEVENT
DTSTART;TZID=Asia/Krasnoyarsk:20260224T090000
DTEND;TZID=Asia/Krasnoyarsk:20260224T150000
DTSTAMP:20260423T114008
CREATED:20260217T092143Z
LAST-MODIFIED:20260217T092143Z
UID:10005647-1771923600-1771945200@thaibloodcentre.redcross.or.th
SUMMARY:บริษัท จัสมินอินเตอร์เนชั่นแนล จำกัด (มหาชน) []
DESCRIPTION:สถานที่เจาะ : ชั้น 3 หน้าห้องออดิทอเรียม (พัก 12.00-13.00 น.) \nที่อยู่ : 200 ม.4 ถ.แจ้งวัฒนะ ต.ปากเกร็ด อ.ปากเกร็ด จ.นนทบุรี 0 2100 3050
URL:https://thaibloodcentre.redcross.or.th/event/%e0%b8%9a%e0%b8%a3%e0%b8%b4%e0%b8%a9%e0%b8%b1%e0%b8%97-%e0%b8%88%e0%b8%b1%e0%b8%aa%e0%b8%a1%e0%b8%b4%e0%b8%99%e0%b8%ad%e0%b8%b4%e0%b8%99%e0%b9%80%e0%b8%95%e0%b8%ad%e0%b8%a3%e0%b9%8c%e0%b9%80-3/
LOCATION:บริษัท จัสมินอินเตอร์เนชั่นแนล จำกัด (มหาชน)\, บริษัท จัสมินอินเตอร์เนชั่นแนล จำกัด (มหาชน) 200 ชั้น 29-30 ม.4 ถ.แจ้งวัฒนะ ต.ปากเกร็ด อ.ปากเกร็ด จ.นนทบุรี 11120
CATEGORIES:ปฏิทินตารางหน่วยเคลื่อนที่
END:VEVENT
BEGIN:VEVENT
DTSTART;TZID=Asia/Krasnoyarsk:20260224T090000
DTEND;TZID=Asia/Krasnoyarsk:20260224T150000
DTSTAMP:20260423T114008
CREATED:20260217T092140Z
LAST-MODIFIED:20260217T092140Z
UID:10005646-1771923600-1771945200@thaibloodcentre.redcross.or.th
SUMMARY:โรงพยาบาลธนบุรี 1 []
DESCRIPTION:สถานที่เจาะ : ชั้นใต้ดิน อาคาร 1 (พัก 12.00-13.00 น.) \nที่อยู่ : 34 ถนนอิสรภาพ แขวงบ้านช่างหล่อ เขตบางกอกน้อย กรุงเทพฯ 0 2487 2000
URL:https://thaibloodcentre.redcross.or.th/event/%e0%b9%82%e0%b8%a3%e0%b8%87%e0%b8%9e%e0%b8%a2%e0%b8%b2%e0%b8%9a%e0%b8%b2%e0%b8%a5%e0%b8%98%e0%b8%99%e0%b8%9a%e0%b8%b8%e0%b8%a3%e0%b8%b5-1-2/
LOCATION:โรงพยาบาลธนบุรี 1\, โรงพยาบาลธนบุรี 1 34/1 ซอย อิสรภาพ 44 ถ.อิสรภาพ แขวงบ้านช่างหล่อ เขตบางกอกน้อย กทม. 10700
CATEGORIES:ปฏิทินตารางหน่วยเคลื่อนที่
END:VEVENT
BEGIN:VEVENT
DTSTART;TZID=Asia/Krasnoyarsk:20260224T090000
DTEND;TZID=Asia/Krasnoyarsk:20260224T150000
DTSTAMP:20260423T114008
CREATED:20260217T092138Z
LAST-MODIFIED:20260217T092138Z
UID:10005645-1771923600-1771945200@thaibloodcentre.redcross.or.th
SUMMARY:ธนาคารเอชเอสบีซี ประเทศไทย []
DESCRIPTION:สถานที่เจาะ : อาคาร HSBC ชั้น 1  (พัก 11.00-12.00 น.) \nที่อยู่ : 968 ถนนพระราม 4 แขวงสีลม เขตบางรัก กรุงเทพฯ 0 2614 5343
URL:https://thaibloodcentre.redcross.or.th/event/%e0%b8%98%e0%b8%99%e0%b8%b2%e0%b8%84%e0%b8%b2%e0%b8%a3%e0%b9%80%e0%b8%ad%e0%b8%8a%e0%b9%80%e0%b8%ad%e0%b8%aa%e0%b8%9a%e0%b8%b5%e0%b8%8b%e0%b8%b5-%e0%b8%9b%e0%b8%a3%e0%b8%b0%e0%b9%80%e0%b8%97-5/
LOCATION:ธนาคารเอชเอสบีซี ประเทศไทย\, ธนาคารเอชเอสบีซี ประเทศไทย อาคารอื้อจือเหลียง 968 ถ.พระรามที่ 4 แขวงสีลม เขตบางรัก กรุงเทพมหานคร 10500
CATEGORIES:ปฏิทินตารางหน่วยเคลื่อนที่
END:VEVENT
BEGIN:VEVENT
DTSTART;TZID=Asia/Krasnoyarsk:20260224T090000
DTEND;TZID=Asia/Krasnoyarsk:20260224T150000
DTSTAMP:20260423T114008
CREATED:20260217T092133Z
LAST-MODIFIED:20260217T092133Z
UID:10005644-1771923600-1771945200@thaibloodcentre.redcross.or.th
SUMMARY:อาคารเอ็มไพร์ทาวเวอร์ []
DESCRIPTION:สถานที่เจาะ : ห้องประชุม The Sathorn ชั้น M (พัก 12.00-13.00 น.) \nที่อยู่ : 195 ถนนสาธรใต้ แขวงยานนาวา เขตสาทร กรุงเทพฯ 0 2670 2000
URL:https://thaibloodcentre.redcross.or.th/event/%e0%b8%ad%e0%b8%b2%e0%b8%84%e0%b8%b2%e0%b8%a3%e0%b9%80%e0%b8%ad%e0%b9%87%e0%b8%a1%e0%b9%84%e0%b8%9e%e0%b8%a3%e0%b9%8c%e0%b8%97%e0%b8%b2%e0%b8%a7%e0%b9%80%e0%b8%a7%e0%b8%ad%e0%b8%a3%e0%b9%8c-3/
LOCATION:อาคารเอ็มไพร์ทาวเวอร์\, อาคารเอ็มไพร์ทาวเวอร์ 195 ถ.สาทรใต้ แขวงยานนาวา เขตสาทร กรุงเทพมหานคร 10120
CATEGORIES:ปฏิทินตารางหน่วยเคลื่อนที่
END:VEVENT
BEGIN:VEVENT
DTSTART;TZID=Asia/Krasnoyarsk:20260224T090000
DTEND;TZID=Asia/Krasnoyarsk:20260224T150000
DTSTAMP:20260423T114008
CREATED:20260217T092131Z
LAST-MODIFIED:20260217T092131Z
UID:10005643-1771923600-1771945200@thaibloodcentre.redcross.or.th
SUMMARY:ธนาคารกสิกรไทย จำกัด (มหาชน) สาขาพหลโยธิน []
DESCRIPTION:สถานที่เจาะ : ข้างอาคาร (ทิศเหนือ) \nที่อยู่ : 400/22 ถนนพหลโยธิน แขวงสามเสนใน เขตพญาไท กรุงเทพฯ 0 2470 1686
URL:https://thaibloodcentre.redcross.or.th/event/%e0%b8%98%e0%b8%99%e0%b8%b2%e0%b8%84%e0%b8%b2%e0%b8%a3%e0%b8%81%e0%b8%aa%e0%b8%b4%e0%b8%81%e0%b8%a3%e0%b9%84%e0%b8%97%e0%b8%a2-%e0%b8%88%e0%b8%b3%e0%b8%81%e0%b8%b1%e0%b8%94-%e0%b8%a1%e0%b8%ab-9/
LOCATION:ธนาคารกสิกรไทย จำกัด (มหาชน) สาขาพหลโยธิน\, ธนาคารกสิกรไทย จำกัด (มหาชน) สาขาพหลโยธิน 400/22 ถนนพหลโยธิน แขวงสามเสนใน เขตพญาไท กรุงเทพมหานคร 10400
CATEGORIES:ปฏิทินตารางหน่วยเคลื่อนที่
END:VEVENT
BEGIN:VEVENT
DTSTART;TZID=Asia/Krasnoyarsk:20260224T090000
DTEND;TZID=Asia/Krasnoyarsk:20260224T150000
DTSTAMP:20260423T114008
CREATED:20260217T092129Z
LAST-MODIFIED:20260217T092129Z
UID:10005642-1771923600-1771945200@thaibloodcentre.redcross.or.th
SUMMARY:มหาวิทยาลัยราชภัฏวไลยอลงกรณ์ ในพระบรมราชูปถัมภ์ []
DESCRIPTION:สถานที่เจาะ : ห้องประชุมราชพฤกษ์ (พัก 12.00-13.00 น.) \nที่อยู่ : 1 ม.20 ถ.พหลโยธิน ต.คลองหนึ่ง อ.คลองหลวง ปทุมธานี 0 2909 1994
URL:https://thaibloodcentre.redcross.or.th/event/%e0%b8%a1%e0%b8%ab%e0%b8%b2%e0%b8%a7%e0%b8%b4%e0%b8%97%e0%b8%a2%e0%b8%b2%e0%b8%a5%e0%b8%b1%e0%b8%a2%e0%b8%a3%e0%b8%b2%e0%b8%8a%e0%b8%a0%e0%b8%b1%e0%b8%8f%e0%b8%a7%e0%b9%84%e0%b8%a5%e0%b8%a2%e0%b8%ad-4/
LOCATION:มหาวิทยาลัยราชภัฏวไลยอลงกรณ์ ในพระบรมราชูปถัมภ์\, มหาวิทยาลัยราชภัฏวไลยอลงกรณ์ ในพระบรมราชูปถัมภ์ 1 หมู่ที่ 20 ถ.พหลโยธิน ต.คลองหนึ่ง อ.คลองหลวง จ.ปทุมธานี 13180​
CATEGORIES:ปฏิทินตารางหน่วยเคลื่อนที่
END:VEVENT
BEGIN:VEVENT
DTSTART;TZID=Asia/Krasnoyarsk:20260224T090000
DTEND;TZID=Asia/Krasnoyarsk:20260224T150000
DTSTAMP:20260423T114008
CREATED:20260217T092124Z
LAST-MODIFIED:20260217T092124Z
UID:10005641-1771923600-1771945200@thaibloodcentre.redcross.or.th
SUMMARY:บ้านทรงไทย (ย่านวงศ์สว่าง) []
DESCRIPTION:สถานที่เจาะ : (พัก 12.30-13.00 น.) \nที่อยู่ : 1423 ถนนกรุงเทพ – นนทบุรี แขวงวงศ์สว่าง เขตบางซื่อ กรุงเทพฯ 0 2256 4300
URL:https://thaibloodcentre.redcross.or.th/event/%e0%b8%9a%e0%b9%89%e0%b8%b2%e0%b8%99%e0%b8%97%e0%b8%a3%e0%b8%87%e0%b9%84%e0%b8%97%e0%b8%a2-%e0%b8%a2%e0%b9%88%e0%b8%b2%e0%b8%99%e0%b8%a7%e0%b8%87%e0%b8%a8%e0%b9%8c%e0%b8%aa%e0%b8%a7%e0%b9%88-357/
LOCATION:บ้านทรงไทย (ย่านวงศ์สว่าง)\, หน่วยรับบริจาคโลหิต บ้านทรงไทย(ย่านวงศ์สว่าง) 1423 ถนนกรุงเทพ-นนทบุรี แขวงวงศ์สว่าง เขตบางซื่อ กรุงเทพมหานคร 10800
CATEGORIES:ปฏิทินตารางหน่วยเคลื่อนที่
END:VEVENT
BEGIN:VEVENT
DTSTART;TZID=Asia/Krasnoyarsk:20260224T083000
DTEND;TZID=Asia/Krasnoyarsk:20260224T193000
DTSTAMP:20260423T114008
CREATED:20260217T092121Z
LAST-MODIFIED:20260217T092121Z
UID:10005640-1771921800-1771961400@thaibloodcentre.redcross.or.th
SUMMARY:สถานีกาชาด 11 วิเศษนิยม []
DESCRIPTION:สถานที่เจาะ : ชั้น 3 \nที่อยู่ : 33/3 ถนนเพชรเกษม แขวงบางหว้า เขตภาษีเจริญ กรุงเทพฯ 0633450711
URL:https://thaibloodcentre.redcross.or.th/event/%e0%b8%aa%e0%b8%96%e0%b8%b2%e0%b8%99%e0%b8%b5%e0%b8%81%e0%b8%b2%e0%b8%8a%e0%b8%b2%e0%b8%94-11-%e0%b8%a7%e0%b8%b4%e0%b9%80%e0%b8%a8%e0%b8%a9%e0%b8%99%e0%b8%b4%e0%b8%a2%e0%b8%a1-174/
LOCATION:สถานีกาชาด 11 วิเศษนิยม\, สถานีกาชาด 11 วิเศษนิยม 605 ถ.เพชรเกษม แขวงบางหว้า เขตภาษีเจริญ กรุงเทพมหานคร 10160
CATEGORIES:ปฏิทินตารางหน่วยเคลื่อนที่
END:VEVENT
BEGIN:VEVENT
DTSTART;TZID=Asia/Krasnoyarsk:20260224T073000
DTEND;TZID=Asia/Krasnoyarsk:20260224T193000
DTSTAMP:20260423T114008
CREATED:20260217T092011Z
LAST-MODIFIED:20260217T092022Z
UID:10005633-1771918200-1771961400@thaibloodcentre.redcross.or.th
SUMMARY:ศูนย์บริการโลหิตแห่งชาติ สภากาชาดไทย []
DESCRIPTION:ที่อยู่ : 1871 ถ. อังรีดูนังต์ แขวงปทุมวัน เขตปทุมวัน
URL:https://thaibloodcentre.redcross.or.th/event/%e0%b8%a8%e0%b8%b9%e0%b8%99%e0%b8%a2%e0%b9%8c%e0%b8%9a%e0%b8%a3%e0%b8%b4%e0%b8%81%e0%b8%b2%e0%b8%a3%e0%b9%82%e0%b8%a5%e0%b8%ab%e0%b8%b4%e0%b8%95%e0%b9%81%e0%b8%ab%e0%b9%88%e0%b8%87%e0%b8%8a-440/
LOCATION:ศูนย์บริการโลหิตแห่งชาติ สภากาชาดไทย\, ศูนย์บริการโลหิตแห่งชาติ สภากาชาดไทย 1871 ถ. อังรีดูนังต์ แขวงปทุมวัน เขตปทุมวัน กรุงเทพมหานคร 10330
CATEGORIES:ปฏิทินตารางหน่วยเคลื่อนที่
END:VEVENT
BEGIN:VEVENT
DTSTART;TZID=Asia/Krasnoyarsk:20260223T130000
DTEND;TZID=Asia/Krasnoyarsk:20260223T150000
DTSTAMP:20260423T114008
CREATED:20260217T092001Z
LAST-MODIFIED:20260217T092019Z
UID:10005630-1771851600-1771858800@thaibloodcentre.redcross.or.th
SUMMARY:บริษัท ไทยอินเตอร์เนชั่นแนลไดเมคกิ้ง จำกัด []
DESCRIPTION:สถานที่เจาะ : ด้านหน้าโรงอาหาร \nที่อยู่ : 331 ม.4 นิคมฯบางปู ซ. 6 บี ถ.สุขุมวิท ต.แพรกษา อ.เมือง จ.สมุทรปราการ 0 2709 6500-5
URL:https://thaibloodcentre.redcross.or.th/event/%e0%b8%9a%e0%b8%a3%e0%b8%b4%e0%b8%a9%e0%b8%b1%e0%b8%97-%e0%b9%84%e0%b8%97%e0%b8%a2%e0%b8%ad%e0%b8%b4%e0%b8%99%e0%b9%80%e0%b8%95%e0%b8%ad%e0%b8%a3%e0%b9%8c%e0%b9%80%e0%b8%99%e0%b8%8a%e0%b8%b1-3/
LOCATION:บริษัท ไทยอินเตอร์เนชั่นแนลไดเมคกิ้ง จำกัด\, บริษัท ไทยอินเตอร์เนชั่นแนลไดเมคกิ้ง จำกัด 331 นิคมอุตสาหกรรมบางปู ม.4 ซ.6บี ถ.สุขุมวิท อ.แพรกษา อ.เมือง จ.สมุทรปราการ 10280
CATEGORIES:ปฏิทินตารางหน่วยเคลื่อนที่
END:VEVENT
BEGIN:VEVENT
DTSTART;TZID=Asia/Krasnoyarsk:20260223T130000
DTEND;TZID=Asia/Krasnoyarsk:20260223T150000
DTSTAMP:20260423T114008
CREATED:20260217T091952Z
LAST-MODIFIED:20260217T091952Z
UID:10005628-1771851600-1771858800@thaibloodcentre.redcross.or.th
SUMMARY:บริษัท ซีพี แอ็กซ์ตร้า จำกัด (มหาชน) สาขานาทองเจริญ []
DESCRIPTION:สถานที่เจาะ : ข้างอาคารทางออก \nที่อยู่ : 11/28 ม.6 ต.คูคต อ.ลำลูกกา ปทุมธานี 0 2033 6900
URL:https://thaibloodcentre.redcross.or.th/event/%e0%b8%9a%e0%b8%a3%e0%b8%b4%e0%b8%a9%e0%b8%b1%e0%b8%97-%e0%b8%8b%e0%b8%b5%e0%b8%9e%e0%b8%b5-%e0%b9%81%e0%b8%ad%e0%b9%87%e0%b8%81%e0%b8%8b%e0%b9%8c%e0%b8%95%e0%b8%a3%e0%b9%89%e0%b8%b2-%e0%b8%88-42/
LOCATION:บริษัท ซีพี แอ็กซ์ตร้า จำกัด (มหาชน) สาขานาทองเจริญ\, บริษัท ซีพี แอ็กซ์ตร้า จำกัด (มหาชน) สาขานาทองเจริญ 11/28 หมู่ที่ 6 ตำบลคูคต อำเภอลำลูกกา จ.ปทุมธานี 12130
CATEGORIES:ปฏิทินตารางหน่วยเคลื่อนที่
END:VEVENT
BEGIN:VEVENT
DTSTART;TZID=Asia/Krasnoyarsk:20260223T120000
DTEND;TZID=Asia/Krasnoyarsk:20260223T180000
DTSTAMP:20260423T114008
CREATED:20260217T091918Z
LAST-MODIFIED:20260217T091918Z
UID:10005622-1771848000-1771869600@thaibloodcentre.redcross.or.th
SUMMARY:ศูนย์การค้าเดอะมอลล์ไลฟ์สโตร์ ท่าพระ []
DESCRIPTION:สถานที่เจาะ : ชั้น 1 (ติดลานจอดรถ) \nที่อยู่ : 99 ถนนรัชดาท่าพระตัดใหม่ แขวงบุคคโล เขตธนบุรี กรุงเทพฯ 0 2469-1000
URL:https://thaibloodcentre.redcross.or.th/event/%e0%b8%a8%e0%b8%b9%e0%b8%99%e0%b8%a2%e0%b9%8c%e0%b8%81%e0%b8%b2%e0%b8%a3%e0%b8%84%e0%b9%89%e0%b8%b2%e0%b9%80%e0%b8%94%e0%b8%ad%e0%b8%b0%e0%b8%a1%e0%b8%ad%e0%b8%a5%e0%b8%a5%e0%b9%8c%e0%b9%84-1438/
LOCATION:ศูนย์การค้าเดอะมอลล์ไลฟ์สโตร์ ท่าพระ\, เดอะมอลล์ไลฟ์สโตร์ ท่าพระ 129 ถ. รัชดาภิเษก แขวงบุคคโล เขตธนบุรี กรุงเทพมหานคร 10600
CATEGORIES:ปฏิทินตารางหน่วยเคลื่อนที่
END:VEVENT
BEGIN:VEVENT
DTSTART;TZID=Asia/Krasnoyarsk:20260223T120000
DTEND;TZID=Asia/Krasnoyarsk:20260223T180000
DTSTAMP:20260423T114008
CREATED:20260217T091913Z
LAST-MODIFIED:20260217T091913Z
UID:10005621-1771848000-1771869600@thaibloodcentre.redcross.or.th
SUMMARY:ศูนย์การค้า เอ็มโพเรียม []
DESCRIPTION:สถานที่เจาะ : ชั้น M ศูนย์การค้า ดิ เอ็มโพเรียม เชื่อมลานจอดรถอาคาร B \nที่อยู่ : 622 ถนนสุขุมวิท แขวงคลองตัน เขตคลองเตย กรุงเทพฯ 0 2269 1515
URL:https://thaibloodcentre.redcross.or.th/event/%e0%b8%a8%e0%b8%b9%e0%b8%99%e0%b8%a2%e0%b9%8c%e0%b8%81%e0%b8%b2%e0%b8%a3%e0%b8%84%e0%b9%89%e0%b8%b2-%e0%b9%80%e0%b8%ad%e0%b9%87%e0%b8%a1%e0%b9%82%e0%b8%9e%e0%b9%80%e0%b8%a3%e0%b8%b5%e0%b8%a2-355/
LOCATION:ศูนย์การค้า เอ็มโพเรียม\, เอ็มโพเรียม 622 ถ. สุขุมวิท แขวงคลองตัน เขตคลองเตย กรุงเทพมหานคร 10110
CATEGORIES:ปฏิทินตารางหน่วยเคลื่อนที่
END:VEVENT
BEGIN:VEVENT
DTSTART;TZID=Asia/Krasnoyarsk:20260223T120000
DTEND;TZID=Asia/Krasnoyarsk:20260223T180000
DTSTAMP:20260423T114008
CREATED:20260217T091858Z
LAST-MODIFIED:20260217T091858Z
UID:10005620-1771848000-1771869600@thaibloodcentre.redcross.or.th
SUMMARY:ศูนย์การค้าเดอะมอลล์ไลฟ์สโตร์ งามวงศ์วาน []
DESCRIPTION:สถานที่เจาะ : ชั้น 5 โซน Government Center \nที่อยู่ : ถนนงามวงศ์วาน ต.บางเขน อ.เมือง จ.นนทบุรี 0 2555 1550
URL:https://thaibloodcentre.redcross.or.th/event/%e0%b8%a8%e0%b8%b9%e0%b8%99%e0%b8%a2%e0%b9%8c%e0%b8%81%e0%b8%b2%e0%b8%a3%e0%b8%84%e0%b9%89%e0%b8%b2%e0%b9%80%e0%b8%94%e0%b8%ad%e0%b8%b0%e0%b8%a1%e0%b8%ad%e0%b8%a5%e0%b8%a5%e0%b9%8c%e0%b9%84-1437/
LOCATION:ศูนย์การค้าเดอะมอลล์ไลฟ์สโตร์ งามวงศ์วาน\, เดอะมอลล์ ไลฟ์สโตร์ งามวงศ์วาน 430 ถนน งามวงศ์วาน ตำบลบางเขน อำเภอเมืองนนทบุรี นนทบุรี 11000
CATEGORIES:ปฏิทินตารางหน่วยเคลื่อนที่
END:VEVENT
BEGIN:VEVENT
DTSTART;TZID=Asia/Krasnoyarsk:20260223T120000
DTEND;TZID=Asia/Krasnoyarsk:20260223T180000
DTSTAMP:20260423T114008
CREATED:20260217T091844Z
LAST-MODIFIED:20260217T091844Z
UID:10005619-1771848000-1771869600@thaibloodcentre.redcross.or.th
SUMMARY:ศูนย์การค้าเดอะมอลล์ไลฟ์สโตร์ บางกะปิ []
DESCRIPTION:สถานที่เจาะ : ชั้น 2 ทางออกลานจอดรถ \nที่อยู่ : ถนนลาดพร้าว แขวงคลองจั่น เขตบางกะปิ กรุงเทพฯ 0 2310 2278
URL:https://thaibloodcentre.redcross.or.th/event/%e0%b8%a8%e0%b8%b9%e0%b8%99%e0%b8%a2%e0%b9%8c%e0%b8%81%e0%b8%b2%e0%b8%a3%e0%b8%84%e0%b9%89%e0%b8%b2%e0%b9%80%e0%b8%94%e0%b8%ad%e0%b8%b0%e0%b8%a1%e0%b8%ad%e0%b8%a5%e0%b8%a5%e0%b9%8c%e0%b9%84-1436/
LOCATION:ศูนย์การค้าเดอะมอลล์ไลฟ์สโตร์ บางกะปิ\, เดอะมอลล์ไลฟ์สโตร์ บางกะปิ 3522 ถ. ลาดพร้าว แขวงคลองจั่น เขตบางกะปิ กรุงเทพมหานคร 10240
CATEGORIES:ปฏิทินตารางหน่วยเคลื่อนที่
END:VEVENT
BEGIN:VEVENT
DTSTART;TZID=Asia/Krasnoyarsk:20260223T120000
DTEND;TZID=Asia/Krasnoyarsk:20260223T180000
DTSTAMP:20260423T114008
CREATED:20260217T091826Z
LAST-MODIFIED:20260217T091826Z
UID:10005618-1771848000-1771869600@thaibloodcentre.redcross.or.th
SUMMARY:ศูนย์การค้าเดอะมอลล์ไลฟ์สโตร์ บางแค []
DESCRIPTION:สถานที่เจาะ : ชั้น 3 ตรงข้ามร้านโอ้กะจู๋ \nที่อยู่ : ถนนเพชรเกษม แขวงบางแคเหนือ เขตภาษีเจริญ กรุงเทพฯ 02 487 1221
URL:https://thaibloodcentre.redcross.or.th/event/%e0%b8%a8%e0%b8%b9%e0%b8%99%e0%b8%a2%e0%b9%8c%e0%b8%81%e0%b8%b2%e0%b8%a3%e0%b8%84%e0%b9%89%e0%b8%b2%e0%b9%80%e0%b8%94%e0%b8%ad%e0%b8%b0%e0%b8%a1%e0%b8%ad%e0%b8%a5%e0%b8%a5%e0%b9%8c%e0%b9%84-1435/
LOCATION:ศูนย์การค้าเดอะมอลล์ไลฟ์สโตร์ บางแค\, ศูนย์การค้าเดอะมอลล์ไลฟ์สโตร์ บางแค
CATEGORIES:ปฏิทินตารางหน่วยเคลื่อนที่
END:VEVENT
BEGIN:VEVENT
DTSTART;TZID=Asia/Krasnoyarsk:20260223T110000
DTEND;TZID=Asia/Krasnoyarsk:20260223T150000
DTSTAMP:20260423T114008
CREATED:20260217T091944Z
LAST-MODIFIED:20260217T091944Z
UID:10005625-1771844400-1771858800@thaibloodcentre.redcross.or.th
SUMMARY:บริษัท พาราไดซ์ พาร์ค จำกัด []
DESCRIPTION:สถานที่เจาะ : โซน Beauty&Health ชั้น 3 \nที่อยู่ : 59/5 ถนนศรีนครินทร์ แขวงหนองบอน เขตประเวศ กรุงเทพฯ 0 2780 1000
URL:https://thaibloodcentre.redcross.or.th/event/%e0%b8%9a%e0%b8%a3%e0%b8%b4%e0%b8%a9%e0%b8%b1%e0%b8%97-%e0%b8%9e%e0%b8%b2%e0%b8%a3%e0%b8%b2%e0%b9%84%e0%b8%94%e0%b8%8b%e0%b9%8c-%e0%b8%9e%e0%b8%b2%e0%b8%a3%e0%b9%8c%e0%b8%84-%e0%b8%88%e0%b8%b3-12/
LOCATION:บริษัท พาราไดซ์ พาร์ค จำกัด\, บริษัท พาราไดซ์ พาร์ค จำกัด 61 ศรีนครินทร์ ซอย ศรีนครินทร์ 61 แขวงหนองบอน เขตประเวศ กรุงเทพมหานคร 10250
CATEGORIES:ปฏิทินตารางหน่วยเคลื่อนที่
END:VEVENT
BEGIN:VEVENT
DTSTART;TZID=Asia/Krasnoyarsk:20260223T090000
DTEND;TZID=Asia/Krasnoyarsk:20260223T150000
DTSTAMP:20260423T114008
CREATED:20260217T092007Z
LAST-MODIFIED:20260217T092021Z
UID:10005632-1771837200-1771858800@thaibloodcentre.redcross.or.th
SUMMARY:บริษัท แอดไวซ์ ไอที อินฟินิท จำกัด (มหาชน) []
DESCRIPTION:สถานที่เจาะ : ข้างคลังสินค้า 1 ฝั่งประตู 2 (พัก 12.00-13.00 น.) \nที่อยู่ : 74/1 ม. 1 ต.ท่าอิฐ อ.ปากเกร็ด จ.นนทบุรี 0 2908 8888
URL:https://thaibloodcentre.redcross.or.th/event/%e0%b8%9a%e0%b8%a3%e0%b8%b4%e0%b8%a9%e0%b8%b1%e0%b8%97-%e0%b9%81%e0%b8%ad%e0%b8%94%e0%b9%84%e0%b8%a7%e0%b8%8b%e0%b9%8c-%e0%b9%84%e0%b8%ad%e0%b8%97%e0%b8%b5-%e0%b8%ad%e0%b8%b4%e0%b8%99%e0%b8%9f-3/
LOCATION:บริษัท แอดไวซ์ ไอที อินฟินิท จำกัด (มหาชน)\, บมจ.แอดไวซ์ ไอที อินฟินิท 74/1 ตำบลท่าอิฐ อำเภอปากเกร็ด นนทบุรี 11120
CATEGORIES:ปฏิทินตารางหน่วยเคลื่อนที่
END:VEVENT
BEGIN:VEVENT
DTSTART;TZID=Asia/Krasnoyarsk:20260223T090000
DTEND;TZID=Asia/Krasnoyarsk:20260223T150000
DTSTAMP:20260423T114008
CREATED:20260217T092005Z
LAST-MODIFIED:20260217T092020Z
UID:10005631-1771837200-1771858800@thaibloodcentre.redcross.or.th
SUMMARY:สถาบันวิจัยวิทยาศาสตร์และเทคโนโลยีแห่งประเทศไทย []
DESCRIPTION:สถานที่เจาะ : ห้องโถงชั้น 1 อาคาร Admin (พัก 12.00-13.00 น.) \nที่อยู่ : 35 ม. 3 เทคโนธานี (ถ.เลียบคลอง 5) ต.คลองห้า อ.คลองหลวง ปทุมธานี 0 2577 9388-9
URL:https://thaibloodcentre.redcross.or.th/event/%e0%b8%aa%e0%b8%96%e0%b8%b2%e0%b8%9a%e0%b8%b1%e0%b8%99%e0%b8%a7%e0%b8%b4%e0%b8%88%e0%b8%b1%e0%b8%a2%e0%b8%a7%e0%b8%b4%e0%b8%97%e0%b8%a2%e0%b8%b2%e0%b8%a8%e0%b8%b2%e0%b8%aa%e0%b8%95%e0%b8%a3%e0%b9%8c-3/
LOCATION:สถาบันวิจัยวิทยาศาสตร์และเทคโนโลยีแห่งประเทศไทย\, สถาบันวิจัยวิทยาศาสตร์และเทคโนโลยีแห่งประเทศไทย 35 หมู่ 3 เทคโนธานี ถนนเลียบคลองห้า ตำบลคลองห้า อำเภอคลองหลวง ปทุมธานี 12120
CATEGORIES:ปฏิทินตารางหน่วยเคลื่อนที่
END:VEVENT
BEGIN:VEVENT
DTSTART;TZID=Asia/Krasnoyarsk:20260223T090000
DTEND;TZID=Asia/Krasnoyarsk:20260223T150000
DTSTAMP:20260423T114008
CREATED:20260217T091950Z
LAST-MODIFIED:20260217T091950Z
UID:10005627-1771837200-1771858800@thaibloodcentre.redcross.or.th
SUMMARY:สถาบันมะเร็งแห่งชาติ []
DESCRIPTION:สถานที่เจาะ : ห้องประชุมสมชายฯ ชั้น 5 (พัก 12.00-13.00 น.) \nที่อยู่ : 268/1 ถนนพระาม 6 แขวงทุ่งพญาไท เขตราชเทวี กรุงเทพฯ 0 2202 68000
URL:https://thaibloodcentre.redcross.or.th/event/%e0%b8%aa%e0%b8%96%e0%b8%b2%e0%b8%9a%e0%b8%b1%e0%b8%99%e0%b8%a1%e0%b8%b0%e0%b9%80%e0%b8%a3%e0%b9%87%e0%b8%87%e0%b9%81%e0%b8%ab%e0%b9%88%e0%b8%87%e0%b8%8a%e0%b8%b2%e0%b8%95%e0%b8%b4-2/
LOCATION:สถาบันมะเร็งแห่งชาติ\, สถาบันมะเร็งแห่งชาติ 268/1 ถ.พระรามที่ 6 แขวงทุ่งพญาไท เขตราชเทวี กรุงเทพมหานคร 10400
CATEGORIES:ปฏิทินตารางหน่วยเคลื่อนที่
END:VEVENT
BEGIN:VEVENT
DTSTART;TZID=Asia/Krasnoyarsk:20260223T090000
DTEND;TZID=Asia/Krasnoyarsk:20260223T150000
DTSTAMP:20260423T114008
CREATED:20260217T091947Z
LAST-MODIFIED:20260217T091947Z
UID:10005626-1771837200-1771858800@thaibloodcentre.redcross.or.th
SUMMARY:บริษัท เออร์โกประกันภัย (ประเทศไทย) จำกัด (มหาชน) []
DESCRIPTION:สถานที่เจาะ : ชั้น 5 อาคาร Eego Tower (พัก 12.00-13.00 น.) \nที่อยู่ : 126/2 ถนนกรุงธนบุรี แขวงบางลำภูล่าง เขตคลองสาน กรุงเทพฯ 0 2820 7000
URL:https://thaibloodcentre.redcross.or.th/event/%e0%b8%9a%e0%b8%a3%e0%b8%b4%e0%b8%a9%e0%b8%b1%e0%b8%97-%e0%b9%80%e0%b8%ad%e0%b8%ad%e0%b8%a3%e0%b9%8c%e0%b9%82%e0%b8%81%e0%b8%9b%e0%b8%a3%e0%b8%b0%e0%b8%81%e0%b8%b1%e0%b8%99%e0%b8%a0%e0%b8%b1-4/
LOCATION:บริษัท เออร์โกประกันภัย (ประเทศไทย) จำกัด (มหาชน)\, บริษัท เออร์โกประกันภัย (ประเทศไทย) จำกัด (มหาชน) 126/2 ถฯฯกรุงธนบุรี แขวงบางลำภูล่าง เขตคลองสาน กรุงเทพมหานคร 10600
CATEGORIES:ปฏิทินตารางหน่วยเคลื่อนที่
END:VEVENT
BEGIN:VEVENT
DTSTART;TZID=Asia/Krasnoyarsk:20260223T090000
DTEND;TZID=Asia/Krasnoyarsk:20260223T150000
DTSTAMP:20260423T114008
CREATED:20260217T091939Z
LAST-MODIFIED:20260217T091939Z
UID:10005624-1771837200-1771858800@thaibloodcentre.redcross.or.th
SUMMARY:บ้านทรงไทย (ย่านวงศ์สว่าง) []
DESCRIPTION:สถานที่เจาะ : (พัก 12.30-13.00 น.) \nที่อยู่ : 1423 ถนนกรุงเทพ – นนทบุรี แขวงวงศ์สว่าง เขตบางซื่อ กรุงเทพฯ 0 2256 4300
URL:https://thaibloodcentre.redcross.or.th/event/%e0%b8%9a%e0%b9%89%e0%b8%b2%e0%b8%99%e0%b8%97%e0%b8%a3%e0%b8%87%e0%b9%84%e0%b8%97%e0%b8%a2-%e0%b8%a2%e0%b9%88%e0%b8%b2%e0%b8%99%e0%b8%a7%e0%b8%87%e0%b8%a8%e0%b9%8c%e0%b8%aa%e0%b8%a7%e0%b9%88-356/
LOCATION:บ้านทรงไทย (ย่านวงศ์สว่าง)\, หน่วยรับบริจาคโลหิต บ้านทรงไทย(ย่านวงศ์สว่าง) 1423 ถนนกรุงเทพ-นนทบุรี แขวงวงศ์สว่าง เขตบางซื่อ กรุงเทพมหานคร 10800
CATEGORIES:ปฏิทินตารางหน่วยเคลื่อนที่
END:VEVENT
BEGIN:VEVENT
DTSTART;TZID=Asia/Krasnoyarsk:20260223T090000
DTEND;TZID=Asia/Krasnoyarsk:20260223T120000
DTSTAMP:20260423T114008
CREATED:20260217T092017Z
LAST-MODIFIED:20260217T092017Z
UID:10005634-1771837200-1771848000@thaibloodcentre.redcross.or.th
SUMMARY:บริษัท สยามยีเอสแบตเตอรี่ จำกัด []
DESCRIPTION:สถานที่เจาะ : หน้าห้องพยาบาล \nที่อยู่ : 78 ม.3 นิคมฯบางปูใหม่ ถ.สุขุมวิท ต.บางปูใหม่ อ.เมือง จ.สมุทรปราการ 0 2323 9030
URL:https://thaibloodcentre.redcross.or.th/event/%e0%b8%9a%e0%b8%a3%e0%b8%b4%e0%b8%a9%e0%b8%b1%e0%b8%97-%e0%b8%aa%e0%b8%a2%e0%b8%b2%e0%b8%a1%e0%b8%a2%e0%b8%b5%e0%b9%80%e0%b8%ad%e0%b8%aa%e0%b9%81%e0%b8%9a%e0%b8%95%e0%b9%80%e0%b8%95%e0%b8%ad-4/
LOCATION:บริษัท สยามยีเอสแบตเตอรี่ จำกัด\, บริษัท สยามยีเอสแบตเตอรี่ จำกัด 78/1 ม.3 ถ.สุขุมวิท ต.บางปูใหม่ อ.เมืองสมุทรปราการ สมุทรปราการ 10270
CATEGORIES:ปฏิทินตารางหน่วยเคลื่อนที่
END:VEVENT
BEGIN:VEVENT
DTSTART;TZID=Asia/Krasnoyarsk:20260223T090000
DTEND;TZID=Asia/Krasnoyarsk:20260223T120000
DTSTAMP:20260423T114008
CREATED:20260217T091958Z
LAST-MODIFIED:20260217T091958Z
UID:10005629-1771837200-1771848000@thaibloodcentre.redcross.or.th
SUMMARY:บริษัท สยามยีเอสแบตเตอรี่ จำกัด []
DESCRIPTION:สถานที่เจาะ : หน้าห้องพยาบาล \nที่อยู่ : 78 ม.3 นิคมฯบางปูใหม่ ถ.สุขุมวิท ต.บางปูใหม่ อ.เมือง จ.สมุทรปราการ 0 2323 9030
URL:https://thaibloodcentre.redcross.or.th/event/%e0%b8%9a%e0%b8%a3%e0%b8%b4%e0%b8%a9%e0%b8%b1%e0%b8%97-%e0%b8%aa%e0%b8%a2%e0%b8%b2%e0%b8%a1%e0%b8%a2%e0%b8%b5%e0%b9%80%e0%b8%ad%e0%b8%aa%e0%b9%81%e0%b8%9a%e0%b8%95%e0%b9%80%e0%b8%95%e0%b8%ad-3/
LOCATION:บริษัท สยามยีเอสแบตเตอรี่ จำกัด\, บริษัท สยามยีเอสแบตเตอรี่ จำกัด 78/1 ม.3 ถ.สุขุมวิท ต.บางปูใหม่ อ.เมืองสมุทรปราการ สมุทรปราการ 10270
CATEGORIES:ปฏิทินตารางหน่วยเคลื่อนที่
END:VEVENT
BEGIN:VEVENT
DTSTART;TZID=Asia/Krasnoyarsk:20260223T083000
DTEND;TZID=Asia/Krasnoyarsk:20260223T193000
DTSTAMP:20260423T114008
CREATED:20260217T091931Z
LAST-MODIFIED:20260217T091931Z
UID:10005623-1771835400-1771875000@thaibloodcentre.redcross.or.th
SUMMARY:สถานีกาชาด 11 วิเศษนิยม []
DESCRIPTION:สถานที่เจาะ : ชั้น 3 \nที่อยู่ : 33/3 ถนนเพชรเกษม แขวงบางหว้า เขตภาษีเจริญ กรุงเทพฯ 0633450711
URL:https://thaibloodcentre.redcross.or.th/event/%e0%b8%aa%e0%b8%96%e0%b8%b2%e0%b8%99%e0%b8%b5%e0%b8%81%e0%b8%b2%e0%b8%8a%e0%b8%b2%e0%b8%94-11-%e0%b8%a7%e0%b8%b4%e0%b9%80%e0%b8%a8%e0%b8%a9%e0%b8%99%e0%b8%b4%e0%b8%a2%e0%b8%a1-173/
LOCATION:สถานีกาชาด 11 วิเศษนิยม\, สถานีกาชาด 11 วิเศษนิยม 605 ถ.เพชรเกษม แขวงบางหว้า เขตภาษีเจริญ กรุงเทพมหานคร 10160
CATEGORIES:ปฏิทินตารางหน่วยเคลื่อนที่
END:VEVENT
END:VCALENDAR