BEGIN:VCALENDAR
VERSION:2.0
PRODID:-//เว็บไซต์ศูนย์บริการโลหิตแห่งชาติ - ECPv6.11.2.1//NONSGML v1.0//EN
CALSCALE:GREGORIAN
METHOD:PUBLISH
X-ORIGINAL-URL:https://thaibloodcentre.redcross.or.th
X-WR-CALDESC:Events for เว็บไซต์ศูนย์บริการโลหิตแห่งชาติ
REFRESH-INTERVAL;VALUE=DURATION:PT1H
X-Robots-Tag:noindex
X-PUBLISHED-TTL:PT1H
BEGIN:VTIMEZONE
TZID:Asia/Krasnoyarsk
BEGIN:STANDARD
TZOFFSETFROM:+0700
TZOFFSETTO:+0700
TZNAME:+07
DTSTART:20250101T000000
END:STANDARD
END:VTIMEZONE
BEGIN:VEVENT
DTSTART;TZID=Asia/Krasnoyarsk:20251124T120000
DTEND;TZID=Asia/Krasnoyarsk:20251124T180000
DTSTAMP:20260425T214144
CREATED:20251124T025125Z
LAST-MODIFIED:20251124T025125Z
UID:10004371-1763985600-1764007200@thaibloodcentre.redcross.or.th
SUMMARY:ศูนย์การค้าเดอะมอลล์ไลฟ์สโตร์ งามวงศ์วาน []
DESCRIPTION:สถานที่เจาะ : ชั้น 5 โซน Government Center \nที่อยู่ : ถนนงามวงศ์วาน ต.บางเขน อ.เมือง จ.นนทบุรี 0 2555 1550
URL:https://thaibloodcentre.redcross.or.th/event/%e0%b8%a8%e0%b8%b9%e0%b8%99%e0%b8%a2%e0%b9%8c%e0%b8%81%e0%b8%b2%e0%b8%a3%e0%b8%84%e0%b9%89%e0%b8%b2%e0%b9%80%e0%b8%94%e0%b8%ad%e0%b8%b0%e0%b8%a1%e0%b8%ad%e0%b8%a5%e0%b8%a5%e0%b9%8c%e0%b9%84-1077/
LOCATION:ศูนย์การค้าเดอะมอลล์ไลฟ์สโตร์ งามวงศ์วาน\, เดอะมอลล์ ไลฟ์สโตร์ งามวงศ์วาน 430 ถนน งามวงศ์วาน ตำบลบางเขน อำเภอเมืองนนทบุรี นนทบุรี 11000
CATEGORIES:ปฏิทินตารางหน่วยเคลื่อนที่
END:VEVENT
BEGIN:VEVENT
DTSTART;TZID=Asia/Krasnoyarsk:20251124T120000
DTEND;TZID=Asia/Krasnoyarsk:20251124T180000
DTSTAMP:20260425T214144
CREATED:20251124T025134Z
LAST-MODIFIED:20251124T025134Z
UID:10004372-1763985600-1764007200@thaibloodcentre.redcross.or.th
SUMMARY:ศูนย์การค้า เอ็มโพเรียม []
DESCRIPTION:สถานที่เจาะ : ชั้น M ศูนย์การค้า ดิ เอ็มโพเรียม เชื่อมลานจอดรถอาคาร B \nที่อยู่ : 622 ถนนสุขุมวิท แขวงคลองตัน เขตคลองเตย กรุงเทพฯ 0 2269 1515
URL:https://thaibloodcentre.redcross.or.th/event/%e0%b8%a8%e0%b8%b9%e0%b8%99%e0%b8%a2%e0%b9%8c%e0%b8%81%e0%b8%b2%e0%b8%a3%e0%b8%84%e0%b9%89%e0%b8%b2-%e0%b9%80%e0%b8%ad%e0%b9%87%e0%b8%a1%e0%b9%82%e0%b8%9e%e0%b9%80%e0%b8%a3%e0%b8%b5%e0%b8%a2-265/
LOCATION:ศูนย์การค้า เอ็มโพเรียม\, เอ็มโพเรียม 622 ถ. สุขุมวิท แขวงคลองตัน เขตคลองเตย กรุงเทพมหานคร 10110
CATEGORIES:ปฏิทินตารางหน่วยเคลื่อนที่
END:VEVENT
BEGIN:VEVENT
DTSTART;TZID=Asia/Krasnoyarsk:20251124T120000
DTEND;TZID=Asia/Krasnoyarsk:20251124T180000
DTSTAMP:20260425T214144
CREATED:20251124T025144Z
LAST-MODIFIED:20251124T025144Z
UID:10004373-1763985600-1764007200@thaibloodcentre.redcross.or.th
SUMMARY:ศูนย์การค้าเดอะมอลล์ไลฟ์สโตร์ ท่าพระ []
DESCRIPTION:สถานที่เจาะ : ชั้น 1 (ติดลานจอดรถ) \nที่อยู่ : 99 ถนนรัชดาท่าพระตัดใหม่ แขวงบุคคโล เขตธนบุรี กรุงเทพฯ 0 2469-1000
URL:https://thaibloodcentre.redcross.or.th/event/%e0%b8%a8%e0%b8%b9%e0%b8%99%e0%b8%a2%e0%b9%8c%e0%b8%81%e0%b8%b2%e0%b8%a3%e0%b8%84%e0%b9%89%e0%b8%b2%e0%b9%80%e0%b8%94%e0%b8%ad%e0%b8%b0%e0%b8%a1%e0%b8%ad%e0%b8%a5%e0%b8%a5%e0%b9%8c%e0%b9%84-1078/
LOCATION:ศูนย์การค้าเดอะมอลล์ไลฟ์สโตร์ ท่าพระ\, เดอะมอลล์ไลฟ์สโตร์ ท่าพระ 129 ถ. รัชดาภิเษก แขวงบุคคโล เขตธนบุรี กรุงเทพมหานคร 10600
CATEGORIES:ปฏิทินตารางหน่วยเคลื่อนที่
END:VEVENT
BEGIN:VEVENT
DTSTART;TZID=Asia/Krasnoyarsk:20251124T130000
DTEND;TZID=Asia/Krasnoyarsk:20251124T150000
DTSTAMP:20260425T214144
CREATED:20251124T025220Z
LAST-MODIFIED:20251124T025220Z
UID:10004381-1763989200-1763996400@thaibloodcentre.redcross.or.th
SUMMARY:บริษัท ซีพี แอ็กซ์ตร้า จำกัด (มหาชน) สาขานาทองเจริญ []
DESCRIPTION:สถานที่เจาะ : ข้างอาคารทางออก \nที่อยู่ : 11/28 ม.6 ต.คูคต อ.ลำลูกกา ปทุมธานี 0 2033 6900
URL:https://thaibloodcentre.redcross.or.th/event/%e0%b8%9a%e0%b8%a3%e0%b8%b4%e0%b8%a9%e0%b8%b1%e0%b8%97-%e0%b8%8b%e0%b8%b5%e0%b8%9e%e0%b8%b5-%e0%b9%81%e0%b8%ad%e0%b9%87%e0%b8%81%e0%b8%8b%e0%b9%8c%e0%b8%95%e0%b8%a3%e0%b9%89%e0%b8%b2-%e0%b8%88-34/
LOCATION:บริษัท ซีพี แอ็กซ์ตร้า จำกัด (มหาชน) สาขานาทองเจริญ\, บริษัท ซีพี แอ็กซ์ตร้า จำกัด (มหาชน) สาขานาทองเจริญ 11/28 หมู่ที่ 6 ตำบลคูคต อำเภอลำลูกกา จ.ปทุมธานี 12130
CATEGORIES:ปฏิทินตารางหน่วยเคลื่อนที่
END:VEVENT
BEGIN:VEVENT
DTSTART;TZID=Asia/Krasnoyarsk:20251125T073000
DTEND;TZID=Asia/Krasnoyarsk:20251125T193000
DTSTAMP:20260425T214144
CREATED:20251124T025232Z
LAST-MODIFIED:20251124T025232Z
UID:10004384-1764055800-1764099000@thaibloodcentre.redcross.or.th
SUMMARY:ศูนย์บริการโลหิตแห่งชาติ สภากาชาดไทย []
DESCRIPTION:ที่อยู่ : 1871 ถ. อังรีดูนังต์ แขวงปทุมวัน เขตปทุมวัน
URL:https://thaibloodcentre.redcross.or.th/event/%e0%b8%a8%e0%b8%b9%e0%b8%99%e0%b8%a2%e0%b9%8c%e0%b8%9a%e0%b8%a3%e0%b8%b4%e0%b8%81%e0%b8%b2%e0%b8%a3%e0%b9%82%e0%b8%a5%e0%b8%ab%e0%b8%b4%e0%b8%95%e0%b9%81%e0%b8%ab%e0%b9%88%e0%b8%87%e0%b8%8a-350/
LOCATION:ศูนย์บริการโลหิตแห่งชาติ สภากาชาดไทย\, ศูนย์บริการโลหิตแห่งชาติ สภากาชาดไทย 1871 ถ. อังรีดูนังต์ แขวงปทุมวัน เขตปทุมวัน กรุงเทพมหานคร 10330
CATEGORIES:ปฏิทินตารางหน่วยเคลื่อนที่
END:VEVENT
BEGIN:VEVENT
DTSTART;TZID=Asia/Krasnoyarsk:20251125T083000
DTEND;TZID=Asia/Krasnoyarsk:20251125T193000
DTSTAMP:20260425T214144
CREATED:20251124T025328Z
LAST-MODIFIED:20251124T025328Z
UID:10004390-1764059400-1764099000@thaibloodcentre.redcross.or.th
SUMMARY:สถานีกาชาด 11 วิเศษนิยม []
DESCRIPTION:สถานที่เจาะ : ชั้น 3 \nที่อยู่ : 33/3 ถนนเพชรเกษม แขวงบางหว้า เขตภาษีเจริญ กรุงเทพฯ 633450711
URL:https://thaibloodcentre.redcross.or.th/event/%e0%b8%aa%e0%b8%96%e0%b8%b2%e0%b8%99%e0%b8%b5%e0%b8%81%e0%b8%b2%e0%b8%8a%e0%b8%b2%e0%b8%94-11-%e0%b8%a7%e0%b8%b4%e0%b9%80%e0%b8%a8%e0%b8%a9%e0%b8%99%e0%b8%b4%e0%b8%a2%e0%b8%a1-99/
LOCATION:สถานีกาชาด 11 วิเศษนิยม\, สถานีกาชาด 11 วิเศษนิยม 605 ถ.เพชรเกษม แขวงบางหว้า เขตภาษีเจริญ กรุงเทพมหานคร 10160
CATEGORIES:ปฏิทินตารางหน่วยเคลื่อนที่
END:VEVENT
BEGIN:VEVENT
DTSTART;TZID=Asia/Krasnoyarsk:20251125T090000
DTEND;TZID=Asia/Krasnoyarsk:20251125T113000
DTSTAMP:20260425T214144
CREATED:20251124T025343Z
LAST-MODIFIED:20251124T025343Z
UID:10004394-1764061200-1764070200@thaibloodcentre.redcross.or.th
SUMMARY:บริษัท นิวตัน เพรจทีจ จำกัด []
DESCRIPTION:สถานที่เจาะ : ข้างโชว์รูม หน้าฝ่ายขาย \nที่อยู่ : 109 ถนนบรมราชชนนี แขวงฉิมพลี เขตตลิ่งชัน กรุงเทพฯ 0 2434 4488
URL:https://thaibloodcentre.redcross.or.th/event/%e0%b8%9a%e0%b8%a3%e0%b8%b4%e0%b8%a9%e0%b8%b1%e0%b8%97-%e0%b8%99%e0%b8%b4%e0%b8%a7%e0%b8%95%e0%b8%b1%e0%b8%99-%e0%b9%80%e0%b8%9e%e0%b8%a3%e0%b8%88%e0%b8%97%e0%b8%b5%e0%b8%88-%e0%b8%88%e0%b8%b3-3/
LOCATION:บริษัท นิวตัน เพรจทีจ จำกัด\, บริษัท นิวตัน เพรจทีจ จำกัด 109 ถนนบรมราชชนนี แขวงฉิมพลี เขตตลิ่งชัน กรุงเทพมหานคร 10170
CATEGORIES:ปฏิทินตารางหน่วยเคลื่อนที่
END:VEVENT
BEGIN:VEVENT
DTSTART;TZID=Asia/Krasnoyarsk:20251125T090000
DTEND;TZID=Asia/Krasnoyarsk:20251125T150000
DTSTAMP:20260425T214144
CREATED:20251124T025331Z
LAST-MODIFIED:20251124T025331Z
UID:10004391-1764061200-1764082800@thaibloodcentre.redcross.or.th
SUMMARY:บ้านทรงไทย (ย่านวงศ์สว่าง) []
DESCRIPTION:สถานที่เจาะ : (พัก 12.30-13.00 น.) \nที่อยู่ : 1423 ถนนกรุงเทพ – นนทบุรี แขวงวงศ์สว่าง เขตบางซื่อ กรุงเทพฯ 0 2256 4300
URL:https://thaibloodcentre.redcross.or.th/event/%e0%b8%9a%e0%b9%89%e0%b8%b2%e0%b8%99%e0%b8%97%e0%b8%a3%e0%b8%87%e0%b9%84%e0%b8%97%e0%b8%a2-%e0%b8%a2%e0%b9%88%e0%b8%b2%e0%b8%99%e0%b8%a7%e0%b8%87%e0%b8%a8%e0%b9%8c%e0%b8%aa%e0%b8%a7%e0%b9%88-268/
LOCATION:บ้านทรงไทย (ย่านวงศ์สว่าง)\, หน่วยรับบริจาคโลหิต บ้านทรงไทย(ย่านวงศ์สว่าง) 1423 ถนนกรุงเทพ-นนทบุรี แขวงวงศ์สว่าง เขตบางซื่อ กรุงเทพมหานคร 10800
CATEGORIES:ปฏิทินตารางหน่วยเคลื่อนที่
END:VEVENT
BEGIN:VEVENT
DTSTART;TZID=Asia/Krasnoyarsk:20251125T090000
DTEND;TZID=Asia/Krasnoyarsk:20251125T150000
DTSTAMP:20260425T214144
CREATED:20251124T025335Z
LAST-MODIFIED:20251124T025335Z
UID:10004392-1764061200-1764082800@thaibloodcentre.redcross.or.th
SUMMARY:การเคหะแห่งชาติ []
DESCRIPTION:สถานที่เจาะ : หน้าอาคาร 1 (พัก 11.00-12.00 น.) \nที่อยู่ : 905 ถนนนวมินทร์ แขวงคลองจั่น เขตบางกะปิ กรุงเทพฯ 0 2351 6217
URL:https://thaibloodcentre.redcross.or.th/event/%e0%b8%81%e0%b8%b2%e0%b8%a3%e0%b9%80%e0%b8%84%e0%b8%ab%e0%b8%b0%e0%b9%81%e0%b8%ab%e0%b9%88%e0%b8%87%e0%b8%8a%e0%b8%b2%e0%b8%95%e0%b8%b4-2/
LOCATION:การเคหะแห่งชาติ\, การเคหะแห่งชาติ 905 ถนนนวมินทร์ แขวงคลองจั่น เขตบางกะปิ กรุงเทพมหานคร 10240
CATEGORIES:ปฏิทินตารางหน่วยเคลื่อนที่
END:VEVENT
BEGIN:VEVENT
DTSTART;TZID=Asia/Krasnoyarsk:20251125T090000
DTEND;TZID=Asia/Krasnoyarsk:20251125T150000
DTSTAMP:20260425T214144
CREATED:20251124T025345Z
LAST-MODIFIED:20251124T025345Z
UID:10004395-1764061200-1764082800@thaibloodcentre.redcross.or.th
SUMMARY:กรมสรรพากร []
DESCRIPTION:สถานที่เจาะ : ห้องพระอุเทน 1 ชั้น 2 (พัก 12.00-13.00 น.) \nที่อยู่ : 90 อาคารสรรพากร พหลโยธิน 7 แขวงสามเสนใน เขตพญาไท กรุงเทพฯ 0 2272 8173
URL:https://thaibloodcentre.redcross.or.th/event/%e0%b8%81%e0%b8%a3%e0%b8%a1%e0%b8%aa%e0%b8%a3%e0%b8%a3%e0%b8%9e%e0%b8%b2%e0%b8%81%e0%b8%a3-2/
LOCATION:กรมสรรพากร\, กรมสรรพากร 90 ซอยพหลโยธิน 7 แขวงพญาไท เขตพญาไท กรุงเทพมหานคร 10400
CATEGORIES:ปฏิทินตารางหน่วยเคลื่อนที่
END:VEVENT
BEGIN:VEVENT
DTSTART;TZID=Asia/Krasnoyarsk:20251125T090000
DTEND;TZID=Asia/Krasnoyarsk:20251125T150000
DTSTAMP:20260425T214144
CREATED:20251124T025347Z
LAST-MODIFIED:20251124T025347Z
UID:10004396-1764061200-1764082800@thaibloodcentre.redcross.or.th
SUMMARY:บริษัท ไปรษณีย์ไทย จำกัด []
DESCRIPTION:สถานที่เจาะ : ด้านข้างโรงอาหาร \nที่อยู่ : 111 ถนนแจ้งวัฒนะ แขวงทุ่งสองห้อง เขตหลักสี่ กรุงเทพฯ 0 2831 3518
URL:https://thaibloodcentre.redcross.or.th/event/%e0%b8%9a%e0%b8%a3%e0%b8%b4%e0%b8%a9%e0%b8%b1%e0%b8%97-%e0%b9%84%e0%b8%9b%e0%b8%a3%e0%b8%a9%e0%b8%93%e0%b8%b5%e0%b8%a2%e0%b9%8c%e0%b9%84%e0%b8%97%e0%b8%a2-%e0%b8%88%e0%b8%b3%e0%b8%81%e0%b8%b1-4/
LOCATION:บริษัท ไปรษณีย์ไทย จำกัด\, บริษัท ไปรษณีย์ไทย จำกัด 111 ถนนแจ้งวัฒนะ แขวงทุ่งสองห้อง เขตหลักสี่ กรุงเทพมหานคร 10210
CATEGORIES:ปฏิทินตารางหน่วยเคลื่อนที่
END:VEVENT
BEGIN:VEVENT
DTSTART;TZID=Asia/Krasnoyarsk:20251125T110000
DTEND;TZID=Asia/Krasnoyarsk:20251125T150000
DTSTAMP:20260425T214144
CREATED:20251124T025341Z
LAST-MODIFIED:20251124T025341Z
UID:10004393-1764068400-1764082800@thaibloodcentre.redcross.or.th
SUMMARY:บริษัท 1577 โฮมชอปปิ้ง จำกัด []
DESCRIPTION:สถานที่เจาะ : ห้องประชุม 1B อาคาร B \nที่อยู่ : 11 ถนนประเสริฐมนูกิจ แขวงคลองกุ่ม เขตบึงกุ่ม กรุงเทพฯ 0 2375 6000
URL:https://thaibloodcentre.redcross.or.th/event/%e0%b8%9a%e0%b8%a3%e0%b8%b4%e0%b8%a9%e0%b8%b1%e0%b8%97-1577-%e0%b9%82%e0%b8%ae%e0%b8%a1%e0%b8%8a%e0%b8%ad%e0%b8%9b%e0%b8%9b%e0%b8%b4%e0%b9%89%e0%b8%87-%e0%b8%88%e0%b8%b3%e0%b8%81%e0%b8%b1%e0%b8%94-2/
LOCATION:บริษัท 1577 โฮมชอปปิ้ง จำกัด\, บริษัท 1577 โฮมชอปปิ้ง จำกัด 11 ถนนประเสริฐมนูกิจ แขวงคลองกุ่ม เขตบึงกุ่ม กรุงเทพฯ 10230
CATEGORIES:ปฏิทินตารางหน่วยเคลื่อนที่
END:VEVENT
BEGIN:VEVENT
DTSTART;TZID=Asia/Krasnoyarsk:20251125T120000
DTEND;TZID=Asia/Krasnoyarsk:20251125T180000
DTSTAMP:20260425T214144
CREATED:20251124T025237Z
LAST-MODIFIED:20251124T025237Z
UID:10004385-1764072000-1764093600@thaibloodcentre.redcross.or.th
SUMMARY:ศูนย์การค้าเดอะมอลล์ไลฟ์สโตร์ บางแค []
DESCRIPTION:สถานที่เจาะ : ชั้น 3 ตรงข้ามร้านโอ้กะจู๋ \nที่อยู่ : ถนนเพชรเกษม แขวงบางแคเหนือ เขตภาษีเจริญ กรุงเทพฯ 02 487 1221
URL:https://thaibloodcentre.redcross.or.th/event/%e0%b8%a8%e0%b8%b9%e0%b8%99%e0%b8%a2%e0%b9%8c%e0%b8%81%e0%b8%b2%e0%b8%a3%e0%b8%84%e0%b9%89%e0%b8%b2%e0%b9%80%e0%b8%94%e0%b8%ad%e0%b8%b0%e0%b8%a1%e0%b8%ad%e0%b8%a5%e0%b8%a5%e0%b9%8c%e0%b9%84-1079/
LOCATION:ศูนย์การค้าเดอะมอลล์ไลฟ์สโตร์ บางแค\, ศูนย์การค้าเดอะมอลล์ไลฟ์สโตร์ บางแค
CATEGORIES:ปฏิทินตารางหน่วยเคลื่อนที่
END:VEVENT
BEGIN:VEVENT
DTSTART;TZID=Asia/Krasnoyarsk:20251125T120000
DTEND;TZID=Asia/Krasnoyarsk:20251125T180000
DTSTAMP:20260425T214144
CREATED:20251124T025245Z
LAST-MODIFIED:20251124T025245Z
UID:10004386-1764072000-1764093600@thaibloodcentre.redcross.or.th
SUMMARY:ศูนย์การค้าเดอะมอลล์ไลฟ์สโตร์ บางกะปิ []
DESCRIPTION:สถานที่เจาะ : ชั้น 2 ทางออกลานจอดรถ \nที่อยู่ : ถนนลาดพร้าว แขวงคลองจั่น เขตบางกะปิ กรุงเทพฯ 0 2310 2278
URL:https://thaibloodcentre.redcross.or.th/event/%e0%b8%a8%e0%b8%b9%e0%b8%99%e0%b8%a2%e0%b9%8c%e0%b8%81%e0%b8%b2%e0%b8%a3%e0%b8%84%e0%b9%89%e0%b8%b2%e0%b9%80%e0%b8%94%e0%b8%ad%e0%b8%b0%e0%b8%a1%e0%b8%ad%e0%b8%a5%e0%b8%a5%e0%b9%8c%e0%b9%84-1080/
LOCATION:ศูนย์การค้าเดอะมอลล์ไลฟ์สโตร์ บางกะปิ\, เดอะมอลล์ไลฟ์สโตร์ บางกะปิ 3522 ถ. ลาดพร้าว แขวงคลองจั่น เขตบางกะปิ กรุงเทพมหานคร 10240
CATEGORIES:ปฏิทินตารางหน่วยเคลื่อนที่
END:VEVENT
BEGIN:VEVENT
DTSTART;TZID=Asia/Krasnoyarsk:20251125T120000
DTEND;TZID=Asia/Krasnoyarsk:20251125T180000
DTSTAMP:20260425T214144
CREATED:20251124T025254Z
LAST-MODIFIED:20251124T025254Z
UID:10004387-1764072000-1764093600@thaibloodcentre.redcross.or.th
SUMMARY:ศูนย์การค้าเดอะมอลล์ไลฟ์สโตร์ งามวงศ์วาน []
DESCRIPTION:สถานที่เจาะ : ชั้น 5 โซน Government Center \nที่อยู่ : ถนนงามวงศ์วาน ต.บางเขน อ.เมือง จ.นนทบุรี 0 2555 1550
URL:https://thaibloodcentre.redcross.or.th/event/%e0%b8%a8%e0%b8%b9%e0%b8%99%e0%b8%a2%e0%b9%8c%e0%b8%81%e0%b8%b2%e0%b8%a3%e0%b8%84%e0%b9%89%e0%b8%b2%e0%b9%80%e0%b8%94%e0%b8%ad%e0%b8%b0%e0%b8%a1%e0%b8%ad%e0%b8%a5%e0%b8%a5%e0%b9%8c%e0%b9%84-1081/
LOCATION:ศูนย์การค้าเดอะมอลล์ไลฟ์สโตร์ งามวงศ์วาน\, เดอะมอลล์ ไลฟ์สโตร์ งามวงศ์วาน 430 ถนน งามวงศ์วาน ตำบลบางเขน อำเภอเมืองนนทบุรี นนทบุรี 11000
CATEGORIES:ปฏิทินตารางหน่วยเคลื่อนที่
END:VEVENT
BEGIN:VEVENT
DTSTART;TZID=Asia/Krasnoyarsk:20251125T120000
DTEND;TZID=Asia/Krasnoyarsk:20251125T180000
DTSTAMP:20260425T214144
CREATED:20251124T025314Z
LAST-MODIFIED:20251124T025314Z
UID:10004388-1764072000-1764093600@thaibloodcentre.redcross.or.th
SUMMARY:ศูนย์การค้า เอ็มโพเรียม []
DESCRIPTION:สถานที่เจาะ : ชั้น M ศูนย์การค้า ดิ เอ็มโพเรียม เชื่อมลานจอดรถอาคาร B \nที่อยู่ : 622 ถนนสุขุมวิท แขวงคลองตัน เขตคลองเตย กรุงเทพฯ 0 2269 1515
URL:https://thaibloodcentre.redcross.or.th/event/%e0%b8%a8%e0%b8%b9%e0%b8%99%e0%b8%a2%e0%b9%8c%e0%b8%81%e0%b8%b2%e0%b8%a3%e0%b8%84%e0%b9%89%e0%b8%b2-%e0%b9%80%e0%b8%ad%e0%b9%87%e0%b8%a1%e0%b9%82%e0%b8%9e%e0%b9%80%e0%b8%a3%e0%b8%b5%e0%b8%a2-266/
LOCATION:ศูนย์การค้า เอ็มโพเรียม\, เอ็มโพเรียม 622 ถ. สุขุมวิท แขวงคลองตัน เขตคลองเตย กรุงเทพมหานคร 10110
CATEGORIES:ปฏิทินตารางหน่วยเคลื่อนที่
END:VEVENT
BEGIN:VEVENT
DTSTART;TZID=Asia/Krasnoyarsk:20251125T120000
DTEND;TZID=Asia/Krasnoyarsk:20251125T180000
DTSTAMP:20260425T214144
CREATED:20251124T025319Z
LAST-MODIFIED:20251124T025319Z
UID:10004389-1764072000-1764093600@thaibloodcentre.redcross.or.th
SUMMARY:ศูนย์การค้าเดอะมอลล์ไลฟ์สโตร์ ท่าพระ []
DESCRIPTION:สถานที่เจาะ : ชั้น 1 (ติดลานจอดรถ) \nที่อยู่ : 99 ถนนรัชดาท่าพระตัดใหม่ แขวงบุคคโล เขตธนบุรี กรุงเทพฯ 0 2469-1000
URL:https://thaibloodcentre.redcross.or.th/event/%e0%b8%a8%e0%b8%b9%e0%b8%99%e0%b8%a2%e0%b9%8c%e0%b8%81%e0%b8%b2%e0%b8%a3%e0%b8%84%e0%b9%89%e0%b8%b2%e0%b9%80%e0%b8%94%e0%b8%ad%e0%b8%b0%e0%b8%a1%e0%b8%ad%e0%b8%a5%e0%b8%a5%e0%b9%8c%e0%b9%84-1082/
LOCATION:ศูนย์การค้าเดอะมอลล์ไลฟ์สโตร์ ท่าพระ\, เดอะมอลล์ไลฟ์สโตร์ ท่าพระ 129 ถ. รัชดาภิเษก แขวงบุคคโล เขตธนบุรี กรุงเทพมหานคร 10600
CATEGORIES:ปฏิทินตารางหน่วยเคลื่อนที่
END:VEVENT
BEGIN:VEVENT
DTSTART;TZID=Asia/Krasnoyarsk:20251126T073000
DTEND;TZID=Asia/Krasnoyarsk:20251126T193000
DTSTAMP:20260425T214144
CREATED:20251124T025349Z
LAST-MODIFIED:20251124T025349Z
UID:10004397-1764142200-1764185400@thaibloodcentre.redcross.or.th
SUMMARY:ศูนย์บริการโลหิตแห่งชาติ สภากาชาดไทย []
DESCRIPTION:ที่อยู่ : 1871 ถ. อังรีดูนังต์ แขวงปทุมวัน เขตปทุมวัน
URL:https://thaibloodcentre.redcross.or.th/event/%e0%b8%a8%e0%b8%b9%e0%b8%99%e0%b8%a2%e0%b9%8c%e0%b8%9a%e0%b8%a3%e0%b8%b4%e0%b8%81%e0%b8%b2%e0%b8%a3%e0%b9%82%e0%b8%a5%e0%b8%ab%e0%b8%b4%e0%b8%95%e0%b9%81%e0%b8%ab%e0%b9%88%e0%b8%87%e0%b8%8a-351/
LOCATION:ศูนย์บริการโลหิตแห่งชาติ สภากาชาดไทย\, ศูนย์บริการโลหิตแห่งชาติ สภากาชาดไทย 1871 ถ. อังรีดูนังต์ แขวงปทุมวัน เขตปทุมวัน กรุงเทพมหานคร 10330
CATEGORIES:ปฏิทินตารางหน่วยเคลื่อนที่
END:VEVENT
BEGIN:VEVENT
DTSTART;TZID=Asia/Krasnoyarsk:20251126T083000
DTEND;TZID=Asia/Krasnoyarsk:20251126T193000
DTSTAMP:20260425T214144
CREATED:20251124T025506Z
LAST-MODIFIED:20251124T025506Z
UID:10004403-1764145800-1764185400@thaibloodcentre.redcross.or.th
SUMMARY:สถานีกาชาด 11 วิเศษนิยม []
DESCRIPTION:สถานที่เจาะ : ชั้น 3 \nที่อยู่ : 33/3 ถนนเพชรเกษม แขวงบางหว้า เขตภาษีเจริญ กรุงเทพฯ 633450711
URL:https://thaibloodcentre.redcross.or.th/event/%e0%b8%aa%e0%b8%96%e0%b8%b2%e0%b8%99%e0%b8%b5%e0%b8%81%e0%b8%b2%e0%b8%8a%e0%b8%b2%e0%b8%94-11-%e0%b8%a7%e0%b8%b4%e0%b9%80%e0%b8%a8%e0%b8%a9%e0%b8%99%e0%b8%b4%e0%b8%a2%e0%b8%a1-100/
LOCATION:สถานีกาชาด 11 วิเศษนิยม\, สถานีกาชาด 11 วิเศษนิยม 605 ถ.เพชรเกษม แขวงบางหว้า เขตภาษีเจริญ กรุงเทพมหานคร 10160
CATEGORIES:ปฏิทินตารางหน่วยเคลื่อนที่
END:VEVENT
BEGIN:VEVENT
DTSTART;TZID=Asia/Krasnoyarsk:20251126T090000
DTEND;TZID=Asia/Krasnoyarsk:20251126T150000
DTSTAMP:20260425T214144
CREATED:20251124T025509Z
LAST-MODIFIED:20251124T025509Z
UID:10004404-1764147600-1764169200@thaibloodcentre.redcross.or.th
SUMMARY:บ้านทรงไทย (ย่านวงศ์สว่าง) []
DESCRIPTION:สถานที่เจาะ : (พัก 12.30-13.00 น.) \nที่อยู่ : 1423 ถนนกรุงเทพ – นนทบุรี แขวงวงศ์สว่าง เขตบางซื่อ กรุงเทพฯ 0 2256 4300
URL:https://thaibloodcentre.redcross.or.th/event/%e0%b8%9a%e0%b9%89%e0%b8%b2%e0%b8%99%e0%b8%97%e0%b8%a3%e0%b8%87%e0%b9%84%e0%b8%97%e0%b8%a2-%e0%b8%a2%e0%b9%88%e0%b8%b2%e0%b8%99%e0%b8%a7%e0%b8%87%e0%b8%a8%e0%b9%8c%e0%b8%aa%e0%b8%a7%e0%b9%88-269/
LOCATION:บ้านทรงไทย (ย่านวงศ์สว่าง)\, หน่วยรับบริจาคโลหิต บ้านทรงไทย(ย่านวงศ์สว่าง) 1423 ถนนกรุงเทพ-นนทบุรี แขวงวงศ์สว่าง เขตบางซื่อ กรุงเทพมหานคร 10800
CATEGORIES:ปฏิทินตารางหน่วยเคลื่อนที่
END:VEVENT
BEGIN:VEVENT
DTSTART;TZID=Asia/Krasnoyarsk:20251126T090000
DTEND;TZID=Asia/Krasnoyarsk:20251126T150000
DTSTAMP:20260425T214144
CREATED:20251124T025518Z
LAST-MODIFIED:20251124T025518Z
UID:10004406-1764147600-1764169200@thaibloodcentre.redcross.or.th
SUMMARY:อาคารปาร์คเวนเชอร์ อีโคเพล็กซ์ []
DESCRIPTION:สถานที่เจาะ : ช่องจอดรถ VIP ด้านหน้าอาคารฯ (พัก 12.00-13.00 น.) \nที่อยู่ : 57 ปาร์คเวนเซอร์ อีโคเพล็กซ์ ชั้น 1 ถนนวิทยุ แขวงลุมพินี เขตปทุมวัน กรุงเทพฯ 0 2483 0000
URL:https://thaibloodcentre.redcross.or.th/event/%e0%b8%ad%e0%b8%b2%e0%b8%84%e0%b8%b2%e0%b8%a3%e0%b8%9b%e0%b8%b2%e0%b8%a3%e0%b9%8c%e0%b8%84%e0%b9%80%e0%b8%a7%e0%b8%99%e0%b9%80%e0%b8%8a%e0%b8%ad%e0%b8%a3%e0%b9%8c-%e0%b8%ad%e0%b8%b5%e0%b9%82-2/
LOCATION:อาคารปาร์คเวนเชอร์ อีโคเพล็กซ์\, ปาร์คเวนเชอร์ อีโคเพล็กซ์ 57 ถ.วิทยุ แขวงลุมพินี เขตปทุมวัน กรุงเทพมหานคร 10330
CATEGORIES:ปฏิทินตารางหน่วยเคลื่อนที่
END:VEVENT
BEGIN:VEVENT
DTSTART;TZID=Asia/Krasnoyarsk:20251126T090000
DTEND;TZID=Asia/Krasnoyarsk:20251126T150000
DTSTAMP:20260425T214144
CREATED:20251124T025521Z
LAST-MODIFIED:20251124T025521Z
UID:10004407-1764147600-1764169200@thaibloodcentre.redcross.or.th
SUMMARY:มหาวิทยาลัยราชภัฏวไลยอลงกรณ์ ในพระบรมราชูปถัมภ์ []
DESCRIPTION:สถานที่เจาะ : หอประชุม (พัก 12.00-13.00 น.) \nที่อยู่ : 1 ม.20 ถ.พหลโยธิน ต.คลองหนึ่ง อ.คลองหลวง ปทุมธานี 0 2909 1994
URL:https://thaibloodcentre.redcross.or.th/event/%e0%b8%a1%e0%b8%ab%e0%b8%b2%e0%b8%a7%e0%b8%b4%e0%b8%97%e0%b8%a2%e0%b8%b2%e0%b8%a5%e0%b8%b1%e0%b8%a2%e0%b8%a3%e0%b8%b2%e0%b8%8a%e0%b8%a0%e0%b8%b1%e0%b8%8f%e0%b8%a7%e0%b9%84%e0%b8%a5%e0%b8%a2%e0%b8%ad-3/
LOCATION:มหาวิทยาลัยราชภัฏวไลยอลงกรณ์ ในพระบรมราชูปถัมภ์\, มหาวิทยาลัยราชภัฏวไลยอลงกรณ์ ในพระบรมราชูปถัมภ์ 1 หมู่ที่ 20 ถ.พหลโยธิน ต.คลองหนึ่ง อ.คลองหลวง จ.ปทุมธานี 13180​
CATEGORIES:ปฏิทินตารางหน่วยเคลื่อนที่
END:VEVENT
BEGIN:VEVENT
DTSTART;TZID=Asia/Krasnoyarsk:20251126T090000
DTEND;TZID=Asia/Krasnoyarsk:20251126T150000
DTSTAMP:20260425T214144
CREATED:20251124T025530Z
LAST-MODIFIED:20251124T025530Z
UID:10004408-1764147600-1764169200@thaibloodcentre.redcross.or.th
SUMMARY:ซีดีจี กรุ๊ป []
DESCRIPTION:สถานที่เจาะ : ห้องประชุม Learning 1-3 ชั้น 18 (พัก 12.00-13.00 น.) \nที่อยู่ : 202 ถนนนางลิ้นจี่ แขวงช่องนนทรี เขตยานนาวา กรุงเทพฯ 0 2678 0200
URL:https://thaibloodcentre.redcross.or.th/event/%e0%b8%8b%e0%b8%b5%e0%b8%94%e0%b8%b5%e0%b8%88%e0%b8%b5-%e0%b8%81%e0%b8%a3%e0%b8%b8%e0%b9%8a%e0%b8%9b/
LOCATION:ซีดีจี กรุ๊ป\, ซีดีจี กรุ๊ป 202 ถนนนางลิ้นจี่ แขวงช่องนนทรี เขตยานนาวา กรุงเทพมหานคร 10120
CATEGORIES:ปฏิทินตารางหน่วยเคลื่อนที่
END:VEVENT
BEGIN:VEVENT
DTSTART;TZID=Asia/Krasnoyarsk:20251126T090000
DTEND;TZID=Asia/Krasnoyarsk:20251126T150000
DTSTAMP:20260425T214144
CREATED:20251124T025534Z
LAST-MODIFIED:20251124T025534Z
UID:10004409-1764147600-1764169200@thaibloodcentre.redcross.or.th
SUMMARY:โรงพยาบาลธนบุรี 1 []
DESCRIPTION:สถานที่เจาะ : ชั้นใต้ดิน อาคาร 1 (พัก 12.00-13.00 น.) \nที่อยู่ : 34 ถนนอิสรภาพ แขวงบ้านช่างหล่อ เขตบางกอกน้อย กรุงเทพฯ 0 2487 2000
URL:https://thaibloodcentre.redcross.or.th/event/%e0%b9%82%e0%b8%a3%e0%b8%87%e0%b8%9e%e0%b8%a2%e0%b8%b2%e0%b8%9a%e0%b8%b2%e0%b8%a5%e0%b8%98%e0%b8%99%e0%b8%9a%e0%b8%b8%e0%b8%a3%e0%b8%b5-1/
LOCATION:โรงพยาบาลธนบุรี 1\, โรงพยาบาลธนบุรี 1 34/1 ซอย อิสรภาพ 44 ถ.อิสรภาพ แขวงบ้านช่างหล่อ เขตบางกอกน้อย กทม. 10700
CATEGORIES:ปฏิทินตารางหน่วยเคลื่อนที่
END:VEVENT
BEGIN:VEVENT
DTSTART;TZID=Asia/Krasnoyarsk:20251126T090000
DTEND;TZID=Asia/Krasnoyarsk:20251126T150000
DTSTAMP:20260425T214145
CREATED:20251124T025537Z
LAST-MODIFIED:20251124T025537Z
UID:10004410-1764147600-1764169200@thaibloodcentre.redcross.or.th
SUMMARY:นิติบุคคลอาคารชุดทาวเวอร์ 1 ออฟฟิค []
DESCRIPTION:สถานที่เจาะ : บริเวณ Lobby ชั้น G หน้าธนาคารกรุงศรีฯ (พัก 11.00-12.00 น.) \nที่อยู่ : 1093 ถนนบางนา-ตราด กม.3.5 แขวงบางนา เขตบางนา กรุงเทพฯ 0 2361 5666
URL:https://thaibloodcentre.redcross.or.th/event/%e0%b8%99%e0%b8%b4%e0%b8%95%e0%b8%b4%e0%b8%9a%e0%b8%b8%e0%b8%84%e0%b8%84%e0%b8%a5%e0%b8%ad%e0%b8%b2%e0%b8%84%e0%b8%b2%e0%b8%a3%e0%b8%8a%e0%b8%b8%e0%b8%94%e0%b8%97%e0%b8%b2%e0%b8%a7%e0%b9%80%e0%b8%a7-3/
LOCATION:นิติบุคคลอาคารชุดทาวเวอร์ 1 ออฟฟิค\, อาคารทาวเวอร์ 1 ออฟฟิศ 1093 เซ็นทรัลซิติ้บางนาทาวเวอร์ 1 ถนนบางนา-ตราด แขวงบางนา เขตบางนา กรุงเทพมหานคร 10260
CATEGORIES:ปฏิทินตารางหน่วยเคลื่อนที่
END:VEVENT
BEGIN:VEVENT
DTSTART;TZID=Asia/Krasnoyarsk:20251126T090000
DTEND;TZID=Asia/Krasnoyarsk:20251126T150000
DTSTAMP:20260425T214145
CREATED:20251124T025540Z
LAST-MODIFIED:20251124T025540Z
UID:10004411-1764147600-1764169200@thaibloodcentre.redcross.or.th
SUMMARY:สถาบันวิจัยวิทยาศาสตร์และเทคโนโลยีแห่งประเทศไทย []
DESCRIPTION:สถานที่เจาะ : ห้องโถงชั้น 1 อาคาร Admin (พัก 12.00-13.00 น.) \nที่อยู่ : 35 ม. 3 เทคโนธานี (ถ.เลียบคลอง 5) ต.คลองห้า อ.คลองหลวง ปทุมธานี 0 2577 9388-9
URL:https://thaibloodcentre.redcross.or.th/event/%e0%b8%aa%e0%b8%96%e0%b8%b2%e0%b8%9a%e0%b8%b1%e0%b8%99%e0%b8%a7%e0%b8%b4%e0%b8%88%e0%b8%b1%e0%b8%a2%e0%b8%a7%e0%b8%b4%e0%b8%97%e0%b8%a2%e0%b8%b2%e0%b8%a8%e0%b8%b2%e0%b8%aa%e0%b8%95%e0%b8%a3%e0%b9%8c-2/
LOCATION:สถาบันวิจัยวิทยาศาสตร์และเทคโนโลยีแห่งประเทศไทย\, สถาบันวิจัยวิทยาศาสตร์และเทคโนโลยีแห่งประเทศไทย 35 หมู่ 3 เทคโนธานี ถนนเลียบคลองห้า ตำบลคลองห้า อำเภอคลองหลวง ปทุมธานี 12120
CATEGORIES:ปฏิทินตารางหน่วยเคลื่อนที่
END:VEVENT
BEGIN:VEVENT
DTSTART;TZID=Asia/Krasnoyarsk:20251126T090000
DTEND;TZID=Asia/Krasnoyarsk:20251126T150000
DTSTAMP:20260425T214145
CREATED:20251124T025544Z
LAST-MODIFIED:20251124T025544Z
UID:10004412-1764147600-1764169200@thaibloodcentre.redcross.or.th
SUMMARY:อาคารชินวัตรทาวเวอร์ 3 []
DESCRIPTION:สถานที่เจาะ : หน้า Cafeteria (พัก 11.00-12.00 น.) \nที่อยู่ : 1010 ถนนวิภาวดีรังสิต แขวงจตุจักร เขตจตุจักร กรุงเทพฯ 0 2949 2057
URL:https://thaibloodcentre.redcross.or.th/event/%e0%b8%ad%e0%b8%b2%e0%b8%84%e0%b8%b2%e0%b8%a3%e0%b8%8a%e0%b8%b4%e0%b8%99%e0%b8%a7%e0%b8%b1%e0%b8%95%e0%b8%a3%e0%b8%97%e0%b8%b2%e0%b8%a7%e0%b9%80%e0%b8%a7%e0%b8%ad%e0%b8%a3%e0%b9%8c-3-2/
LOCATION:อาคารชินวัตรทาวเวอร์ 3\, อาคารชินวัตรทาวเวอร์ 3 1010 ถนน วิภาวดีรังสิต แขวงจตุจักร เขตจตุจักร กรุงเทพมหานคร 10900
CATEGORIES:ปฏิทินตารางหน่วยเคลื่อนที่
END:VEVENT
BEGIN:VEVENT
DTSTART;TZID=Asia/Krasnoyarsk:20251126T090000
DTEND;TZID=Asia/Krasnoyarsk:20251126T150000
DTSTAMP:20260425T214145
CREATED:20251124T025645Z
LAST-MODIFIED:20251124T025645Z
UID:10004413-1764147600-1764169200@thaibloodcentre.redcross.or.th
SUMMARY:บริษัท แอดไวซ์ ไอที อินฟินิท จำกัด (มหาชน) []
DESCRIPTION:สถานที่เจาะ : ข้างคลังสินค้า 1 ฝั่งประตู 2 (พัก 12.00-13.00 น.) \nที่อยู่ : 74/1 ม. 1 ต.ท่าอิฐ อ.ปากเกร็ด จ.นนทบุรี 0 2908 8888
URL:https://thaibloodcentre.redcross.or.th/event/%e0%b8%9a%e0%b8%a3%e0%b8%b4%e0%b8%a9%e0%b8%b1%e0%b8%97-%e0%b9%81%e0%b8%ad%e0%b8%94%e0%b9%84%e0%b8%a7%e0%b8%8b%e0%b9%8c-%e0%b9%84%e0%b8%ad%e0%b8%97%e0%b8%b5-%e0%b8%ad%e0%b8%b4%e0%b8%99%e0%b8%9f-2/
LOCATION:บริษัท แอดไวซ์ ไอที อินฟินิท จำกัด (มหาชน)\, บมจ.แอดไวซ์ ไอที อินฟินิท 74/1 ตำบลท่าอิฐ อำเภอปากเกร็ด นนทบุรี 11120
CATEGORIES:ปฏิทินตารางหน่วยเคลื่อนที่
END:VEVENT
BEGIN:VEVENT
DTSTART;TZID=Asia/Krasnoyarsk:20251126T110000
DTEND;TZID=Asia/Krasnoyarsk:20251126T150000
DTSTAMP:20260425T214145
CREATED:20251124T025514Z
LAST-MODIFIED:20251124T025514Z
UID:10004405-1764154800-1764169200@thaibloodcentre.redcross.or.th
SUMMARY:โรบินสัน ไลฟ์สไตล์ ลาดกระบัง []
DESCRIPTION:สถานที่เจาะ : ด้านหน้าห้าง \nที่อยู่ : 308/1 ถนนลาดกระบัง แขวงลาดกระบัง เขตลาดกระบัง กรุงเทพฯ 0 2320 7250 – 59
URL:https://thaibloodcentre.redcross.or.th/event/%e0%b9%82%e0%b8%a3%e0%b8%9a%e0%b8%b4%e0%b8%99%e0%b8%aa%e0%b8%b1%e0%b8%99-%e0%b9%84%e0%b8%a5%e0%b8%9f%e0%b9%8c%e0%b8%aa%e0%b9%84%e0%b8%95%e0%b8%a5%e0%b9%8c-%e0%b8%a5%e0%b8%b2%e0%b8%94%e0%b8%81-9/
LOCATION:โรบินสัน ไลฟ์สไตล์ ลาดกระบัง\, โรบินสัน ไลฟ์สไตล์ ลาดกระบัง ถนนลาดกระบัง แขวงลาดกระบัง เขตลาดกระบัง กรุงเทพมหานคร 10520
CATEGORIES:ปฏิทินตารางหน่วยเคลื่อนที่
END:VEVENT
BEGIN:VEVENT
DTSTART;TZID=Asia/Krasnoyarsk:20251126T120000
DTEND;TZID=Asia/Krasnoyarsk:20251126T180000
DTSTAMP:20260425T214145
CREATED:20251124T025358Z
LAST-MODIFIED:20251124T025358Z
UID:10004398-1764158400-1764180000@thaibloodcentre.redcross.or.th
SUMMARY:ศูนย์การค้าเดอะมอลล์ไลฟ์สโตร์ บางแค []
DESCRIPTION:สถานที่เจาะ : ชั้น 3 ตรงข้ามร้านโอ้กะจู๋ \nที่อยู่ : ถนนเพชรเกษม แขวงบางแคเหนือ เขตภาษีเจริญ กรุงเทพฯ 02 487 1221
URL:https://thaibloodcentre.redcross.or.th/event/%e0%b8%a8%e0%b8%b9%e0%b8%99%e0%b8%a2%e0%b9%8c%e0%b8%81%e0%b8%b2%e0%b8%a3%e0%b8%84%e0%b9%89%e0%b8%b2%e0%b9%80%e0%b8%94%e0%b8%ad%e0%b8%b0%e0%b8%a1%e0%b8%ad%e0%b8%a5%e0%b8%a5%e0%b9%8c%e0%b9%84-1083/
LOCATION:ศูนย์การค้าเดอะมอลล์ไลฟ์สโตร์ บางแค\, ศูนย์การค้าเดอะมอลล์ไลฟ์สโตร์ บางแค
CATEGORIES:ปฏิทินตารางหน่วยเคลื่อนที่
END:VEVENT
END:VCALENDAR