BEGIN:VCALENDAR
VERSION:2.0
PRODID:-//เว็บไซต์ศูนย์บริการโลหิตแห่งชาติ - ECPv6.11.2.1//NONSGML v1.0//EN
CALSCALE:GREGORIAN
METHOD:PUBLISH
X-WR-CALNAME:เว็บไซต์ศูนย์บริการโลหิตแห่งชาติ
X-ORIGINAL-URL:https://thaibloodcentre.redcross.or.th
X-WR-CALDESC:Events for เว็บไซต์ศูนย์บริการโลหิตแห่งชาติ
REFRESH-INTERVAL;VALUE=DURATION:PT1H
X-Robots-Tag:noindex
X-PUBLISHED-TTL:PT1H
BEGIN:VTIMEZONE
TZID:Asia/Krasnoyarsk
BEGIN:STANDARD
TZOFFSETFROM:+0700
TZOFFSETTO:+0700
TZNAME:+07
DTSTART:20250101T000000
END:STANDARD
END:VTIMEZONE
BEGIN:VEVENT
DTSTART;TZID=Asia/Krasnoyarsk:20251207T110000
DTEND;TZID=Asia/Krasnoyarsk:20251207T150000
DTSTAMP:20260424T070738
CREATED:20251128T101159Z
LAST-MODIFIED:20251128T110452Z
UID:10004569-1765105200-1765119600@thaibloodcentre.redcross.or.th
SUMMARY:บิ๊กซี เอ็กซ์ตร้า สาขาบางใหญ่ []
DESCRIPTION:สถานที่เจาะ : ชั้น 1 ด้านหน้าร้าน Watsons \nที่อยู่ : 9/9 ม.11 ถ.ตลิ่งชัน-สุพรรณบุรี ต.บางรักพัฒนา อ.บางบัวทอง จ.นนทบุรี 0 2903 1116
URL:https://thaibloodcentre.redcross.or.th/event/%e0%b8%9a%e0%b8%b4%e0%b9%8a%e0%b8%81%e0%b8%8b%e0%b8%b5-%e0%b9%80%e0%b8%ad%e0%b9%87%e0%b8%81%e0%b8%8b%e0%b9%8c%e0%b8%95%e0%b8%a3%e0%b9%89%e0%b8%b2-%e0%b8%aa%e0%b8%b2%e0%b8%82%e0%b8%b2%e0%b8%9a-4/
LOCATION:บิ๊กซี เอ็กซ์ตร้า สาขาบางใหญ่\, บิ๊กซี เอ็กซ์ตร้า บางใหญ่ 9/9 ถ.ตลิ่งชัน - สุพรรณบุรี ต.บางรักพัฒนา อ.บางบัวทอง จ.นนทบุรี 11110
CATEGORIES:ปฏิทินตารางหน่วยเคลื่อนที่
END:VEVENT
BEGIN:VEVENT
DTSTART;TZID=Asia/Krasnoyarsk:20251207T110000
DTEND;TZID=Asia/Krasnoyarsk:20251207T150000
DTSTAMP:20260424T070738
CREATED:20251128T101202Z
LAST-MODIFIED:20251128T110453Z
UID:10004570-1765105200-1765119600@thaibloodcentre.redcross.or.th
SUMMARY:บิ๊กซี ซูเปอร์เซ็นเตอร์ สาขาสุขสวัสดิ์ []
DESCRIPTION:สถานที่เจาะ : หน้าห้าง \nที่อยู่ : 94 ม. 18 ถ.สุขสวัสดิ์ ต.บางผึ้ง อ.พระประแดง จ.สมุทรปราการ 0 2464 4222
URL:https://thaibloodcentre.redcross.or.th/event/%e0%b8%9a%e0%b8%b4%e0%b9%8a%e0%b8%81%e0%b8%8b%e0%b8%b5-%e0%b8%8b%e0%b8%b9%e0%b9%80%e0%b8%9b%e0%b8%ad%e0%b8%a3%e0%b9%8c%e0%b9%80%e0%b8%8b%e0%b9%87%e0%b8%99%e0%b9%80%e0%b8%95%e0%b8%ad%e0%b8%a3-30/
LOCATION:บิ๊กซี ซูเปอร์เซ็นเตอร์ สาขาสุขสวัสดิ์\, บิ๊กซี ซุปเปอร์เซ็นเตอร์ สุขสวัสดิ์ 94 ม.18 ถ.สุขสวัสดิ์ ต.บางพึ่ง อ.พระประแดง จ.สมุทรปราการ 10130
CATEGORIES:ปฏิทินตารางหน่วยเคลื่อนที่
END:VEVENT
BEGIN:VEVENT
DTSTART;TZID=Asia/Krasnoyarsk:20251207T110000
DTEND;TZID=Asia/Krasnoyarsk:20251207T150000
DTSTAMP:20260424T070738
CREATED:20251128T101205Z
LAST-MODIFIED:20251128T110454Z
UID:10004571-1765105200-1765119600@thaibloodcentre.redcross.or.th
SUMMARY:บริษัท ซีพี แอ็กซ์ตร้า จำกัด (มหาชน) สาขารามอินทรา []
DESCRIPTION:สถานที่เจาะ : ทางเข้าลูกค้า \nที่อยู่ : 904 ถนนรามอินทรา แขวงคันนายาว เขตคันนายาว กรุงเทพฯ 0 2000 7592
URL:https://thaibloodcentre.redcross.or.th/event/%e0%b8%9a%e0%b8%a3%e0%b8%b4%e0%b8%a9%e0%b8%b1%e0%b8%97-%e0%b8%8b%e0%b8%b5%e0%b8%9e%e0%b8%b5-%e0%b9%81%e0%b8%ad%e0%b9%87%e0%b8%81%e0%b8%8b%e0%b9%8c%e0%b8%95%e0%b8%a3%e0%b9%89%e0%b8%b2-%e0%b8%88-37/
LOCATION:บริษัท ซีพี แอ็กซ์ตร้า จำกัด (มหาชน) สาขารามอินทรา\, แม็คโคร รามอินทรา 904 ถนนรามอินทรา แขวงคันนายาว เขตคันนายาว กรุงเทพมหานคร 10230
CATEGORIES:ปฏิทินตารางหน่วยเคลื่อนที่
END:VEVENT
BEGIN:VEVENT
DTSTART;TZID=Asia/Krasnoyarsk:20251207T120000
DTEND;TZID=Asia/Krasnoyarsk:20251207T180000
DTSTAMP:20260424T070738
CREATED:20251128T100804Z
LAST-MODIFIED:20251128T110423Z
UID:10004561-1765108800-1765130400@thaibloodcentre.redcross.or.th
SUMMARY:ศูนย์การค้าเดอะมอลล์ไลฟ์สโตร์ บางแค []
DESCRIPTION:สถานที่เจาะ : ชั้น 3 ตรงข้ามร้านโอ้กะจู๋ \nที่อยู่ : ถนนเพชรเกษม แขวงบางแคเหนือ เขตภาษีเจริญ กรุงเทพฯ 02 487 1221
URL:https://thaibloodcentre.redcross.or.th/event/%e0%b8%a8%e0%b8%b9%e0%b8%99%e0%b8%a2%e0%b9%8c%e0%b8%81%e0%b8%b2%e0%b8%a3%e0%b8%84%e0%b9%89%e0%b8%b2%e0%b9%80%e0%b8%94%e0%b8%ad%e0%b8%b0%e0%b8%a1%e0%b8%ad%e0%b8%a5%e0%b8%a5%e0%b9%8c%e0%b9%84-1127/
LOCATION:ศูนย์การค้าเดอะมอลล์ไลฟ์สโตร์ บางแค\, ศูนย์การค้าเดอะมอลล์ไลฟ์สโตร์ บางแค
CATEGORIES:ปฏิทินตารางหน่วยเคลื่อนที่
END:VEVENT
BEGIN:VEVENT
DTSTART;TZID=Asia/Krasnoyarsk:20251207T120000
DTEND;TZID=Asia/Krasnoyarsk:20251207T180000
DTSTAMP:20260424T070738
CREATED:20251128T100813Z
LAST-MODIFIED:20251128T110424Z
UID:10004562-1765108800-1765130400@thaibloodcentre.redcross.or.th
SUMMARY:ศูนย์การค้าเดอะมอลล์ไลฟ์สโตร์ บางกะปิ []
DESCRIPTION:สถานที่เจาะ : ชั้น 2 ทางออกลานจอดรถ \nที่อยู่ : ถนนลาดพร้าว แขวงคลองจั่น เขตบางกะปิ กรุงเทพฯ 0 2310 2278
URL:https://thaibloodcentre.redcross.or.th/event/%e0%b8%a8%e0%b8%b9%e0%b8%99%e0%b8%a2%e0%b9%8c%e0%b8%81%e0%b8%b2%e0%b8%a3%e0%b8%84%e0%b9%89%e0%b8%b2%e0%b9%80%e0%b8%94%e0%b8%ad%e0%b8%b0%e0%b8%a1%e0%b8%ad%e0%b8%a5%e0%b8%a5%e0%b9%8c%e0%b9%84-1128/
LOCATION:ศูนย์การค้าเดอะมอลล์ไลฟ์สโตร์ บางกะปิ\, เดอะมอลล์ไลฟ์สโตร์ บางกะปิ 3522 ถ. ลาดพร้าว แขวงคลองจั่น เขตบางกะปิ กรุงเทพมหานคร 10240
CATEGORIES:ปฏิทินตารางหน่วยเคลื่อนที่
END:VEVENT
BEGIN:VEVENT
DTSTART;TZID=Asia/Krasnoyarsk:20251207T120000
DTEND;TZID=Asia/Krasnoyarsk:20251207T180000
DTSTAMP:20260424T070738
CREATED:20251128T100822Z
LAST-MODIFIED:20251128T110425Z
UID:10004563-1765108800-1765130400@thaibloodcentre.redcross.or.th
SUMMARY:ศูนย์การค้าเดอะมอลล์ไลฟ์สโตร์ งามวงศ์วาน []
DESCRIPTION:สถานที่เจาะ : ชั้น 5 โซน Government Center \nที่อยู่ : ถนนงามวงศ์วาน ต.บางเขน อ.เมือง จ.นนทบุรี 0 2555 1550
URL:https://thaibloodcentre.redcross.or.th/event/%e0%b8%a8%e0%b8%b9%e0%b8%99%e0%b8%a2%e0%b9%8c%e0%b8%81%e0%b8%b2%e0%b8%a3%e0%b8%84%e0%b9%89%e0%b8%b2%e0%b9%80%e0%b8%94%e0%b8%ad%e0%b8%b0%e0%b8%a1%e0%b8%ad%e0%b8%a5%e0%b8%a5%e0%b9%8c%e0%b9%84-1129/
LOCATION:ศูนย์การค้าเดอะมอลล์ไลฟ์สโตร์ งามวงศ์วาน\, เดอะมอลล์ ไลฟ์สโตร์ งามวงศ์วาน 430 ถนน งามวงศ์วาน ตำบลบางเขน อำเภอเมืองนนทบุรี นนทบุรี 11000
CATEGORIES:ปฏิทินตารางหน่วยเคลื่อนที่
END:VEVENT
BEGIN:VEVENT
DTSTART;TZID=Asia/Krasnoyarsk:20251207T120000
DTEND;TZID=Asia/Krasnoyarsk:20251207T180000
DTSTAMP:20260424T070738
CREATED:20251128T100958Z
LAST-MODIFIED:20251128T110437Z
UID:10004564-1765108800-1765130400@thaibloodcentre.redcross.or.th
SUMMARY:ศูนย์การค้า เอ็มโพเรียม []
DESCRIPTION:สถานที่เจาะ : ชั้น M ศูนย์การค้า ดิ เอ็มโพเรียม เชื่อมลานจอดรถอาคาร B \nที่อยู่ : 622 ถนนสุขุมวิท แขวงคลองตัน เขตคลองเตย กรุงเทพฯ 0 2269 1515
URL:https://thaibloodcentre.redcross.or.th/event/%e0%b8%a8%e0%b8%b9%e0%b8%99%e0%b8%a2%e0%b9%8c%e0%b8%81%e0%b8%b2%e0%b8%a3%e0%b8%84%e0%b9%89%e0%b8%b2-%e0%b9%80%e0%b8%ad%e0%b9%87%e0%b8%a1%e0%b9%82%e0%b8%9e%e0%b9%80%e0%b8%a3%e0%b8%b5%e0%b8%a2-278/
LOCATION:ศูนย์การค้า เอ็มโพเรียม\, เอ็มโพเรียม 622 ถ. สุขุมวิท แขวงคลองตัน เขตคลองเตย กรุงเทพมหานคร 10110
CATEGORIES:ปฏิทินตารางหน่วยเคลื่อนที่
END:VEVENT
BEGIN:VEVENT
DTSTART;TZID=Asia/Krasnoyarsk:20251207T120000
DTEND;TZID=Asia/Krasnoyarsk:20251207T180000
DTSTAMP:20260424T070738
CREATED:20251128T101002Z
LAST-MODIFIED:20251128T110438Z
UID:10004565-1765108800-1765130400@thaibloodcentre.redcross.or.th
SUMMARY:ศูนย์การค้าเดอะมอลล์ไลฟ์สโตร์ ท่าพระ []
DESCRIPTION:สถานที่เจาะ : ชั้น 1 (ติดลานจอดรถ) \nที่อยู่ : 99 ถนนรัชดาท่าพระตัดใหม่ แขวงบุคคโล เขตธนบุรี กรุงเทพฯ 0 2469-1000
URL:https://thaibloodcentre.redcross.or.th/event/%e0%b8%a8%e0%b8%b9%e0%b8%99%e0%b8%a2%e0%b9%8c%e0%b8%81%e0%b8%b2%e0%b8%a3%e0%b8%84%e0%b9%89%e0%b8%b2%e0%b9%80%e0%b8%94%e0%b8%ad%e0%b8%b0%e0%b8%a1%e0%b8%ad%e0%b8%a5%e0%b8%a5%e0%b9%8c%e0%b9%84-1130/
LOCATION:ศูนย์การค้าเดอะมอลล์ไลฟ์สโตร์ ท่าพระ\, เดอะมอลล์ไลฟ์สโตร์ ท่าพระ 129 ถ. รัชดาภิเษก แขวงบุคคโล เขตธนบุรี กรุงเทพมหานคร 10600
CATEGORIES:ปฏิทินตารางหน่วยเคลื่อนที่
END:VEVENT
BEGIN:VEVENT
DTSTART;TZID=Asia/Krasnoyarsk:20251208T073000
DTEND;TZID=Asia/Krasnoyarsk:20251208T193000
DTSTAMP:20260424T070739
CREATED:20251128T101207Z
LAST-MODIFIED:20251128T110454Z
UID:10004572-1765179000-1765222200@thaibloodcentre.redcross.or.th
SUMMARY:ศูนย์บริการโลหิตแห่งชาติ สภากาชาดไทย []
DESCRIPTION:ที่อยู่ : 1871 ถ. อังรีดูนังต์ แขวงปทุมวัน เขตปทุมวัน
URL:https://thaibloodcentre.redcross.or.th/event/%e0%b8%a8%e0%b8%b9%e0%b8%99%e0%b8%a2%e0%b9%8c%e0%b8%9a%e0%b8%a3%e0%b8%b4%e0%b8%81%e0%b8%b2%e0%b8%a3%e0%b9%82%e0%b8%a5%e0%b8%ab%e0%b8%b4%e0%b8%95%e0%b9%81%e0%b8%ab%e0%b9%88%e0%b8%87%e0%b8%8a-363/
LOCATION:ศูนย์บริการโลหิตแห่งชาติ สภากาชาดไทย\, ศูนย์บริการโลหิตแห่งชาติ สภากาชาดไทย 1871 ถ. อังรีดูนังต์ แขวงปทุมวัน เขตปทุมวัน กรุงเทพมหานคร 10330
CATEGORIES:ปฏิทินตารางหน่วยเคลื่อนที่
END:VEVENT
BEGIN:VEVENT
DTSTART;TZID=Asia/Krasnoyarsk:20251208T083000
DTEND;TZID=Asia/Krasnoyarsk:20251208T193000
DTSTAMP:20260424T070739
CREATED:20251128T101433Z
LAST-MODIFIED:20251128T110510Z
UID:10004578-1765182600-1765222200@thaibloodcentre.redcross.or.th
SUMMARY:สถานีกาชาด 11 วิเศษนิยม []
DESCRIPTION:สถานที่เจาะ : ชั้น 3 \nที่อยู่ : 33/3 ถนนเพชรเกษม แขวงบางหว้า เขตภาษีเจริญ กรุงเทพฯ 0633450711
URL:https://thaibloodcentre.redcross.or.th/event/%e0%b8%aa%e0%b8%96%e0%b8%b2%e0%b8%99%e0%b8%b5%e0%b8%81%e0%b8%b2%e0%b8%8a%e0%b8%b2%e0%b8%94-11-%e0%b8%a7%e0%b8%b4%e0%b9%80%e0%b8%a8%e0%b8%a9%e0%b8%99%e0%b8%b4%e0%b8%a2%e0%b8%a1-112/
LOCATION:สถานีกาชาด 11 วิเศษนิยม\, สถานีกาชาด 11 วิเศษนิยม 605 ถ.เพชรเกษม แขวงบางหว้า เขตภาษีเจริญ กรุงเทพมหานคร 10160
CATEGORIES:ปฏิทินตารางหน่วยเคลื่อนที่
END:VEVENT
BEGIN:VEVENT
DTSTART;TZID=Asia/Krasnoyarsk:20251208T090000
DTEND;TZID=Asia/Krasnoyarsk:20251208T110000
DTSTAMP:20260424T070739
CREATED:20251128T104524Z
LAST-MODIFIED:20251128T110539Z
UID:10004587-1765184400-1765191600@thaibloodcentre.redcross.or.th
SUMMARY:บริษัท อุตสาหกรรมทำเครื่องแก้วไทย จำกัด (มหาชน) โรงงานบางพลี []
DESCRIPTION:สถานที่เจาะ : ด้านหน้าโรงงาน \nที่อยู่ : 78 ม. 3 ซ.วัดศรีวารีน้อย ถ.บางนา-ตราด กม.18 ต.หนองปรือ อ.บางพลี จ.สมุทรปราการ 0 2769 3500
URL:https://thaibloodcentre.redcross.or.th/event/%e0%b8%9a%e0%b8%a3%e0%b8%b4%e0%b8%a9%e0%b8%b1%e0%b8%97-%e0%b8%ad%e0%b8%b8%e0%b8%95%e0%b8%aa%e0%b8%b2%e0%b8%ab%e0%b8%81%e0%b8%a3%e0%b8%a3%e0%b8%a1%e0%b8%97%e0%b8%b3%e0%b9%80%e0%b8%84%e0%b8%a3-3/
LOCATION:บริษัท อุตสาหกรรมทำเครื่องแก้วไทย จำกัด (มหาชน) โรงงานบางพลี\, บริษัท อุตสาหกรรมทำเครื่องแก้วไทย จำกัด (มหาชน) โรงงานบางพลี 78 ม.3 ซ.วัดศรีวารีน้อย ถ.บางนา-ตราด ต.หนองปรือ อ.บางพลี จ.สมุทรปราการ 10540
CATEGORIES:ปฏิทินตารางหน่วยเคลื่อนที่
END:VEVENT
BEGIN:VEVENT
DTSTART;TZID=Asia/Krasnoyarsk:20251208T090000
DTEND;TZID=Asia/Krasnoyarsk:20251208T150000
DTSTAMP:20260424T070739
CREATED:20251128T104501Z
LAST-MODIFIED:20251128T110522Z
UID:10004579-1765184400-1765206000@thaibloodcentre.redcross.or.th
SUMMARY:บ้านทรงไทย (ย่านวงศ์สว่าง) []
DESCRIPTION:สถานที่เจาะ : (พัก 12.30-13.00 น.) \nที่อยู่ : 1423 ถนนกรุงเทพ – นนทบุรี แขวงวงศ์สว่าง เขตบางซื่อ กรุงเทพฯ 0 2256 4300
URL:https://thaibloodcentre.redcross.or.th/event/%e0%b8%9a%e0%b9%89%e0%b8%b2%e0%b8%99%e0%b8%97%e0%b8%a3%e0%b8%87%e0%b9%84%e0%b8%97%e0%b8%a2-%e0%b8%a2%e0%b9%88%e0%b8%b2%e0%b8%99%e0%b8%a7%e0%b8%87%e0%b8%a8%e0%b9%8c%e0%b8%aa%e0%b8%a7%e0%b9%88-281/
LOCATION:บ้านทรงไทย (ย่านวงศ์สว่าง)\, หน่วยรับบริจาคโลหิต บ้านทรงไทย(ย่านวงศ์สว่าง) 1423 ถนนกรุงเทพ-นนทบุรี แขวงวงศ์สว่าง เขตบางซื่อ กรุงเทพมหานคร 10800
CATEGORIES:ปฏิทินตารางหน่วยเคลื่อนที่
END:VEVENT
BEGIN:VEVENT
DTSTART;TZID=Asia/Krasnoyarsk:20251208T090000
DTEND;TZID=Asia/Krasnoyarsk:20251208T150000
DTSTAMP:20260424T070739
CREATED:20251128T104511Z
LAST-MODIFIED:20251128T110524Z
UID:10004583-1765184400-1765206000@thaibloodcentre.redcross.or.th
SUMMARY:บริษัท ไทยวาโก้ จำกัด (มหาชน) []
DESCRIPTION:สถานที่เจาะ : อาคาร 6 ชั้น 4 (พัก 12.00-13.00 น.) \nที่อยู่ : 930/1 ซอยประดู่ 1 ถนนสาธุประดิษฐ์ แขวงบางโคล่ เขตบางคอแหลม กรุงเทพฯ 0 2289 3100
URL:https://thaibloodcentre.redcross.or.th/event/%e0%b8%9a%e0%b8%a3%e0%b8%b4%e0%b8%a9%e0%b8%b1%e0%b8%97-%e0%b9%84%e0%b8%97%e0%b8%a2%e0%b8%a7%e0%b8%b2%e0%b9%82%e0%b8%81%e0%b9%89-%e0%b8%88%e0%b8%b3%e0%b8%81%e0%b8%b1%e0%b8%94-%e0%b8%a1%e0%b8%ab-4/
LOCATION:บริษัท ไทยวาโก้ จำกัด (มหาชน)\, บริษัท ไทยวาโก้ จำกัด (มหาชน) 930/1 ซอยประดู่ 1 ถนนสาธุประดิษฐ์ แขวงบางโคล่ เขตบางคอแหลม กรุงเทพมหานคร 10120
CATEGORIES:ปฏิทินตารางหน่วยเคลื่อนที่
END:VEVENT
BEGIN:VEVENT
DTSTART;TZID=Asia/Krasnoyarsk:20251208T090000
DTEND;TZID=Asia/Krasnoyarsk:20251208T150000
DTSTAMP:20260424T070739
CREATED:20251128T104518Z
LAST-MODIFIED:20251128T110537Z
UID:10004584-1765184400-1765206000@thaibloodcentre.redcross.or.th
SUMMARY:โรงพยาบาลรามคำแหง []
DESCRIPTION:สถานที่เจาะ : ชั้น 10 อาคาร C  (พัก 12.00-13.00 น.) \nที่อยู่ : 436 รามคำแหง 34 แขวงหัวหมาก เขตบางกะปิ กรุงเทพฯ 0 2743 9999
URL:https://thaibloodcentre.redcross.or.th/event/%e0%b9%82%e0%b8%a3%e0%b8%87%e0%b8%9e%e0%b8%a2%e0%b8%b2%e0%b8%9a%e0%b8%b2%e0%b8%a5%e0%b8%a3%e0%b8%b2%e0%b8%a1%e0%b8%84%e0%b8%b3%e0%b9%81%e0%b8%ab%e0%b8%87-2/
LOCATION:โรงพยาบาลรามคำแหง
CATEGORIES:ปฏิทินตารางหน่วยเคลื่อนที่
END:VEVENT
BEGIN:VEVENT
DTSTART;TZID=Asia/Krasnoyarsk:20251208T090000
DTEND;TZID=Asia/Krasnoyarsk:20251208T150000
DTSTAMP:20260424T070739
CREATED:20251128T104520Z
LAST-MODIFIED:20251128T110538Z
UID:10004585-1765184400-1765206000@thaibloodcentre.redcross.or.th
SUMMARY:บริษัท โตโยต้า โบโชคุ เอเซีย จำกัด []
DESCRIPTION:สถานที่เจาะ : Hall Room ชั้น 2 (พัก 12.00-13.00 น.) \nที่อยู่ : 801 ถนนกาญจนาภิเษก แขวงประเวศ เขตประเวศ กรุงเทพฯ 0 2329 5000
URL:https://thaibloodcentre.redcross.or.th/event/%e0%b8%9a%e0%b8%a3%e0%b8%b4%e0%b8%a9%e0%b8%b1%e0%b8%97-%e0%b9%82%e0%b8%95%e0%b9%82%e0%b8%a2%e0%b8%95%e0%b9%89%e0%b8%b2-%e0%b9%82%e0%b8%9a%e0%b9%82%e0%b8%8a%e0%b8%84%e0%b8%b8-%e0%b9%80%e0%b8%ad-4/
LOCATION:บริษัท โตโยต้า โบโชคุ เอเซีย จำกัด\, บริษัท โตโยต้า โบโชคุ เอเซีย จำกัด 801 ถนนกาญจนาภิเษก แขวงประเวศ เขตประเวศ กรุงเทพมหานคร 10250
CATEGORIES:ปฏิทินตารางหน่วยเคลื่อนที่
END:VEVENT
BEGIN:VEVENT
DTSTART;TZID=Asia/Krasnoyarsk:20251208T090000
DTEND;TZID=Asia/Krasnoyarsk:20251208T150000
DTSTAMP:20260424T070739
CREATED:20251128T104522Z
LAST-MODIFIED:20251128T110539Z
UID:10004586-1765184400-1765206000@thaibloodcentre.redcross.or.th
SUMMARY:กองแพทย์ กรมชลประทาน สามเสน []
DESCRIPTION:สถานที่เจาะ : หน้าตึกกองแพทย์ (พัก 12.00-13.00 น.) \nที่อยู่ : 811 ถนนสามเสน แขวงสามเสน เขตดุสิต กรุงเทพฯ 0 2241 0741
URL:https://thaibloodcentre.redcross.or.th/event/%e0%b8%81%e0%b8%ad%e0%b8%87%e0%b9%81%e0%b8%9e%e0%b8%97%e0%b8%a2%e0%b9%8c-%e0%b8%81%e0%b8%a3%e0%b8%a1%e0%b8%8a%e0%b8%a5%e0%b8%9b%e0%b8%a3%e0%b8%b0%e0%b8%97%e0%b8%b2%e0%b8%99-%e0%b8%aa%e0%b8%b2-4/
LOCATION:กองแพทย์ กรมชลประทาน สามเสน\, กองแพทย์ กรมชลประทาน สามเสน 811 ถนนสามเสน แขวงถนนนครไชยศรี เขตดุสิต กรุงเทพมหานคร 10300
CATEGORIES:ปฏิทินตารางหน่วยเคลื่อนที่
END:VEVENT
BEGIN:VEVENT
DTSTART;TZID=Asia/Krasnoyarsk:20251208T090000
DTEND;TZID=Asia/Krasnoyarsk:20251208T150000
DTSTAMP:20260424T070739
CREATED:20251128T104526Z
LAST-MODIFIED:20251128T110540Z
UID:10004588-1765184400-1765206000@thaibloodcentre.redcross.or.th
SUMMARY:บริษัท นารายณ์แพค จำกัด []
DESCRIPTION:สถานที่เจาะ : ห้องประชุม 1 อาคาร 12 (พัก 12.00-13.00 น.) \nที่อยู่ : 110/5 ซอยบางกระดี 35/1 ถนนพระราม 2 แขวงแสมดำ เขตบางขุนเทียน กรุงเทพฯ 0 2452 1421-23
URL:https://thaibloodcentre.redcross.or.th/event/%e0%b8%9a%e0%b8%a3%e0%b8%b4%e0%b8%a9%e0%b8%b1%e0%b8%97-%e0%b8%99%e0%b8%b2%e0%b8%a3%e0%b8%b2%e0%b8%a2%e0%b8%93%e0%b9%8c%e0%b9%81%e0%b8%9e%e0%b8%84-%e0%b8%88%e0%b8%b3%e0%b8%81%e0%b8%b1%e0%b8%94-2/
LOCATION:บริษัท นารายณ์แพค จำกัด\, บริษัท นารายณ์แพค จำกัด 110/5 ซอยบางกระดี่ 35/1 ถนนบางกระดี่ แขวงแสมดำ เขตบางขุนเทียน กรุงเทพฯ 10150
CATEGORIES:ปฏิทินตารางหน่วยเคลื่อนที่
END:VEVENT
BEGIN:VEVENT
DTSTART;TZID=Asia/Krasnoyarsk:20251208T110000
DTEND;TZID=Asia/Krasnoyarsk:20251208T150000
DTSTAMP:20260424T070739
CREATED:20251128T104505Z
LAST-MODIFIED:20251128T110522Z
UID:10004580-1765191600-1765206000@thaibloodcentre.redcross.or.th
SUMMARY:ศูนย์การค้า ธัญญาพาร์ค ศรีนครินทร์ []
DESCRIPTION:สถานที่เจาะ : อาคาร B ชั้น 2 \nที่อยู่ : บริษัท ธัญวิลล์ จำกัด 735\,735/1-8 ถนนศรีนครินทร์ แขวงพัฒนาการ เขตสวนหลวง กรุงเทพฯ 0 2108 6000
URL:https://thaibloodcentre.redcross.or.th/event/%e0%b8%a8%e0%b8%b9%e0%b8%99%e0%b8%a2%e0%b9%8c%e0%b8%81%e0%b8%b2%e0%b8%a3%e0%b8%84%e0%b9%89%e0%b8%b2-%e0%b8%98%e0%b8%b1%e0%b8%8d%e0%b8%8d%e0%b8%b2%e0%b8%9e%e0%b8%b2%e0%b8%a3%e0%b9%8c%e0%b8%84-11/
LOCATION:ศูนย์การค้า ธัญญาพาร์ค ศรีนครินทร์\, ศูนย์การค้า ธัญญาพาร์ค ศรีนครินทร์ 735\,1-8 ถ.ศรีนครินทร์ แขวงพัฒนาการ เขตสวนหลวง กรุงเทพมหานคร 10250
CATEGORIES:ปฏิทินตารางหน่วยเคลื่อนที่
END:VEVENT
BEGIN:VEVENT
DTSTART;TZID=Asia/Krasnoyarsk:20251208T110000
DTEND;TZID=Asia/Krasnoyarsk:20251208T150000
DTSTAMP:20260424T070739
CREATED:20251128T104507Z
LAST-MODIFIED:20251128T110523Z
UID:10004581-1765191600-1765206000@thaibloodcentre.redcross.or.th
SUMMARY:เซ็นทรัลพลาซา ลาดพร้าว []
DESCRIPTION:สถานที่เจาะ : ลานด้านหน้าศูนย์การค้า \nที่อยู่ : 1691 ถนนพหลโยธิน แขวงจตุจักร เขตจตุจักร กรุงเทพฯ 0 2793 6000
URL:https://thaibloodcentre.redcross.or.th/event/%e0%b9%80%e0%b8%8b%e0%b9%87%e0%b8%99%e0%b8%97%e0%b8%a3%e0%b8%b1%e0%b8%a5%e0%b8%9e%e0%b8%a5%e0%b8%b2%e0%b8%8b%e0%b8%b2-%e0%b8%a5%e0%b8%b2%e0%b8%94%e0%b8%9e%e0%b8%a3%e0%b9%89%e0%b8%b2%e0%b8%a7-5/
LOCATION:เซ็นทรัลพลาซา ลาดพร้าว\, เซ็นทรัลพลาซา ลาดพร้าว 1693 ถ.พหลโยธิน แขวงจตุจักร เขตจตุจักร กรุงเทพมหานคร 10900
CATEGORIES:ปฏิทินตารางหน่วยเคลื่อนที่
END:VEVENT
BEGIN:VEVENT
DTSTART;TZID=Asia/Krasnoyarsk:20251208T110000
DTEND;TZID=Asia/Krasnoyarsk:20251208T150000
DTSTAMP:20260424T070739
CREATED:20251128T104509Z
LAST-MODIFIED:20251128T110524Z
UID:10004582-1765191600-1765206000@thaibloodcentre.redcross.or.th
SUMMARY:บริษัท กุลธรเคอร์บี้ จำกัด (มหาชน) []
DESCRIPTION:สถานที่เจาะ : สนามเปตอง (ข้างห้องประชุม 30 ปี) \nที่อยู่ : 126 นิคมฯลาดกระบัง ถนนฉลองกรุง 31 แขวงลำปลาทิว เขตลาดกระบัง กรุงเทพฯ 0 2326 0831-6
URL:https://thaibloodcentre.redcross.or.th/event/%e0%b8%9a%e0%b8%a3%e0%b8%b4%e0%b8%a9%e0%b8%b1%e0%b8%97-%e0%b8%81%e0%b8%b8%e0%b8%a5%e0%b8%98%e0%b8%a3%e0%b9%80%e0%b8%84%e0%b8%ad%e0%b8%a3%e0%b9%8c%e0%b8%9a%e0%b8%b5%e0%b9%89-%e0%b8%88%e0%b8%b3-4/
LOCATION:บริษัท กุลธรเคอร์บี้ จำกัด (มหาชน)\, บริษัท กุลธรเคอร์บี้ จำกัด (มหาชน) 126 นิคมฯลาดกระบัง ซอย 31 ถนนฉลองกรุง แขวงลำปลาทิว เขตลาดกระบัง กรุงเทพมหานคร 10520
CATEGORIES:ปฏิทินตารางหน่วยเคลื่อนที่
END:VEVENT
BEGIN:VEVENT
DTSTART;TZID=Asia/Krasnoyarsk:20251208T120000
DTEND;TZID=Asia/Krasnoyarsk:20251208T180000
DTSTAMP:20260424T070739
CREATED:20251128T101211Z
LAST-MODIFIED:20251128T110455Z
UID:10004573-1765195200-1765216800@thaibloodcentre.redcross.or.th
SUMMARY:ศูนย์การค้าเดอะมอลล์ไลฟ์สโตร์ บางแค []
DESCRIPTION:สถานที่เจาะ : ชั้น 3 ตรงข้ามร้านโอ้กะจู๋ \nที่อยู่ : ถนนเพชรเกษม แขวงบางแคเหนือ เขตภาษีเจริญ กรุงเทพฯ 02 487 1221
URL:https://thaibloodcentre.redcross.or.th/event/%e0%b8%a8%e0%b8%b9%e0%b8%99%e0%b8%a2%e0%b9%8c%e0%b8%81%e0%b8%b2%e0%b8%a3%e0%b8%84%e0%b9%89%e0%b8%b2%e0%b9%80%e0%b8%94%e0%b8%ad%e0%b8%b0%e0%b8%a1%e0%b8%ad%e0%b8%a5%e0%b8%a5%e0%b9%8c%e0%b9%84-1131/
LOCATION:ศูนย์การค้าเดอะมอลล์ไลฟ์สโตร์ บางแค\, ศูนย์การค้าเดอะมอลล์ไลฟ์สโตร์ บางแค
CATEGORIES:ปฏิทินตารางหน่วยเคลื่อนที่
END:VEVENT
BEGIN:VEVENT
DTSTART;TZID=Asia/Krasnoyarsk:20251208T120000
DTEND;TZID=Asia/Krasnoyarsk:20251208T180000
DTSTAMP:20260424T070739
CREATED:20251128T101401Z
LAST-MODIFIED:20251128T110507Z
UID:10004574-1765195200-1765216800@thaibloodcentre.redcross.or.th
SUMMARY:ศูนย์การค้าเดอะมอลล์ไลฟ์สโตร์ บางกะปิ []
DESCRIPTION:สถานที่เจาะ : ชั้น 2 ทางออกลานจอดรถ \nที่อยู่ : ถนนลาดพร้าว แขวงคลองจั่น เขตบางกะปิ กรุงเทพฯ 0 2310 2278
URL:https://thaibloodcentre.redcross.or.th/event/%e0%b8%a8%e0%b8%b9%e0%b8%99%e0%b8%a2%e0%b9%8c%e0%b8%81%e0%b8%b2%e0%b8%a3%e0%b8%84%e0%b9%89%e0%b8%b2%e0%b9%80%e0%b8%94%e0%b8%ad%e0%b8%b0%e0%b8%a1%e0%b8%ad%e0%b8%a5%e0%b8%a5%e0%b9%8c%e0%b9%84-1132/
LOCATION:ศูนย์การค้าเดอะมอลล์ไลฟ์สโตร์ บางกะปิ\, เดอะมอลล์ไลฟ์สโตร์ บางกะปิ 3522 ถ. ลาดพร้าว แขวงคลองจั่น เขตบางกะปิ กรุงเทพมหานคร 10240
CATEGORIES:ปฏิทินตารางหน่วยเคลื่อนที่
END:VEVENT
BEGIN:VEVENT
DTSTART;TZID=Asia/Krasnoyarsk:20251208T120000
DTEND;TZID=Asia/Krasnoyarsk:20251208T180000
DTSTAMP:20260424T070739
CREATED:20251128T101411Z
LAST-MODIFIED:20251128T110508Z
UID:10004575-1765195200-1765216800@thaibloodcentre.redcross.or.th
SUMMARY:ศูนย์การค้าเดอะมอลล์ไลฟ์สโตร์ งามวงศ์วาน []
DESCRIPTION:สถานที่เจาะ : ชั้น 5 โซน Government Center \nที่อยู่ : ถนนงามวงศ์วาน ต.บางเขน อ.เมือง จ.นนทบุรี 0 2555 1550
URL:https://thaibloodcentre.redcross.or.th/event/%e0%b8%a8%e0%b8%b9%e0%b8%99%e0%b8%a2%e0%b9%8c%e0%b8%81%e0%b8%b2%e0%b8%a3%e0%b8%84%e0%b9%89%e0%b8%b2%e0%b9%80%e0%b8%94%e0%b8%ad%e0%b8%b0%e0%b8%a1%e0%b8%ad%e0%b8%a5%e0%b8%a5%e0%b9%8c%e0%b9%84-1133/
LOCATION:ศูนย์การค้าเดอะมอลล์ไลฟ์สโตร์ งามวงศ์วาน\, เดอะมอลล์ ไลฟ์สโตร์ งามวงศ์วาน 430 ถนน งามวงศ์วาน ตำบลบางเขน อำเภอเมืองนนทบุรี นนทบุรี 11000
CATEGORIES:ปฏิทินตารางหน่วยเคลื่อนที่
END:VEVENT
BEGIN:VEVENT
DTSTART;TZID=Asia/Krasnoyarsk:20251208T120000
DTEND;TZID=Asia/Krasnoyarsk:20251208T180000
DTSTAMP:20260424T070739
CREATED:20251128T101420Z
LAST-MODIFIED:20251128T110509Z
UID:10004576-1765195200-1765216800@thaibloodcentre.redcross.or.th
SUMMARY:ศูนย์การค้า เอ็มโพเรียม []
DESCRIPTION:สถานที่เจาะ : ชั้น M ศูนย์การค้า ดิ เอ็มโพเรียม เชื่อมลานจอดรถอาคาร B \nที่อยู่ : 622 ถนนสุขุมวิท แขวงคลองตัน เขตคลองเตย กรุงเทพฯ 0 2269 1515
URL:https://thaibloodcentre.redcross.or.th/event/%e0%b8%a8%e0%b8%b9%e0%b8%99%e0%b8%a2%e0%b9%8c%e0%b8%81%e0%b8%b2%e0%b8%a3%e0%b8%84%e0%b9%89%e0%b8%b2-%e0%b9%80%e0%b8%ad%e0%b9%87%e0%b8%a1%e0%b9%82%e0%b8%9e%e0%b9%80%e0%b8%a3%e0%b8%b5%e0%b8%a2-279/
LOCATION:ศูนย์การค้า เอ็มโพเรียม\, เอ็มโพเรียม 622 ถ. สุขุมวิท แขวงคลองตัน เขตคลองเตย กรุงเทพมหานคร 10110
CATEGORIES:ปฏิทินตารางหน่วยเคลื่อนที่
END:VEVENT
BEGIN:VEVENT
DTSTART;TZID=Asia/Krasnoyarsk:20251208T120000
DTEND;TZID=Asia/Krasnoyarsk:20251208T180000
DTSTAMP:20260424T070739
CREATED:20251128T101424Z
LAST-MODIFIED:20251128T110510Z
UID:10004577-1765195200-1765216800@thaibloodcentre.redcross.or.th
SUMMARY:ศูนย์การค้าเดอะมอลล์ไลฟ์สโตร์ ท่าพระ []
DESCRIPTION:สถานที่เจาะ : ชั้น 1 (ติดลานจอดรถ) \nที่อยู่ : 99 ถนนรัชดาท่าพระตัดใหม่ แขวงบุคคโล เขตธนบุรี กรุงเทพฯ 0 2469-1000
URL:https://thaibloodcentre.redcross.or.th/event/%e0%b8%a8%e0%b8%b9%e0%b8%99%e0%b8%a2%e0%b9%8c%e0%b8%81%e0%b8%b2%e0%b8%a3%e0%b8%84%e0%b9%89%e0%b8%b2%e0%b9%80%e0%b8%94%e0%b8%ad%e0%b8%b0%e0%b8%a1%e0%b8%ad%e0%b8%a5%e0%b8%a5%e0%b9%8c%e0%b9%84-1134/
LOCATION:ศูนย์การค้าเดอะมอลล์ไลฟ์สโตร์ ท่าพระ\, เดอะมอลล์ไลฟ์สโตร์ ท่าพระ 129 ถ. รัชดาภิเษก แขวงบุคคโล เขตธนบุรี กรุงเทพมหานคร 10600
CATEGORIES:ปฏิทินตารางหน่วยเคลื่อนที่
END:VEVENT
BEGIN:VEVENT
DTSTART;TZID=Asia/Krasnoyarsk:20251209T073000
DTEND;TZID=Asia/Krasnoyarsk:20251209T193000
DTSTAMP:20260424T070739
CREATED:20251128T104545Z
LAST-MODIFIED:20251128T110552Z
UID:10004589-1765265400-1765308600@thaibloodcentre.redcross.or.th
SUMMARY:ศูนย์บริการโลหิตแห่งชาติ สภากาชาดไทย []
DESCRIPTION:ที่อยู่ : 1871 ถ. อังรีดูนังต์ แขวงปทุมวัน เขตปทุมวัน
URL:https://thaibloodcentre.redcross.or.th/event/%e0%b8%a8%e0%b8%b9%e0%b8%99%e0%b8%a2%e0%b9%8c%e0%b8%9a%e0%b8%a3%e0%b8%b4%e0%b8%81%e0%b8%b2%e0%b8%a3%e0%b9%82%e0%b8%a5%e0%b8%ab%e0%b8%b4%e0%b8%95%e0%b9%81%e0%b8%ab%e0%b9%88%e0%b8%87%e0%b8%8a-364/
LOCATION:ศูนย์บริการโลหิตแห่งชาติ สภากาชาดไทย\, ศูนย์บริการโลหิตแห่งชาติ สภากาชาดไทย 1871 ถ. อังรีดูนังต์ แขวงปทุมวัน เขตปทุมวัน กรุงเทพมหานคร 10330
CATEGORIES:ปฏิทินตารางหน่วยเคลื่อนที่
END:VEVENT
BEGIN:VEVENT
DTSTART;TZID=Asia/Krasnoyarsk:20251209T083000
DTEND;TZID=Asia/Krasnoyarsk:20251209T193000
DTSTAMP:20260424T070739
CREATED:20251128T104755Z
LAST-MODIFIED:20251128T110608Z
UID:10004595-1765269000-1765308600@thaibloodcentre.redcross.or.th
SUMMARY:สถานีกาชาด 11 วิเศษนิยม []
DESCRIPTION:สถานที่เจาะ : ชั้น 3 \nที่อยู่ : 33/3 ถนนเพชรเกษม แขวงบางหว้า เขตภาษีเจริญ กรุงเทพฯ 0633450711
URL:https://thaibloodcentre.redcross.or.th/event/%e0%b8%aa%e0%b8%96%e0%b8%b2%e0%b8%99%e0%b8%b5%e0%b8%81%e0%b8%b2%e0%b8%8a%e0%b8%b2%e0%b8%94-11-%e0%b8%a7%e0%b8%b4%e0%b9%80%e0%b8%a8%e0%b8%a9%e0%b8%99%e0%b8%b4%e0%b8%a2%e0%b8%a1-113/
LOCATION:สถานีกาชาด 11 วิเศษนิยม\, สถานีกาชาด 11 วิเศษนิยม 605 ถ.เพชรเกษม แขวงบางหว้า เขตภาษีเจริญ กรุงเทพมหานคร 10160
CATEGORIES:ปฏิทินตารางหน่วยเคลื่อนที่
END:VEVENT
BEGIN:VEVENT
DTSTART;TZID=Asia/Krasnoyarsk:20251209T090000
DTEND;TZID=Asia/Krasnoyarsk:20251209T120000
DTSTAMP:20260424T070739
CREATED:20251128T110628Z
LAST-MODIFIED:20251128T110628Z
UID:10004602-1765270800-1765281600@thaibloodcentre.redcross.or.th
SUMMARY:บริษัท บุญถาวร รีเทล คอร์ปเรชั่น จำกัด (มหาชน) สาขารังสิต (ช่วงเช้า) []
DESCRIPTION:สถานที่เจาะ : โชว์รูมบุญถาวรรังสิต \nที่อยู่ : 23 ม.3 ถ.พหลโยธิน ต.คลองหนึ่ง อ.คลองหลวง ปทุมธานี 0 2153 2345
URL:https://thaibloodcentre.redcross.or.th/event/%e0%b8%9a%e0%b8%a3%e0%b8%b4%e0%b8%a9%e0%b8%b1%e0%b8%97-%e0%b8%9a%e0%b8%b8%e0%b8%8d%e0%b8%96%e0%b8%b2%e0%b8%a7%e0%b8%a3-%e0%b8%a3%e0%b8%b5%e0%b9%80%e0%b8%97%e0%b8%a5-%e0%b8%84%e0%b8%ad%e0%b8%a3-5/
LOCATION:บริษัท บุญถาวร รีเทล คอร์ปเรชั่น จำกัด (มหาชน) สาขารังสิต (ช่วงเช้า)\, บริษัท บุญถาวร รีเทล คอร์ปเรชั่น จำกัด (มหาชน) สาขารังสิต 23 ม.3 ถ.พหลโยธิน ต.คลองหนึ่ง อ.คลองหลวง จ.ปทุมธานี 12120
CATEGORIES:ปฏิทินตารางหน่วยเคลื่อนที่
END:VEVENT
BEGIN:VEVENT
DTSTART;TZID=Asia/Krasnoyarsk:20251209T090000
DTEND;TZID=Asia/Krasnoyarsk:20251209T150000
DTSTAMP:20260424T070739
CREATED:20251128T104758Z
LAST-MODIFIED:20251128T110609Z
UID:10004596-1765270800-1765292400@thaibloodcentre.redcross.or.th
SUMMARY:บ้านทรงไทย (ย่านวงศ์สว่าง) []
DESCRIPTION:สถานที่เจาะ : (พัก 12.30-13.00 น.) \nที่อยู่ : 1423 ถนนกรุงเทพ – นนทบุรี แขวงวงศ์สว่าง เขตบางซื่อ กรุงเทพฯ 0 2256 4300
URL:https://thaibloodcentre.redcross.or.th/event/%e0%b8%9a%e0%b9%89%e0%b8%b2%e0%b8%99%e0%b8%97%e0%b8%a3%e0%b8%87%e0%b9%84%e0%b8%97%e0%b8%a2-%e0%b8%a2%e0%b9%88%e0%b8%b2%e0%b8%99%e0%b8%a7%e0%b8%87%e0%b8%a8%e0%b9%8c%e0%b8%aa%e0%b8%a7%e0%b9%88-282/
LOCATION:บ้านทรงไทย (ย่านวงศ์สว่าง)\, หน่วยรับบริจาคโลหิต บ้านทรงไทย(ย่านวงศ์สว่าง) 1423 ถนนกรุงเทพ-นนทบุรี แขวงวงศ์สว่าง เขตบางซื่อ กรุงเทพมหานคร 10800
CATEGORIES:ปฏิทินตารางหน่วยเคลื่อนที่
END:VEVENT
BEGIN:VEVENT
DTSTART;TZID=Asia/Krasnoyarsk:20251209T090000
DTEND;TZID=Asia/Krasnoyarsk:20251209T150000
DTSTAMP:20260424T070739
CREATED:20251128T104802Z
LAST-MODIFIED:20251128T110609Z
UID:10004597-1765270800-1765292400@thaibloodcentre.redcross.or.th
SUMMARY:กรมประมง []
DESCRIPTION:สถานที่เจาะ : ห้องประชุมอานนท์ \nที่อยู่ : 50 ถนนพหลโยธิน แขวงลาดยาว เขตจตุจักร กรุงเทพฯ 0 2558 0221
URL:https://thaibloodcentre.redcross.or.th/event/%e0%b8%81%e0%b8%a3%e0%b8%a1%e0%b8%9b%e0%b8%a3%e0%b8%b0%e0%b8%a1%e0%b8%87-2/
LOCATION:กรมประมง\, กรมประมง 50 เกษตรกลาง ถนนพหลโยธิน แขวงลาดยาว เขตจตุจักร กรุงเทพมหานคร 10900
CATEGORIES:ปฏิทินตารางหน่วยเคลื่อนที่
END:VEVENT
END:VCALENDAR