BEGIN:VCALENDAR
VERSION:2.0
PRODID:-//เว็บไซต์ศูนย์บริการโลหิตแห่งชาติ - ECPv6.11.2.1//NONSGML v1.0//EN
CALSCALE:GREGORIAN
METHOD:PUBLISH
X-WR-CALNAME:เว็บไซต์ศูนย์บริการโลหิตแห่งชาติ
X-ORIGINAL-URL:https://thaibloodcentre.redcross.or.th
X-WR-CALDESC:Events for เว็บไซต์ศูนย์บริการโลหิตแห่งชาติ
REFRESH-INTERVAL;VALUE=DURATION:PT1H
X-Robots-Tag:noindex
X-PUBLISHED-TTL:PT1H
BEGIN:VTIMEZONE
TZID:Asia/Krasnoyarsk
BEGIN:STANDARD
TZOFFSETFROM:+0700
TZOFFSETTO:+0700
TZNAME:+07
DTSTART:20260101T000000
END:STANDARD
END:VTIMEZONE
BEGIN:VEVENT
DTSTART;TZID=Asia/Krasnoyarsk:20260306T083000
DTEND;TZID=Asia/Krasnoyarsk:20260306T193000
DTSTAMP:20260422T092505
CREATED:20260304T081453Z
LAST-MODIFIED:20260304T081453Z
UID:10005798-1772785800-1772825400@thaibloodcentre.redcross.or.th
SUMMARY:สถานีกาชาด 11 วิเศษนิยม []
DESCRIPTION:สถานที่เจาะ : ชั้น 3 \nที่อยู่ : 33/3 ถนนเพชรเกษม แขวงบางหว้า เขตภาษีเจริญ กรุงเทพฯ 633450711
URL:https://thaibloodcentre.redcross.or.th/event/%e0%b8%aa%e0%b8%96%e0%b8%b2%e0%b8%99%e0%b8%b5%e0%b8%81%e0%b8%b2%e0%b8%8a%e0%b8%b2%e0%b8%94-11-%e0%b8%a7%e0%b8%b4%e0%b9%80%e0%b8%a8%e0%b8%a9%e0%b8%99%e0%b8%b4%e0%b8%a2%e0%b8%a1-185/
LOCATION:สถานีกาชาด 11 วิเศษนิยม\, สถานีกาชาด 11 วิเศษนิยม 605 ถ.เพชรเกษม แขวงบางหว้า เขตภาษีเจริญ กรุงเทพมหานคร 10160
CATEGORIES:ปฏิทินตารางหน่วยเคลื่อนที่
END:VEVENT
BEGIN:VEVENT
DTSTART;TZID=Asia/Krasnoyarsk:20260306T073000
DTEND;TZID=Asia/Krasnoyarsk:20260306T193000
DTSTAMP:20260422T092505
CREATED:20260304T081350Z
LAST-MODIFIED:20260304T081350Z
UID:10005792-1772782200-1772825400@thaibloodcentre.redcross.or.th
SUMMARY:ศูนย์บริการโลหิตแห่งชาติ สภากาชาดไทย []
DESCRIPTION:ที่อยู่ : 1871 ถ. อังรีดูนังต์ แขวงปทุมวัน เขตปทุมวัน
URL:https://thaibloodcentre.redcross.or.th/event/%e0%b8%a8%e0%b8%b9%e0%b8%99%e0%b8%a2%e0%b9%8c%e0%b8%9a%e0%b8%a3%e0%b8%b4%e0%b8%81%e0%b8%b2%e0%b8%a3%e0%b9%82%e0%b8%a5%e0%b8%ab%e0%b8%b4%e0%b8%95%e0%b9%81%e0%b8%ab%e0%b9%88%e0%b8%87%e0%b8%8a-451/
LOCATION:ศูนย์บริการโลหิตแห่งชาติ สภากาชาดไทย\, ศูนย์บริการโลหิตแห่งชาติ สภากาชาดไทย 1871 ถ. อังรีดูนังต์ แขวงปทุมวัน เขตปทุมวัน กรุงเทพมหานคร 10330
CATEGORIES:ปฏิทินตารางหน่วยเคลื่อนที่
END:VEVENT
BEGIN:VEVENT
DTSTART;TZID=Asia/Krasnoyarsk:20260305T130000
DTEND;TZID=Asia/Krasnoyarsk:20260305T150000
DTSTAMP:20260422T092505
CREATED:20260304T081337Z
LAST-MODIFIED:20260304T081337Z
UID:10005791-1772715600-1772722800@thaibloodcentre.redcross.or.th
SUMMARY:บริษัท ไทยไอโซวอลล์ จำกัด []
DESCRIPTION:สถานที่เจาะ : ข้างประตูโชว์รูม \nที่อยู่ : 383 ม. 7 ซ.ธรรมศิริ ถ.บางนา-ตราด กม.25 ต.บางเสาธง อ.บางเสาธง จ.สมุทรปราการ 0 2708 3745-50
URL:https://thaibloodcentre.redcross.or.th/event/%e0%b8%9a%e0%b8%a3%e0%b8%b4%e0%b8%a9%e0%b8%b1%e0%b8%97-%e0%b9%84%e0%b8%97%e0%b8%a2%e0%b9%84%e0%b8%ad%e0%b9%82%e0%b8%8b%e0%b8%a7%e0%b8%ad%e0%b8%a5%e0%b8%a5%e0%b9%8c-%e0%b8%88%e0%b8%b3%e0%b8%81-3/
LOCATION:บริษัท ไทยไอโซวอลล์ จำกัด\, บริษัท ไทยไอโซวอลล์ จำกัด 383 ซ.ธรรมศิริ ต.บางเสาธง อ.บางเสาธง สมุทรปราการ 10570
CATEGORIES:ปฏิทินตารางหน่วยเคลื่อนที่
END:VEVENT
BEGIN:VEVENT
DTSTART;TZID=Asia/Krasnoyarsk:20260305T130000
DTEND;TZID=Asia/Krasnoyarsk:20260305T150000
DTSTAMP:20260422T092505
CREATED:20260304T081331Z
LAST-MODIFIED:20260304T081331Z
UID:10005788-1772715600-1772722800@thaibloodcentre.redcross.or.th
SUMMARY:บริษัท สยามราช จำกัด (มหาชน) []
DESCRIPTION:สถานที่เจาะ : บริเวณข้างศาลพระภูมิด้านใน \nที่อยู่ : 289/9 ม. 10 ถ.รถรางสายเก่า ต.สำโรง  อ.พระประแดง จ.สมุทรปราการ 0 2743 5010-25
URL:https://thaibloodcentre.redcross.or.th/event/%e0%b8%9a%e0%b8%a3%e0%b8%b4%e0%b8%a9%e0%b8%b1%e0%b8%97-%e0%b8%aa%e0%b8%a2%e0%b8%b2%e0%b8%a1%e0%b8%a3%e0%b8%b2%e0%b8%8a-%e0%b8%88%e0%b8%b3%e0%b8%81%e0%b8%b1%e0%b8%94-%e0%b8%a1%e0%b8%ab%e0%b8%b2-5/
LOCATION:บริษัท สยามราช จำกัด (มหาชน)\, บริษัท สยามราช จำกัด (มหาชน) 329 ม.10 กุศลส่งสามัคคี ซ.1 ถ.รถรางสายเก่า ต.สำโรง อ.พระประแดง จ.สมุทรปราการ 10130
CATEGORIES:ปฏิทินตารางหน่วยเคลื่อนที่
END:VEVENT
BEGIN:VEVENT
DTSTART;TZID=Asia/Krasnoyarsk:20260305T120000
DTEND;TZID=Asia/Krasnoyarsk:20260305T180000
DTSTAMP:20260422T092505
CREATED:20260304T081239Z
LAST-MODIFIED:20260304T081239Z
UID:10005777-1772712000-1772733600@thaibloodcentre.redcross.or.th
SUMMARY:ศูนย์การค้าเดอะมอลล์ไลฟ์สโตร์ ท่าพระ []
DESCRIPTION:สถานที่เจาะ : ชั้น 1 (ติดลานจอดรถ) \nที่อยู่ : 99 ถนนรัชดาท่าพระตัดใหม่ แขวงบุคคโล เขตธนบุรี กรุงเทพฯ 0 2469-1000
URL:https://thaibloodcentre.redcross.or.th/event/%e0%b8%a8%e0%b8%b9%e0%b8%99%e0%b8%a2%e0%b9%8c%e0%b8%81%e0%b8%b2%e0%b8%a3%e0%b8%84%e0%b9%89%e0%b8%b2%e0%b9%80%e0%b8%94%e0%b8%ad%e0%b8%b0%e0%b8%a1%e0%b8%ad%e0%b8%a5%e0%b8%a5%e0%b9%8c%e0%b9%84-1482/
LOCATION:ศูนย์การค้าเดอะมอลล์ไลฟ์สโตร์ ท่าพระ\, เดอะมอลล์ไลฟ์สโตร์ ท่าพระ 129 ถ. รัชดาภิเษก แขวงบุคคโล เขตธนบุรี กรุงเทพมหานคร 10600
CATEGORIES:ปฏิทินตารางหน่วยเคลื่อนที่
END:VEVENT
BEGIN:VEVENT
DTSTART;TZID=Asia/Krasnoyarsk:20260305T090000
DTEND;TZID=Asia/Krasnoyarsk:20260305T150000
DTSTAMP:20260422T092505
CREATED:20260304T081333Z
LAST-MODIFIED:20260304T081333Z
UID:10005789-1772701200-1772722800@thaibloodcentre.redcross.or.th
SUMMARY:ธนาคารสแตนดาร์ดชาร์เตอร์ด (ไทย) จำกัด (มหาชน) []
DESCRIPTION:สถานที่เจาะ : อาคารเคี่ยนหงวน 2 ชั้น 17 (พัก 11.30-12.30 น.) \nที่อยู่ : 140 ชั้นที่ 12 ถนนวิทยุ แขวงลุมพินี เขตปทุมวัน กรุงเทพฯ
URL:https://thaibloodcentre.redcross.or.th/event/%e0%b8%98%e0%b8%99%e0%b8%b2%e0%b8%84%e0%b8%b2%e0%b8%a3%e0%b8%aa%e0%b9%81%e0%b8%95%e0%b8%99%e0%b8%94%e0%b8%b2%e0%b8%a3%e0%b9%8c%e0%b8%94%e0%b8%8a%e0%b8%b2%e0%b8%a3%e0%b9%8c%e0%b9%80%e0%b8%95%e0%b8%ad-5/
LOCATION:ธนาคารสแตนดาร์ดชาร์เตอร์ด (ไทย) จำกัด (มหาชน)\, ธนาคารสแตนดาร์ดชาร์เตอร์ด (ไทย) จำกัด (มหาชน) 140 ชั้น11\,12\,14 อาคาร 140 Wireless ถนนวิทยุ แขวงลุมพินี เขตปทุมวัน กรุงเทพมหานคร 10330
CATEGORIES:ปฏิทินตารางหน่วยเคลื่อนที่
END:VEVENT
BEGIN:VEVENT
DTSTART;TZID=Asia/Krasnoyarsk:20260305T090000
DTEND;TZID=Asia/Krasnoyarsk:20260305T150000
DTSTAMP:20260422T092505
CREATED:20260304T081312Z
LAST-MODIFIED:20260304T081312Z
UID:10005786-1772701200-1772722800@thaibloodcentre.redcross.or.th
SUMMARY:โรงพยาบาลนพรัตนราชธานี []
DESCRIPTION:สถานที่เจาะ : ห้องประชุมเพชรนพรัตน์ ชั้น 7 (พัก 12.00-13.00 น.) \nที่อยู่ : 679 ถนนรามอินทรา กม.12 แขวงคันนายาว เขตคันนายาว กรุงเทพฯ 0 2548 1010
URL:https://thaibloodcentre.redcross.or.th/event/%e0%b9%82%e0%b8%a3%e0%b8%87%e0%b8%9e%e0%b8%a2%e0%b8%b2%e0%b8%9a%e0%b8%b2%e0%b8%a5%e0%b8%99%e0%b8%9e%e0%b8%a3%e0%b8%b1%e0%b8%95%e0%b8%99%e0%b8%a3%e0%b8%b2%e0%b8%8a%e0%b8%98%e0%b8%b2%e0%b8%99%e0%b8%b5-5/
LOCATION:โรงพยาบาลนพรัตนราชธานี\, โรงพยาบาลนพรัตนราชธานี 679 ถนนรามอินทรา แขวงคันนายาว เขตคันนายาว กรุงเทพมหานคร 10230
CATEGORIES:ปฏิทินตารางหน่วยเคลื่อนที่
END:VEVENT
BEGIN:VEVENT
DTSTART;TZID=Asia/Krasnoyarsk:20260305T090000
DTEND;TZID=Asia/Krasnoyarsk:20260305T150000
DTSTAMP:20260422T092505
CREATED:20260304T081310Z
LAST-MODIFIED:20260304T081310Z
UID:10005785-1772701200-1772722800@thaibloodcentre.redcross.or.th
SUMMARY:องค์การขนส่งมวลชนกรุงเทพ []
DESCRIPTION:สถานที่เจาะ : หน้าตึกอำนวยการ (พัก 12.00-13.00 น.) \nที่อยู่ : 131 ถนนวัฒนธรรม แขวงห้วยขวาง เขตห้วยขวาง กรุงเทพฯ 0 2354 0796
URL:https://thaibloodcentre.redcross.or.th/event/%e0%b8%ad%e0%b8%87%e0%b8%84%e0%b9%8c%e0%b8%81%e0%b8%b2%e0%b8%a3%e0%b8%82%e0%b8%99%e0%b8%aa%e0%b9%88%e0%b8%87%e0%b8%a1%e0%b8%a7%e0%b8%a5%e0%b8%8a%e0%b8%99%e0%b8%81%e0%b8%a3%e0%b8%b8%e0%b8%87%e0%b9%80-6/
LOCATION:องค์การขนส่งมวลชนกรุงเทพ\, องค์การขนส่งมวลชนกรุงเทพ 131 ถนนวัฒนธรรม แขวงห้วยขวาง เขตห้วยขวาง กรุงเทพฯ 10310
CATEGORIES:ปฏิทินตารางหน่วยเคลื่อนที่
END:VEVENT
BEGIN:VEVENT
DTSTART;TZID=Asia/Krasnoyarsk:20260305T090000
DTEND;TZID=Asia/Krasnoyarsk:20260305T150000
DTSTAMP:20260422T092505
CREATED:20260304T081308Z
LAST-MODIFIED:20260304T081308Z
UID:10005784-1772701200-1772722800@thaibloodcentre.redcross.or.th
SUMMARY:บริษัท ตรีเพชรอีซูซุเซลล์ จำกัด []
DESCRIPTION:สถานที่เจาะ : ด้านหน้าโชว์รูมอาคารสำนักงานใหญ่ (พัก 12.00-13.00 น.) \nที่อยู่ : 1088 ถนนวิภาวดีรังสิต แขวงจตุจักร เขตจตุจักร กรุงเทพฯ 0 2966 2111-20
URL:https://thaibloodcentre.redcross.or.th/event/%e0%b8%9a%e0%b8%a3%e0%b8%b4%e0%b8%a9%e0%b8%b1%e0%b8%97-%e0%b8%95%e0%b8%a3%e0%b8%b5%e0%b9%80%e0%b8%9e%e0%b8%8a%e0%b8%a3%e0%b8%ad%e0%b8%b5%e0%b8%8b%e0%b8%b9%e0%b8%8b%e0%b8%b8%e0%b9%80%e0%b8%8b-3/
LOCATION:บริษัท ตรีเพชรอีซูซุเซลล์ จำกัด\, บริษัท ตรีเพชรอีซูซุเซลล์ จำกัด 1088 ถนนวิภาวดีรังสิต แขวงจตุจักร เขตจตุจักร กรุงเทพมหานคร 10900
CATEGORIES:ปฏิทินตารางหน่วยเคลื่อนที่
END:VEVENT
BEGIN:VEVENT
DTSTART;TZID=Asia/Krasnoyarsk:20260305T090000
DTEND;TZID=Asia/Krasnoyarsk:20260305T150000
DTSTAMP:20260422T092505
CREATED:20260304T081306Z
LAST-MODIFIED:20260304T081306Z
UID:10005783-1772701200-1772722800@thaibloodcentre.redcross.or.th
SUMMARY:โรงพยาบาลธนบุรีบำรุงเมือง []
DESCRIPTION:สถานที่เจาะ : โถงชั้น B2 (พัก 12.00-13.00 น.) \nที่อยู่ : 611 ถนนบำรุงเมือง แขวงคลองมหานาค เขตป้อมปราบศัตรูพ่าย กรุงเทพฯ 0 2220 7999
URL:https://thaibloodcentre.redcross.or.th/event/%e0%b9%82%e0%b8%a3%e0%b8%87%e0%b8%9e%e0%b8%a2%e0%b8%b2%e0%b8%9a%e0%b8%b2%e0%b8%a5%e0%b8%98%e0%b8%99%e0%b8%9a%e0%b8%b8%e0%b8%a3%e0%b8%b5%e0%b8%9a%e0%b8%b3%e0%b8%a3%e0%b8%b8%e0%b8%87%e0%b9%80%e0%b8%a1-4/
LOCATION:โรงพยาบาลธนบุรีบำรุงเมือง\, โรงพยาบาลธนบุรีบำรุงเมือง 611 ถ.บำรุงเมือง แขวงคลองมหานาค เขตป้อมปราบศัตรูพ่าย กรุงเทพมหานคร 10100
CATEGORIES:ปฏิทินตารางหน่วยเคลื่อนที่
END:VEVENT
BEGIN:VEVENT
DTSTART;TZID=Asia/Krasnoyarsk:20260305T090000
DTEND;TZID=Asia/Krasnoyarsk:20260305T150000
DTSTAMP:20260422T092506
CREATED:20260304T081304Z
LAST-MODIFIED:20260304T081304Z
UID:10005782-1772701200-1772722800@thaibloodcentre.redcross.or.th
SUMMARY:ธนาคารพัฒนาวิสาหกิจขนาดกลางและขนาดย่อมแห่งประเทศไทย []
DESCRIPTION:สถานที่เจาะ : โถงชั้น1 ข้างบันไดเลื่อน (พัก 12.00-13.00 น.) \nที่อยู่ : 310 อาคาร SME BANK ทาวเวอร์ ถนนพหลโยธิน แขวงสามเสนใน เขตพญาไท กรุงเทพฯ 0 2265 4447
URL:https://thaibloodcentre.redcross.or.th/event/%e0%b8%98%e0%b8%99%e0%b8%b2%e0%b8%84%e0%b8%b2%e0%b8%a3%e0%b8%9e%e0%b8%b1%e0%b8%92%e0%b8%99%e0%b8%b2%e0%b8%a7%e0%b8%b4%e0%b8%aa%e0%b8%b2%e0%b8%ab%e0%b8%81%e0%b8%b4%e0%b8%88%e0%b8%82%e0%b8%99%e0%b8%b2-4/
LOCATION:ธนาคารพัฒนาวิสาหกิจขนาดกลางและขนาดย่อมแห่งประเทศไทย\, สำนักงานใหญ่ ธนาคารพัฒนาวิสาหกิจขนาดกลางและขนาดย่อมแห่งประเทศไทย 310 อาคาร SME Bank Tower ถนนพหลโยธิน แขวงสามเสนใน เขตพญาไท กทม. 10400
CATEGORIES:ปฏิทินตารางหน่วยเคลื่อนที่
END:VEVENT
BEGIN:VEVENT
DTSTART;TZID=Asia/Krasnoyarsk:20260305T090000
DTEND;TZID=Asia/Krasnoyarsk:20260305T150000
DTSTAMP:20260422T092506
CREATED:20260304T081259Z
LAST-MODIFIED:20260304T081259Z
UID:10005781-1772701200-1772722800@thaibloodcentre.redcross.or.th
SUMMARY:กรมการพัฒนาชุมชน []
DESCRIPTION:สถานที่เจาะ : ห้องสัมมนา 3003 ชั้น 3 อาคาร B \nที่อยู่ : ศูนย์ราชการอาคารรัฐประศาสนภักดี อาคาร B ถนนแจ้งวัฒนะ แขวงทุ่งสองห้อง เขตหลักสี่ กรุงเทพฯ 0 2141 6036
URL:https://thaibloodcentre.redcross.or.th/event/%e0%b8%81%e0%b8%a3%e0%b8%a1%e0%b8%81%e0%b8%b2%e0%b8%a3%e0%b8%9e%e0%b8%b1%e0%b8%92%e0%b8%99%e0%b8%b2%e0%b8%8a%e0%b8%b8%e0%b8%a1%e0%b8%8a%e0%b8%99-3/
LOCATION:กรมการพัฒนาชุมชน\, กรมการพัฒนาชุมชน ศูนย์ราชการเฉลิมพระเกียรติฯ อาคารรัฐประศาสนภักดี (อาคาร B) ชั้น 5 ถนนแจ้งวัฒนะ หลักสี่ กทม.10210
CATEGORIES:ปฏิทินตารางหน่วยเคลื่อนที่
END:VEVENT
BEGIN:VEVENT
DTSTART;TZID=Asia/Krasnoyarsk:20260305T090000
DTEND;TZID=Asia/Krasnoyarsk:20260305T150000
DTSTAMP:20260422T092506
CREATED:20260304T081257Z
LAST-MODIFIED:20260304T081257Z
UID:10005780-1772701200-1772722800@thaibloodcentre.redcross.or.th
SUMMARY:โรงเรียนร่วมฤดีวิเทศศึกษา []
DESCRIPTION:สถานที่เจาะ : ห้อง Nest  ชั้น 2 ของโรงอาหาร (พัก 11.30-12.30 น.) \nที่อยู่ : 6 ถนนรามคำแหง 184 แขวงสุขาภิบาล 3 เขตมีนบุรี กรุงเทพฯ 0 2791 8900
URL:https://thaibloodcentre.redcross.or.th/event/%e0%b9%82%e0%b8%a3%e0%b8%87%e0%b9%80%e0%b8%a3%e0%b8%b5%e0%b8%a2%e0%b8%99%e0%b8%a3%e0%b9%88%e0%b8%a7%e0%b8%a1%e0%b8%a4%e0%b8%94%e0%b8%b5%e0%b8%a7%e0%b8%b4%e0%b9%80%e0%b8%97%e0%b8%a8%e0%b8%a8%e0%b8%b6-3/
LOCATION:โรงเรียนร่วมฤดีวิเทศศึกษา\, โรงเรียนร่วมฤดีวิเทศศึกษา มีนบุรี 6 ซอยรามคำแหง 184 แขวงมีนบุรี เขตมีนบุรี กรุงเทพมหานคร 10510
CATEGORIES:ปฏิทินตารางหน่วยเคลื่อนที่
END:VEVENT
BEGIN:VEVENT
DTSTART;TZID=Asia/Krasnoyarsk:20260305T090000
DTEND;TZID=Asia/Krasnoyarsk:20260305T150000
DTSTAMP:20260422T092506
CREATED:20260304T081253Z
LAST-MODIFIED:20260304T081253Z
UID:10005779-1772701200-1772722800@thaibloodcentre.redcross.or.th
SUMMARY:บ้านทรงไทย (ย่านวงศ์สว่าง) []
DESCRIPTION:สถานที่เจาะ : (พัก 12.30-13.00 น.) \nที่อยู่ : 1423 ถนนกรุงเทพ – นนทบุรี แขวงวงศ์สว่าง เขตบางซื่อ กรุงเทพฯ 0 2256 4300
URL:https://thaibloodcentre.redcross.or.th/event/%e0%b8%9a%e0%b9%89%e0%b8%b2%e0%b8%99%e0%b8%97%e0%b8%a3%e0%b8%87%e0%b9%84%e0%b8%97%e0%b8%a2-%e0%b8%a2%e0%b9%88%e0%b8%b2%e0%b8%99%e0%b8%a7%e0%b8%87%e0%b8%a8%e0%b9%8c%e0%b8%aa%e0%b8%a7%e0%b9%88-367/
LOCATION:บ้านทรงไทย (ย่านวงศ์สว่าง)\, หน่วยรับบริจาคโลหิต บ้านทรงไทย(ย่านวงศ์สว่าง) 1423 ถนนกรุงเทพ-นนทบุรี แขวงวงศ์สว่าง เขตบางซื่อ กรุงเทพมหานคร 10800
CATEGORIES:ปฏิทินตารางหน่วยเคลื่อนที่
END:VEVENT
BEGIN:VEVENT
DTSTART;TZID=Asia/Krasnoyarsk:20260305T090000
DTEND;TZID=Asia/Krasnoyarsk:20260305T120000
DTSTAMP:20260422T092506
CREATED:20260304T081335Z
LAST-MODIFIED:20260304T081335Z
UID:10005790-1772701200-1772712000@thaibloodcentre.redcross.or.th
SUMMARY:บริษัท ลัคกี้เฟลม จำกัด []
DESCRIPTION:สถานที่เจาะ : หน้าป้อมยาม \nที่อยู่ : 61/1 ม.12 ถ.กิ่งแก้วซอย 9 ต.ราชาเทวะ อ.บางพลี จ.สมุทรปราการ 0 2312 4331
URL:https://thaibloodcentre.redcross.or.th/event/%e0%b8%9a%e0%b8%a3%e0%b8%b4%e0%b8%a9%e0%b8%b1%e0%b8%97-%e0%b8%a5%e0%b8%b1%e0%b8%84%e0%b8%81%e0%b8%b5%e0%b9%89%e0%b9%80%e0%b8%9f%e0%b8%a5%e0%b8%a1-%e0%b8%88%e0%b8%b3%e0%b8%81%e0%b8%b1%e0%b8%94/
LOCATION:บริษัท ลัคกี้เฟลม จำกัด\, บริษัท ลัคกี้เฟลม จำกัด 61/1 ถ.กิ่งแก้ว ต.ราชาเทวะ อ.บางพลี สมุทรปราการ 10540
CATEGORIES:ปฏิทินตารางหน่วยเคลื่อนที่
END:VEVENT
BEGIN:VEVENT
DTSTART;TZID=Asia/Krasnoyarsk:20260305T090000
DTEND;TZID=Asia/Krasnoyarsk:20260305T113000
DTSTAMP:20260422T092506
CREATED:20260304T081329Z
LAST-MODIFIED:20260304T081329Z
UID:10005787-1772701200-1772710200@thaibloodcentre.redcross.or.th
SUMMARY:บริษัท เอส แอนด์ พี ซินดิเคท จำกัด (มหาชน) []
DESCRIPTION:สถานที่เจาะ : หน้าโรงอาหาร \nที่อยู่ : 2 \, 2/1 สุขุมวิท 62 แยก 3 แขวงบางจาก เขตพระโขนง กรุงเทพฯ 0 2331 6571-5
URL:https://thaibloodcentre.redcross.or.th/event/%e0%b8%9a%e0%b8%a3%e0%b8%b4%e0%b8%a9%e0%b8%b1%e0%b8%97-%e0%b9%80%e0%b8%ad%e0%b8%aa-%e0%b9%81%e0%b8%ad%e0%b8%99%e0%b8%94%e0%b9%8c-%e0%b8%9e%e0%b8%b5-%e0%b8%8b%e0%b8%b4%e0%b8%99%e0%b8%94%e0%b8%b4-5/
LOCATION:บริษัท เอส แอนด์ พี ซินดิเคท จำกัด (มหาชน)\, บริษัท เอส แอนด์ พี ซินดิเคท จำกัด (มหาชน) 2-2/1 ซอย 62 ถนนสุขุมวิท แขวงบางจาก เขตพระโขนง กรุงเทพมหานคร 10260
CATEGORIES:ปฏิทินตารางหน่วยเคลื่อนที่
END:VEVENT
BEGIN:VEVENT
DTSTART;TZID=Asia/Krasnoyarsk:20260305T083000
DTEND;TZID=Asia/Krasnoyarsk:20260305T193000
DTSTAMP:20260422T092506
CREATED:20260304T081250Z
LAST-MODIFIED:20260304T081250Z
UID:10005778-1772699400-1772739000@thaibloodcentre.redcross.or.th
SUMMARY:สถานีกาชาด 11 วิเศษนิยม []
DESCRIPTION:สถานที่เจาะ : ชั้น 3 \nที่อยู่ : 33/3 ถนนเพชรเกษม แขวงบางหว้า เขตภาษีเจริญ กรุงเทพฯ 633450711
URL:https://thaibloodcentre.redcross.or.th/event/%e0%b8%aa%e0%b8%96%e0%b8%b2%e0%b8%99%e0%b8%b5%e0%b8%81%e0%b8%b2%e0%b8%8a%e0%b8%b2%e0%b8%94-11-%e0%b8%a7%e0%b8%b4%e0%b9%80%e0%b8%a8%e0%b8%a9%e0%b8%99%e0%b8%b4%e0%b8%a2%e0%b8%a1-184/
LOCATION:สถานีกาชาด 11 วิเศษนิยม\, สถานีกาชาด 11 วิเศษนิยม 605 ถ.เพชรเกษม แขวงบางหว้า เขตภาษีเจริญ กรุงเทพมหานคร 10160
CATEGORIES:ปฏิทินตารางหน่วยเคลื่อนที่
END:VEVENT
BEGIN:VEVENT
DTSTART;TZID=Asia/Krasnoyarsk:20260304T120000
DTEND;TZID=Asia/Krasnoyarsk:20260304T180000
DTSTAMP:20260422T092506
CREATED:20260224T101344Z
LAST-MODIFIED:20260224T101344Z
UID:10005766-1772625600-1772647200@thaibloodcentre.redcross.or.th
SUMMARY:ศูนย์การค้าเดอะมอลล์ไลฟ์สโตร์ ท่าพระ []
DESCRIPTION:สถานที่เจาะ : ชั้น 1 (ติดลานจอดรถ) \nที่อยู่ : 99 ถนนรัชดาท่าพระตัดใหม่ แขวงบุคคโล เขตธนบุรี กรุงเทพฯ 0 2469-1000
URL:https://thaibloodcentre.redcross.or.th/event/%e0%b8%a8%e0%b8%b9%e0%b8%99%e0%b8%a2%e0%b9%8c%e0%b8%81%e0%b8%b2%e0%b8%a3%e0%b8%84%e0%b9%89%e0%b8%b2%e0%b9%80%e0%b8%94%e0%b8%ad%e0%b8%b0%e0%b8%a1%e0%b8%ad%e0%b8%a5%e0%b8%a5%e0%b9%8c%e0%b9%84-1478/
LOCATION:ศูนย์การค้าเดอะมอลล์ไลฟ์สโตร์ ท่าพระ\, เดอะมอลล์ไลฟ์สโตร์ ท่าพระ 129 ถ. รัชดาภิเษก แขวงบุคคโล เขตธนบุรี กรุงเทพมหานคร 10600
CATEGORIES:ปฏิทินตารางหน่วยเคลื่อนที่
END:VEVENT
BEGIN:VEVENT
DTSTART;TZID=Asia/Krasnoyarsk:20260304T120000
DTEND;TZID=Asia/Krasnoyarsk:20260304T180000
DTSTAMP:20260422T092506
CREATED:20260224T101338Z
LAST-MODIFIED:20260224T101338Z
UID:10005765-1772625600-1772647200@thaibloodcentre.redcross.or.th
SUMMARY:ศูนย์การค้า เอ็มโพเรียม []
DESCRIPTION:สถานที่เจาะ : ชั้น M ศูนย์การค้า ดิ เอ็มโพเรียม เชื่อมลานจอดรถอาคาร B \nที่อยู่ : 622 ถนนสุขุมวิท แขวงคลองตัน เขตคลองเตย กรุงเทพฯ 0 2269 1515
URL:https://thaibloodcentre.redcross.or.th/event/%e0%b8%a8%e0%b8%b9%e0%b8%99%e0%b8%a2%e0%b9%8c%e0%b8%81%e0%b8%b2%e0%b8%a3%e0%b8%84%e0%b9%89%e0%b8%b2-%e0%b9%80%e0%b8%ad%e0%b9%87%e0%b8%a1%e0%b9%82%e0%b8%9e%e0%b9%80%e0%b8%a3%e0%b8%b5%e0%b8%a2-365/
LOCATION:ศูนย์การค้า เอ็มโพเรียม\, เอ็มโพเรียม 622 ถ. สุขุมวิท แขวงคลองตัน เขตคลองเตย กรุงเทพมหานคร 10110
CATEGORIES:ปฏิทินตารางหน่วยเคลื่อนที่
END:VEVENT
BEGIN:VEVENT
DTSTART;TZID=Asia/Krasnoyarsk:20260304T120000
DTEND;TZID=Asia/Krasnoyarsk:20260304T180000
DTSTAMP:20260422T092506
CREATED:20260224T101325Z
LAST-MODIFIED:20260224T101325Z
UID:10005764-1772625600-1772647200@thaibloodcentre.redcross.or.th
SUMMARY:ศูนย์การค้าเดอะมอลล์ไลฟ์สโตร์ งามวงศ์วาน []
DESCRIPTION:สถานที่เจาะ : ชั้น 5 โซน Government Center \nที่อยู่ : ถนนงามวงศ์วาน ต.บางเขน อ.เมือง จ.นนทบุรี 0 2555 1550
URL:https://thaibloodcentre.redcross.or.th/event/%e0%b8%a8%e0%b8%b9%e0%b8%99%e0%b8%a2%e0%b9%8c%e0%b8%81%e0%b8%b2%e0%b8%a3%e0%b8%84%e0%b9%89%e0%b8%b2%e0%b9%80%e0%b8%94%e0%b8%ad%e0%b8%b0%e0%b8%a1%e0%b8%ad%e0%b8%a5%e0%b8%a5%e0%b9%8c%e0%b9%84-1477/
LOCATION:ศูนย์การค้าเดอะมอลล์ไลฟ์สโตร์ งามวงศ์วาน\, เดอะมอลล์ ไลฟ์สโตร์ งามวงศ์วาน 430 ถนน งามวงศ์วาน ตำบลบางเขน อำเภอเมืองนนทบุรี นนทบุรี 11000
CATEGORIES:ปฏิทินตารางหน่วยเคลื่อนที่
END:VEVENT
BEGIN:VEVENT
DTSTART;TZID=Asia/Krasnoyarsk:20260304T120000
DTEND;TZID=Asia/Krasnoyarsk:20260304T180000
DTSTAMP:20260422T092506
CREATED:20260224T101311Z
LAST-MODIFIED:20260224T101311Z
UID:10005763-1772625600-1772647200@thaibloodcentre.redcross.or.th
SUMMARY:ศูนย์การค้าเดอะมอลล์ไลฟ์สโตร์ บางกะปิ []
DESCRIPTION:สถานที่เจาะ : ชั้น 2 ทางออกลานจอดรถ \nที่อยู่ : ถนนลาดพร้าว แขวงคลองจั่น เขตบางกะปิ กรุงเทพฯ 0 2310 2278
URL:https://thaibloodcentre.redcross.or.th/event/%e0%b8%a8%e0%b8%b9%e0%b8%99%e0%b8%a2%e0%b9%8c%e0%b8%81%e0%b8%b2%e0%b8%a3%e0%b8%84%e0%b9%89%e0%b8%b2%e0%b9%80%e0%b8%94%e0%b8%ad%e0%b8%b0%e0%b8%a1%e0%b8%ad%e0%b8%a5%e0%b8%a5%e0%b9%8c%e0%b9%84-1476/
LOCATION:ศูนย์การค้าเดอะมอลล์ไลฟ์สโตร์ บางกะปิ\, เดอะมอลล์ไลฟ์สโตร์ บางกะปิ 3522 ถ. ลาดพร้าว แขวงคลองจั่น เขตบางกะปิ กรุงเทพมหานคร 10240
CATEGORIES:ปฏิทินตารางหน่วยเคลื่อนที่
END:VEVENT
BEGIN:VEVENT
DTSTART;TZID=Asia/Krasnoyarsk:20260304T120000
DTEND;TZID=Asia/Krasnoyarsk:20260304T180000
DTSTAMP:20260422T092506
CREATED:20260224T101258Z
LAST-MODIFIED:20260224T101258Z
UID:10005762-1772625600-1772647200@thaibloodcentre.redcross.or.th
SUMMARY:ศูนย์การค้าเดอะมอลล์ไลฟ์สโตร์ บางแค []
DESCRIPTION:สถานที่เจาะ : ชั้น 3 ตรงข้ามร้านโอ้กะจู๋ \nที่อยู่ : ถนนเพชรเกษม แขวงบางแคเหนือ เขตภาษีเจริญ กรุงเทพฯ 02 487 1221
URL:https://thaibloodcentre.redcross.or.th/event/%e0%b8%a8%e0%b8%b9%e0%b8%99%e0%b8%a2%e0%b9%8c%e0%b8%81%e0%b8%b2%e0%b8%a3%e0%b8%84%e0%b9%89%e0%b8%b2%e0%b9%80%e0%b8%94%e0%b8%ad%e0%b8%b0%e0%b8%a1%e0%b8%ad%e0%b8%a5%e0%b8%a5%e0%b9%8c%e0%b9%84-1475/
LOCATION:ศูนย์การค้าเดอะมอลล์ไลฟ์สโตร์ บางแค\, ศูนย์การค้าเดอะมอลล์ไลฟ์สโตร์ บางแค
CATEGORIES:ปฏิทินตารางหน่วยเคลื่อนที่
END:VEVENT
BEGIN:VEVENT
DTSTART;TZID=Asia/Krasnoyarsk:20260304T110000
DTEND;TZID=Asia/Krasnoyarsk:20260304T150000
DTSTAMP:20260422T092506
CREATED:20260224T101747Z
LAST-MODIFIED:20260224T101747Z
UID:10005776-1772622000-1772636400@thaibloodcentre.redcross.or.th
SUMMARY:บริษัท แสนสิริ จำกัด (มหาชน) []
DESCRIPTION:สถานที่เจาะ : ถนนด้านข้าง ฮาบิโตะ มอลล์ \nที่อยู่ : 59 ซอยริมคลองพระโขนง แขวงพระโขนงเหนือ เขตวัฒนา กรุงเทพฯ
URL:https://thaibloodcentre.redcross.or.th/event/%e0%b8%9a%e0%b8%a3%e0%b8%b4%e0%b8%a9%e0%b8%b1%e0%b8%97-%e0%b9%81%e0%b8%aa%e0%b8%99%e0%b8%aa%e0%b8%b4%e0%b8%a3%e0%b8%b4-%e0%b8%88%e0%b8%b3%e0%b8%81%e0%b8%b1%e0%b8%94-%e0%b8%a1%e0%b8%ab%e0%b8%b2-5/
LOCATION:บริษัท แสนสิริ จำกัด (มหาชน)
CATEGORIES:ปฏิทินตารางหน่วยเคลื่อนที่
END:VEVENT
BEGIN:VEVENT
DTSTART;TZID=Asia/Krasnoyarsk:20260304T110000
DTEND;TZID=Asia/Krasnoyarsk:20260304T150000
DTSTAMP:20260422T092506
CREATED:20260224T101548Z
LAST-MODIFIED:20260224T101548Z
UID:10005769-1772622000-1772636400@thaibloodcentre.redcross.or.th
SUMMARY:เซ็นทรัลพลาซา เวสต์เกต []
DESCRIPTION:สถานที่เจาะ : จุดจอดรถประตูยูนิโคล่ \nที่อยู่ : 199\,199/1\,199/2 ถ.กาญจนาภิเษก ต.เสาธงหิน อ.บางใหญ่ จ.นนทบุรี 0 2101 7999
URL:https://thaibloodcentre.redcross.or.th/event/%e0%b9%80%e0%b8%8b%e0%b9%87%e0%b8%99%e0%b8%97%e0%b8%a3%e0%b8%b1%e0%b8%a5%e0%b8%9e%e0%b8%a5%e0%b8%b2%e0%b8%8b%e0%b8%b2-%e0%b9%80%e0%b8%a7%e0%b8%aa%e0%b8%95%e0%b9%8c%e0%b9%80%e0%b8%81%e0%b8%95-12/
LOCATION:เซ็นทรัลพลาซา เวสต์เกต\, เซ็นทรัลพลาซา เวสต์เกต 199\, 199/1 199/2 ถ. กาญจนาภิเษก ตำบล เสาธงหิน อำเภอบางใหญ่ นนทบุรี 11140
CATEGORIES:ปฏิทินตารางหน่วยเคลื่อนที่
END:VEVENT
BEGIN:VEVENT
DTSTART;TZID=Asia/Krasnoyarsk:20260304T090000
DTEND;TZID=Asia/Krasnoyarsk:20260304T150000
DTSTAMP:20260422T092506
CREATED:20260224T101745Z
LAST-MODIFIED:20260224T101745Z
UID:10005775-1772614800-1772636400@thaibloodcentre.redcross.or.th
SUMMARY:บริษัท ไทยน้ำทิพย์ คอร์ปอเรชั่น จำกัด []
DESCRIPTION:สถานที่เจาะ : ชั้น 9 (พัก 11.00-12.00 น.) \nที่อยู่ : 214 หมู่ 5 ถนนวิภาวดีรังสิต แขวงทุ่งสองห้อง เขตหลักสี่ กรุงเทพฯ
URL:https://thaibloodcentre.redcross.or.th/event/%e0%b8%9a%e0%b8%a3%e0%b8%b4%e0%b8%a9%e0%b8%b1%e0%b8%97-%e0%b9%84%e0%b8%97%e0%b8%a2%e0%b8%99%e0%b9%89%e0%b8%b3%e0%b8%97%e0%b8%b4%e0%b8%9e%e0%b8%a2%e0%b9%8c-%e0%b8%84%e0%b8%ad%e0%b8%a3%e0%b9%8c-4/
LOCATION:บริษัท ไทยน้ำทิพย์ คอร์ปอเรชั่น จำกัด\, อาคารไทยน้ำทิพย์ นอร์ธปาร์ค 214 ถนนวิภาวดีรังสิต แขวงทุ่งสองห้อง เขตหลักสี่ กรุงเทพมหานคร 10210
CATEGORIES:ปฏิทินตารางหน่วยเคลื่อนที่
END:VEVENT
BEGIN:VEVENT
DTSTART;TZID=Asia/Krasnoyarsk:20260304T090000
DTEND;TZID=Asia/Krasnoyarsk:20260304T150000
DTSTAMP:20260422T092506
CREATED:20260224T101740Z
LAST-MODIFIED:20260224T101740Z
UID:10005773-1772614800-1772636400@thaibloodcentre.redcross.or.th
SUMMARY:องค์การขนส่งมวลชนกรุงเทพ []
DESCRIPTION:สถานที่เจาะ : หน้าตึกอำนวยการ (พัก 12.00-13.00 น.) \nที่อยู่ : 131 ถนนวัฒนธรรม แขวงห้วยขวาง เขตห้วยขวาง กรุงเทพฯ 0 2354 0796
URL:https://thaibloodcentre.redcross.or.th/event/%e0%b8%ad%e0%b8%87%e0%b8%84%e0%b9%8c%e0%b8%81%e0%b8%b2%e0%b8%a3%e0%b8%82%e0%b8%99%e0%b8%aa%e0%b9%88%e0%b8%87%e0%b8%a1%e0%b8%a7%e0%b8%a5%e0%b8%8a%e0%b8%99%e0%b8%81%e0%b8%a3%e0%b8%b8%e0%b8%87%e0%b9%80-5/
LOCATION:องค์การขนส่งมวลชนกรุงเทพ\, องค์การขนส่งมวลชนกรุงเทพ 131 ถนนวัฒนธรรม แขวงห้วยขวาง เขตห้วยขวาง กรุงเทพฯ 10310
CATEGORIES:ปฏิทินตารางหน่วยเคลื่อนที่
END:VEVENT
BEGIN:VEVENT
DTSTART;TZID=Asia/Krasnoyarsk:20260304T090000
DTEND;TZID=Asia/Krasnoyarsk:20260304T150000
DTSTAMP:20260422T092506
CREATED:20260224T101738Z
LAST-MODIFIED:20260224T101738Z
UID:10005772-1772614800-1772636400@thaibloodcentre.redcross.or.th
SUMMARY:การยาสูบแห่งประเทศไทย []
DESCRIPTION:สถานที่เจาะ : หน้าสหกรณ์ออมทรัพย์ (พัก 12.00-13.00 น.) \nที่อยู่ : 184 ถนพระราม 4 แขวงคลองเตย เขตคลองเตย กรุงเทพฯ
URL:https://thaibloodcentre.redcross.or.th/event/%e0%b8%81%e0%b8%b2%e0%b8%a3%e0%b8%a2%e0%b8%b2%e0%b8%aa%e0%b8%b9%e0%b8%9a%e0%b9%81%e0%b8%ab%e0%b9%88%e0%b8%87%e0%b8%9b%e0%b8%a3%e0%b8%b0%e0%b9%80%e0%b8%97%e0%b8%a8%e0%b9%84%e0%b8%97%e0%b8%a2-3/
LOCATION:การยาสูบแห่งประเทศไทย\, การยาสูบแห่งประเทศไทย 184 ถนนพระรามที่ 4 แขวงคลองเตย เขตคลองเตย กรุงเทพมหานคร 10110
CATEGORIES:ปฏิทินตารางหน่วยเคลื่อนที่
END:VEVENT
BEGIN:VEVENT
DTSTART;TZID=Asia/Krasnoyarsk:20260304T090000
DTEND;TZID=Asia/Krasnoyarsk:20260304T150000
DTSTAMP:20260422T092506
CREATED:20260224T101553Z
LAST-MODIFIED:20260224T101553Z
UID:10005771-1772614800-1772636400@thaibloodcentre.redcross.or.th
SUMMARY:ธนาคารกรุงศรีอยุธยา จำกัด (มหาชน) []
DESCRIPTION:สถานที่เจาะ : ชั้น 9 \nที่อยู่ : เลขที่ 1222 ถนนพระราม 3 แขวงบางโพงพาง เขตยานนาวา กรุงเทพฯ 0 2296 2445
URL:https://thaibloodcentre.redcross.or.th/event/%e0%b8%98%e0%b8%99%e0%b8%b2%e0%b8%84%e0%b8%b2%e0%b8%a3%e0%b8%81%e0%b8%a3%e0%b8%b8%e0%b8%87%e0%b8%a8%e0%b8%a3%e0%b8%b5%e0%b8%ad%e0%b8%a2%e0%b8%b8%e0%b8%98%e0%b8%a2%e0%b8%b2-%e0%b8%88%e0%b8%b3-8/
LOCATION:ธนาคารกรุงศรีอยุธยา จำกัด (มหาชน)\, ธนาคารกรุงศรีอยุธยา จำกัด (มหาชน) 1222 ถนนพระราม 3 แขวงบางโพงพาง เขตยานนาวา กรุงเทพมหานคร10120
CATEGORIES:ปฏิทินตารางหน่วยเคลื่อนที่
END:VEVENT
BEGIN:VEVENT
DTSTART;TZID=Asia/Krasnoyarsk:20260304T090000
DTEND;TZID=Asia/Krasnoyarsk:20260304T150000
DTSTAMP:20260422T092506
CREATED:20260224T101551Z
LAST-MODIFIED:20260224T101551Z
UID:10005770-1772614800-1772636400@thaibloodcentre.redcross.or.th
SUMMARY:ธนาคารไทยพาณิชย์ จำกัด (มหาชน) อาคารจี ทาวเวอร์ []
DESCRIPTION:สถานที่เจาะ : ด้านหน้าอาคารยูนิลิเวอร์เฮาส์ (พัก 11.30-12.30 น.) \nที่อยู่ : 161 ถ. พระราม 9 แขวงห้วยขวาง เขตห้วยขวาง กรุงเทพฯ
URL:https://thaibloodcentre.redcross.or.th/event/%e0%b8%98%e0%b8%99%e0%b8%b2%e0%b8%84%e0%b8%b2%e0%b8%a3%e0%b9%84%e0%b8%97%e0%b8%a2%e0%b8%9e%e0%b8%b2%e0%b8%93%e0%b8%b4%e0%b8%8a%e0%b8%a2%e0%b9%8c-%e0%b8%88%e0%b8%b3%e0%b8%81%e0%b8%b1%e0%b8%94-20/
LOCATION:ธนาคารไทยพาณิชย์ จำกัด (มหาชน) อาคารจี ทาวเวอร์\, อาคารยูนิลิเวอร์เฮาส์ 161 ถนนพระราม 9 แขวงห้วยขวาง เขตห้วยขวาง กรุงเทพมหานคร 10310
CATEGORIES:ปฏิทินตารางหน่วยเคลื่อนที่
END:VEVENT
BEGIN:VEVENT
DTSTART;TZID=Asia/Krasnoyarsk:20260304T090000
DTEND;TZID=Asia/Krasnoyarsk:20260304T150000
DTSTAMP:20260422T092506
CREATED:20260224T101542Z
LAST-MODIFIED:20260224T101542Z
UID:10005768-1772614800-1772636400@thaibloodcentre.redcross.or.th
SUMMARY:บ้านทรงไทย (ย่านวงศ์สว่าง) []
DESCRIPTION:สถานที่เจาะ : (พัก 12.30-13.00 น.) \nที่อยู่ : 1423 ถนนกรุงเทพ – นนทบุรี แขวงวงศ์สว่าง เขตบางซื่อ กรุงเทพฯ 0 2256 4300
URL:https://thaibloodcentre.redcross.or.th/event/%e0%b8%9a%e0%b9%89%e0%b8%b2%e0%b8%99%e0%b8%97%e0%b8%a3%e0%b8%87%e0%b9%84%e0%b8%97%e0%b8%a2-%e0%b8%a2%e0%b9%88%e0%b8%b2%e0%b8%99%e0%b8%a7%e0%b8%87%e0%b8%a8%e0%b9%8c%e0%b8%aa%e0%b8%a7%e0%b9%88-366/
LOCATION:บ้านทรงไทย (ย่านวงศ์สว่าง)\, หน่วยรับบริจาคโลหิต บ้านทรงไทย(ย่านวงศ์สว่าง) 1423 ถนนกรุงเทพ-นนทบุรี แขวงวงศ์สว่าง เขตบางซื่อ กรุงเทพมหานคร 10800
CATEGORIES:ปฏิทินตารางหน่วยเคลื่อนที่
END:VEVENT
END:VCALENDAR