BEGIN:VCALENDAR
VERSION:2.0
PRODID:-//เว็บไซต์ศูนย์บริการโลหิตแห่งชาติ - ECPv6.11.2.1//NONSGML v1.0//EN
CALSCALE:GREGORIAN
METHOD:PUBLISH
X-WR-CALNAME:เว็บไซต์ศูนย์บริการโลหิตแห่งชาติ
X-ORIGINAL-URL:https://thaibloodcentre.redcross.or.th
X-WR-CALDESC:Events for เว็บไซต์ศูนย์บริการโลหิตแห่งชาติ
REFRESH-INTERVAL;VALUE=DURATION:PT1H
X-Robots-Tag:noindex
X-PUBLISHED-TTL:PT1H
BEGIN:VTIMEZONE
TZID:Asia/Krasnoyarsk
BEGIN:STANDARD
TZOFFSETFROM:+0700
TZOFFSETTO:+0700
TZNAME:+07
DTSTART:20260101T000000
END:STANDARD
END:VTIMEZONE
BEGIN:VEVENT
DTSTART;TZID=Asia/Krasnoyarsk:20260307T120000
DTEND;TZID=Asia/Krasnoyarsk:20260307T180000
DTSTAMP:20260422T064151
CREATED:20260304T081621Z
LAST-MODIFIED:20260304T081621Z
UID:10005814-1772884800-1772906400@thaibloodcentre.redcross.or.th
SUMMARY:ศูนย์การค้าเดอะมอลล์ไลฟ์สโตร์ ท่าพระ []
DESCRIPTION:สถานที่เจาะ : ชั้น 1 (ติดลานจอดรถ) \nที่อยู่ : 99 ถนนรัชดาท่าพระตัดใหม่ แขวงบุคคโล เขตธนบุรี กรุงเทพฯ 0 2469-1000
URL:https://thaibloodcentre.redcross.or.th/event/%e0%b8%a8%e0%b8%b9%e0%b8%99%e0%b8%a2%e0%b9%8c%e0%b8%81%e0%b8%b2%e0%b8%a3%e0%b8%84%e0%b9%89%e0%b8%b2%e0%b9%80%e0%b8%94%e0%b8%ad%e0%b8%b0%e0%b8%a1%e0%b8%ad%e0%b8%a5%e0%b8%a5%e0%b9%8c%e0%b9%84-1490/
LOCATION:ศูนย์การค้าเดอะมอลล์ไลฟ์สโตร์ ท่าพระ\, เดอะมอลล์ไลฟ์สโตร์ ท่าพระ 129 ถ. รัชดาภิเษก แขวงบุคคโล เขตธนบุรี กรุงเทพมหานคร 10600
CATEGORIES:ปฏิทินตารางหน่วยเคลื่อนที่
END:VEVENT
BEGIN:VEVENT
DTSTART;TZID=Asia/Krasnoyarsk:20260307T120000
DTEND;TZID=Asia/Krasnoyarsk:20260307T180000
DTSTAMP:20260422T064151
CREATED:20260304T081616Z
LAST-MODIFIED:20260304T081616Z
UID:10005813-1772884800-1772906400@thaibloodcentre.redcross.or.th
SUMMARY:ศูนย์การค้า เอ็มโพเรียม []
DESCRIPTION:สถานที่เจาะ : ชั้น M ศูนย์การค้า ดิ เอ็มโพเรียม เชื่อมลานจอดรถอาคาร B \nที่อยู่ : 622 ถนนสุขุมวิท แขวงคลองตัน เขตคลองเตย กรุงเทพฯ 0 2269 1515
URL:https://thaibloodcentre.redcross.or.th/event/%e0%b8%a8%e0%b8%b9%e0%b8%99%e0%b8%a2%e0%b9%8c%e0%b8%81%e0%b8%b2%e0%b8%a3%e0%b8%84%e0%b9%89%e0%b8%b2-%e0%b9%80%e0%b8%ad%e0%b9%87%e0%b8%a1%e0%b9%82%e0%b8%9e%e0%b9%80%e0%b8%a3%e0%b8%b5%e0%b8%a2-368/
LOCATION:ศูนย์การค้า เอ็มโพเรียม\, เอ็มโพเรียม 622 ถ. สุขุมวิท แขวงคลองตัน เขตคลองเตย กรุงเทพมหานคร 10110
CATEGORIES:ปฏิทินตารางหน่วยเคลื่อนที่
END:VEVENT
BEGIN:VEVENT
DTSTART;TZID=Asia/Krasnoyarsk:20260307T120000
DTEND;TZID=Asia/Krasnoyarsk:20260307T180000
DTSTAMP:20260422T064151
CREATED:20260304T081604Z
LAST-MODIFIED:20260304T081604Z
UID:10005812-1772884800-1772906400@thaibloodcentre.redcross.or.th
SUMMARY:ศูนย์การค้าเดอะมอลล์ไลฟ์สโตร์ งามวงศ์วาน []
DESCRIPTION:สถานที่เจาะ : ชั้น 5 โซน Government Center \nที่อยู่ : ถนนงามวงศ์วาน ต.บางเขน อ.เมือง จ.นนทบุรี 0 2555 1550
URL:https://thaibloodcentre.redcross.or.th/event/%e0%b8%a8%e0%b8%b9%e0%b8%99%e0%b8%a2%e0%b9%8c%e0%b8%81%e0%b8%b2%e0%b8%a3%e0%b8%84%e0%b9%89%e0%b8%b2%e0%b9%80%e0%b8%94%e0%b8%ad%e0%b8%b0%e0%b8%a1%e0%b8%ad%e0%b8%a5%e0%b8%a5%e0%b9%8c%e0%b9%84-1489/
LOCATION:ศูนย์การค้าเดอะมอลล์ไลฟ์สโตร์ งามวงศ์วาน\, เดอะมอลล์ ไลฟ์สโตร์ งามวงศ์วาน 430 ถนน งามวงศ์วาน ตำบลบางเขน อำเภอเมืองนนทบุรี นนทบุรี 11000
CATEGORIES:ปฏิทินตารางหน่วยเคลื่อนที่
END:VEVENT
BEGIN:VEVENT
DTSTART;TZID=Asia/Krasnoyarsk:20260307T120000
DTEND;TZID=Asia/Krasnoyarsk:20260307T180000
DTSTAMP:20260422T064151
CREATED:20260304T081549Z
LAST-MODIFIED:20260304T081549Z
UID:10005811-1772884800-1772906400@thaibloodcentre.redcross.or.th
SUMMARY:ศูนย์การค้าเดอะมอลล์ไลฟ์สโตร์ บางกะปิ []
DESCRIPTION:สถานที่เจาะ : ชั้น 2 ทางออกลานจอดรถ \nที่อยู่ : ถนนลาดพร้าว แขวงคลองจั่น เขตบางกะปิ กรุงเทพฯ 0 2310 2278
URL:https://thaibloodcentre.redcross.or.th/event/%e0%b8%a8%e0%b8%b9%e0%b8%99%e0%b8%a2%e0%b9%8c%e0%b8%81%e0%b8%b2%e0%b8%a3%e0%b8%84%e0%b9%89%e0%b8%b2%e0%b9%80%e0%b8%94%e0%b8%ad%e0%b8%b0%e0%b8%a1%e0%b8%ad%e0%b8%a5%e0%b8%a5%e0%b9%8c%e0%b9%84-1488/
LOCATION:ศูนย์การค้าเดอะมอลล์ไลฟ์สโตร์ บางกะปิ\, เดอะมอลล์ไลฟ์สโตร์ บางกะปิ 3522 ถ. ลาดพร้าว แขวงคลองจั่น เขตบางกะปิ กรุงเทพมหานคร 10240
CATEGORIES:ปฏิทินตารางหน่วยเคลื่อนที่
END:VEVENT
BEGIN:VEVENT
DTSTART;TZID=Asia/Krasnoyarsk:20260307T120000
DTEND;TZID=Asia/Krasnoyarsk:20260307T180000
DTSTAMP:20260422T064151
CREATED:20260304T081537Z
LAST-MODIFIED:20260304T081537Z
UID:10005810-1772884800-1772906400@thaibloodcentre.redcross.or.th
SUMMARY:ศูนย์การค้าเดอะมอลล์ไลฟ์สโตร์ บางแค []
DESCRIPTION:สถานที่เจาะ : ชั้น 3 ตรงข้ามร้านโอ้กะจู๋ \nที่อยู่ : ถนนเพชรเกษม แขวงบางแคเหนือ เขตภาษีเจริญ กรุงเทพฯ 02 487 1221
URL:https://thaibloodcentre.redcross.or.th/event/%e0%b8%a8%e0%b8%b9%e0%b8%99%e0%b8%a2%e0%b9%8c%e0%b8%81%e0%b8%b2%e0%b8%a3%e0%b8%84%e0%b9%89%e0%b8%b2%e0%b9%80%e0%b8%94%e0%b8%ad%e0%b8%b0%e0%b8%a1%e0%b8%ad%e0%b8%a5%e0%b8%a5%e0%b9%8c%e0%b9%84-1487/
LOCATION:ศูนย์การค้าเดอะมอลล์ไลฟ์สโตร์ บางแค\, ศูนย์การค้าเดอะมอลล์ไลฟ์สโตร์ บางแค
CATEGORIES:ปฏิทินตารางหน่วยเคลื่อนที่
END:VEVENT
BEGIN:VEVENT
DTSTART;TZID=Asia/Krasnoyarsk:20260307T110000
DTEND;TZID=Asia/Krasnoyarsk:20260307T150000
DTSTAMP:20260422T064151
CREATED:20260304T081652Z
LAST-MODIFIED:20260304T081702Z
UID:10005820-1772881200-1772895600@thaibloodcentre.redcross.or.th
SUMMARY:ศูนย์การค้า เกทเวย์ เอกมัย []
DESCRIPTION:สถานที่เจาะ : ลานกิจกรรม ชั้น 3 \nที่อยู่ : 982 ถนนสุขุมวิท แขวงพระโขนง เขตคลองเตย กรุงเทพฯ
URL:https://thaibloodcentre.redcross.or.th/event/%e0%b8%a8%e0%b8%b9%e0%b8%99%e0%b8%a2%e0%b9%8c%e0%b8%81%e0%b8%b2%e0%b8%a3%e0%b8%84%e0%b9%89%e0%b8%b2-%e0%b9%80%e0%b8%81%e0%b8%97%e0%b9%80%e0%b8%a7%e0%b8%a2%e0%b9%8c-%e0%b9%80%e0%b8%ad%e0%b8%81-2/
LOCATION:ศูนย์การค้า เกทเวย์ เอกมัย\, ศูนย์การค้า เกทเวย์ เอกมัย 982 ถนนสุขุมวิท แขวงพระโขนง เขตคลองเตย กรุงเทพมหานคร 10110
CATEGORIES:ปฏิทินตารางหน่วยเคลื่อนที่
END:VEVENT
BEGIN:VEVENT
DTSTART;TZID=Asia/Krasnoyarsk:20260307T110000
DTEND;TZID=Asia/Krasnoyarsk:20260307T150000
DTSTAMP:20260422T064151
CREATED:20260304T081650Z
LAST-MODIFIED:20260304T081702Z
UID:10005819-1772881200-1772895600@thaibloodcentre.redcross.or.th
SUMMARY:เพอร์เฟค มาสเตอร์พีซ สุขุมวิท 77 - สุวรรณภูมิ []
DESCRIPTION:สถานที่เจาะ : ข้างเซเว่น \nที่อยู่ : 98 ซ.ลาดกระบัง 20/3 ต.ราชาเทวะ อ.บางพลี จ.สมุทรปราการ
URL:https://thaibloodcentre.redcross.or.th/event/%e0%b9%80%e0%b8%9e%e0%b8%ad%e0%b8%a3%e0%b9%8c%e0%b9%80%e0%b8%9f%e0%b8%84-%e0%b8%a1%e0%b8%b2%e0%b8%aa%e0%b9%80%e0%b8%95%e0%b8%ad%e0%b8%a3%e0%b9%8c%e0%b8%9e%e0%b8%b5%e0%b8%8b-%e0%b8%aa%e0%b8%b8-4/
LOCATION:เพอร์เฟค มาสเตอร์พีซ สุขุมวิท 77 – สุวรรณภูมิ\, เพอร์เฟค มาสเตอร์พีซ สุขุมวิท 77 - สุวรรณภูมิ 98 ซ.ลาดกระบัง 20/3 ต.ราชาเทวะ อ.บางพลี สมุทรปราการ 10540
CATEGORIES:ปฏิทินตารางหน่วยเคลื่อนที่
END:VEVENT
BEGIN:VEVENT
DTSTART;TZID=Asia/Krasnoyarsk:20260307T110000
DTEND;TZID=Asia/Krasnoyarsk:20260307T150000
DTSTAMP:20260422T064151
CREATED:20260304T081648Z
LAST-MODIFIED:20260304T081701Z
UID:10005818-1772881200-1772895600@thaibloodcentre.redcross.or.th
SUMMARY:ศูนย์การค้า ดิ โอลด์ สยาม พลาซ่า []
DESCRIPTION:สถานที่เจาะ : ลานบูรพาภิรมย์ ชั้น 2 \nที่อยู่ : 12 ถนนตรีเพชร แขวงบูรพาภิรมย์ เขตพระนคร กรุงเทพฯ 0 2226 0156-8
URL:https://thaibloodcentre.redcross.or.th/event/%e0%b8%a8%e0%b8%b9%e0%b8%99%e0%b8%a2%e0%b9%8c%e0%b8%81%e0%b8%b2%e0%b8%a3%e0%b8%84%e0%b9%89%e0%b8%b2-%e0%b8%94%e0%b8%b4-%e0%b9%82%e0%b8%ad%e0%b8%a5%e0%b8%94%e0%b9%8c-%e0%b8%aa%e0%b8%a2%e0%b8%b2-5/
LOCATION:ศูนย์การค้า ดิ โอลด์ สยาม พลาซ่า
CATEGORIES:ปฏิทินตารางหน่วยเคลื่อนที่
END:VEVENT
BEGIN:VEVENT
DTSTART;TZID=Asia/Krasnoyarsk:20260307T110000
DTEND;TZID=Asia/Krasnoyarsk:20260307T150000
DTSTAMP:20260422T064152
CREATED:20260304T081646Z
LAST-MODIFIED:20260304T081700Z
UID:10005817-1772881200-1772895600@thaibloodcentre.redcross.or.th
SUMMARY:เซ็นทรัลพลาซา บางนา []
DESCRIPTION:สถานที่เจาะ : ด้านหน้า KFC \nที่อยู่ : 1090 ถนนบางนา-ตราด แขวงบางนา เขตบางนา กรุงเทพฯ 0 2763 6000
URL:https://thaibloodcentre.redcross.or.th/event/%e0%b9%80%e0%b8%8b%e0%b9%87%e0%b8%99%e0%b8%97%e0%b8%a3%e0%b8%b1%e0%b8%a5%e0%b8%9e%e0%b8%a5%e0%b8%b2%e0%b8%8b%e0%b8%b2-%e0%b8%9a%e0%b8%b2%e0%b8%87%e0%b8%99%e0%b8%b2-32/
LOCATION:เซ็นทรัลพลาซา บางนา\, เซ็นทรัล บางนา ทางคู่ขนาน ถนนบางนา-ตราด แขวงบางนาเหนือ เขตบางนา กรุงเทพมหานคร 10260
CATEGORIES:ปฏิทินตารางหน่วยเคลื่อนที่
END:VEVENT
BEGIN:VEVENT
DTSTART;TZID=Asia/Krasnoyarsk:20260307T090000
DTEND;TZID=Asia/Krasnoyarsk:20260307T150000
DTSTAMP:20260422T064152
CREATED:20260304T081636Z
LAST-MODIFIED:20260304T081636Z
UID:10005816-1772874000-1772895600@thaibloodcentre.redcross.or.th
SUMMARY:บ้านทรงไทย (ย่านวงศ์สว่าง) []
DESCRIPTION:สถานที่เจาะ : (พัก 12.30-13.00 น.) \nที่อยู่ : 1423 ถนนกรุงเทพ – นนทบุรี แขวงวงศ์สว่าง เขตบางซื่อ กรุงเทพฯ 0 2256 4300
URL:https://thaibloodcentre.redcross.or.th/event/%e0%b8%9a%e0%b9%89%e0%b8%b2%e0%b8%99%e0%b8%97%e0%b8%a3%e0%b8%87%e0%b9%84%e0%b8%97%e0%b8%a2-%e0%b8%a2%e0%b9%88%e0%b8%b2%e0%b8%99%e0%b8%a7%e0%b8%87%e0%b8%a8%e0%b9%8c%e0%b8%aa%e0%b8%a7%e0%b9%88-369/
LOCATION:บ้านทรงไทย (ย่านวงศ์สว่าง)\, หน่วยรับบริจาคโลหิต บ้านทรงไทย(ย่านวงศ์สว่าง) 1423 ถนนกรุงเทพ-นนทบุรี แขวงวงศ์สว่าง เขตบางซื่อ กรุงเทพมหานคร 10800
CATEGORIES:ปฏิทินตารางหน่วยเคลื่อนที่
END:VEVENT
BEGIN:VEVENT
DTSTART;TZID=Asia/Krasnoyarsk:20260307T083000
DTEND;TZID=Asia/Krasnoyarsk:20260307T153000
DTSTAMP:20260422T064152
CREATED:20260304T081633Z
LAST-MODIFIED:20260304T081633Z
UID:10005815-1772872200-1772897400@thaibloodcentre.redcross.or.th
SUMMARY:สถานีกาชาด 11 วิเศษนิยม []
DESCRIPTION:สถานที่เจาะ : ชั้น 3 \nที่อยู่ : 33/3 ถนนเพชรเกษม แขวงบางหว้า เขตภาษีเจริญ กรุงเทพฯ 633450711
URL:https://thaibloodcentre.redcross.or.th/event/%e0%b8%aa%e0%b8%96%e0%b8%b2%e0%b8%99%e0%b8%b5%e0%b8%81%e0%b8%b2%e0%b8%8a%e0%b8%b2%e0%b8%94-11-%e0%b8%a7%e0%b8%b4%e0%b9%80%e0%b8%a8%e0%b8%a9%e0%b8%99%e0%b8%b4%e0%b8%a2%e0%b8%a1-186/
LOCATION:สถานีกาชาด 11 วิเศษนิยม\, สถานีกาชาด 11 วิเศษนิยม 605 ถ.เพชรเกษม แขวงบางหว้า เขตภาษีเจริญ กรุงเทพมหานคร 10160
CATEGORIES:ปฏิทินตารางหน่วยเคลื่อนที่
END:VEVENT
BEGIN:VEVENT
DTSTART;TZID=Asia/Krasnoyarsk:20260307T083000
DTEND;TZID=Asia/Krasnoyarsk:20260307T153000
DTSTAMP:20260422T064152
CREATED:20260304T081532Z
LAST-MODIFIED:20260304T081532Z
UID:10005809-1772872200-1772897400@thaibloodcentre.redcross.or.th
SUMMARY:ศูนย์บริการโลหิตแห่งชาติ สภากาชาดไทย []
DESCRIPTION:ที่อยู่ : 1871 ถ. อังรีดูนังต์ แขวงปทุมวัน เขตปทุมวัน
URL:https://thaibloodcentre.redcross.or.th/event/%e0%b8%a8%e0%b8%b9%e0%b8%99%e0%b8%a2%e0%b9%8c%e0%b8%9a%e0%b8%a3%e0%b8%b4%e0%b8%81%e0%b8%b2%e0%b8%a3%e0%b9%82%e0%b8%a5%e0%b8%ab%e0%b8%b4%e0%b8%95%e0%b9%81%e0%b8%ab%e0%b9%88%e0%b8%87%e0%b8%8a-452/
LOCATION:ศูนย์บริการโลหิตแห่งชาติ สภากาชาดไทย\, ศูนย์บริการโลหิตแห่งชาติ สภากาชาดไทย 1871 ถ. อังรีดูนังต์ แขวงปทุมวัน เขตปทุมวัน กรุงเทพมหานคร 10330
CATEGORIES:ปฏิทินตารางหน่วยเคลื่อนที่
END:VEVENT
BEGIN:VEVENT
DTSTART;TZID=Asia/Krasnoyarsk:20260306T120000
DTEND;TZID=Asia/Krasnoyarsk:20260306T180000
DTSTAMP:20260422T064152
CREATED:20260304T081440Z
LAST-MODIFIED:20260304T081440Z
UID:10005797-1772798400-1772820000@thaibloodcentre.redcross.or.th
SUMMARY:ศูนย์การค้าเดอะมอลล์ไลฟ์สโตร์ ท่าพระ []
DESCRIPTION:สถานที่เจาะ : ชั้น 1 (ติดลานจอดรถ) \nที่อยู่ : 99 ถนนรัชดาท่าพระตัดใหม่ แขวงบุคคโล เขตธนบุรี กรุงเทพฯ 0 2469-1000
URL:https://thaibloodcentre.redcross.or.th/event/%e0%b8%a8%e0%b8%b9%e0%b8%99%e0%b8%a2%e0%b9%8c%e0%b8%81%e0%b8%b2%e0%b8%a3%e0%b8%84%e0%b9%89%e0%b8%b2%e0%b9%80%e0%b8%94%e0%b8%ad%e0%b8%b0%e0%b8%a1%e0%b8%ad%e0%b8%a5%e0%b8%a5%e0%b9%8c%e0%b9%84-1486/
LOCATION:ศูนย์การค้าเดอะมอลล์ไลฟ์สโตร์ ท่าพระ\, เดอะมอลล์ไลฟ์สโตร์ ท่าพระ 129 ถ. รัชดาภิเษก แขวงบุคคโล เขตธนบุรี กรุงเทพมหานคร 10600
CATEGORIES:ปฏิทินตารางหน่วยเคลื่อนที่
END:VEVENT
BEGIN:VEVENT
DTSTART;TZID=Asia/Krasnoyarsk:20260306T120000
DTEND;TZID=Asia/Krasnoyarsk:20260306T180000
DTSTAMP:20260422T064152
CREATED:20260304T081430Z
LAST-MODIFIED:20260304T081430Z
UID:10005796-1772798400-1772820000@thaibloodcentre.redcross.or.th
SUMMARY:ศูนย์การค้า เอ็มโพเรียม []
DESCRIPTION:สถานที่เจาะ : ชั้น M ศูนย์การค้า ดิ เอ็มโพเรียม เชื่อมลานจอดรถอาคาร B \nที่อยู่ : 622 ถนนสุขุมวิท แขวงคลองตัน เขตคลองเตย กรุงเทพฯ 0 2269 1515
URL:https://thaibloodcentre.redcross.or.th/event/%e0%b8%a8%e0%b8%b9%e0%b8%99%e0%b8%a2%e0%b9%8c%e0%b8%81%e0%b8%b2%e0%b8%a3%e0%b8%84%e0%b9%89%e0%b8%b2-%e0%b9%80%e0%b8%ad%e0%b9%87%e0%b8%a1%e0%b9%82%e0%b8%9e%e0%b9%80%e0%b8%a3%e0%b8%b5%e0%b8%a2-367/
LOCATION:ศูนย์การค้า เอ็มโพเรียม\, เอ็มโพเรียม 622 ถ. สุขุมวิท แขวงคลองตัน เขตคลองเตย กรุงเทพมหานคร 10110
CATEGORIES:ปฏิทินตารางหน่วยเคลื่อนที่
END:VEVENT
BEGIN:VEVENT
DTSTART;TZID=Asia/Krasnoyarsk:20260306T120000
DTEND;TZID=Asia/Krasnoyarsk:20260306T180000
DTSTAMP:20260422T064152
CREATED:20260304T081418Z
LAST-MODIFIED:20260304T081418Z
UID:10005795-1772798400-1772820000@thaibloodcentre.redcross.or.th
SUMMARY:ศูนย์การค้าเดอะมอลล์ไลฟ์สโตร์ งามวงศ์วาน []
DESCRIPTION:สถานที่เจาะ : ชั้น 5 โซน Government Center \nที่อยู่ : ถนนงามวงศ์วาน ต.บางเขน อ.เมือง จ.นนทบุรี 0 2555 1550
URL:https://thaibloodcentre.redcross.or.th/event/%e0%b8%a8%e0%b8%b9%e0%b8%99%e0%b8%a2%e0%b9%8c%e0%b8%81%e0%b8%b2%e0%b8%a3%e0%b8%84%e0%b9%89%e0%b8%b2%e0%b9%80%e0%b8%94%e0%b8%ad%e0%b8%b0%e0%b8%a1%e0%b8%ad%e0%b8%a5%e0%b8%a5%e0%b9%8c%e0%b9%84-1485/
LOCATION:ศูนย์การค้าเดอะมอลล์ไลฟ์สโตร์ งามวงศ์วาน\, เดอะมอลล์ ไลฟ์สโตร์ งามวงศ์วาน 430 ถนน งามวงศ์วาน ตำบลบางเขน อำเภอเมืองนนทบุรี นนทบุรี 11000
CATEGORIES:ปฏิทินตารางหน่วยเคลื่อนที่
END:VEVENT
BEGIN:VEVENT
DTSTART;TZID=Asia/Krasnoyarsk:20260306T120000
DTEND;TZID=Asia/Krasnoyarsk:20260306T180000
DTSTAMP:20260422T064152
CREATED:20260304T081407Z
LAST-MODIFIED:20260304T081407Z
UID:10005794-1772798400-1772820000@thaibloodcentre.redcross.or.th
SUMMARY:ศูนย์การค้าเดอะมอลล์ไลฟ์สโตร์ บางกะปิ []
DESCRIPTION:สถานที่เจาะ : ชั้น 2 ทางออกลานจอดรถ \nที่อยู่ : ถนนลาดพร้าว แขวงคลองจั่น เขตบางกะปิ กรุงเทพฯ 0 2310 2278
URL:https://thaibloodcentre.redcross.or.th/event/%e0%b8%a8%e0%b8%b9%e0%b8%99%e0%b8%a2%e0%b9%8c%e0%b8%81%e0%b8%b2%e0%b8%a3%e0%b8%84%e0%b9%89%e0%b8%b2%e0%b9%80%e0%b8%94%e0%b8%ad%e0%b8%b0%e0%b8%a1%e0%b8%ad%e0%b8%a5%e0%b8%a5%e0%b9%8c%e0%b9%84-1484/
LOCATION:ศูนย์การค้าเดอะมอลล์ไลฟ์สโตร์ บางกะปิ\, เดอะมอลล์ไลฟ์สโตร์ บางกะปิ 3522 ถ. ลาดพร้าว แขวงคลองจั่น เขตบางกะปิ กรุงเทพมหานคร 10240
CATEGORIES:ปฏิทินตารางหน่วยเคลื่อนที่
END:VEVENT
BEGIN:VEVENT
DTSTART;TZID=Asia/Krasnoyarsk:20260306T120000
DTEND;TZID=Asia/Krasnoyarsk:20260306T180000
DTSTAMP:20260422T064152
CREATED:20260304T081355Z
LAST-MODIFIED:20260304T081355Z
UID:10005793-1772798400-1772820000@thaibloodcentre.redcross.or.th
SUMMARY:ศูนย์การค้าเดอะมอลล์ไลฟ์สโตร์ บางแค []
DESCRIPTION:สถานที่เจาะ : ชั้น 3 ตรงข้ามร้านโอ้กะจู๋ \nที่อยู่ : ถนนเพชรเกษม แขวงบางแคเหนือ เขตภาษีเจริญ กรุงเทพฯ 02 487 1221
URL:https://thaibloodcentre.redcross.or.th/event/%e0%b8%a8%e0%b8%b9%e0%b8%99%e0%b8%a2%e0%b9%8c%e0%b8%81%e0%b8%b2%e0%b8%a3%e0%b8%84%e0%b9%89%e0%b8%b2%e0%b9%80%e0%b8%94%e0%b8%ad%e0%b8%b0%e0%b8%a1%e0%b8%ad%e0%b8%a5%e0%b8%a5%e0%b9%8c%e0%b9%84-1483/
LOCATION:ศูนย์การค้าเดอะมอลล์ไลฟ์สโตร์ บางแค\, ศูนย์การค้าเดอะมอลล์ไลฟ์สโตร์ บางแค
CATEGORIES:ปฏิทินตารางหน่วยเคลื่อนที่
END:VEVENT
BEGIN:VEVENT
DTSTART;TZID=Asia/Krasnoyarsk:20260306T100000
DTEND;TZID=Asia/Krasnoyarsk:20260306T150000
DTSTAMP:20260422T064152
CREATED:20260304T081508Z
LAST-MODIFIED:20260304T081508Z
UID:10005802-1772791200-1772809200@thaibloodcentre.redcross.or.th
SUMMARY:บริษัท เฟดเดอรัล อีเลคตริค จำกัด []
DESCRIPTION:สถานที่เจาะ : ลานด้านหลังอาคารสำนักงาน (พัก 12.00-13.00 น.) \nที่อยู่ : 64/1 ม. 4 ถ.กิ่งแก้ว ต.ราชาเทวะ อ.บางพลี จ.สมุทรปราการ 0 2312 4190-5
URL:https://thaibloodcentre.redcross.or.th/event/%e0%b8%9a%e0%b8%a3%e0%b8%b4%e0%b8%a9%e0%b8%b1%e0%b8%97-%e0%b9%80%e0%b8%9f%e0%b8%94%e0%b9%80%e0%b8%94%e0%b8%ad%e0%b8%a3%e0%b8%b1%e0%b8%a5-%e0%b8%ad%e0%b8%b5%e0%b9%80%e0%b8%a5%e0%b8%84%e0%b8%95-6/
LOCATION:บริษัท เฟดเดอรัล อีเลคตริค จำกัด\, บริษัท เฟดเดอรัล อีเลคตริค จำกัด 64/1 ม.4 ถ.กิ่งแก้ว ต.ราชาเทวะ อ.บางพลีตำบลราชาเทวะ อ.บางพลี สมุทรปราการ 10540
CATEGORIES:ปฏิทินตารางหน่วยเคลื่อนที่
END:VEVENT
BEGIN:VEVENT
DTSTART;TZID=Asia/Krasnoyarsk:20260306T093000
DTEND;TZID=Asia/Krasnoyarsk:20260306T150000
DTSTAMP:20260422T064152
CREATED:20260304T081528Z
LAST-MODIFIED:20260304T081528Z
UID:10005807-1772789400-1772809200@thaibloodcentre.redcross.or.th
SUMMARY:นิติบุคคลอาคารชุด ปัญจธานีทาวเวอร์ []
DESCRIPTION:สถานที่เจาะ : หน้าอาคาร (พัก 11.30-12.30 น.) \nที่อยู่ : 127 ถนนนนทรี แขวงช่องนนทรี เขตยานนาวา กรุงเทพฯ 0 2295 2510
URL:https://thaibloodcentre.redcross.or.th/event/%e0%b8%99%e0%b8%b4%e0%b8%95%e0%b8%b4%e0%b8%9a%e0%b8%b8%e0%b8%84%e0%b8%84%e0%b8%a5%e0%b8%ad%e0%b8%b2%e0%b8%84%e0%b8%b2%e0%b8%a3%e0%b8%8a%e0%b8%b8%e0%b8%94-%e0%b8%9b%e0%b8%b1%e0%b8%8d%e0%b8%88-5/
LOCATION:นิติบุคคลอาคารชุด ปัญจธานีทาวเวอร์\, ปัญจธานี ทาวเวอร์ 127 ถนนรัชดาภิเษก แขวงช่องนนทรี เขตยานนาวา กรุงเทพมหานคร 10120
CATEGORIES:ปฏิทินตารางหน่วยเคลื่อนที่
END:VEVENT
BEGIN:VEVENT
DTSTART;TZID=Asia/Krasnoyarsk:20260306T090000
DTEND;TZID=Asia/Krasnoyarsk:20260306T150000
DTSTAMP:20260422T064152
CREATED:20260304T081530Z
LAST-MODIFIED:20260304T081530Z
UID:10005808-1772787600-1772809200@thaibloodcentre.redcross.or.th
SUMMARY:บริษัท แอร์โรคลาส จำกัด []
DESCRIPTION:สถานที่เจาะ : ห้องประชุมชั้น 1 ตึก EPG ทาวเวอร์ (พัก 12.00-13.00 น.) \nที่อยู่ : 62 บางนา-ตราด 25 ( เลย Big C บางนา ) แขวงบางนา เขตบางนา กรุงเทพฯ 0 2744 3020-30
URL:https://thaibloodcentre.redcross.or.th/event/%e0%b8%9a%e0%b8%a3%e0%b8%b4%e0%b8%a9%e0%b8%b1%e0%b8%97-%e0%b9%81%e0%b8%ad%e0%b8%a3%e0%b9%8c%e0%b9%82%e0%b8%a3%e0%b8%84%e0%b8%a5%e0%b8%b2%e0%b8%aa-%e0%b8%88%e0%b8%b3%e0%b8%81%e0%b8%b1%e0%b8%94-2/
LOCATION:บริษัท แอร์โรคลาส จำกัด\, บริษัท แอร์โรคลาส จำกัด 62 ซอยบางนา-ตราด 25 แขวงบางนาเหนือ เขตบางนา กรุงเทพมหานคร 10260
CATEGORIES:ปฏิทินตารางหน่วยเคลื่อนที่
END:VEVENT
BEGIN:VEVENT
DTSTART;TZID=Asia/Krasnoyarsk:20260306T090000
DTEND;TZID=Asia/Krasnoyarsk:20260306T150000
DTSTAMP:20260422T064152
CREATED:20260304T081516Z
LAST-MODIFIED:20260304T081516Z
UID:10005806-1772787600-1772809200@thaibloodcentre.redcross.or.th
SUMMARY:บริษัท โมเดอร์นฟอร์มกรุ๊ป จำกัด (มหาชน) []
DESCRIPTION:สถานที่เจาะ : ห้องประชุมชั้น 12 อาคารโมเดอร์นฟอร์ม ทาวเวอร์ (พัก 12.00-13.00 น.) \nที่อยู่ : 699 ถนนศรีนครินทร์ แขวงพัฒนาการ เขตสวนหลวง กรุงเทพฯ 0 2094 2336
URL:https://thaibloodcentre.redcross.or.th/event/%e0%b8%9a%e0%b8%a3%e0%b8%b4%e0%b8%a9%e0%b8%b1%e0%b8%97-%e0%b9%82%e0%b8%a1%e0%b9%80%e0%b8%94%e0%b8%ad%e0%b8%a3%e0%b9%8c%e0%b8%99%e0%b8%9f%e0%b8%ad%e0%b8%a3%e0%b9%8c%e0%b8%a1%e0%b8%81%e0%b8%a3-6/
LOCATION:บริษัท โมเดอร์นฟอร์มกรุ๊ป จำกัด (มหาชน)\, อาคารโมเดอร์นฟอร์ม ทาวเวอร์ 699 ถนนศรีนครินทร์ แขวงพัฒนาการ เขตสวนหลวง กรุงเทพฯ 10250
CATEGORIES:ปฏิทินตารางหน่วยเคลื่อนที่
END:VEVENT
BEGIN:VEVENT
DTSTART;TZID=Asia/Krasnoyarsk:20260306T090000
DTEND;TZID=Asia/Krasnoyarsk:20260306T150000
DTSTAMP:20260422T064152
CREATED:20260304T081514Z
LAST-MODIFIED:20260304T081514Z
UID:10005805-1772787600-1772809200@thaibloodcentre.redcross.or.th
SUMMARY:กรมบังคับคดี กระทรวงยุติธรรม []
DESCRIPTION:สถานที่เจาะ : ห้องตรวจคำขอรับชำระหนี้ฯ ชั้น 1 อาคาร 25 ปี (พัก 12.00-13.00 น.) \nที่อยู่ : 189/1 ถนนบางขุนนนท์ แขวงบางขุนนนท์ เขตบางกอกน้อย กรุงเทพฯ 0 2881 4999
URL:https://thaibloodcentre.redcross.or.th/event/%e0%b8%81%e0%b8%a3%e0%b8%a1%e0%b8%9a%e0%b8%b1%e0%b8%87%e0%b8%84%e0%b8%b1%e0%b8%9a%e0%b8%84%e0%b8%94%e0%b8%b5-%e0%b8%81%e0%b8%a3%e0%b8%b0%e0%b8%97%e0%b8%a3%e0%b8%a7%e0%b8%87%e0%b8%a2%e0%b8%b8-5/
LOCATION:กรมบังคับคดี กระทรวงยุติธรรม\, กรมบังคับคดี กระทรวงยุติธรรม 189/1 ถนนบางขุนนนท์ เขตบางกอกน้อย กรุงเทพมหานคร 10700
CATEGORIES:ปฏิทินตารางหน่วยเคลื่อนที่
END:VEVENT
BEGIN:VEVENT
DTSTART;TZID=Asia/Krasnoyarsk:20260306T090000
DTEND;TZID=Asia/Krasnoyarsk:20260306T150000
DTSTAMP:20260422T064152
CREATED:20260304T081512Z
LAST-MODIFIED:20260304T081512Z
UID:10005804-1772787600-1772809200@thaibloodcentre.redcross.or.th
SUMMARY:บริษัท สิงห์ พร็อพเพอร์ตี้ ดีเวลลอปเม้นท์ จำกัด []
DESCRIPTION:สถานที่เจาะ : หน้าอาคาร Singha Complex (พัก 11.30-12.30 น.) \nที่อยู่ : 1788 อาคารสิงห์ คอมเพล็กซ์ชั้น 15 ถนนเพชรบุรี แขวงบางกะปิ เขตห้วยขวาง กรุงเทพฯ 0 2088 9099
URL:https://thaibloodcentre.redcross.or.th/event/%e0%b8%9a%e0%b8%a3%e0%b8%b4%e0%b8%a9%e0%b8%b1%e0%b8%97-%e0%b8%aa%e0%b8%b4%e0%b8%87%e0%b8%ab%e0%b9%8c-%e0%b8%9e%e0%b8%a3%e0%b9%87%e0%b8%ad%e0%b8%9e%e0%b9%80%e0%b8%9e%e0%b8%ad%e0%b8%a3%e0%b9%8c-5/
LOCATION:บริษัท สิงห์ พร็อพเพอร์ตี้ ดีเวลลอปเม้นท์ จำกัด\, อาคารสิงห์ คอมเพล็กซ์ 1788 ถ. เพชรบุรีตัดใหม่ แขวงบางกะปิ เขตห้วยขวาง กรุงเทพมหานคร 10310
CATEGORIES:ปฏิทินตารางหน่วยเคลื่อนที่
END:VEVENT
BEGIN:VEVENT
DTSTART;TZID=Asia/Krasnoyarsk:20260306T090000
DTEND;TZID=Asia/Krasnoyarsk:20260306T150000
DTSTAMP:20260422T064152
CREATED:20260304T081510Z
LAST-MODIFIED:20260304T081510Z
UID:10005803-1772787600-1772809200@thaibloodcentre.redcross.or.th
SUMMARY:โรงพยาบาลสินแพทย์ เทพารักษ์ []
DESCRIPTION:สถานที่เจาะ : ห้องประชุมชั้น 4 อาคาร A (พัก 11.30-12.30 น.) \nที่อยู่ : 9/99 ม.6 ถ.เทพารักษ์ ต.เทพารักษ์ อ.เมือง จ.สมุทรปราการ 0 2761 5999
URL:https://thaibloodcentre.redcross.or.th/event/%e0%b9%82%e0%b8%a3%e0%b8%87%e0%b8%9e%e0%b8%a2%e0%b8%b2%e0%b8%9a%e0%b8%b2%e0%b8%a5%e0%b8%aa%e0%b8%b4%e0%b8%99%e0%b9%81%e0%b8%9e%e0%b8%97%e0%b8%a2%e0%b9%8c-%e0%b9%80%e0%b8%97%e0%b8%9e%e0%b8%b2-4/
LOCATION:โรงพยาบาลสินแพทย์ เทพารักษ์\, โรงพยาบาลสินแพทย์ เทพารักษ์ 9/99 ถ.เทพารักษ์ ต.เทพารักษ์ อ.เมืองสมุทรปราการ สมุทรปราการ 10270
CATEGORIES:ปฏิทินตารางหน่วยเคลื่อนที่
END:VEVENT
BEGIN:VEVENT
DTSTART;TZID=Asia/Krasnoyarsk:20260306T090000
DTEND;TZID=Asia/Krasnoyarsk:20260306T150000
DTSTAMP:20260422T064152
CREATED:20260304T081503Z
LAST-MODIFIED:20260304T081503Z
UID:10005801-1772787600-1772809200@thaibloodcentre.redcross.or.th
SUMMARY:ธนาคารกรุงไทย จำกัด (มหาชน) []
DESCRIPTION:สถานที่เจาะ : บริเวณลานจอดรถแอโรบิค อาคารนานาเหนือ \nที่อยู่ : 35 สุขุมวิท 3 แขวงคลองเตยเหนือ เขตวัฒนา กรุงเทพฯ 0 2208 4404
URL:https://thaibloodcentre.redcross.or.th/event/%e0%b8%98%e0%b8%99%e0%b8%b2%e0%b8%84%e0%b8%b2%e0%b8%a3%e0%b8%81%e0%b8%a3%e0%b8%b8%e0%b8%87%e0%b9%84%e0%b8%97%e0%b8%a2-%e0%b8%88%e0%b8%b3%e0%b8%81%e0%b8%b1%e0%b8%94-%e0%b8%a1%e0%b8%ab%e0%b8%b2-4/
LOCATION:ธนาคารกรุงไทย จำกัด (มหาชน)\, ธนาคารกรุงไทย จำกัด (มหาชน) เลขที่ 35 ถนนสุขุมวิท แขวงคลองเตยเหนือ เขตวัฒนา กทม. 10110
CATEGORIES:ปฏิทินตารางหน่วยเคลื่อนที่
END:VEVENT
BEGIN:VEVENT
DTSTART;TZID=Asia/Krasnoyarsk:20260306T090000
DTEND;TZID=Asia/Krasnoyarsk:20260306T150000
DTSTAMP:20260422T064152
CREATED:20260304T081501Z
LAST-MODIFIED:20260304T081501Z
UID:10005800-1772787600-1772809200@thaibloodcentre.redcross.or.th
SUMMARY:บริษัท อิมแพ็ค เอ็กซิบิชั่น แมเนจเม้นท์ จำกัด []
DESCRIPTION:สถานที่เจาะ : ห้องแซฟไฟร์ 111-112 อาคารอิมแพ็คฟอรั่ม (พัก 12.00-13.00 น.) \nที่อยู่ : 47/569-576 ถ.ป๊อปปูล่า 3 ต.บ้านใหม่ อ.ปากเกร็ด จ.นนทบุรี 0 2833 5186
URL:https://thaibloodcentre.redcross.or.th/event/%e0%b8%9a%e0%b8%a3%e0%b8%b4%e0%b8%a9%e0%b8%b1%e0%b8%97-%e0%b8%ad%e0%b8%b4%e0%b8%a1%e0%b9%81%e0%b8%9e%e0%b9%87%e0%b8%84-%e0%b9%80%e0%b8%ad%e0%b9%87%e0%b8%81%e0%b8%8b%e0%b8%b4%e0%b8%9a%e0%b8%b4-5/
LOCATION:บริษัท อิมแพ็ค เอ็กซิบิชั่น แมเนจเม้นท์ จำกัด\, IMPACT Forum Building 47/569-576 ม. 3 ชั้น 10 ถ.ป๊อปปูล่า 3 บ้านใหม่ นนทบุรี 11120
CATEGORIES:ปฏิทินตารางหน่วยเคลื่อนที่
END:VEVENT
BEGIN:VEVENT
DTSTART;TZID=Asia/Krasnoyarsk:20260306T090000
DTEND;TZID=Asia/Krasnoyarsk:20260306T150000
DTSTAMP:20260422T064152
CREATED:20260304T081456Z
LAST-MODIFIED:20260304T081456Z
UID:10005799-1772787600-1772809200@thaibloodcentre.redcross.or.th
SUMMARY:บ้านทรงไทย (ย่านวงศ์สว่าง) []
DESCRIPTION:สถานที่เจาะ : (พัก 12.30-13.00 น.) \nที่อยู่ : 1423 ถนนกรุงเทพ – นนทบุรี แขวงวงศ์สว่าง เขตบางซื่อ กรุงเทพฯ 0 2256 4300
URL:https://thaibloodcentre.redcross.or.th/event/%e0%b8%9a%e0%b9%89%e0%b8%b2%e0%b8%99%e0%b8%97%e0%b8%a3%e0%b8%87%e0%b9%84%e0%b8%97%e0%b8%a2-%e0%b8%a2%e0%b9%88%e0%b8%b2%e0%b8%99%e0%b8%a7%e0%b8%87%e0%b8%a8%e0%b9%8c%e0%b8%aa%e0%b8%a7%e0%b9%88-368/
LOCATION:บ้านทรงไทย (ย่านวงศ์สว่าง)\, หน่วยรับบริจาคโลหิต บ้านทรงไทย(ย่านวงศ์สว่าง) 1423 ถนนกรุงเทพ-นนทบุรี แขวงวงศ์สว่าง เขตบางซื่อ กรุงเทพมหานคร 10800
CATEGORIES:ปฏิทินตารางหน่วยเคลื่อนที่
END:VEVENT
BEGIN:VEVENT
DTSTART;TZID=Asia/Krasnoyarsk:20260306T083000
DTEND;TZID=Asia/Krasnoyarsk:20260306T193000
DTSTAMP:20260422T064152
CREATED:20260304T081453Z
LAST-MODIFIED:20260304T081453Z
UID:10005798-1772785800-1772825400@thaibloodcentre.redcross.or.th
SUMMARY:สถานีกาชาด 11 วิเศษนิยม []
DESCRIPTION:สถานที่เจาะ : ชั้น 3 \nที่อยู่ : 33/3 ถนนเพชรเกษม แขวงบางหว้า เขตภาษีเจริญ กรุงเทพฯ 633450711
URL:https://thaibloodcentre.redcross.or.th/event/%e0%b8%aa%e0%b8%96%e0%b8%b2%e0%b8%99%e0%b8%b5%e0%b8%81%e0%b8%b2%e0%b8%8a%e0%b8%b2%e0%b8%94-11-%e0%b8%a7%e0%b8%b4%e0%b9%80%e0%b8%a8%e0%b8%a9%e0%b8%99%e0%b8%b4%e0%b8%a2%e0%b8%a1-185/
LOCATION:สถานีกาชาด 11 วิเศษนิยม\, สถานีกาชาด 11 วิเศษนิยม 605 ถ.เพชรเกษม แขวงบางหว้า เขตภาษีเจริญ กรุงเทพมหานคร 10160
CATEGORIES:ปฏิทินตารางหน่วยเคลื่อนที่
END:VEVENT
BEGIN:VEVENT
DTSTART;TZID=Asia/Krasnoyarsk:20260306T073000
DTEND;TZID=Asia/Krasnoyarsk:20260306T193000
DTSTAMP:20260422T064152
CREATED:20260304T081350Z
LAST-MODIFIED:20260304T081350Z
UID:10005792-1772782200-1772825400@thaibloodcentre.redcross.or.th
SUMMARY:ศูนย์บริการโลหิตแห่งชาติ สภากาชาดไทย []
DESCRIPTION:ที่อยู่ : 1871 ถ. อังรีดูนังต์ แขวงปทุมวัน เขตปทุมวัน
URL:https://thaibloodcentre.redcross.or.th/event/%e0%b8%a8%e0%b8%b9%e0%b8%99%e0%b8%a2%e0%b9%8c%e0%b8%9a%e0%b8%a3%e0%b8%b4%e0%b8%81%e0%b8%b2%e0%b8%a3%e0%b9%82%e0%b8%a5%e0%b8%ab%e0%b8%b4%e0%b8%95%e0%b9%81%e0%b8%ab%e0%b9%88%e0%b8%87%e0%b8%8a-451/
LOCATION:ศูนย์บริการโลหิตแห่งชาติ สภากาชาดไทย\, ศูนย์บริการโลหิตแห่งชาติ สภากาชาดไทย 1871 ถ. อังรีดูนังต์ แขวงปทุมวัน เขตปทุมวัน กรุงเทพมหานคร 10330
CATEGORIES:ปฏิทินตารางหน่วยเคลื่อนที่
END:VEVENT
BEGIN:VEVENT
DTSTART;TZID=Asia/Krasnoyarsk:20260305T130000
DTEND;TZID=Asia/Krasnoyarsk:20260305T150000
DTSTAMP:20260422T064152
CREATED:20260304T081337Z
LAST-MODIFIED:20260304T081337Z
UID:10005791-1772715600-1772722800@thaibloodcentre.redcross.or.th
SUMMARY:บริษัท ไทยไอโซวอลล์ จำกัด []
DESCRIPTION:สถานที่เจาะ : ข้างประตูโชว์รูม \nที่อยู่ : 383 ม. 7 ซ.ธรรมศิริ ถ.บางนา-ตราด กม.25 ต.บางเสาธง อ.บางเสาธง จ.สมุทรปราการ 0 2708 3745-50
URL:https://thaibloodcentre.redcross.or.th/event/%e0%b8%9a%e0%b8%a3%e0%b8%b4%e0%b8%a9%e0%b8%b1%e0%b8%97-%e0%b9%84%e0%b8%97%e0%b8%a2%e0%b9%84%e0%b8%ad%e0%b9%82%e0%b8%8b%e0%b8%a7%e0%b8%ad%e0%b8%a5%e0%b8%a5%e0%b9%8c-%e0%b8%88%e0%b8%b3%e0%b8%81-3/
LOCATION:บริษัท ไทยไอโซวอลล์ จำกัด\, บริษัท ไทยไอโซวอลล์ จำกัด 383 ซ.ธรรมศิริ ต.บางเสาธง อ.บางเสาธง สมุทรปราการ 10570
CATEGORIES:ปฏิทินตารางหน่วยเคลื่อนที่
END:VEVENT
END:VCALENDAR