BEGIN:VCALENDAR
VERSION:2.0
PRODID:-//เว็บไซต์ศูนย์บริการโลหิตแห่งชาติ - ECPv6.11.2.1//NONSGML v1.0//EN
CALSCALE:GREGORIAN
METHOD:PUBLISH
X-WR-CALNAME:เว็บไซต์ศูนย์บริการโลหิตแห่งชาติ
X-ORIGINAL-URL:https://thaibloodcentre.redcross.or.th
X-WR-CALDESC:Events for เว็บไซต์ศูนย์บริการโลหิตแห่งชาติ
REFRESH-INTERVAL;VALUE=DURATION:PT1H
X-Robots-Tag:noindex
X-PUBLISHED-TTL:PT1H
BEGIN:VTIMEZONE
TZID:Asia/Krasnoyarsk
BEGIN:STANDARD
TZOFFSETFROM:+0700
TZOFFSETTO:+0700
TZNAME:+07
DTSTART:20260101T000000
END:STANDARD
END:VTIMEZONE
BEGIN:VEVENT
DTSTART;TZID=Asia/Krasnoyarsk:20260309T120000
DTEND;TZID=Asia/Krasnoyarsk:20260309T180000
DTSTAMP:20260422T003633
CREATED:20260304T081831Z
LAST-MODIFIED:20260304T081831Z
UID:10005832-1773057600-1773079200@thaibloodcentre.redcross.or.th
SUMMARY:ศูนย์การค้าเดอะมอลล์ไลฟ์สโตร์ บางแค []
DESCRIPTION:สถานที่เจาะ : ชั้น 3 ตรงข้ามร้านโอ้กะจู๋ \nที่อยู่ : ถนนเพชรเกษม แขวงบางแคเหนือ เขตภาษีเจริญ กรุงเทพฯ 02 487 1221
URL:https://thaibloodcentre.redcross.or.th/event/%e0%b8%a8%e0%b8%b9%e0%b8%99%e0%b8%a2%e0%b9%8c%e0%b8%81%e0%b8%b2%e0%b8%a3%e0%b8%84%e0%b9%89%e0%b8%b2%e0%b9%80%e0%b8%94%e0%b8%ad%e0%b8%b0%e0%b8%a1%e0%b8%ad%e0%b8%a5%e0%b8%a5%e0%b9%8c%e0%b9%84-1495/
LOCATION:ศูนย์การค้าเดอะมอลล์ไลฟ์สโตร์ บางแค\, ศูนย์การค้าเดอะมอลล์ไลฟ์สโตร์ บางแค
CATEGORIES:ปฏิทินตารางหน่วยเคลื่อนที่
END:VEVENT
BEGIN:VEVENT
DTSTART;TZID=Asia/Krasnoyarsk:20260309T110000
DTEND;TZID=Asia/Krasnoyarsk:20260309T150000
DTSTAMP:20260422T003633
CREATED:20260304T082008Z
LAST-MODIFIED:20260304T082008Z
UID:10005847-1773054000-1773068400@thaibloodcentre.redcross.or.th
SUMMARY:บริษัท กุลธรเคอร์บี้ จำกัด (มหาชน) []
DESCRIPTION:สถานที่เจาะ : สนามเปตอง (ข้างห้องประชุม 30 ปี) \nที่อยู่ : 126 นิคมฯลาดกระบัง ถนนฉลองกรุง 31 แขวงลำปลาทิว เขตลาดกระบัง กรุงเทพฯ 0 2326 0831-6
URL:https://thaibloodcentre.redcross.or.th/event/%e0%b8%9a%e0%b8%a3%e0%b8%b4%e0%b8%a9%e0%b8%b1%e0%b8%97-%e0%b8%81%e0%b8%b8%e0%b8%a5%e0%b8%98%e0%b8%a3%e0%b9%80%e0%b8%84%e0%b8%ad%e0%b8%a3%e0%b9%8c%e0%b8%9a%e0%b8%b5%e0%b9%89-%e0%b8%88%e0%b8%b3-5/
LOCATION:บริษัท กุลธรเคอร์บี้ จำกัด (มหาชน)\, บริษัท กุลธรเคอร์บี้ จำกัด (มหาชน) 126 นิคมฯลาดกระบัง ซอย 31 ถนนฉลองกรุง แขวงลำปลาทิว เขตลาดกระบัง กรุงเทพมหานคร 10520
CATEGORIES:ปฏิทินตารางหน่วยเคลื่อนที่
END:VEVENT
BEGIN:VEVENT
DTSTART;TZID=Asia/Krasnoyarsk:20260309T110000
DTEND;TZID=Asia/Krasnoyarsk:20260309T150000
DTSTAMP:20260422T003633
CREATED:20260304T081942Z
LAST-MODIFIED:20260304T081953Z
UID:10005840-1773054000-1773068400@thaibloodcentre.redcross.or.th
SUMMARY:เซ็นทรัลพลาซา ลาดพร้าว []
DESCRIPTION:สถานที่เจาะ : ลานด้านหน้าศูนย์การค้า \nที่อยู่ : 1691 ถนนพหลโยธิน แขวงจตุจักร เขตจตุจักร กรุงเทพฯ 0 2793 6000
URL:https://thaibloodcentre.redcross.or.th/event/%e0%b9%80%e0%b8%8b%e0%b9%87%e0%b8%99%e0%b8%97%e0%b8%a3%e0%b8%b1%e0%b8%a5%e0%b8%9e%e0%b8%a5%e0%b8%b2%e0%b8%8b%e0%b8%b2-%e0%b8%a5%e0%b8%b2%e0%b8%94%e0%b8%9e%e0%b8%a3%e0%b9%89%e0%b8%b2%e0%b8%a7-7/
LOCATION:เซ็นทรัลพลาซา ลาดพร้าว\, เซ็นทรัลพลาซา ลาดพร้าว 1693 ถ.พหลโยธิน แขวงจตุจักร เขตจตุจักร กรุงเทพมหานคร 10900
CATEGORIES:ปฏิทินตารางหน่วยเคลื่อนที่
END:VEVENT
BEGIN:VEVENT
DTSTART;TZID=Asia/Krasnoyarsk:20260309T110000
DTEND;TZID=Asia/Krasnoyarsk:20260309T150000
DTSTAMP:20260422T003633
CREATED:20260304T081939Z
LAST-MODIFIED:20260304T081952Z
UID:10005839-1773054000-1773068400@thaibloodcentre.redcross.or.th
SUMMARY:ศูนย์การค้า ธัญญาพาร์ค ศรีนครินทร์ []
DESCRIPTION:สถานที่เจาะ : อาคาร B ชั้น 2 \nที่อยู่ : บริษัท ธัญวิลล์ จำกัด 735\,735/1-8 ถนนศรีนครินทร์ แขวงพัฒนาการ เขตสวนหลวง กรุงเทพฯ 0 2108 6000
URL:https://thaibloodcentre.redcross.or.th/event/%e0%b8%a8%e0%b8%b9%e0%b8%99%e0%b8%a2%e0%b9%8c%e0%b8%81%e0%b8%b2%e0%b8%a3%e0%b8%84%e0%b9%89%e0%b8%b2-%e0%b8%98%e0%b8%b1%e0%b8%8d%e0%b8%8d%e0%b8%b2%e0%b8%9e%e0%b8%b2%e0%b8%a3%e0%b9%8c%e0%b8%84-14/
LOCATION:ศูนย์การค้า ธัญญาพาร์ค ศรีนครินทร์\, ศูนย์การค้า ธัญญาพาร์ค ศรีนครินทร์ 735\,1-8 ถ.ศรีนครินทร์ แขวงพัฒนาการ เขตสวนหลวง กรุงเทพมหานคร 10250
CATEGORIES:ปฏิทินตารางหน่วยเคลื่อนที่
END:VEVENT
BEGIN:VEVENT
DTSTART;TZID=Asia/Krasnoyarsk:20260309T090000
DTEND;TZID=Asia/Krasnoyarsk:20260309T150000
DTSTAMP:20260422T003633
CREATED:20260304T082014Z
LAST-MODIFIED:20260304T082014Z
UID:10005848-1773046800-1773068400@thaibloodcentre.redcross.or.th
SUMMARY:โรงพยาบาลธนบุรี ทวีวัฒนา []
DESCRIPTION:สถานที่เจาะ : คลินิกพัฒนาเด็ก อาคาร 2 (พัก 11.30-12.30 น.) \nที่อยู่ : 43/4 ถนนบรมราชชนนี แขวงศาลาธรรมสพน์ เขตทวีวัฒนา กรุงเทพฯ 0 2487 2100
URL:https://thaibloodcentre.redcross.or.th/event/%e0%b9%82%e0%b8%a3%e0%b8%87%e0%b8%9e%e0%b8%a2%e0%b8%b2%e0%b8%9a%e0%b8%b2%e0%b8%a5%e0%b8%98%e0%b8%99%e0%b8%9a%e0%b8%b8%e0%b8%a3%e0%b8%b5-%e0%b8%97%e0%b8%a7%e0%b8%b5%e0%b8%a7%e0%b8%b1%e0%b8%92-3/
LOCATION:โรงพยาบาลธนบุรี ทวีวัฒนา\, โรงพยาบาลธนบุรี ทวีวัฒนา 43/4 ถนนบรมราชชนนี แขวงศาลาธรรมสพน์ เขตทวีวัฒนา กรุงเทพมหานคร 10170
CATEGORIES:ปฏิทินตารางหน่วยเคลื่อนที่
END:VEVENT
BEGIN:VEVENT
DTSTART;TZID=Asia/Krasnoyarsk:20260309T090000
DTEND;TZID=Asia/Krasnoyarsk:20260309T150000
DTSTAMP:20260422T003633
CREATED:20260304T082006Z
LAST-MODIFIED:20260304T082006Z
UID:10005846-1773046800-1773068400@thaibloodcentre.redcross.or.th
SUMMARY:บริษัท แกมม่าอินดัสตรี้ส์ จำกัด []
DESCRIPTION:สถานที่เจาะ : ชั้น 3 อาคาร A (พัก 11.30-12.30 น.) \nที่อยู่ : 192 เพชรเกษม 28 แขวงปากคลอง เขตภาษีเจริญ กรุงเทพฯ 0 2868 5686
URL:https://thaibloodcentre.redcross.or.th/event/%e0%b8%9a%e0%b8%a3%e0%b8%b4%e0%b8%a9%e0%b8%b1%e0%b8%97-%e0%b9%81%e0%b8%81%e0%b8%a1%e0%b8%a1%e0%b9%88%e0%b8%b2%e0%b8%ad%e0%b8%b4%e0%b8%99%e0%b8%94%e0%b8%b1%e0%b8%aa%e0%b8%95%e0%b8%a3%e0%b8%b5-5/
LOCATION:บริษัท แกมม่าอินดัสตรี้ส์ จำกัด\, บริษัท แกมม่าอินดัสตรี้ส์ จำกัด 192 ซอยเพชรเกษม 28 แยก 16 แขวงปากคลองภาษีเจริญ เขตภาษีเจริญ กรุงเทพมหานคร 10160
CATEGORIES:ปฏิทินตารางหน่วยเคลื่อนที่
END:VEVENT
BEGIN:VEVENT
DTSTART;TZID=Asia/Krasnoyarsk:20260309T090000
DTEND;TZID=Asia/Krasnoyarsk:20260309T150000
DTSTAMP:20260422T003633
CREATED:20260304T082004Z
LAST-MODIFIED:20260304T082004Z
UID:10005845-1773046800-1773068400@thaibloodcentre.redcross.or.th
SUMMARY:บริษัท ไทยวาโก้ จำกัด (มหาชน) []
DESCRIPTION:สถานที่เจาะ : อาคาร 6 ชั้น 4 (พัก 12.00-13.00 น.) \nที่อยู่ : 930/1 ซอยประดู่ 1 ถนนสาธุประดิษฐ์ แขวงบางโคล่ เขตบางคอแหลม กรุงเทพฯ 0 2289 3100
URL:https://thaibloodcentre.redcross.or.th/event/%e0%b8%9a%e0%b8%a3%e0%b8%b4%e0%b8%a9%e0%b8%b1%e0%b8%97-%e0%b9%84%e0%b8%97%e0%b8%a2%e0%b8%a7%e0%b8%b2%e0%b9%82%e0%b8%81%e0%b9%89-%e0%b8%88%e0%b8%b3%e0%b8%81%e0%b8%b1%e0%b8%94-%e0%b8%a1%e0%b8%ab-5/
LOCATION:บริษัท ไทยวาโก้ จำกัด (มหาชน)\, บริษัท ไทยวาโก้ จำกัด (มหาชน) 930/1 ซอยประดู่ 1 ถนนสาธุประดิษฐ์ แขวงบางโคล่ เขตบางคอแหลม กรุงเทพมหานคร 10120
CATEGORIES:ปฏิทินตารางหน่วยเคลื่อนที่
END:VEVENT
BEGIN:VEVENT
DTSTART;TZID=Asia/Krasnoyarsk:20260309T090000
DTEND;TZID=Asia/Krasnoyarsk:20260309T150000
DTSTAMP:20260422T003633
CREATED:20260304T082002Z
LAST-MODIFIED:20260304T082002Z
UID:10005844-1773046800-1773068400@thaibloodcentre.redcross.or.th
SUMMARY:บริษัท สามารถคอร์ปอเรชั่น จำกัด (มหาชน) []
DESCRIPTION:สถานที่เจาะ : อาคารซอฟต์แวร์ปาร์ค (พัก 12.00-13.00 น.) \nที่อยู่ : 99/1 ม. 4 ถ.แจ้งวัฒนะ ต.คลองเกลือ อ.ปากเกร็ด จ.นนทบุรี 0 2502 6000
URL:https://thaibloodcentre.redcross.or.th/event/%e0%b8%9a%e0%b8%a3%e0%b8%b4%e0%b8%a9%e0%b8%b1%e0%b8%97-%e0%b8%aa%e0%b8%b2%e0%b8%a1%e0%b8%b2%e0%b8%a3%e0%b8%96%e0%b8%84%e0%b8%ad%e0%b8%a3%e0%b9%8c%e0%b8%9b%e0%b8%ad%e0%b9%80%e0%b8%a3%e0%b8%8a-4/
LOCATION:บริษัท สามารถคอร์ปอเรชั่น จำกัด (มหาชน)\, อาคารซอฟต์แวร์ปาร์ค 99/1 ม. 4 ถ.แจ้งวัฒนะ ต.คลองเกลือ อ.ปากเกร็ด จ.นนทบุรี 11120
CATEGORIES:ปฏิทินตารางหน่วยเคลื่อนที่
END:VEVENT
BEGIN:VEVENT
DTSTART;TZID=Asia/Krasnoyarsk:20260309T090000
DTEND;TZID=Asia/Krasnoyarsk:20260309T150000
DTSTAMP:20260422T003633
CREATED:20260304T082000Z
LAST-MODIFIED:20260304T082000Z
UID:10005843-1773046800-1773068400@thaibloodcentre.redcross.or.th
SUMMARY:กรมประมง []
DESCRIPTION:สถานที่เจาะ : ห้องประชุมอานนท์ \nที่อยู่ : 50 ถนนพหลโยธิน แขวงลาดยาว เขตจตุจักร กรุงเทพฯ 0 2558 0221
URL:https://thaibloodcentre.redcross.or.th/event/%e0%b8%81%e0%b8%a3%e0%b8%a1%e0%b8%9b%e0%b8%a3%e0%b8%b0%e0%b8%a1%e0%b8%87-3/
LOCATION:กรมประมง\, กรมประมง 50 เกษตรกลาง ถนนพหลโยธิน แขวงลาดยาว เขตจตุจักร กรุงเทพมหานคร 10900
CATEGORIES:ปฏิทินตารางหน่วยเคลื่อนที่
END:VEVENT
BEGIN:VEVENT
DTSTART;TZID=Asia/Krasnoyarsk:20260309T090000
DTEND;TZID=Asia/Krasnoyarsk:20260309T150000
DTSTAMP:20260422T003633
CREATED:20260304T081945Z
LAST-MODIFIED:20260304T081953Z
UID:10005841-1773046800-1773068400@thaibloodcentre.redcross.or.th
SUMMARY:ธนาคารกรุงศรีอยุธยา จำกัด (มหาชน) สาขาเพลินจิต []
DESCRIPTION:สถานที่เจาะ : ห้อง Chillax ชั้น 22 (พัก 11.00-12.00 น.) \nที่อยู่ : 550 ถนนเพลินจิต แขวงลุมพินี เขตปทุมวัน กรุงเทพฯ
URL:https://thaibloodcentre.redcross.or.th/event/%e0%b8%98%e0%b8%99%e0%b8%b2%e0%b8%84%e0%b8%b2%e0%b8%a3%e0%b8%81%e0%b8%a3%e0%b8%b8%e0%b8%87%e0%b8%a8%e0%b8%a3%e0%b8%b5%e0%b8%ad%e0%b8%a2%e0%b8%b8%e0%b8%98%e0%b8%a2%e0%b8%b2-%e0%b8%88%e0%b8%b3-9/
LOCATION:ธนาคารกรุงศรีอยุธยา จำกัด (มหาชน) สาขาเพลินจิต\, ธนาคารกรุงศรีอยุธยา จำกัด (มหาชน) สาขาเพลินจิต อาคารกรุงศรีเพลินจิตทาวเวอร์ชั้น 14 เลขที่ 550 ถนนเพลินจิต แขวงลุมพินี เขตปทุมวัน กรุงเทพฯ 10330
CATEGORIES:ปฏิทินตารางหน่วยเคลื่อนที่
END:VEVENT
BEGIN:VEVENT
DTSTART;TZID=Asia/Krasnoyarsk:20260309T090000
DTEND;TZID=Asia/Krasnoyarsk:20260309T150000
DTSTAMP:20260422T003634
CREATED:20260304T081934Z
LAST-MODIFIED:20260304T081951Z
UID:10005838-1773046800-1773068400@thaibloodcentre.redcross.or.th
SUMMARY:บ้านทรงไทย (ย่านวงศ์สว่าง) []
DESCRIPTION:สถานที่เจาะ : (พัก 12.30-13.00 น.) \nที่อยู่ : 1423 ถนนกรุงเทพ – นนทบุรี แขวงวงศ์สว่าง เขตบางซื่อ กรุงเทพฯ 0 2256 4300
URL:https://thaibloodcentre.redcross.or.th/event/%e0%b8%9a%e0%b9%89%e0%b8%b2%e0%b8%99%e0%b8%97%e0%b8%a3%e0%b8%87%e0%b9%84%e0%b8%97%e0%b8%a2-%e0%b8%a2%e0%b9%88%e0%b8%b2%e0%b8%99%e0%b8%a7%e0%b8%87%e0%b8%a8%e0%b9%8c%e0%b8%aa%e0%b8%a7%e0%b9%88-371/
LOCATION:บ้านทรงไทย (ย่านวงศ์สว่าง)\, หน่วยรับบริจาคโลหิต บ้านทรงไทย(ย่านวงศ์สว่าง) 1423 ถนนกรุงเทพ-นนทบุรี แขวงวงศ์สว่าง เขตบางซื่อ กรุงเทพมหานคร 10800
CATEGORIES:ปฏิทินตารางหน่วยเคลื่อนที่
END:VEVENT
BEGIN:VEVENT
DTSTART;TZID=Asia/Krasnoyarsk:20260309T083000
DTEND;TZID=Asia/Krasnoyarsk:20260309T193000
DTSTAMP:20260422T003634
CREATED:20260304T081948Z
LAST-MODIFIED:20260304T081948Z
UID:10005842-1773045000-1773084600@thaibloodcentre.redcross.or.th
SUMMARY:สถานีกาชาด 11 วิเศษนิยม []
DESCRIPTION:สถานที่เจาะ : ชั้น 3 \nที่อยู่ : 33/3 ถนนเพชรเกษม แขวงบางหว้า เขตภาษีเจริญ กรุงเทพฯ 633450711
URL:https://thaibloodcentre.redcross.or.th/event/%e0%b8%aa%e0%b8%96%e0%b8%b2%e0%b8%99%e0%b8%b5%e0%b8%81%e0%b8%b2%e0%b8%8a%e0%b8%b2%e0%b8%94-11-%e0%b8%a7%e0%b8%b4%e0%b9%80%e0%b8%a8%e0%b8%a9%e0%b8%99%e0%b8%b4%e0%b8%a2%e0%b8%a1-189/
LOCATION:สถานีกาชาด 11 วิเศษนิยม\, สถานีกาชาด 11 วิเศษนิยม 605 ถ.เพชรเกษม แขวงบางหว้า เขตภาษีเจริญ กรุงเทพมหานคร 10160
CATEGORIES:ปฏิทินตารางหน่วยเคลื่อนที่
END:VEVENT
BEGIN:VEVENT
DTSTART;TZID=Asia/Krasnoyarsk:20260309T083000
DTEND;TZID=Asia/Krasnoyarsk:20260309T193000
DTSTAMP:20260422T003634
CREATED:20260304T081931Z
LAST-MODIFIED:20260304T081931Z
UID:10005837-1773045000-1773084600@thaibloodcentre.redcross.or.th
SUMMARY:สถานีกาชาด 11 วิเศษนิยม []
DESCRIPTION:สถานที่เจาะ : ชั้น 3 \nที่อยู่ : 33/3 ถนนเพชรเกษม แขวงบางหว้า เขตภาษีเจริญ กรุงเทพฯ 633450711
URL:https://thaibloodcentre.redcross.or.th/event/%e0%b8%aa%e0%b8%96%e0%b8%b2%e0%b8%99%e0%b8%b5%e0%b8%81%e0%b8%b2%e0%b8%8a%e0%b8%b2%e0%b8%94-11-%e0%b8%a7%e0%b8%b4%e0%b9%80%e0%b8%a8%e0%b8%a9%e0%b8%99%e0%b8%b4%e0%b8%a2%e0%b8%a1-188/
LOCATION:สถานีกาชาด 11 วิเศษนิยม\, สถานีกาชาด 11 วิเศษนิยม 605 ถ.เพชรเกษม แขวงบางหว้า เขตภาษีเจริญ กรุงเทพมหานคร 10160
CATEGORIES:ปฏิทินตารางหน่วยเคลื่อนที่
END:VEVENT
BEGIN:VEVENT
DTSTART;TZID=Asia/Krasnoyarsk:20260309T073000
DTEND;TZID=Asia/Krasnoyarsk:20260309T193000
DTSTAMP:20260422T003634
CREATED:20260304T081820Z
LAST-MODIFIED:20260304T081820Z
UID:10005831-1773041400-1773084600@thaibloodcentre.redcross.or.th
SUMMARY:ศูนย์บริการโลหิตแห่งชาติ สภากาชาดไทย []
DESCRIPTION:ที่อยู่ : 1871 ถ. อังรีดูนังต์ แขวงปทุมวัน เขตปทุมวัน
URL:https://thaibloodcentre.redcross.or.th/event/%e0%b8%a8%e0%b8%b9%e0%b8%99%e0%b8%a2%e0%b9%8c%e0%b8%9a%e0%b8%a3%e0%b8%b4%e0%b8%81%e0%b8%b2%e0%b8%a3%e0%b9%82%e0%b8%a5%e0%b8%ab%e0%b8%b4%e0%b8%95%e0%b9%81%e0%b8%ab%e0%b9%88%e0%b8%87%e0%b8%8a-454/
LOCATION:ศูนย์บริการโลหิตแห่งชาติ สภากาชาดไทย\, ศูนย์บริการโลหิตแห่งชาติ สภากาชาดไทย 1871 ถ. อังรีดูนังต์ แขวงปทุมวัน เขตปทุมวัน กรุงเทพมหานคร 10330
CATEGORIES:ปฏิทินตารางหน่วยเคลื่อนที่
END:VEVENT
BEGIN:VEVENT
DTSTART;TZID=Asia/Krasnoyarsk:20260308T120000
DTEND;TZID=Asia/Krasnoyarsk:20260308T180000
DTSTAMP:20260422T003634
CREATED:20260304T081753Z
LAST-MODIFIED:20260304T081753Z
UID:10005826-1772971200-1772992800@thaibloodcentre.redcross.or.th
SUMMARY:ศูนย์การค้าเดอะมอลล์ไลฟ์สโตร์ ท่าพระ []
DESCRIPTION:สถานที่เจาะ : ชั้น 1 (ติดลานจอดรถ) \nที่อยู่ : 99 ถนนรัชดาท่าพระตัดใหม่ แขวงบุคคโล เขตธนบุรี กรุงเทพฯ 0 2469-1000
URL:https://thaibloodcentre.redcross.or.th/event/%e0%b8%a8%e0%b8%b9%e0%b8%99%e0%b8%a2%e0%b9%8c%e0%b8%81%e0%b8%b2%e0%b8%a3%e0%b8%84%e0%b9%89%e0%b8%b2%e0%b9%80%e0%b8%94%e0%b8%ad%e0%b8%b0%e0%b8%a1%e0%b8%ad%e0%b8%a5%e0%b8%a5%e0%b9%8c%e0%b9%84-1494/
LOCATION:ศูนย์การค้าเดอะมอลล์ไลฟ์สโตร์ ท่าพระ\, เดอะมอลล์ไลฟ์สโตร์ ท่าพระ 129 ถ. รัชดาภิเษก แขวงบุคคโล เขตธนบุรี กรุงเทพมหานคร 10600
CATEGORIES:ปฏิทินตารางหน่วยเคลื่อนที่
END:VEVENT
BEGIN:VEVENT
DTSTART;TZID=Asia/Krasnoyarsk:20260308T120000
DTEND;TZID=Asia/Krasnoyarsk:20260308T180000
DTSTAMP:20260422T003634
CREATED:20260304T081748Z
LAST-MODIFIED:20260304T081748Z
UID:10005825-1772971200-1772992800@thaibloodcentre.redcross.or.th
SUMMARY:ศูนย์การค้า เอ็มโพเรียม []
DESCRIPTION:สถานที่เจาะ : ชั้น M ศูนย์การค้า ดิ เอ็มโพเรียม เชื่อมลานจอดรถอาคาร B \nที่อยู่ : 622 ถนนสุขุมวิท แขวงคลองตัน เขตคลองเตย กรุงเทพฯ 0 2269 1515
URL:https://thaibloodcentre.redcross.or.th/event/%e0%b8%a8%e0%b8%b9%e0%b8%99%e0%b8%a2%e0%b9%8c%e0%b8%81%e0%b8%b2%e0%b8%a3%e0%b8%84%e0%b9%89%e0%b8%b2-%e0%b9%80%e0%b8%ad%e0%b9%87%e0%b8%a1%e0%b9%82%e0%b8%9e%e0%b9%80%e0%b8%a3%e0%b8%b5%e0%b8%a2-369/
LOCATION:ศูนย์การค้า เอ็มโพเรียม\, เอ็มโพเรียม 622 ถ. สุขุมวิท แขวงคลองตัน เขตคลองเตย กรุงเทพมหานคร 10110
CATEGORIES:ปฏิทินตารางหน่วยเคลื่อนที่
END:VEVENT
BEGIN:VEVENT
DTSTART;TZID=Asia/Krasnoyarsk:20260308T120000
DTEND;TZID=Asia/Krasnoyarsk:20260308T180000
DTSTAMP:20260422T003634
CREATED:20260304T081736Z
LAST-MODIFIED:20260304T081736Z
UID:10005824-1772971200-1772992800@thaibloodcentre.redcross.or.th
SUMMARY:ศูนย์การค้าเดอะมอลล์ไลฟ์สโตร์ งามวงศ์วาน []
DESCRIPTION:สถานที่เจาะ : ชั้น 5 โซน Government Center \nที่อยู่ : ถนนงามวงศ์วาน ต.บางเขน อ.เมือง จ.นนทบุรี 0 2555 1550
URL:https://thaibloodcentre.redcross.or.th/event/%e0%b8%a8%e0%b8%b9%e0%b8%99%e0%b8%a2%e0%b9%8c%e0%b8%81%e0%b8%b2%e0%b8%a3%e0%b8%84%e0%b9%89%e0%b8%b2%e0%b9%80%e0%b8%94%e0%b8%ad%e0%b8%b0%e0%b8%a1%e0%b8%ad%e0%b8%a5%e0%b8%a5%e0%b9%8c%e0%b9%84-1493/
LOCATION:ศูนย์การค้าเดอะมอลล์ไลฟ์สโตร์ งามวงศ์วาน\, เดอะมอลล์ ไลฟ์สโตร์ งามวงศ์วาน 430 ถนน งามวงศ์วาน ตำบลบางเขน อำเภอเมืองนนทบุรี นนทบุรี 11000
CATEGORIES:ปฏิทินตารางหน่วยเคลื่อนที่
END:VEVENT
BEGIN:VEVENT
DTSTART;TZID=Asia/Krasnoyarsk:20260308T120000
DTEND;TZID=Asia/Krasnoyarsk:20260308T180000
DTSTAMP:20260422T003634
CREATED:20260304T081725Z
LAST-MODIFIED:20260304T081725Z
UID:10005823-1772971200-1772992800@thaibloodcentre.redcross.or.th
SUMMARY:ศูนย์การค้าเดอะมอลล์ไลฟ์สโตร์ บางกะปิ []
DESCRIPTION:สถานที่เจาะ : ชั้น 2 ทางออกลานจอดรถ \nที่อยู่ : ถนนลาดพร้าว แขวงคลองจั่น เขตบางกะปิ กรุงเทพฯ 0 2310 2278
URL:https://thaibloodcentre.redcross.or.th/event/%e0%b8%a8%e0%b8%b9%e0%b8%99%e0%b8%a2%e0%b9%8c%e0%b8%81%e0%b8%b2%e0%b8%a3%e0%b8%84%e0%b9%89%e0%b8%b2%e0%b9%80%e0%b8%94%e0%b8%ad%e0%b8%b0%e0%b8%a1%e0%b8%ad%e0%b8%a5%e0%b8%a5%e0%b9%8c%e0%b9%84-1492/
LOCATION:ศูนย์การค้าเดอะมอลล์ไลฟ์สโตร์ บางกะปิ\, เดอะมอลล์ไลฟ์สโตร์ บางกะปิ 3522 ถ. ลาดพร้าว แขวงคลองจั่น เขตบางกะปิ กรุงเทพมหานคร 10240
CATEGORIES:ปฏิทินตารางหน่วยเคลื่อนที่
END:VEVENT
BEGIN:VEVENT
DTSTART;TZID=Asia/Krasnoyarsk:20260308T120000
DTEND;TZID=Asia/Krasnoyarsk:20260308T180000
DTSTAMP:20260422T003634
CREATED:20260304T081713Z
LAST-MODIFIED:20260304T081713Z
UID:10005822-1772971200-1772992800@thaibloodcentre.redcross.or.th
SUMMARY:ศูนย์การค้าเดอะมอลล์ไลฟ์สโตร์ บางแค []
DESCRIPTION:สถานที่เจาะ : ชั้น 3 ตรงข้ามร้านโอ้กะจู๋ \nที่อยู่ : ถนนเพชรเกษม แขวงบางแคเหนือ เขตภาษีเจริญ กรุงเทพฯ 02 487 1221
URL:https://thaibloodcentre.redcross.or.th/event/%e0%b8%a8%e0%b8%b9%e0%b8%99%e0%b8%a2%e0%b9%8c%e0%b8%81%e0%b8%b2%e0%b8%a3%e0%b8%84%e0%b9%89%e0%b8%b2%e0%b9%80%e0%b8%94%e0%b8%ad%e0%b8%b0%e0%b8%a1%e0%b8%ad%e0%b8%a5%e0%b8%a5%e0%b9%8c%e0%b9%84-1491/
LOCATION:ศูนย์การค้าเดอะมอลล์ไลฟ์สโตร์ บางแค\, ศูนย์การค้าเดอะมอลล์ไลฟ์สโตร์ บางแค
CATEGORIES:ปฏิทินตารางหน่วยเคลื่อนที่
END:VEVENT
BEGIN:VEVENT
DTSTART;TZID=Asia/Krasnoyarsk:20260308T110000
DTEND;TZID=Asia/Krasnoyarsk:20260308T150000
DTSTAMP:20260422T003634
CREATED:20260304T081816Z
LAST-MODIFIED:20260304T081816Z
UID:10005829-1772967600-1772982000@thaibloodcentre.redcross.or.th
SUMMARY:ศูนย์การค้าฟิวเจอร์พาร์ค รังสิต []
DESCRIPTION:สถานที่เจาะ : ชั้น 2 ฝั่งอีสต์ \nที่อยู่ : 94 ถ.พหลโยธิน ต.ประชาธิปัตย์ อ.ธัญบุรี ปทุมธานี 0 2958 0011
URL:https://thaibloodcentre.redcross.or.th/event/%e0%b8%a8%e0%b8%b9%e0%b8%99%e0%b8%a2%e0%b9%8c%e0%b8%81%e0%b8%b2%e0%b8%a3%e0%b8%84%e0%b9%89%e0%b8%b2%e0%b8%9f%e0%b8%b4%e0%b8%a7%e0%b9%80%e0%b8%88%e0%b8%ad%e0%b8%a3%e0%b9%8c%e0%b8%9e%e0%b8%b2-20/
LOCATION:ศูนย์การค้าฟิวเจอร์พาร์ค รังสิต\, ศูนย์การค้าฟิวเจอร์พาร์ค รังสิต เลขที่ 94 ถ.พหลโยธิน ตำบลประชาธิปัตย์ อำเภอธัญบุรี ปทุมธานี 12130
CATEGORIES:ปฏิทินตารางหน่วยเคลื่อนที่
END:VEVENT
BEGIN:VEVENT
DTSTART;TZID=Asia/Krasnoyarsk:20260308T090000
DTEND;TZID=Asia/Krasnoyarsk:20260308T150000
DTSTAMP:20260422T003634
CREATED:20260304T081812Z
LAST-MODIFIED:20260304T081812Z
UID:10005828-1772960400-1772982000@thaibloodcentre.redcross.or.th
SUMMARY:บ้านทรงไทย (ย่านวงศ์สว่าง) []
DESCRIPTION:สถานที่เจาะ : (พัก 12.30-13.00 น.) \nที่อยู่ : 1423 ถนนกรุงเทพ – นนทบุรี แขวงวงศ์สว่าง เขตบางซื่อ กรุงเทพฯ 0 2256 4300
URL:https://thaibloodcentre.redcross.or.th/event/%e0%b8%9a%e0%b9%89%e0%b8%b2%e0%b8%99%e0%b8%97%e0%b8%a3%e0%b8%87%e0%b9%84%e0%b8%97%e0%b8%a2-%e0%b8%a2%e0%b9%88%e0%b8%b2%e0%b8%99%e0%b8%a7%e0%b8%87%e0%b8%a8%e0%b9%8c%e0%b8%aa%e0%b8%a7%e0%b9%88-370/
LOCATION:บ้านทรงไทย (ย่านวงศ์สว่าง)\, หน่วยรับบริจาคโลหิต บ้านทรงไทย(ย่านวงศ์สว่าง) 1423 ถนนกรุงเทพ-นนทบุรี แขวงวงศ์สว่าง เขตบางซื่อ กรุงเทพมหานคร 10800
CATEGORIES:ปฏิทินตารางหน่วยเคลื่อนที่
END:VEVENT
BEGIN:VEVENT
DTSTART;TZID=Asia/Krasnoyarsk:20260308T083000
DTEND;TZID=Asia/Krasnoyarsk:20260308T153000
DTSTAMP:20260422T003634
CREATED:20260304T081809Z
LAST-MODIFIED:20260304T081809Z
UID:10005827-1772958600-1772983800@thaibloodcentre.redcross.or.th
SUMMARY:สถานีกาชาด 11 วิเศษนิยม []
DESCRIPTION:สถานที่เจาะ : ชั้น 3 \nที่อยู่ : 33/3 ถนนเพชรเกษม แขวงบางหว้า เขตภาษีเจริญ กรุงเทพฯ 633450711
URL:https://thaibloodcentre.redcross.or.th/event/%e0%b8%aa%e0%b8%96%e0%b8%b2%e0%b8%99%e0%b8%b5%e0%b8%81%e0%b8%b2%e0%b8%8a%e0%b8%b2%e0%b8%94-11-%e0%b8%a7%e0%b8%b4%e0%b9%80%e0%b8%a8%e0%b8%a9%e0%b8%99%e0%b8%b4%e0%b8%a2%e0%b8%a1-187/
LOCATION:สถานีกาชาด 11 วิเศษนิยม\, สถานีกาชาด 11 วิเศษนิยม 605 ถ.เพชรเกษม แขวงบางหว้า เขตภาษีเจริญ กรุงเทพมหานคร 10160
CATEGORIES:ปฏิทินตารางหน่วยเคลื่อนที่
END:VEVENT
BEGIN:VEVENT
DTSTART;TZID=Asia/Krasnoyarsk:20260308T083000
DTEND;TZID=Asia/Krasnoyarsk:20260308T153000
DTSTAMP:20260422T003634
CREATED:20260304T081654Z
LAST-MODIFIED:20260304T081703Z
UID:10005821-1772958600-1772983800@thaibloodcentre.redcross.or.th
SUMMARY:ศูนย์บริการโลหิตแห่งชาติ สภากาชาดไทย []
DESCRIPTION:ที่อยู่ : 1871 ถ. อังรีดูนังต์ แขวงปทุมวัน เขตปทุมวัน
URL:https://thaibloodcentre.redcross.or.th/event/%e0%b8%a8%e0%b8%b9%e0%b8%99%e0%b8%a2%e0%b9%8c%e0%b8%9a%e0%b8%a3%e0%b8%b4%e0%b8%81%e0%b8%b2%e0%b8%a3%e0%b9%82%e0%b8%a5%e0%b8%ab%e0%b8%b4%e0%b8%95%e0%b9%81%e0%b8%ab%e0%b9%88%e0%b8%87%e0%b8%8a-453/
LOCATION:ศูนย์บริการโลหิตแห่งชาติ สภากาชาดไทย\, ศูนย์บริการโลหิตแห่งชาติ สภากาชาดไทย 1871 ถ. อังรีดูนังต์ แขวงปทุมวัน เขตปทุมวัน กรุงเทพมหานคร 10330
CATEGORIES:ปฏิทินตารางหน่วยเคลื่อนที่
END:VEVENT
BEGIN:VEVENT
DTSTART;TZID=Asia/Krasnoyarsk:20260308T083000
DTEND;TZID=Asia/Krasnoyarsk:20260308T120000
DTSTAMP:20260422T003634
CREATED:20260304T081818Z
LAST-MODIFIED:20260304T081818Z
UID:10005830-1772958600-1772971200@thaibloodcentre.redcross.or.th
SUMMARY:วัดบึงทองหลาง []
DESCRIPTION:สถานที่เจาะ : ศาลาการเปรียญ วัดบึงทองหลาง \nที่อยู่ : 1115 ลาดพร้าว 101 แขวงคลองจั่น เขตบางกะปิ กรุงเทพฯ 0 2377 5323
URL:https://thaibloodcentre.redcross.or.th/event/%e0%b8%a7%e0%b8%b1%e0%b8%94%e0%b8%9a%e0%b8%b6%e0%b8%87%e0%b8%97%e0%b8%ad%e0%b8%87%e0%b8%ab%e0%b8%a5%e0%b8%b2%e0%b8%87-3/
LOCATION:วัดบึงทองหลาง\, ศาลาการเปรียญ วัดบึงทองหลาง 1155 ถนนลาดพร้าว 101 คลองจั่น บางกะปิ กทม. 10240
CATEGORIES:ปฏิทินตารางหน่วยเคลื่อนที่
END:VEVENT
BEGIN:VEVENT
DTSTART;TZID=Asia/Krasnoyarsk:20260307T120000
DTEND;TZID=Asia/Krasnoyarsk:20260307T180000
DTSTAMP:20260422T003634
CREATED:20260304T081621Z
LAST-MODIFIED:20260304T081621Z
UID:10005814-1772884800-1772906400@thaibloodcentre.redcross.or.th
SUMMARY:ศูนย์การค้าเดอะมอลล์ไลฟ์สโตร์ ท่าพระ []
DESCRIPTION:สถานที่เจาะ : ชั้น 1 (ติดลานจอดรถ) \nที่อยู่ : 99 ถนนรัชดาท่าพระตัดใหม่ แขวงบุคคโล เขตธนบุรี กรุงเทพฯ 0 2469-1000
URL:https://thaibloodcentre.redcross.or.th/event/%e0%b8%a8%e0%b8%b9%e0%b8%99%e0%b8%a2%e0%b9%8c%e0%b8%81%e0%b8%b2%e0%b8%a3%e0%b8%84%e0%b9%89%e0%b8%b2%e0%b9%80%e0%b8%94%e0%b8%ad%e0%b8%b0%e0%b8%a1%e0%b8%ad%e0%b8%a5%e0%b8%a5%e0%b9%8c%e0%b9%84-1490/
LOCATION:ศูนย์การค้าเดอะมอลล์ไลฟ์สโตร์ ท่าพระ\, เดอะมอลล์ไลฟ์สโตร์ ท่าพระ 129 ถ. รัชดาภิเษก แขวงบุคคโล เขตธนบุรี กรุงเทพมหานคร 10600
CATEGORIES:ปฏิทินตารางหน่วยเคลื่อนที่
END:VEVENT
BEGIN:VEVENT
DTSTART;TZID=Asia/Krasnoyarsk:20260307T120000
DTEND;TZID=Asia/Krasnoyarsk:20260307T180000
DTSTAMP:20260422T003634
CREATED:20260304T081616Z
LAST-MODIFIED:20260304T081616Z
UID:10005813-1772884800-1772906400@thaibloodcentre.redcross.or.th
SUMMARY:ศูนย์การค้า เอ็มโพเรียม []
DESCRIPTION:สถานที่เจาะ : ชั้น M ศูนย์การค้า ดิ เอ็มโพเรียม เชื่อมลานจอดรถอาคาร B \nที่อยู่ : 622 ถนนสุขุมวิท แขวงคลองตัน เขตคลองเตย กรุงเทพฯ 0 2269 1515
URL:https://thaibloodcentre.redcross.or.th/event/%e0%b8%a8%e0%b8%b9%e0%b8%99%e0%b8%a2%e0%b9%8c%e0%b8%81%e0%b8%b2%e0%b8%a3%e0%b8%84%e0%b9%89%e0%b8%b2-%e0%b9%80%e0%b8%ad%e0%b9%87%e0%b8%a1%e0%b9%82%e0%b8%9e%e0%b9%80%e0%b8%a3%e0%b8%b5%e0%b8%a2-368/
LOCATION:ศูนย์การค้า เอ็มโพเรียม\, เอ็มโพเรียม 622 ถ. สุขุมวิท แขวงคลองตัน เขตคลองเตย กรุงเทพมหานคร 10110
CATEGORIES:ปฏิทินตารางหน่วยเคลื่อนที่
END:VEVENT
BEGIN:VEVENT
DTSTART;TZID=Asia/Krasnoyarsk:20260307T120000
DTEND;TZID=Asia/Krasnoyarsk:20260307T180000
DTSTAMP:20260422T003634
CREATED:20260304T081604Z
LAST-MODIFIED:20260304T081604Z
UID:10005812-1772884800-1772906400@thaibloodcentre.redcross.or.th
SUMMARY:ศูนย์การค้าเดอะมอลล์ไลฟ์สโตร์ งามวงศ์วาน []
DESCRIPTION:สถานที่เจาะ : ชั้น 5 โซน Government Center \nที่อยู่ : ถนนงามวงศ์วาน ต.บางเขน อ.เมือง จ.นนทบุรี 0 2555 1550
URL:https://thaibloodcentre.redcross.or.th/event/%e0%b8%a8%e0%b8%b9%e0%b8%99%e0%b8%a2%e0%b9%8c%e0%b8%81%e0%b8%b2%e0%b8%a3%e0%b8%84%e0%b9%89%e0%b8%b2%e0%b9%80%e0%b8%94%e0%b8%ad%e0%b8%b0%e0%b8%a1%e0%b8%ad%e0%b8%a5%e0%b8%a5%e0%b9%8c%e0%b9%84-1489/
LOCATION:ศูนย์การค้าเดอะมอลล์ไลฟ์สโตร์ งามวงศ์วาน\, เดอะมอลล์ ไลฟ์สโตร์ งามวงศ์วาน 430 ถนน งามวงศ์วาน ตำบลบางเขน อำเภอเมืองนนทบุรี นนทบุรี 11000
CATEGORIES:ปฏิทินตารางหน่วยเคลื่อนที่
END:VEVENT
BEGIN:VEVENT
DTSTART;TZID=Asia/Krasnoyarsk:20260307T120000
DTEND;TZID=Asia/Krasnoyarsk:20260307T180000
DTSTAMP:20260422T003634
CREATED:20260304T081549Z
LAST-MODIFIED:20260304T081549Z
UID:10005811-1772884800-1772906400@thaibloodcentre.redcross.or.th
SUMMARY:ศูนย์การค้าเดอะมอลล์ไลฟ์สโตร์ บางกะปิ []
DESCRIPTION:สถานที่เจาะ : ชั้น 2 ทางออกลานจอดรถ \nที่อยู่ : ถนนลาดพร้าว แขวงคลองจั่น เขตบางกะปิ กรุงเทพฯ 0 2310 2278
URL:https://thaibloodcentre.redcross.or.th/event/%e0%b8%a8%e0%b8%b9%e0%b8%99%e0%b8%a2%e0%b9%8c%e0%b8%81%e0%b8%b2%e0%b8%a3%e0%b8%84%e0%b9%89%e0%b8%b2%e0%b9%80%e0%b8%94%e0%b8%ad%e0%b8%b0%e0%b8%a1%e0%b8%ad%e0%b8%a5%e0%b8%a5%e0%b9%8c%e0%b9%84-1488/
LOCATION:ศูนย์การค้าเดอะมอลล์ไลฟ์สโตร์ บางกะปิ\, เดอะมอลล์ไลฟ์สโตร์ บางกะปิ 3522 ถ. ลาดพร้าว แขวงคลองจั่น เขตบางกะปิ กรุงเทพมหานคร 10240
CATEGORIES:ปฏิทินตารางหน่วยเคลื่อนที่
END:VEVENT
BEGIN:VEVENT
DTSTART;TZID=Asia/Krasnoyarsk:20260307T120000
DTEND;TZID=Asia/Krasnoyarsk:20260307T180000
DTSTAMP:20260422T003634
CREATED:20260304T081537Z
LAST-MODIFIED:20260304T081537Z
UID:10005810-1772884800-1772906400@thaibloodcentre.redcross.or.th
SUMMARY:ศูนย์การค้าเดอะมอลล์ไลฟ์สโตร์ บางแค []
DESCRIPTION:สถานที่เจาะ : ชั้น 3 ตรงข้ามร้านโอ้กะจู๋ \nที่อยู่ : ถนนเพชรเกษม แขวงบางแคเหนือ เขตภาษีเจริญ กรุงเทพฯ 02 487 1221
URL:https://thaibloodcentre.redcross.or.th/event/%e0%b8%a8%e0%b8%b9%e0%b8%99%e0%b8%a2%e0%b9%8c%e0%b8%81%e0%b8%b2%e0%b8%a3%e0%b8%84%e0%b9%89%e0%b8%b2%e0%b9%80%e0%b8%94%e0%b8%ad%e0%b8%b0%e0%b8%a1%e0%b8%ad%e0%b8%a5%e0%b8%a5%e0%b9%8c%e0%b9%84-1487/
LOCATION:ศูนย์การค้าเดอะมอลล์ไลฟ์สโตร์ บางแค\, ศูนย์การค้าเดอะมอลล์ไลฟ์สโตร์ บางแค
CATEGORIES:ปฏิทินตารางหน่วยเคลื่อนที่
END:VEVENT
BEGIN:VEVENT
DTSTART;TZID=Asia/Krasnoyarsk:20260307T110000
DTEND;TZID=Asia/Krasnoyarsk:20260307T150000
DTSTAMP:20260422T003634
CREATED:20260304T081652Z
LAST-MODIFIED:20260304T081702Z
UID:10005820-1772881200-1772895600@thaibloodcentre.redcross.or.th
SUMMARY:ศูนย์การค้า เกทเวย์ เอกมัย []
DESCRIPTION:สถานที่เจาะ : ลานกิจกรรม ชั้น 3 \nที่อยู่ : 982 ถนนสุขุมวิท แขวงพระโขนง เขตคลองเตย กรุงเทพฯ
URL:https://thaibloodcentre.redcross.or.th/event/%e0%b8%a8%e0%b8%b9%e0%b8%99%e0%b8%a2%e0%b9%8c%e0%b8%81%e0%b8%b2%e0%b8%a3%e0%b8%84%e0%b9%89%e0%b8%b2-%e0%b9%80%e0%b8%81%e0%b8%97%e0%b9%80%e0%b8%a7%e0%b8%a2%e0%b9%8c-%e0%b9%80%e0%b8%ad%e0%b8%81-2/
LOCATION:ศูนย์การค้า เกทเวย์ เอกมัย\, ศูนย์การค้า เกทเวย์ เอกมัย 982 ถนนสุขุมวิท แขวงพระโขนง เขตคลองเตย กรุงเทพมหานคร 10110
CATEGORIES:ปฏิทินตารางหน่วยเคลื่อนที่
END:VEVENT
END:VCALENDAR