BEGIN:VCALENDAR
VERSION:2.0
PRODID:-//เว็บไซต์ศูนย์บริการโลหิตแห่งชาติ - ECPv6.11.2.1//NONSGML v1.0//EN
CALSCALE:GREGORIAN
METHOD:PUBLISH
X-WR-CALNAME:เว็บไซต์ศูนย์บริการโลหิตแห่งชาติ
X-ORIGINAL-URL:https://thaibloodcentre.redcross.or.th
X-WR-CALDESC:Events for เว็บไซต์ศูนย์บริการโลหิตแห่งชาติ
REFRESH-INTERVAL;VALUE=DURATION:PT1H
X-Robots-Tag:noindex
X-PUBLISHED-TTL:PT1H
BEGIN:VTIMEZONE
TZID:Asia/Krasnoyarsk
BEGIN:STANDARD
TZOFFSETFROM:+0700
TZOFFSETTO:+0700
TZNAME:+07
DTSTART:20260101T000000
END:STANDARD
END:VTIMEZONE
BEGIN:VEVENT
DTSTART;TZID=Asia/Krasnoyarsk:20260312T120000
DTEND;TZID=Asia/Krasnoyarsk:20260312T180000
DTSTAMP:20260421T152914
CREATED:20260312T024757Z
LAST-MODIFIED:20260312T024757Z
UID:10006007-1773316800-1773338400@thaibloodcentre.redcross.or.th
SUMMARY:ศูนย์การค้าเดอะมอลล์ไลฟ์สโตร์ บางแค []
DESCRIPTION:สถานที่เจาะ : ชั้น 3 ตรงข้ามร้านโอ้กะจู๋
URL:https://thaibloodcentre.redcross.or.th/event/%e0%b8%a8%e0%b8%b9%e0%b8%99%e0%b8%a2%e0%b9%8c%e0%b8%81%e0%b8%b2%e0%b8%a3%e0%b8%84%e0%b9%89%e0%b8%b2%e0%b9%80%e0%b8%94%e0%b8%ad%e0%b8%b0%e0%b8%a1%e0%b8%ad%e0%b8%a5%e0%b8%a5%e0%b9%8c%e0%b9%84-1539/
LOCATION:ศูนย์การค้าเดอะมอลล์ไลฟ์สโตร์ บางแค\, ศูนย์การค้าเดอะมอลล์ไลฟ์สโตร์ บางแค
CATEGORIES:ปฏิทินตารางหน่วยเคลื่อนที่
END:VEVENT
BEGIN:VEVENT
DTSTART;TZID=Asia/Krasnoyarsk:20260312T110000
DTEND;TZID=Asia/Krasnoyarsk:20260312T150000
DTSTAMP:20260421T152914
CREATED:20260312T024903Z
LAST-MODIFIED:20260312T024903Z
UID:10006015-1773313200-1773327600@thaibloodcentre.redcross.or.th
SUMMARY:บริษัท เดอะ แพลทินัม กรุ๊ป จำกัด (มหาชน) []
DESCRIPTION:สถานที่เจาะ : บริเวณทางเข้าชั้น G ประตู 5
URL:https://thaibloodcentre.redcross.or.th/event/%e0%b8%9a%e0%b8%a3%e0%b8%b4%e0%b8%a9%e0%b8%b1%e0%b8%97-%e0%b9%80%e0%b8%94%e0%b8%ad%e0%b8%b0-%e0%b9%81%e0%b8%9e%e0%b8%a5%e0%b8%97%e0%b8%b4%e0%b8%99%e0%b8%b1%e0%b8%a1-%e0%b8%81%e0%b8%a3%e0%b8%b8-3/
LOCATION:บริษัท เดอะ แพลทินัม กรุ๊ป จำกัด (มหาชน)\, อาคารเดอะแพลตตินัมแฟชั่นมอลล์ ชั้นที่ 11 222/1398 ถนนเพชรบุรี แขวงถนนพญาไท เขตราชเทวี กรุงเทพมหานคร 10400
CATEGORIES:ปฏิทินตารางหน่วยเคลื่อนที่
END:VEVENT
BEGIN:VEVENT
DTSTART;TZID=Asia/Krasnoyarsk:20260312T093000
DTEND;TZID=Asia/Krasnoyarsk:20260312T150000
DTSTAMP:20260421T152914
CREATED:20260312T024930Z
LAST-MODIFIED:20260312T024930Z
UID:10006021-1773307800-1773327600@thaibloodcentre.redcross.or.th
SUMMARY:บริษัท ซีพีออลล์ จำกัด (มหาชน) ศูนย์กระจายสินค้าบางบัวทอง []
DESCRIPTION:สถานที่เจาะ : หน้าโรงอาหาร DC 4 (พัก 12.00-13.00 น.)
URL:https://thaibloodcentre.redcross.or.th/event/%e0%b8%9a%e0%b8%a3%e0%b8%b4%e0%b8%a9%e0%b8%b1%e0%b8%97-%e0%b8%8b%e0%b8%b5%e0%b8%9e%e0%b8%b5%e0%b8%ad%e0%b8%ad%e0%b8%a5%e0%b8%a5%e0%b9%8c-%e0%b8%88%e0%b8%b3%e0%b8%81%e0%b8%b1%e0%b8%94-%e0%b8%a1-6/
LOCATION:บริษัท ซีพีออลล์ จำกัด (มหาชน) ศูนย์กระจายสินค้าบางบัวทอง\, บริษัท ซีพีออลล์ จำกัด (มหาชน) ศูนย์กระจายสินค้าบางบัวทอง 52/3 ถนน บางบัวทอง - สุพรรณบุรี ตำบล ละหาร อำเภอบางบัวทอง นนทบุรี 11110
CATEGORIES:ปฏิทินตารางหน่วยเคลื่อนที่
END:VEVENT
BEGIN:VEVENT
DTSTART;TZID=Asia/Krasnoyarsk:20260312T093000
DTEND;TZID=Asia/Krasnoyarsk:20260312T150000
DTSTAMP:20260421T152914
CREATED:20260312T024915Z
LAST-MODIFIED:20260312T024915Z
UID:10006016-1773307800-1773327600@thaibloodcentre.redcross.or.th
SUMMARY:บริษัท อมรินทร์คอร์เปอเรชั่นส์ จำกัด (มหาชน) []
DESCRIPTION:สถานที่เจาะ : ห้องคอนเวนชั่นตึกสำนักพิมพ์ (พัก 11.30-12.30 น.)
URL:https://thaibloodcentre.redcross.or.th/event/%e0%b8%9a%e0%b8%a3%e0%b8%b4%e0%b8%a9%e0%b8%b1%e0%b8%97-%e0%b8%ad%e0%b8%a1%e0%b8%a3%e0%b8%b4%e0%b8%99%e0%b8%97%e0%b8%a3%e0%b9%8c%e0%b8%84%e0%b8%ad%e0%b8%a3%e0%b9%8c%e0%b9%80%e0%b8%9b%e0%b8%ad-5/
LOCATION:บริษัท อมรินทร์คอร์เปอเรชั่นส์ จำกัด (มหาชน)\, บริษัท อมรินทร์คอร์เปอเรชั่นส์ จำกัด (มหาชน) 378 ถนนชัยพฤกษ์ แขวงตลิ่งชัน เขตตลิ่งชัน กรุงเทพมหานคร 10170
CATEGORIES:ปฏิทินตารางหน่วยเคลื่อนที่
END:VEVENT
BEGIN:VEVENT
DTSTART;TZID=Asia/Krasnoyarsk:20260312T090000
DTEND;TZID=Asia/Krasnoyarsk:20260312T150000
DTSTAMP:20260421T152914
CREATED:20260312T024924Z
LAST-MODIFIED:20260312T024924Z
UID:10006020-1773306000-1773327600@thaibloodcentre.redcross.or.th
SUMMARY:บริษัท ชัยยุทธการประดิษฐ์ (1988) จำกัด []
DESCRIPTION:สถานที่เจาะ : ห้องอบรมชั้น 2 (พัก 12.00-13.00 น.)
URL:https://thaibloodcentre.redcross.or.th/event/%e0%b8%9a%e0%b8%a3%e0%b8%b4%e0%b8%a9%e0%b8%b1%e0%b8%97-%e0%b8%8a%e0%b8%b1%e0%b8%a2%e0%b8%a2%e0%b8%b8%e0%b8%97%e0%b8%98%e0%b8%81%e0%b8%b2%e0%b8%a3%e0%b8%9b%e0%b8%a3%e0%b8%b0%e0%b8%94%e0%b8%b4-5/
LOCATION:บริษัท ชัยยุทธการประดิษฐ์ (1988) จำกัด\, บริษัท ชัยยุทธการประดิษฐ์ (1988) จำกัด 45/9 ม.9 ถ.เทพารักษ์ ต.บางปลา อ.บางพลี จ.สมุทรปราการ 10540
CATEGORIES:ปฏิทินตารางหน่วยเคลื่อนที่
END:VEVENT
BEGIN:VEVENT
DTSTART;TZID=Asia/Krasnoyarsk:20260312T090000
DTEND;TZID=Asia/Krasnoyarsk:20260312T150000
DTSTAMP:20260421T152914
CREATED:20260312T024922Z
LAST-MODIFIED:20260312T024922Z
UID:10006019-1773306000-1773327600@thaibloodcentre.redcross.or.th
SUMMARY:กรมที่ดิน []
DESCRIPTION:สถานที่เจาะ : ชั้น 2 ลานอเนกประสงค์
URL:https://thaibloodcentre.redcross.or.th/event/%e0%b8%81%e0%b8%a3%e0%b8%a1%e0%b8%97%e0%b8%b5%e0%b9%88%e0%b8%94%e0%b8%b4%e0%b8%99-4/
LOCATION:กรมที่ดิน\, กรมที่ดิน ศูนย์ราชการเฉลิมพระเกียรติ 80 พรรษาฯ ถนนแจ้งวัฒนะ แขวงทุ่งสองห้อง เขตหลักสี่ กรุงเทพมหานคร 10210
CATEGORIES:ปฏิทินตารางหน่วยเคลื่อนที่
END:VEVENT
BEGIN:VEVENT
DTSTART;TZID=Asia/Krasnoyarsk:20260312T090000
DTEND;TZID=Asia/Krasnoyarsk:20260312T150000
DTSTAMP:20260421T152914
CREATED:20260312T024920Z
LAST-MODIFIED:20260312T024920Z
UID:10006018-1773306000-1773327600@thaibloodcentre.redcross.or.th
SUMMARY:บริษัท ซีพี รีเทลลิงค์ จำกัด []
DESCRIPTION:สถานที่เจาะ : บริเวณบ่อปลา (พัก 12.00-13.00 น.)
URL:https://thaibloodcentre.redcross.or.th/event/%e0%b8%9a%e0%b8%a3%e0%b8%b4%e0%b8%a9%e0%b8%b1%e0%b8%97-%e0%b8%8b%e0%b8%b5%e0%b8%9e%e0%b8%b5-%e0%b8%a3%e0%b8%b5%e0%b9%80%e0%b8%97%e0%b8%a5%e0%b8%a5%e0%b8%b4%e0%b8%87%e0%b8%84%e0%b9%8c-%e0%b8%88-6/
LOCATION:บริษัท ซีพี รีเทลลิงค์ จำกัด\, บริษัท ซีพี รีเทลลิงค์ จำกัด 159/30 ถนนวิภาวดีรังสิต แขวงตลาดบางเขน เขตหลักสี่ กรุงเทพมหานคร 10210
CATEGORIES:ปฏิทินตารางหน่วยเคลื่อนที่
END:VEVENT
BEGIN:VEVENT
DTSTART;TZID=Asia/Krasnoyarsk:20260312T090000
DTEND;TZID=Asia/Krasnoyarsk:20260312T150000
DTSTAMP:20260421T152914
CREATED:20260312T024917Z
LAST-MODIFIED:20260312T024917Z
UID:10006017-1773306000-1773327600@thaibloodcentre.redcross.or.th
SUMMARY:มหาวิทยาลัยเกษตรศาสตร์ []
DESCRIPTION:สถานที่เจาะ : ชั้น 1 อาคารระพี สาคริก (ตรงข้าม ศร. 1)
URL:https://thaibloodcentre.redcross.or.th/event/%e0%b8%a1%e0%b8%ab%e0%b8%b2%e0%b8%a7%e0%b8%b4%e0%b8%97%e0%b8%a2%e0%b8%b2%e0%b8%a5%e0%b8%b1%e0%b8%a2%e0%b9%80%e0%b8%81%e0%b8%a9%e0%b8%95%e0%b8%a3%e0%b8%a8%e0%b8%b2%e0%b8%aa%e0%b8%95%e0%b8%a3%e0%b9%8c-8/
LOCATION:มหาวิทยาลัยเกษตรศาสตร์\, มหาวิทยาลัยเกษตรศาสตร์ 50 ถนนงามวงศ์วาน แขวงลาดยาว เขตจตุจักร กรุงเทพมหานคร 10900
CATEGORIES:ปฏิทินตารางหน่วยเคลื่อนที่
END:VEVENT
BEGIN:VEVENT
DTSTART;TZID=Asia/Krasnoyarsk:20260312T090000
DTEND;TZID=Asia/Krasnoyarsk:20260312T150000
DTSTAMP:20260421T152914
CREATED:20260312T024901Z
LAST-MODIFIED:20260312T024901Z
UID:10006014-1773306000-1773327600@thaibloodcentre.redcross.or.th
SUMMARY:มหาวิทยาลัยสุโขทัยธรรมาธิราช []
DESCRIPTION:สถานที่เจาะ : ห้องประชุม 104 อาคารพิทยพัฒน์ (พัก 12.00-13.00 น.)
URL:https://thaibloodcentre.redcross.or.th/event/%e0%b8%a1%e0%b8%ab%e0%b8%b2%e0%b8%a7%e0%b8%b4%e0%b8%97%e0%b8%a2%e0%b8%b2%e0%b8%a5%e0%b8%b1%e0%b8%a2%e0%b8%aa%e0%b8%b8%e0%b9%82%e0%b8%82%e0%b8%97%e0%b8%b1%e0%b8%a2%e0%b8%98%e0%b8%a3%e0%b8%a3%e0%b8%a1-6/
LOCATION:มหาวิทยาลัยสุโขทัยธรรมาธิราช\, มหาวิทยาลัยสุโขทัยธรรมาธิราช 9/9 ม.9 ต.บางพูด อ.ปากเกร็ด จ.นนทบุรี 11120
CATEGORIES:ปฏิทินตารางหน่วยเคลื่อนที่
END:VEVENT
BEGIN:VEVENT
DTSTART;TZID=Asia/Krasnoyarsk:20260312T090000
DTEND;TZID=Asia/Krasnoyarsk:20260312T150000
DTSTAMP:20260421T152914
CREATED:20260312T024857Z
LAST-MODIFIED:20260312T024857Z
UID:10006013-1773306000-1773327600@thaibloodcentre.redcross.or.th
SUMMARY:บ้านทรงไทย (ย่านวงศ์สว่าง) []
DESCRIPTION:สถานที่เจาะ : (พัก 12.30-13.00 น.)
URL:https://thaibloodcentre.redcross.or.th/event/%e0%b8%9a%e0%b9%89%e0%b8%b2%e0%b8%99%e0%b8%97%e0%b8%a3%e0%b8%87%e0%b9%84%e0%b8%97%e0%b8%a2-%e0%b8%a2%e0%b9%88%e0%b8%b2%e0%b8%99%e0%b8%a7%e0%b8%87%e0%b8%a8%e0%b9%8c%e0%b8%aa%e0%b8%a7%e0%b9%88-382/
LOCATION:บ้านทรงไทย (ย่านวงศ์สว่าง)\, หน่วยรับบริจาคโลหิต บ้านทรงไทย(ย่านวงศ์สว่าง) 1423 ถนนกรุงเทพ-นนทบุรี แขวงวงศ์สว่าง เขตบางซื่อ กรุงเทพมหานคร 10800
CATEGORIES:ปฏิทินตารางหน่วยเคลื่อนที่
END:VEVENT
BEGIN:VEVENT
DTSTART;TZID=Asia/Krasnoyarsk:20260312T083000
DTEND;TZID=Asia/Krasnoyarsk:20260312T193000
DTSTAMP:20260421T152914
CREATED:20260312T024854Z
LAST-MODIFIED:20260312T024854Z
UID:10006012-1773304200-1773343800@thaibloodcentre.redcross.or.th
SUMMARY:สถานีกาชาด 11 วิเศษนิยม []
DESCRIPTION:สถานที่เจาะ : ชั้น 3
URL:https://thaibloodcentre.redcross.or.th/event/%e0%b8%aa%e0%b8%96%e0%b8%b2%e0%b8%99%e0%b8%b5%e0%b8%81%e0%b8%b2%e0%b8%8a%e0%b8%b2%e0%b8%94-11-%e0%b8%a7%e0%b8%b4%e0%b9%80%e0%b8%a8%e0%b8%a9%e0%b8%99%e0%b8%b4%e0%b8%a2%e0%b8%a1-200/
LOCATION:สถานีกาชาด 11 วิเศษนิยม\, สถานีกาชาด 11 วิเศษนิยม 605 ถ.เพชรเกษม แขวงบางหว้า เขตภาษีเจริญ กรุงเทพมหานคร 10160
CATEGORIES:ปฏิทินตารางหน่วยเคลื่อนที่
END:VEVENT
BEGIN:VEVENT
DTSTART;TZID=Asia/Krasnoyarsk:20260312T073000
DTEND;TZID=Asia/Krasnoyarsk:20260312T193000
DTSTAMP:20260421T152914
CREATED:20260312T024752Z
LAST-MODIFIED:20260312T024752Z
UID:10006006-1773300600-1773343800@thaibloodcentre.redcross.or.th
SUMMARY:ศูนย์บริการโลหิตแห่งชาติ สภากาชาดไทย []
DESCRIPTION:
URL:https://thaibloodcentre.redcross.or.th/event/%e0%b8%a8%e0%b8%b9%e0%b8%99%e0%b8%a2%e0%b9%8c%e0%b8%9a%e0%b8%a3%e0%b8%b4%e0%b8%81%e0%b8%b2%e0%b8%a3%e0%b9%82%e0%b8%a5%e0%b8%ab%e0%b8%b4%e0%b8%95%e0%b9%81%e0%b8%ab%e0%b9%88%e0%b8%87%e0%b8%8a-465/
LOCATION:ศูนย์บริการโลหิตแห่งชาติ สภากาชาดไทย\, ศูนย์บริการโลหิตแห่งชาติ สภากาชาดไทย 1871 ถ. อังรีดูนังต์ แขวงปทุมวัน เขตปทุมวัน กรุงเทพมหานคร 10330
CATEGORIES:ปฏิทินตารางหน่วยเคลื่อนที่
END:VEVENT
BEGIN:VEVENT
DTSTART;TZID=Asia/Krasnoyarsk:20260311T133000
DTEND;TZID=Asia/Krasnoyarsk:20260311T150000
DTSTAMP:20260421T152914
CREATED:20260304T082344Z
LAST-MODIFIED:20260304T082353Z
UID:10005887-1773235800-1773241200@thaibloodcentre.redcross.or.th
SUMMARY:บริษัท ไวร์เลส ดีไวซ์ ซัพพลาย จำกัด []
DESCRIPTION:สถานที่เจาะ : จอดรถหน้าอาคาร \nที่อยู่ : 4/45 ม. 9 ถ.สามัคคี ต.บางตลาด อ.ปากเกร็ด จ.นนทบุรี 0 2500 4250
URL:https://thaibloodcentre.redcross.or.th/event/%e0%b8%9a%e0%b8%a3%e0%b8%b4%e0%b8%a9%e0%b8%b1%e0%b8%97-%e0%b9%84%e0%b8%a7%e0%b8%a3%e0%b9%8c%e0%b9%80%e0%b8%a5%e0%b8%aa-%e0%b8%94%e0%b8%b5%e0%b9%84%e0%b8%a7%e0%b8%8b%e0%b9%8c-%e0%b8%8b%e0%b8%b1-5/
LOCATION:บริษัท ไวร์เลส ดีไวซ์ ซัพพลาย จำกัด\, บริษัท ไวร์เลส ดีไวซ์ ซัพพลาย จำกัด 4/45 ม.9 ถ.สามัคคี ต.บางตลาด อ.ปากเกร็ด จ.นนทบุรี 11120
CATEGORIES:ปฏิทินตารางหน่วยเคลื่อนที่
END:VEVENT
BEGIN:VEVENT
DTSTART;TZID=Asia/Krasnoyarsk:20260311T120000
DTEND;TZID=Asia/Krasnoyarsk:20260311T180000
DTSTAMP:20260421T152914
CREATED:20260304T082249Z
LAST-MODIFIED:20260304T082249Z
UID:10005874-1773230400-1773252000@thaibloodcentre.redcross.or.th
SUMMARY:ศูนย์การค้าเดอะมอลล์ไลฟ์สโตร์ ท่าพระ []
DESCRIPTION:สถานที่เจาะ : ชั้น 1 (ติดลานจอดรถ) \nที่อยู่ : 99 ถนนรัชดาท่าพระตัดใหม่ แขวงบุคคโล เขตธนบุรี กรุงเทพฯ 0 2469-1000
URL:https://thaibloodcentre.redcross.or.th/event/%e0%b8%a8%e0%b8%b9%e0%b8%99%e0%b8%a2%e0%b9%8c%e0%b8%81%e0%b8%b2%e0%b8%a3%e0%b8%84%e0%b9%89%e0%b8%b2%e0%b9%80%e0%b8%94%e0%b8%ad%e0%b8%b0%e0%b8%a1%e0%b8%ad%e0%b8%a5%e0%b8%a5%e0%b9%8c%e0%b9%84-1506/
LOCATION:ศูนย์การค้าเดอะมอลล์ไลฟ์สโตร์ ท่าพระ\, เดอะมอลล์ไลฟ์สโตร์ ท่าพระ 129 ถ. รัชดาภิเษก แขวงบุคคโล เขตธนบุรี กรุงเทพมหานคร 10600
CATEGORIES:ปฏิทินตารางหน่วยเคลื่อนที่
END:VEVENT
BEGIN:VEVENT
DTSTART;TZID=Asia/Krasnoyarsk:20260311T120000
DTEND;TZID=Asia/Krasnoyarsk:20260311T180000
DTSTAMP:20260421T152914
CREATED:20260304T082244Z
LAST-MODIFIED:20260304T082244Z
UID:10005873-1773230400-1773252000@thaibloodcentre.redcross.or.th
SUMMARY:ศูนย์การค้า เอ็มโพเรียม []
DESCRIPTION:สถานที่เจาะ : ชั้น M ศูนย์การค้า ดิ เอ็มโพเรียม เชื่อมลานจอดรถอาคาร B \nที่อยู่ : 622 ถนนสุขุมวิท แขวงคลองตัน เขตคลองเตย กรุงเทพฯ 0 2269 1515
URL:https://thaibloodcentre.redcross.or.th/event/%e0%b8%a8%e0%b8%b9%e0%b8%99%e0%b8%a2%e0%b9%8c%e0%b8%81%e0%b8%b2%e0%b8%a3%e0%b8%84%e0%b9%89%e0%b8%b2-%e0%b9%80%e0%b8%ad%e0%b9%87%e0%b8%a1%e0%b9%82%e0%b8%9e%e0%b9%80%e0%b8%a3%e0%b8%b5%e0%b8%a2-372/
LOCATION:ศูนย์การค้า เอ็มโพเรียม\, เอ็มโพเรียม 622 ถ. สุขุมวิท แขวงคลองตัน เขตคลองเตย กรุงเทพมหานคร 10110
CATEGORIES:ปฏิทินตารางหน่วยเคลื่อนที่
END:VEVENT
BEGIN:VEVENT
DTSTART;TZID=Asia/Krasnoyarsk:20260311T120000
DTEND;TZID=Asia/Krasnoyarsk:20260311T180000
DTSTAMP:20260421T152914
CREATED:20260304T082232Z
LAST-MODIFIED:20260304T082232Z
UID:10005872-1773230400-1773252000@thaibloodcentre.redcross.or.th
SUMMARY:ศูนย์การค้าเดอะมอลล์ไลฟ์สโตร์ งามวงศ์วาน []
DESCRIPTION:สถานที่เจาะ : ชั้น 5 โซน Government Center \nที่อยู่ : ถนนงามวงศ์วาน ต.บางเขน อ.เมือง จ.นนทบุรี 0 2555 1550
URL:https://thaibloodcentre.redcross.or.th/event/%e0%b8%a8%e0%b8%b9%e0%b8%99%e0%b8%a2%e0%b9%8c%e0%b8%81%e0%b8%b2%e0%b8%a3%e0%b8%84%e0%b9%89%e0%b8%b2%e0%b9%80%e0%b8%94%e0%b8%ad%e0%b8%b0%e0%b8%a1%e0%b8%ad%e0%b8%a5%e0%b8%a5%e0%b9%8c%e0%b9%84-1505/
LOCATION:ศูนย์การค้าเดอะมอลล์ไลฟ์สโตร์ งามวงศ์วาน\, เดอะมอลล์ ไลฟ์สโตร์ งามวงศ์วาน 430 ถนน งามวงศ์วาน ตำบลบางเขน อำเภอเมืองนนทบุรี นนทบุรี 11000
CATEGORIES:ปฏิทินตารางหน่วยเคลื่อนที่
END:VEVENT
BEGIN:VEVENT
DTSTART;TZID=Asia/Krasnoyarsk:20260311T120000
DTEND;TZID=Asia/Krasnoyarsk:20260311T180000
DTSTAMP:20260421T152914
CREATED:20260304T082219Z
LAST-MODIFIED:20260304T082219Z
UID:10005871-1773230400-1773252000@thaibloodcentre.redcross.or.th
SUMMARY:ศูนย์การค้าเดอะมอลล์ไลฟ์สโตร์ บางกะปิ []
DESCRIPTION:สถานที่เจาะ : ชั้น 2 ทางออกลานจอดรถ \nที่อยู่ : ถนนลาดพร้าว แขวงคลองจั่น เขตบางกะปิ กรุงเทพฯ 0 2310 2278
URL:https://thaibloodcentre.redcross.or.th/event/%e0%b8%a8%e0%b8%b9%e0%b8%99%e0%b8%a2%e0%b9%8c%e0%b8%81%e0%b8%b2%e0%b8%a3%e0%b8%84%e0%b9%89%e0%b8%b2%e0%b9%80%e0%b8%94%e0%b8%ad%e0%b8%b0%e0%b8%a1%e0%b8%ad%e0%b8%a5%e0%b8%a5%e0%b9%8c%e0%b9%84-1504/
LOCATION:ศูนย์การค้าเดอะมอลล์ไลฟ์สโตร์ บางกะปิ\, เดอะมอลล์ไลฟ์สโตร์ บางกะปิ 3522 ถ. ลาดพร้าว แขวงคลองจั่น เขตบางกะปิ กรุงเทพมหานคร 10240
CATEGORIES:ปฏิทินตารางหน่วยเคลื่อนที่
END:VEVENT
BEGIN:VEVENT
DTSTART;TZID=Asia/Krasnoyarsk:20260311T120000
DTEND;TZID=Asia/Krasnoyarsk:20260311T180000
DTSTAMP:20260421T152914
CREATED:20260304T082209Z
LAST-MODIFIED:20260304T082209Z
UID:10005870-1773230400-1773252000@thaibloodcentre.redcross.or.th
SUMMARY:ศูนย์การค้าเดอะมอลล์ไลฟ์สโตร์ บางแค []
DESCRIPTION:สถานที่เจาะ : ชั้น 3 ตรงข้ามร้านโอ้กะจู๋ \nที่อยู่ : ถนนเพชรเกษม แขวงบางแคเหนือ เขตภาษีเจริญ กรุงเทพฯ 02 487 1221
URL:https://thaibloodcentre.redcross.or.th/event/%e0%b8%a8%e0%b8%b9%e0%b8%99%e0%b8%a2%e0%b9%8c%e0%b8%81%e0%b8%b2%e0%b8%a3%e0%b8%84%e0%b9%89%e0%b8%b2%e0%b9%80%e0%b8%94%e0%b8%ad%e0%b8%b0%e0%b8%a1%e0%b8%ad%e0%b8%a5%e0%b8%a5%e0%b9%8c%e0%b9%84-1503/
LOCATION:ศูนย์การค้าเดอะมอลล์ไลฟ์สโตร์ บางแค\, ศูนย์การค้าเดอะมอลล์ไลฟ์สโตร์ บางแค
CATEGORIES:ปฏิทินตารางหน่วยเคลื่อนที่
END:VEVENT
BEGIN:VEVENT
DTSTART;TZID=Asia/Krasnoyarsk:20260311T110000
DTEND;TZID=Asia/Krasnoyarsk:20260311T150000
DTSTAMP:20260421T152914
CREATED:20260304T082315Z
LAST-MODIFIED:20260304T082326Z
UID:10005878-1773226800-1773241200@thaibloodcentre.redcross.or.th
SUMMARY:กิจกรรมไทยฮอนด้าเพื่อสังคมไทย []
DESCRIPTION:สถานที่เจาะ : วัดทิพพาวาส  \nที่อยู่ : 31 ซอยฉลองกรุง 53 แขวงลำปลาทิว เขตลาดกระบัง กรุงเทพฯ
URL:https://thaibloodcentre.redcross.or.th/event/%e0%b8%81%e0%b8%b4%e0%b8%88%e0%b8%81%e0%b8%a3%e0%b8%a3%e0%b8%a1%e0%b9%84%e0%b8%97%e0%b8%a2%e0%b8%ae%e0%b8%ad%e0%b8%99%e0%b8%94%e0%b9%89%e0%b8%b2%e0%b9%80%e0%b8%9e%e0%b8%b7%e0%b9%88%e0%b8%ad-13/
LOCATION:กิจกรรมไทยฮอนด้าเพื่อสังคมไทย\, วัดทิพพาวาส ซอยฉลองกรุง 53 แขวงลำปลาทิว เขตลาดกระบัง กรุงเทพมหานคร 10520
CATEGORIES:ปฏิทินตารางหน่วยเคลื่อนที่
END:VEVENT
BEGIN:VEVENT
DTSTART;TZID=Asia/Krasnoyarsk:20260311T110000
DTEND;TZID=Asia/Krasnoyarsk:20260311T150000
DTSTAMP:20260421T152914
CREATED:20260304T082309Z
LAST-MODIFIED:20260304T082309Z
UID:10005877-1773226800-1773241200@thaibloodcentre.redcross.or.th
SUMMARY:เซ็นทรัลพลาซา แจ้งวัฒนะ []
DESCRIPTION:สถานที่เจาะ : ชั้น 7 Education Zone \nที่อยู่ : 99/99 ม.2 ถ.แจ้งวัฒนะ ต.บางตลาด อ.ปากเกร็ด จ.นนทบุรี 0 2101 0000
URL:https://thaibloodcentre.redcross.or.th/event/%e0%b9%80%e0%b8%8b%e0%b9%87%e0%b8%99%e0%b8%97%e0%b8%a3%e0%b8%b1%e0%b8%a5%e0%b8%9e%e0%b8%a5%e0%b8%b2%e0%b8%8b%e0%b8%b2-%e0%b9%81%e0%b8%88%e0%b9%89%e0%b8%87%e0%b8%a7%e0%b8%b1%e0%b8%92%e0%b8%99-17/
LOCATION:เซ็นทรัลพลาซา แจ้งวัฒนะ\, เซ็นทรัลพลาซา แจ้งวัฒนะ 99-99/9 หมู่ที่ 2 ถ. แจ้งวัฒนะ ตำบลบางตลาด อำเภอปากเกร็ด นนทบุรี 11120
CATEGORIES:ปฏิทินตารางหน่วยเคลื่อนที่
END:VEVENT
BEGIN:VEVENT
DTSTART;TZID=Asia/Krasnoyarsk:20260311T090000
DTEND;TZID=Asia/Krasnoyarsk:20260311T150000
DTSTAMP:20260421T152914
CREATED:20260304T082347Z
LAST-MODIFIED:20260304T082347Z
UID:10005888-1773219600-1773241200@thaibloodcentre.redcross.or.th
SUMMARY:ธนาคารทิสโก้ จำกัด (มหาชน) สาขาอาคารภคินท์ []
DESCRIPTION:สถานที่เจาะ : ชั้น 5 (พัก 12.00-13.00 น.) \nที่อยู่ : 9 ถนนรัชดาภิเษก แขวงดินแดง เขตดินแดง กรุงเทพฯ 0 2633 6904
URL:https://thaibloodcentre.redcross.or.th/event/%e0%b8%98%e0%b8%99%e0%b8%b2%e0%b8%84%e0%b8%b2%e0%b8%a3%e0%b8%97%e0%b8%b4%e0%b8%aa%e0%b9%82%e0%b8%81%e0%b9%89-%e0%b8%88%e0%b8%b3%e0%b8%81%e0%b8%b1%e0%b8%94-%e0%b8%a1%e0%b8%ab%e0%b8%b2%e0%b8%8a-10/
LOCATION:ธนาคารทิสโก้ จำกัด (มหาชน) สาขาอาคารภคินท์\, ธนาคารทิสโก้ สาขาอาคารภคินท์ อาคารภคินท์ ชั้น 1 ห้อง 102 เลขที่ 9 ถนนรัชดาภิเษก เขตดินแดง กรุงเทพมหานคร 10400
CATEGORIES:ปฏิทินตารางหน่วยเคลื่อนที่
END:VEVENT
BEGIN:VEVENT
DTSTART;TZID=Asia/Krasnoyarsk:20260311T090000
DTEND;TZID=Asia/Krasnoyarsk:20260311T150000
DTSTAMP:20260421T152914
CREATED:20260304T082338Z
LAST-MODIFIED:20260304T082351Z
UID:10005885-1773219600-1773241200@thaibloodcentre.redcross.or.th
SUMMARY:บริษัท ไอ.ซี.ซี.อินเตอร์เนชั่นแนล จำกัด (มหาชน) []
DESCRIPTION:สถานที่เจาะ : หน้าตึกเงิน (พัก 12.00-13.00 น.) \nที่อยู่ : 530 สาธุประดิษฐ์ 58 แขวงบางโพงพาง เขตยานนาวา กรุงเทพฯ 0 2293 9300
URL:https://thaibloodcentre.redcross.or.th/event/%e0%b8%9a%e0%b8%a3%e0%b8%b4%e0%b8%a9%e0%b8%b1%e0%b8%97-%e0%b9%84%e0%b8%ad-%e0%b8%8b%e0%b8%b5-%e0%b8%8b%e0%b8%b5-%e0%b8%ad%e0%b8%b4%e0%b8%99%e0%b9%80%e0%b8%95%e0%b8%ad%e0%b8%a3%e0%b9%8c%e0%b9%80-4/
LOCATION:บริษัท ไอ.ซี.ซี.อินเตอร์เนชั่นแนล จำกัด (มหาชน)\, บริษัท ไอ.ซี.ซี.อินเตอร์เนชั่นแนล จำกัด (มหาชน) 530 ซ.สาธุประดิษฐ์ 58 แขวงบางโพงพาง เขตยานนาวา กรุงเทพฯ 10120
CATEGORIES:ปฏิทินตารางหน่วยเคลื่อนที่
END:VEVENT
BEGIN:VEVENT
DTSTART;TZID=Asia/Krasnoyarsk:20260311T090000
DTEND;TZID=Asia/Krasnoyarsk:20260311T150000
DTSTAMP:20260421T152914
CREATED:20260304T082335Z
LAST-MODIFIED:20260304T082350Z
UID:10005884-1773219600-1773241200@thaibloodcentre.redcross.or.th
SUMMARY:บริษัท ไทยแอ็กโกรเอ็กซ์เชนจ์ จำกัด (ตลาดไท) []
DESCRIPTION:สถานที่เจาะ : อาคารเอนกประสงค์ (พัก 11.00-12.00 น.) \nที่อยู่ : 31 ม.9 ถ.พหลโยธิน ต.คลองหนึ่ง อ.คลองหลวง ปทุมธานี 0 2908 4490-9
URL:https://thaibloodcentre.redcross.or.th/event/%e0%b8%9a%e0%b8%a3%e0%b8%b4%e0%b8%a9%e0%b8%b1%e0%b8%97-%e0%b9%84%e0%b8%97%e0%b8%a2%e0%b9%81%e0%b8%ad%e0%b9%87%e0%b8%81%e0%b9%82%e0%b8%81%e0%b8%a3%e0%b9%80%e0%b8%ad%e0%b9%87%e0%b8%81%e0%b8%8b%e0%b9%8c/
LOCATION:บริษัท ไทยแอ็กโกรเอ็กซ์เชนจ์ จำกัด (ตลาดไท)\, ตลาดไท 31 หมู่ที่ 9 ตำบลคลองหนึ่ง อำเภอคลองหลวง จ.ปทุมธานี 12120
CATEGORIES:ปฏิทินตารางหน่วยเคลื่อนที่
END:VEVENT
BEGIN:VEVENT
DTSTART;TZID=Asia/Krasnoyarsk:20260311T090000
DTEND;TZID=Asia/Krasnoyarsk:20260311T150000
DTSTAMP:20260421T152914
CREATED:20260304T082332Z
LAST-MODIFIED:20260304T082332Z
UID:10005883-1773219600-1773241200@thaibloodcentre.redcross.or.th
SUMMARY:ธนาคารทิสโก้ จำกัด (มหาชน) สาขาอาคารภคินท์ []
DESCRIPTION:สถานที่เจาะ : ชั้น 5 (พัก 12.00-13.00 น.) \nที่อยู่ : 9 ถนนรัชดาภิเษก แขวงดินแดง เขตดินแดง กรุงเทพฯ 0 2633 6904
URL:https://thaibloodcentre.redcross.or.th/event/%e0%b8%98%e0%b8%99%e0%b8%b2%e0%b8%84%e0%b8%b2%e0%b8%a3%e0%b8%97%e0%b8%b4%e0%b8%aa%e0%b9%82%e0%b8%81%e0%b9%89-%e0%b8%88%e0%b8%b3%e0%b8%81%e0%b8%b1%e0%b8%94-%e0%b8%a1%e0%b8%ab%e0%b8%b2%e0%b8%8a-9/
LOCATION:ธนาคารทิสโก้ จำกัด (มหาชน) สาขาอาคารภคินท์\, ธนาคารทิสโก้ สาขาอาคารภคินท์ อาคารภคินท์ ชั้น 1 ห้อง 102 เลขที่ 9 ถนนรัชดาภิเษก เขตดินแดง กรุงเทพมหานคร 10400
CATEGORIES:ปฏิทินตารางหน่วยเคลื่อนที่
END:VEVENT
BEGIN:VEVENT
DTSTART;TZID=Asia/Krasnoyarsk:20260311T090000
DTEND;TZID=Asia/Krasnoyarsk:20260311T150000
DTSTAMP:20260421T152915
CREATED:20260304T082323Z
LAST-MODIFIED:20260304T082329Z
UID:10005882-1773219600-1773241200@thaibloodcentre.redcross.or.th
SUMMARY:บริษัท ทิสโก้ไฟแนนเชียลกรุ๊ป จำกัด (มหาชน) []
DESCRIPTION:สถานที่เจาะ : Lobby ชั้น1  (พัก 12.00-13.00 น.) \nที่อยู่ : 48/49 อาคารทิสโก้ทาวเวอร์ ชั้น 21 ถนนสาทรเหนือ แขวงสีลม เขตบางรัก กรุงเทพฯ 0 2633 6904
URL:https://thaibloodcentre.redcross.or.th/event/%e0%b8%9a%e0%b8%a3%e0%b8%b4%e0%b8%a9%e0%b8%b1%e0%b8%97-%e0%b8%97%e0%b8%b4%e0%b8%aa%e0%b9%82%e0%b8%81%e0%b9%89%e0%b9%84%e0%b8%9f%e0%b9%81%e0%b8%99%e0%b8%99%e0%b9%80%e0%b8%8a%e0%b8%b5%e0%b8%a2-10/
LOCATION:บริษัท ทิสโก้ไฟแนนเชียลกรุ๊ป จำกัด (มหาชน)\, บริษัท ทิสโก้ไฟแนนเชียลกรุ๊ป จำกัด (มหาชน) อาคารTisco Tower ชั้น 21 ถนนสาทรเหนือ แขวงสีลม เขตบางรัก กรุงเทพมหานคร 10500
CATEGORIES:ปฏิทินตารางหน่วยเคลื่อนที่
END:VEVENT
BEGIN:VEVENT
DTSTART;TZID=Asia/Krasnoyarsk:20260311T090000
DTEND;TZID=Asia/Krasnoyarsk:20260311T150000
DTSTAMP:20260421T152915
CREATED:20260304T082321Z
LAST-MODIFIED:20260304T082328Z
UID:10005881-1773219600-1773241200@thaibloodcentre.redcross.or.th
SUMMARY:สถานทูตสหรัฐอเมริกา GPF []
DESCRIPTION:สถานที่เจาะ : ล๊อบบี้ชั้น 1 อาคาร B ตึก GPF (พัก 11.30-12.30 น.) \nที่อยู่ : 93/1 ตึก GPF ถนนวิทยุ แขวงลุมพินี เขตปทุมวัน กรุงเทพฯ 0 2205 5638
URL:https://thaibloodcentre.redcross.or.th/event/%e0%b8%aa%e0%b8%96%e0%b8%b2%e0%b8%99%e0%b8%97%e0%b8%b9%e0%b8%95%e0%b8%aa%e0%b8%ab%e0%b8%a3%e0%b8%b1%e0%b8%90%e0%b8%ad%e0%b9%80%e0%b8%a1%e0%b8%a3%e0%b8%b4%e0%b8%81%e0%b8%b2-gpf/
LOCATION:สถานทูตสหรัฐอเมริกา GPF\, สถานทูตสหรัฐอเมริกา GPF 95 ถ. วิทยุ แขวงลุมพินี เขตปทุมวัน กรุงเทพมหานคร 10330
CATEGORIES:ปฏิทินตารางหน่วยเคลื่อนที่
END:VEVENT
BEGIN:VEVENT
DTSTART;TZID=Asia/Krasnoyarsk:20260311T090000
DTEND;TZID=Asia/Krasnoyarsk:20260311T150000
DTSTAMP:20260421T152915
CREATED:20260304T082319Z
LAST-MODIFIED:20260304T082328Z
UID:10005880-1773219600-1773241200@thaibloodcentre.redcross.or.th
SUMMARY:โรงพยาบาลเกษมราษฎร์ รามคำแหง []
DESCRIPTION:สถานที่เจาะ : ห้องประชุมหาญพานิช 1 ชั้น 4 (พัก 11.30-12.30 น.) \nที่อยู่ : 99/9 ถนนรามคำแหง แขวงสะพานสูง เขตสะพานสูง กรุงเทพฯ 0 2339 0000
URL:https://thaibloodcentre.redcross.or.th/event/%e0%b9%82%e0%b8%a3%e0%b8%87%e0%b8%9e%e0%b8%a2%e0%b8%b2%e0%b8%9a%e0%b8%b2%e0%b8%a5%e0%b9%80%e0%b8%81%e0%b8%a9%e0%b8%a1%e0%b8%a3%e0%b8%b2%e0%b8%a9%e0%b8%8e%e0%b8%a3%e0%b9%8c-%e0%b8%a3%e0%b8%b2-6/
LOCATION:โรงพยาบาลเกษมราษฎร์ รามคำแหง\, โรงพยาบาลเกษมราษฎร์ รามคำแหง 99/9 ถนนรามคำแหง แขวงสะพานสูง เขตสะพานสูง กรุงเทพฯ 10240
CATEGORIES:ปฏิทินตารางหน่วยเคลื่อนที่
END:VEVENT
BEGIN:VEVENT
DTSTART;TZID=Asia/Krasnoyarsk:20260311T090000
DTEND;TZID=Asia/Krasnoyarsk:20260311T150000
DTSTAMP:20260421T152915
CREATED:20260304T082317Z
LAST-MODIFIED:20260304T082327Z
UID:10005879-1773219600-1773241200@thaibloodcentre.redcross.or.th
SUMMARY:กลุ่มเซ็นทรัล ตึก JTC สีลม []
DESCRIPTION:สถานที่เจาะ : ลานจอดรถ (พัก 12.00-13.00 น.) \nที่อยู่ : 919/555 ถนนสีลม แขวงสีลม เขตบางรัก กรุงเทพฯ 0 2101 7819
URL:https://thaibloodcentre.redcross.or.th/event/%e0%b8%81%e0%b8%a5%e0%b8%b8%e0%b9%88%e0%b8%a1%e0%b9%80%e0%b8%8b%e0%b9%87%e0%b8%99%e0%b8%97%e0%b8%a3%e0%b8%b1%e0%b8%a5-%e0%b8%95%e0%b8%b6%e0%b8%81-jtc-%e0%b8%aa%e0%b8%b5%e0%b8%a5%e0%b8%a1-3/
LOCATION:กลุ่มเซ็นทรัล ตึก JTC สีลม\, อาคารจิวเวลรี่เทรดเซ็นเตอร์ 919/1 ถนนสีลม แขวงสีลม เขตบางรัก กรุงเทพมหานคร 10500
CATEGORIES:ปฏิทินตารางหน่วยเคลื่อนที่
END:VEVENT
BEGIN:VEVENT
DTSTART;TZID=Asia/Krasnoyarsk:20260311T090000
DTEND;TZID=Asia/Krasnoyarsk:20260311T150000
DTSTAMP:20260421T152915
CREATED:20260304T082304Z
LAST-MODIFIED:20260304T082304Z
UID:10005876-1773219600-1773241200@thaibloodcentre.redcross.or.th
SUMMARY:บ้านทรงไทย (ย่านวงศ์สว่าง) []
DESCRIPTION:สถานที่เจาะ : (พัก 12.30-13.00 น.) \nที่อยู่ : 1423 ถนนกรุงเทพ – นนทบุรี แขวงวงศ์สว่าง เขตบางซื่อ กรุงเทพฯ 0 2256 4300
URL:https://thaibloodcentre.redcross.or.th/event/%e0%b8%9a%e0%b9%89%e0%b8%b2%e0%b8%99%e0%b8%97%e0%b8%a3%e0%b8%87%e0%b9%84%e0%b8%97%e0%b8%a2-%e0%b8%a2%e0%b9%88%e0%b8%b2%e0%b8%99%e0%b8%a7%e0%b8%87%e0%b8%a8%e0%b9%8c%e0%b8%aa%e0%b8%a7%e0%b9%88-373/
LOCATION:บ้านทรงไทย (ย่านวงศ์สว่าง)\, หน่วยรับบริจาคโลหิต บ้านทรงไทย(ย่านวงศ์สว่าง) 1423 ถนนกรุงเทพ-นนทบุรี แขวงวงศ์สว่าง เขตบางซื่อ กรุงเทพมหานคร 10800
CATEGORIES:ปฏิทินตารางหน่วยเคลื่อนที่
END:VEVENT
BEGIN:VEVENT
DTSTART;TZID=Asia/Krasnoyarsk:20260311T090000
DTEND;TZID=Asia/Krasnoyarsk:20260311T120000
DTSTAMP:20260421T152915
CREATED:20260304T082341Z
LAST-MODIFIED:20260304T082352Z
UID:10005886-1773219600-1773230400@thaibloodcentre.redcross.or.th
SUMMARY:สำนักงานชลประทานที่ 11 []
DESCRIPTION:สถานที่เจาะ : หน้าตึกที่ทำการสำนักงานฯ \nที่อยู่ : 200 ม.1 ถ.ติวานนท์ ต.บางตลาด อ.ปากเกร็ด จ.นนทบุรี 0 2583 3025
URL:https://thaibloodcentre.redcross.or.th/event/%e0%b8%aa%e0%b8%b3%e0%b8%99%e0%b8%b1%e0%b8%81%e0%b8%87%e0%b8%b2%e0%b8%99%e0%b8%8a%e0%b8%a5%e0%b8%9b%e0%b8%a3%e0%b8%b0%e0%b8%97%e0%b8%b2%e0%b8%99%e0%b8%97%e0%b8%b5%e0%b9%88-11-3/
LOCATION:สำนักงานชลประทานที่ 11\, สำนักงานชลประทานที่ 11 200 ม.1 ถ.ติวานนท์ ต.บางตลาด อ.ปากเกร็ด จ.นนทบุรี 11120
CATEGORIES:ปฏิทินตารางหน่วยเคลื่อนที่
END:VEVENT
END:VCALENDAR