BEGIN:VCALENDAR
VERSION:2.0
PRODID:-//เว็บไซต์ศูนย์บริการโลหิตแห่งชาติ - ECPv6.11.2.1//NONSGML v1.0//EN
CALSCALE:GREGORIAN
METHOD:PUBLISH
X-ORIGINAL-URL:https://thaibloodcentre.redcross.or.th
X-WR-CALDESC:Events for เว็บไซต์ศูนย์บริการโลหิตแห่งชาติ
REFRESH-INTERVAL;VALUE=DURATION:PT1H
X-Robots-Tag:noindex
X-PUBLISHED-TTL:PT1H
BEGIN:VTIMEZONE
TZID:Asia/Krasnoyarsk
BEGIN:STANDARD
TZOFFSETFROM:+0700
TZOFFSETTO:+0700
TZNAME:+07
DTSTART:20250101T000000
END:STANDARD
END:VTIMEZONE
BEGIN:VEVENT
DTSTART;TZID=Asia/Krasnoyarsk:20251201T120000
DTEND;TZID=Asia/Krasnoyarsk:20251201T180000
DTSTAMP:20260424T040028
CREATED:20251128T085455Z
LAST-MODIFIED:20251128T110008Z
UID:10004474-1764590400-1764612000@thaibloodcentre.redcross.or.th
SUMMARY:ศูนย์การค้าเดอะมอลล์ไลฟ์สโตร์ บางแค []
DESCRIPTION:สถานที่เจาะ : ชั้น 3 ตรงข้ามร้านโอ้กะจู๋ \nที่อยู่ : ถนนเพชรเกษม แขวงบางแคเหนือ เขตภาษีเจริญ กรุงเทพฯ 02 487 1221
URL:https://thaibloodcentre.redcross.or.th/event/%e0%b8%a8%e0%b8%b9%e0%b8%99%e0%b8%a2%e0%b9%8c%e0%b8%81%e0%b8%b2%e0%b8%a3%e0%b8%84%e0%b9%89%e0%b8%b2%e0%b9%80%e0%b8%94%e0%b8%ad%e0%b8%b0%e0%b8%a1%e0%b8%ad%e0%b8%a5%e0%b8%a5%e0%b9%8c%e0%b9%84-1103/
LOCATION:ศูนย์การค้าเดอะมอลล์ไลฟ์สโตร์ บางแค\, ศูนย์การค้าเดอะมอลล์ไลฟ์สโตร์ บางแค
CATEGORIES:ปฏิทินตารางหน่วยเคลื่อนที่
END:VEVENT
BEGIN:VEVENT
DTSTART;TZID=Asia/Krasnoyarsk:20251201T120000
DTEND;TZID=Asia/Krasnoyarsk:20251201T180000
DTSTAMP:20260424T040028
CREATED:20251128T085503Z
LAST-MODIFIED:20251128T110009Z
UID:10004475-1764590400-1764612000@thaibloodcentre.redcross.or.th
SUMMARY:ศูนย์การค้าเดอะมอลล์ไลฟ์สโตร์ บางกะปิ []
DESCRIPTION:สถานที่เจาะ : ชั้น 2 ทางออกลานจอดรถ \nที่อยู่ : ถนนลาดพร้าว แขวงคลองจั่น เขตบางกะปิ กรุงเทพฯ 0 2310 2278
URL:https://thaibloodcentre.redcross.or.th/event/%e0%b8%a8%e0%b8%b9%e0%b8%99%e0%b8%a2%e0%b9%8c%e0%b8%81%e0%b8%b2%e0%b8%a3%e0%b8%84%e0%b9%89%e0%b8%b2%e0%b9%80%e0%b8%94%e0%b8%ad%e0%b8%b0%e0%b8%a1%e0%b8%ad%e0%b8%a5%e0%b8%a5%e0%b9%8c%e0%b9%84-1104/
LOCATION:ศูนย์การค้าเดอะมอลล์ไลฟ์สโตร์ บางกะปิ\, เดอะมอลล์ไลฟ์สโตร์ บางกะปิ 3522 ถ. ลาดพร้าว แขวงคลองจั่น เขตบางกะปิ กรุงเทพมหานคร 10240
CATEGORIES:ปฏิทินตารางหน่วยเคลื่อนที่
END:VEVENT
BEGIN:VEVENT
DTSTART;TZID=Asia/Krasnoyarsk:20251201T120000
DTEND;TZID=Asia/Krasnoyarsk:20251201T180000
DTSTAMP:20260424T040028
CREATED:20251128T085513Z
LAST-MODIFIED:20251128T110009Z
UID:10004476-1764590400-1764612000@thaibloodcentre.redcross.or.th
SUMMARY:ศูนย์การค้าเดอะมอลล์ไลฟ์สโตร์ งามวงศ์วาน []
DESCRIPTION:สถานที่เจาะ : ชั้น 5 โซน Government Center \nที่อยู่ : ถนนงามวงศ์วาน ต.บางเขน อ.เมือง จ.นนทบุรี 0 2555 1550
URL:https://thaibloodcentre.redcross.or.th/event/%e0%b8%a8%e0%b8%b9%e0%b8%99%e0%b8%a2%e0%b9%8c%e0%b8%81%e0%b8%b2%e0%b8%a3%e0%b8%84%e0%b9%89%e0%b8%b2%e0%b9%80%e0%b8%94%e0%b8%ad%e0%b8%b0%e0%b8%a1%e0%b8%ad%e0%b8%a5%e0%b8%a5%e0%b9%8c%e0%b9%84-1105/
LOCATION:ศูนย์การค้าเดอะมอลล์ไลฟ์สโตร์ งามวงศ์วาน\, เดอะมอลล์ ไลฟ์สโตร์ งามวงศ์วาน 430 ถนน งามวงศ์วาน ตำบลบางเขน อำเภอเมืองนนทบุรี นนทบุรี 11000
CATEGORIES:ปฏิทินตารางหน่วยเคลื่อนที่
END:VEVENT
BEGIN:VEVENT
DTSTART;TZID=Asia/Krasnoyarsk:20251201T120000
DTEND;TZID=Asia/Krasnoyarsk:20251201T180000
DTSTAMP:20260424T040028
CREATED:20251128T085523Z
LAST-MODIFIED:20251128T110010Z
UID:10004477-1764590400-1764612000@thaibloodcentre.redcross.or.th
SUMMARY:ศูนย์การค้า เอ็มโพเรียม []
DESCRIPTION:สถานที่เจาะ : ชั้น M ศูนย์การค้า ดิ เอ็มโพเรียม เชื่อมลานจอดรถอาคาร B \nที่อยู่ : 622 ถนนสุขุมวิท แขวงคลองตัน เขตคลองเตย กรุงเทพฯ 0 2269 1515
URL:https://thaibloodcentre.redcross.or.th/event/%e0%b8%a8%e0%b8%b9%e0%b8%99%e0%b8%a2%e0%b9%8c%e0%b8%81%e0%b8%b2%e0%b8%a3%e0%b8%84%e0%b9%89%e0%b8%b2-%e0%b9%80%e0%b8%ad%e0%b9%87%e0%b8%a1%e0%b9%82%e0%b8%9e%e0%b9%80%e0%b8%a3%e0%b8%b5%e0%b8%a2-272/
LOCATION:ศูนย์การค้า เอ็มโพเรียม\, เอ็มโพเรียม 622 ถ. สุขุมวิท แขวงคลองตัน เขตคลองเตย กรุงเทพมหานคร 10110
CATEGORIES:ปฏิทินตารางหน่วยเคลื่อนที่
END:VEVENT
BEGIN:VEVENT
DTSTART;TZID=Asia/Krasnoyarsk:20251201T120000
DTEND;TZID=Asia/Krasnoyarsk:20251201T180000
DTSTAMP:20260424T040028
CREATED:20251128T085539Z
LAST-MODIFIED:20251128T110021Z
UID:10004478-1764590400-1764612000@thaibloodcentre.redcross.or.th
SUMMARY:ศูนย์การค้าเดอะมอลล์ไลฟ์สโตร์ ท่าพระ []
DESCRIPTION:สถานที่เจาะ : ชั้น 1 (ติดลานจอดรถ) \nที่อยู่ : 99 ถนนรัชดาท่าพระตัดใหม่ แขวงบุคคโล เขตธนบุรี กรุงเทพฯ 0 2469-1000
URL:https://thaibloodcentre.redcross.or.th/event/%e0%b8%a8%e0%b8%b9%e0%b8%99%e0%b8%a2%e0%b9%8c%e0%b8%81%e0%b8%b2%e0%b8%a3%e0%b8%84%e0%b9%89%e0%b8%b2%e0%b9%80%e0%b8%94%e0%b8%ad%e0%b8%b0%e0%b8%a1%e0%b8%ad%e0%b8%a5%e0%b8%a5%e0%b9%8c%e0%b9%84-1106/
LOCATION:ศูนย์การค้าเดอะมอลล์ไลฟ์สโตร์ ท่าพระ\, เดอะมอลล์ไลฟ์สโตร์ ท่าพระ 129 ถ. รัชดาภิเษก แขวงบุคคโล เขตธนบุรี กรุงเทพมหานคร 10600
CATEGORIES:ปฏิทินตารางหน่วยเคลื่อนที่
END:VEVENT
BEGIN:VEVENT
DTSTART;TZID=Asia/Krasnoyarsk:20251201T133000
DTEND;TZID=Asia/Krasnoyarsk:20251201T150000
DTSTAMP:20260424T040028
CREATED:20251128T085611Z
LAST-MODIFIED:20251128T110038Z
UID:10004485-1764595800-1764601200@thaibloodcentre.redcross.or.th
SUMMARY:บริษัท ไวร์เลส ดีไวซ์ ซัพพลาย จำกัด []
DESCRIPTION:สถานที่เจาะ : จอดรถหน้าอาคาร \nที่อยู่ : 4/45 ม. 9 ถ.สามัคคี ต.บางตลาด อ.ปากเกร็ด จ.นนทบุรี 0 2500 4250
URL:https://thaibloodcentre.redcross.or.th/event/%e0%b8%9a%e0%b8%a3%e0%b8%b4%e0%b8%a9%e0%b8%b1%e0%b8%97-%e0%b9%84%e0%b8%a7%e0%b8%a3%e0%b9%8c%e0%b9%80%e0%b8%a5%e0%b8%aa-%e0%b8%94%e0%b8%b5%e0%b9%84%e0%b8%a7%e0%b8%8b%e0%b9%8c-%e0%b8%8b%e0%b8%b1-4/
LOCATION:บริษัท ไวร์เลส ดีไวซ์ ซัพพลาย จำกัด\, บริษัท ไวร์เลส ดีไวซ์ ซัพพลาย จำกัด 4/45 ม.9 ถ.สามัคคี ต.บางตลาด อ.ปากเกร็ด จ.นนทบุรี 11120
CATEGORIES:ปฏิทินตารางหน่วยเคลื่อนที่
END:VEVENT
BEGIN:VEVENT
DTSTART;TZID=Asia/Krasnoyarsk:20251202T073000
DTEND;TZID=Asia/Krasnoyarsk:20251202T193000
DTSTAMP:20260424T040028
CREATED:20251128T085628Z
LAST-MODIFIED:20251128T110053Z
UID:10004490-1764660600-1764703800@thaibloodcentre.redcross.or.th
SUMMARY:ศูนย์บริการโลหิตแห่งชาติ สภากาชาดไทย []
DESCRIPTION:ที่อยู่ : 1871 ถ. อังรีดูนังต์ แขวงปทุมวัน เขตปทุมวัน
URL:https://thaibloodcentre.redcross.or.th/event/%e0%b8%a8%e0%b8%b9%e0%b8%99%e0%b8%a2%e0%b9%8c%e0%b8%9a%e0%b8%a3%e0%b8%b4%e0%b8%81%e0%b8%b2%e0%b8%a3%e0%b9%82%e0%b8%a5%e0%b8%ab%e0%b8%b4%e0%b8%95%e0%b9%81%e0%b8%ab%e0%b9%88%e0%b8%87%e0%b8%8a-357/
LOCATION:ศูนย์บริการโลหิตแห่งชาติ สภากาชาดไทย\, ศูนย์บริการโลหิตแห่งชาติ สภากาชาดไทย 1871 ถ. อังรีดูนังต์ แขวงปทุมวัน เขตปทุมวัน กรุงเทพมหานคร 10330
CATEGORIES:ปฏิทินตารางหน่วยเคลื่อนที่
END:VEVENT
BEGIN:VEVENT
DTSTART;TZID=Asia/Krasnoyarsk:20251202T083000
DTEND;TZID=Asia/Krasnoyarsk:20251202T193000
DTSTAMP:20260424T040028
CREATED:20251128T085732Z
LAST-MODIFIED:20251128T110108Z
UID:10004497-1764664200-1764703800@thaibloodcentre.redcross.or.th
SUMMARY:สถานีกาชาด 11 วิเศษนิยม []
DESCRIPTION:สถานที่เจาะ : ชั้น 3 \nที่อยู่ : 33/3 ถนนเพชรเกษม แขวงบางหว้า เขตภาษีเจริญ กรุงเทพฯ 0633450711
URL:https://thaibloodcentre.redcross.or.th/event/%e0%b8%aa%e0%b8%96%e0%b8%b2%e0%b8%99%e0%b8%b5%e0%b8%81%e0%b8%b2%e0%b8%8a%e0%b8%b2%e0%b8%94-11-%e0%b8%a7%e0%b8%b4%e0%b9%80%e0%b8%a8%e0%b8%a9%e0%b8%99%e0%b8%b4%e0%b8%a2%e0%b8%a1-106/
LOCATION:สถานีกาชาด 11 วิเศษนิยม\, สถานีกาชาด 11 วิเศษนิยม 605 ถ.เพชรเกษม แขวงบางหว้า เขตภาษีเจริญ กรุงเทพมหานคร 10160
CATEGORIES:ปฏิทินตารางหน่วยเคลื่อนที่
END:VEVENT
BEGIN:VEVENT
DTSTART;TZID=Asia/Krasnoyarsk:20251202T090000
DTEND;TZID=Asia/Krasnoyarsk:20251202T113000
DTSTAMP:20260424T040028
CREATED:20251128T085844Z
LAST-MODIFIED:20251128T110138Z
UID:10004505-1764666000-1764675000@thaibloodcentre.redcross.or.th
SUMMARY:บริษัท เอส แอนด์ พี ซินดิเคท จำกัด (มหาชน) []
DESCRIPTION:สถานที่เจาะ : หน้าโรงอาหาร \nที่อยู่ : 2 \, 2/1 สุขุมวิท 62 แยก 3 แขวงบางจาก เขตพระโขนง กรุงเทพฯ 0 2331 6571-5
URL:https://thaibloodcentre.redcross.or.th/event/%e0%b8%9a%e0%b8%a3%e0%b8%b4%e0%b8%a9%e0%b8%b1%e0%b8%97-%e0%b9%80%e0%b8%ad%e0%b8%aa-%e0%b9%81%e0%b8%ad%e0%b8%99%e0%b8%94%e0%b9%8c-%e0%b8%9e%e0%b8%b5-%e0%b8%8b%e0%b8%b4%e0%b8%99%e0%b8%94%e0%b8%b4-4/
LOCATION:บริษัท เอส แอนด์ พี ซินดิเคท จำกัด (มหาชน)\, บริษัท เอส แอนด์ พี ซินดิเคท จำกัด (มหาชน) 2-2/1 ซอย 62 ถนนสุขุมวิท แขวงบางจาก เขตพระโขนง กรุงเทพมหานคร 10260
CATEGORIES:ปฏิทินตารางหน่วยเคลื่อนที่
END:VEVENT
BEGIN:VEVENT
DTSTART;TZID=Asia/Krasnoyarsk:20251202T090000
DTEND;TZID=Asia/Krasnoyarsk:20251202T150000
DTSTAMP:20260424T040028
CREATED:20251128T085735Z
LAST-MODIFIED:20251128T110109Z
UID:10004498-1764666000-1764687600@thaibloodcentre.redcross.or.th
SUMMARY:บ้านทรงไทย (ย่านวงศ์สว่าง) []
DESCRIPTION:สถานที่เจาะ : (พัก 12.30-13.00 น.) \nที่อยู่ : 1423 ถนนกรุงเทพ – นนทบุรี แขวงวงศ์สว่าง เขตบางซื่อ กรุงเทพฯ 0 2256 4300
URL:https://thaibloodcentre.redcross.or.th/event/%e0%b8%9a%e0%b9%89%e0%b8%b2%e0%b8%99%e0%b8%97%e0%b8%a3%e0%b8%87%e0%b9%84%e0%b8%97%e0%b8%a2-%e0%b8%a2%e0%b9%88%e0%b8%b2%e0%b8%99%e0%b8%a7%e0%b8%87%e0%b8%a8%e0%b9%8c%e0%b8%aa%e0%b8%a7%e0%b9%88-275/
LOCATION:บ้านทรงไทย (ย่านวงศ์สว่าง)\, หน่วยรับบริจาคโลหิต บ้านทรงไทย(ย่านวงศ์สว่าง) 1423 ถนนกรุงเทพ-นนทบุรี แขวงวงศ์สว่าง เขตบางซื่อ กรุงเทพมหานคร 10800
CATEGORIES:ปฏิทินตารางหน่วยเคลื่อนที่
END:VEVENT
BEGIN:VEVENT
DTSTART;TZID=Asia/Krasnoyarsk:20251202T090000
DTEND;TZID=Asia/Krasnoyarsk:20251202T150000
DTSTAMP:20260424T040028
CREATED:20251128T085756Z
LAST-MODIFIED:20251128T110122Z
UID:10004500-1764666000-1764687600@thaibloodcentre.redcross.or.th
SUMMARY:โรงพยาบาลนพรัตนราชธานี []
DESCRIPTION:สถานที่เจาะ : ห้องประชุมเพชรนพรัตน์ชั้น 7 (พัก 12.00-13.00 น.) \nที่อยู่ : 679 ถนนรามอินทรา กม.12 แขวงคันนายาว เขตคันนายาว กรุงเทพฯ 0 2548 81010
URL:https://thaibloodcentre.redcross.or.th/event/%e0%b9%82%e0%b8%a3%e0%b8%87%e0%b8%9e%e0%b8%a2%e0%b8%b2%e0%b8%9a%e0%b8%b2%e0%b8%a5%e0%b8%99%e0%b8%9e%e0%b8%a3%e0%b8%b1%e0%b8%95%e0%b8%99%e0%b8%a3%e0%b8%b2%e0%b8%8a%e0%b8%98%e0%b8%b2%e0%b8%99%e0%b8%b5-4/
LOCATION:โรงพยาบาลนพรัตนราชธานี\, โรงพยาบาลนพรัตนราชธานี 679 ถนนรามอินทรา แขวงคันนายาว เขตคันนายาว กรุงเทพมหานคร 10230
CATEGORIES:ปฏิทินตารางหน่วยเคลื่อนที่
END:VEVENT
BEGIN:VEVENT
DTSTART;TZID=Asia/Krasnoyarsk:20251202T090000
DTEND;TZID=Asia/Krasnoyarsk:20251202T150000
DTSTAMP:20260424T040028
CREATED:20251128T085759Z
LAST-MODIFIED:20251128T110123Z
UID:10004501-1764666000-1764687600@thaibloodcentre.redcross.or.th
SUMMARY:ธนาคารสแตนดาร์ดชาร์เตอร์ด (ไทย) จำกัด (มหาชน) []
DESCRIPTION:สถานที่เจาะ : อาคารเคี่ยนหงวน 2 ชั้น 17 (พัก 11.30-12.30 น.) \nที่อยู่ : 140 ชั้นที่ 12 ถนนวิทยุ แขวงลุมพินี เขตปทุมวัน กรุงเทพฯ
URL:https://thaibloodcentre.redcross.or.th/event/%e0%b8%98%e0%b8%99%e0%b8%b2%e0%b8%84%e0%b8%b2%e0%b8%a3%e0%b8%aa%e0%b9%81%e0%b8%95%e0%b8%99%e0%b8%94%e0%b8%b2%e0%b8%a3%e0%b9%8c%e0%b8%94%e0%b8%8a%e0%b8%b2%e0%b8%a3%e0%b9%8c%e0%b9%80%e0%b8%95%e0%b8%ad-4/
LOCATION:ธนาคารสแตนดาร์ดชาร์เตอร์ด (ไทย) จำกัด (มหาชน)\, ธนาคารสแตนดาร์ดชาร์เตอร์ด (ไทย) จำกัด (มหาชน) 140 ชั้น11\,12\,14 อาคาร 140 Wireless ถนนวิทยุ แขวงลุมพินี เขตปทุมวัน กรุงเทพมหานคร 10330
CATEGORIES:ปฏิทินตารางหน่วยเคลื่อนที่
END:VEVENT
BEGIN:VEVENT
DTSTART;TZID=Asia/Krasnoyarsk:20251202T090000
DTEND;TZID=Asia/Krasnoyarsk:20251202T150000
DTSTAMP:20260424T040028
CREATED:20251128T085802Z
LAST-MODIFIED:20251128T110124Z
UID:10004502-1764666000-1764687600@thaibloodcentre.redcross.or.th
SUMMARY:การยาสูบแห่งประเทศไทย []
DESCRIPTION:สถานที่เจาะ : หน้าสหกรณ์ออมทรัพย์ (พัก 12.00-13.00 น.) \nที่อยู่ : 184 ถนพระราม 4 แขวงคลองเตย เขตคลองเตย กรุงเทพฯ
URL:https://thaibloodcentre.redcross.or.th/event/%e0%b8%81%e0%b8%b2%e0%b8%a3%e0%b8%a2%e0%b8%b2%e0%b8%aa%e0%b8%b9%e0%b8%9a%e0%b9%81%e0%b8%ab%e0%b9%88%e0%b8%87%e0%b8%9b%e0%b8%a3%e0%b8%b0%e0%b9%80%e0%b8%97%e0%b8%a8%e0%b9%84%e0%b8%97%e0%b8%a2-2/
LOCATION:การยาสูบแห่งประเทศไทย\, การยาสูบแห่งประเทศไทย 184 ถนนพระรามที่ 4 แขวงคลองเตย เขตคลองเตย กรุงเทพมหานคร 10110
CATEGORIES:ปฏิทินตารางหน่วยเคลื่อนที่
END:VEVENT
BEGIN:VEVENT
DTSTART;TZID=Asia/Krasnoyarsk:20251202T090000
DTEND;TZID=Asia/Krasnoyarsk:20251202T150000
DTSTAMP:20260424T040028
CREATED:20251128T085806Z
LAST-MODIFIED:20251128T110124Z
UID:10004503-1764666000-1764687600@thaibloodcentre.redcross.or.th
SUMMARY:บริษัท สิงห์ พร็อพเพอร์ตี้ ดีเวลลอปเม้นท์ จำกัด []
DESCRIPTION:สถานที่เจาะ : หน้าอาคาร Singha Complex (พัก 11.30-12.30 น.) \nที่อยู่ : 1788 อาคารสิงห์ คอมเพล็กซ์ชั้น 15 ถนนเพชรบุรี แขวงบางกะปิ เขตห้วยขวาง กรุงเทพฯ 0 2088 9099
URL:https://thaibloodcentre.redcross.or.th/event/%e0%b8%9a%e0%b8%a3%e0%b8%b4%e0%b8%a9%e0%b8%b1%e0%b8%97-%e0%b8%aa%e0%b8%b4%e0%b8%87%e0%b8%ab%e0%b9%8c-%e0%b8%9e%e0%b8%a3%e0%b9%87%e0%b8%ad%e0%b8%9e%e0%b9%80%e0%b8%9e%e0%b8%ad%e0%b8%a3%e0%b9%8c-4/
LOCATION:บริษัท สิงห์ พร็อพเพอร์ตี้ ดีเวลลอปเม้นท์ จำกัด\, อาคารสิงห์ คอมเพล็กซ์ 1788 ถ. เพชรบุรีตัดใหม่ แขวงบางกะปิ เขตห้วยขวาง กรุงเทพมหานคร 10310
CATEGORIES:ปฏิทินตารางหน่วยเคลื่อนที่
END:VEVENT
BEGIN:VEVENT
DTSTART;TZID=Asia/Krasnoyarsk:20251202T090000
DTEND;TZID=Asia/Krasnoyarsk:20251202T150000
DTSTAMP:20260424T040029
CREATED:20251128T085841Z
LAST-MODIFIED:20251128T110137Z
UID:10004504-1764666000-1764687600@thaibloodcentre.redcross.or.th
SUMMARY:โรงเรียนกองทัพบกอุปถัมภ์ ช่างกล ขส.ทบ. []
DESCRIPTION:สถานที่เจาะ : ห้องประชุมชั้น 2 อาคารอำนวยการ (พัก 11.30-12.30 น.) \nที่อยู่ : 120 ม.5 ถ.ติวานนท์ ต.บ้านใหม่ อ.ปากเกร็ด จ.นนทบุรี 0 2961 9215-7
URL:https://thaibloodcentre.redcross.or.th/event/%e0%b9%82%e0%b8%a3%e0%b8%87%e0%b9%80%e0%b8%a3%e0%b8%b5%e0%b8%a2%e0%b8%99%e0%b8%81%e0%b8%ad%e0%b8%87%e0%b8%97%e0%b8%b1%e0%b8%9e%e0%b8%9a%e0%b8%81%e0%b8%ad%e0%b8%b8%e0%b8%9b%e0%b8%96%e0%b8%b1%e0%b8%a1/
LOCATION:โรงเรียนกองทัพบกอุปถัมภ์ ช่างกล ขส.ทบ.\, โรงเรียนกองทัพบกอุปถัมภ์ ช่างกล ขส.ทบ. https://maps.app.goo.gl/JQv5u9uMQb35mT6CA
CATEGORIES:ปฏิทินตารางหน่วยเคลื่อนที่
END:VEVENT
BEGIN:VEVENT
DTSTART;TZID=Asia/Krasnoyarsk:20251202T090000
DTEND;TZID=Asia/Krasnoyarsk:20251202T150000
DTSTAMP:20260424T040029
CREATED:20251128T085849Z
LAST-MODIFIED:20251128T110140Z
UID:10004507-1764666000-1764687600@thaibloodcentre.redcross.or.th
SUMMARY:มหาวิทยาลัยเกษตรศาสตร์ []
DESCRIPTION:สถานที่เจาะ : ชั้น 1 อาคารระพี สาคริก (ตรงข้าม ศร. 1) \nที่อยู่ : 50 ถนนงามวงศ์วาน แขวงลาดยาว เขตจตุจักร กรุงเทพฯ 0 2118 0150
URL:https://thaibloodcentre.redcross.or.th/event/%e0%b8%a1%e0%b8%ab%e0%b8%b2%e0%b8%a7%e0%b8%b4%e0%b8%97%e0%b8%a2%e0%b8%b2%e0%b8%a5%e0%b8%b1%e0%b8%a2%e0%b9%80%e0%b8%81%e0%b8%a9%e0%b8%95%e0%b8%a3%e0%b8%a8%e0%b8%b2%e0%b8%aa%e0%b8%95%e0%b8%a3%e0%b9%8c-5/
LOCATION:มหาวิทยาลัยเกษตรศาสตร์\, มหาวิทยาลัยเกษตรศาสตร์ 50 ถนนงามวงศ์วาน แขวงลาดยาว เขตจตุจักร กรุงเทพมหานคร 10900
CATEGORIES:ปฏิทินตารางหน่วยเคลื่อนที่
END:VEVENT
BEGIN:VEVENT
DTSTART;TZID=Asia/Krasnoyarsk:20251202T090000
DTEND;TZID=Asia/Krasnoyarsk:20251202T150000
DTSTAMP:20260424T040029
CREATED:20251128T085851Z
LAST-MODIFIED:20251128T110140Z
UID:10004508-1764666000-1764687600@thaibloodcentre.redcross.or.th
SUMMARY:กองบังคับการตำรวจนครบาล 4 []
DESCRIPTION:สถานที่เจาะ : ชั้น 1 อาคาร บก.น.4 (พัก 12.00-13.00 น.) \nที่อยู่ : 99 ถนนเสรีไทย 73 แขวงคันนายาว เขตคันนายาว กรุงเทพฯ
URL:https://thaibloodcentre.redcross.or.th/event/%e0%b8%81%e0%b8%ad%e0%b8%87%e0%b8%9a%e0%b8%b1%e0%b8%87%e0%b8%84%e0%b8%b1%e0%b8%9a%e0%b8%81%e0%b8%b2%e0%b8%a3%e0%b8%95%e0%b8%b3%e0%b8%a3%e0%b8%a7%e0%b8%88%e0%b8%99%e0%b8%84%e0%b8%a3%e0%b8%9a%e0%b8%b2-2/
LOCATION:กองบังคับการตำรวจนครบาล 4\, กองบังคับการตำรวจนครบาล 4 99 ซอยเสรีไทย 73 แขวงคันนายาว เขตคันนายาว กรุงเทพมหานคร 10230
CATEGORIES:ปฏิทินตารางหน่วยเคลื่อนที่
END:VEVENT
BEGIN:VEVENT
DTSTART;TZID=Asia/Krasnoyarsk:20251202T110000
DTEND;TZID=Asia/Krasnoyarsk:20251202T150000
DTSTAMP:20260424T040029
CREATED:20251128T085753Z
LAST-MODIFIED:20251128T110122Z
UID:10004499-1764673200-1764687600@thaibloodcentre.redcross.or.th
SUMMARY:บริษัท แสนสิริ จำกัด (มหาชน) []
DESCRIPTION:สถานที่เจาะ : ถนนด้านข้าง ฮาบิโตะ มอลล์ \nที่อยู่ : 59 ซอยริมคลองพระโขนง แขวงพระโขนงเหนือ เขตวัฒนา กรุงเทพฯ
URL:https://thaibloodcentre.redcross.or.th/event/%e0%b8%9a%e0%b8%a3%e0%b8%b4%e0%b8%a9%e0%b8%b1%e0%b8%97-%e0%b9%81%e0%b8%aa%e0%b8%99%e0%b8%aa%e0%b8%b4%e0%b8%a3%e0%b8%b4-%e0%b8%88%e0%b8%b3%e0%b8%81%e0%b8%b1%e0%b8%94-%e0%b8%a1%e0%b8%ab%e0%b8%b2-4/
LOCATION:บริษัท แสนสิริ จำกัด (มหาชน)
CATEGORIES:ปฏิทินตารางหน่วยเคลื่อนที่
END:VEVENT
BEGIN:VEVENT
DTSTART;TZID=Asia/Krasnoyarsk:20251202T120000
DTEND;TZID=Asia/Krasnoyarsk:20251202T180000
DTSTAMP:20260424T040029
CREATED:20251128T085633Z
LAST-MODIFIED:20251128T110054Z
UID:10004491-1764676800-1764698400@thaibloodcentre.redcross.or.th
SUMMARY:ศูนย์การค้าเดอะมอลล์ไลฟ์สโตร์ บางแค []
DESCRIPTION:สถานที่เจาะ : ชั้น 3 ตรงข้ามร้านโอ้กะจู๋ \nที่อยู่ : ถนนเพชรเกษม แขวงบางแคเหนือ เขตภาษีเจริญ กรุงเทพฯ 02 487 1221
URL:https://thaibloodcentre.redcross.or.th/event/%e0%b8%a8%e0%b8%b9%e0%b8%99%e0%b8%a2%e0%b9%8c%e0%b8%81%e0%b8%b2%e0%b8%a3%e0%b8%84%e0%b9%89%e0%b8%b2%e0%b9%80%e0%b8%94%e0%b8%ad%e0%b8%b0%e0%b8%a1%e0%b8%ad%e0%b8%a5%e0%b8%a5%e0%b9%8c%e0%b9%84-1107/
LOCATION:ศูนย์การค้าเดอะมอลล์ไลฟ์สโตร์ บางแค\, ศูนย์การค้าเดอะมอลล์ไลฟ์สโตร์ บางแค
CATEGORIES:ปฏิทินตารางหน่วยเคลื่อนที่
END:VEVENT
BEGIN:VEVENT
DTSTART;TZID=Asia/Krasnoyarsk:20251202T120000
DTEND;TZID=Asia/Krasnoyarsk:20251202T180000
DTSTAMP:20260424T040029
CREATED:20251128T085642Z
LAST-MODIFIED:20251128T110054Z
UID:10004492-1764676800-1764698400@thaibloodcentre.redcross.or.th
SUMMARY:ศูนย์การค้าเดอะมอลล์ไลฟ์สโตร์ บางกะปิ []
DESCRIPTION:สถานที่เจาะ : ชั้น 2 ทางออกลานจอดรถ \nที่อยู่ : ถนนลาดพร้าว แขวงคลองจั่น เขตบางกะปิ กรุงเทพฯ 0 2310 2278
URL:https://thaibloodcentre.redcross.or.th/event/%e0%b8%a8%e0%b8%b9%e0%b8%99%e0%b8%a2%e0%b9%8c%e0%b8%81%e0%b8%b2%e0%b8%a3%e0%b8%84%e0%b9%89%e0%b8%b2%e0%b9%80%e0%b8%94%e0%b8%ad%e0%b8%b0%e0%b8%a1%e0%b8%ad%e0%b8%a5%e0%b8%a5%e0%b9%8c%e0%b9%84-1108/
LOCATION:ศูนย์การค้าเดอะมอลล์ไลฟ์สโตร์ บางกะปิ\, เดอะมอลล์ไลฟ์สโตร์ บางกะปิ 3522 ถ. ลาดพร้าว แขวงคลองจั่น เขตบางกะปิ กรุงเทพมหานคร 10240
CATEGORIES:ปฏิทินตารางหน่วยเคลื่อนที่
END:VEVENT
BEGIN:VEVENT
DTSTART;TZID=Asia/Krasnoyarsk:20251202T120000
DTEND;TZID=Asia/Krasnoyarsk:20251202T180000
DTSTAMP:20260424T040029
CREATED:20251128T085708Z
LAST-MODIFIED:20251128T110106Z
UID:10004494-1764676800-1764698400@thaibloodcentre.redcross.or.th
SUMMARY:ศูนย์การค้าเดอะมอลล์ไลฟ์สโตร์ งามวงศ์วาน []
DESCRIPTION:สถานที่เจาะ : ชั้น 5 โซน Government Center \nที่อยู่ : ถนนงามวงศ์วาน ต.บางเขน อ.เมือง จ.นนทบุรี 0 2555 1550
URL:https://thaibloodcentre.redcross.or.th/event/%e0%b8%a8%e0%b8%b9%e0%b8%99%e0%b8%a2%e0%b9%8c%e0%b8%81%e0%b8%b2%e0%b8%a3%e0%b8%84%e0%b9%89%e0%b8%b2%e0%b9%80%e0%b8%94%e0%b8%ad%e0%b8%b0%e0%b8%a1%e0%b8%ad%e0%b8%a5%e0%b8%a5%e0%b9%8c%e0%b9%84-1109/
LOCATION:ศูนย์การค้าเดอะมอลล์ไลฟ์สโตร์ งามวงศ์วาน\, เดอะมอลล์ ไลฟ์สโตร์ งามวงศ์วาน 430 ถนน งามวงศ์วาน ตำบลบางเขน อำเภอเมืองนนทบุรี นนทบุรี 11000
CATEGORIES:ปฏิทินตารางหน่วยเคลื่อนที่
END:VEVENT
BEGIN:VEVENT
DTSTART;TZID=Asia/Krasnoyarsk:20251202T120000
DTEND;TZID=Asia/Krasnoyarsk:20251202T180000
DTSTAMP:20260424T040029
CREATED:20251128T085718Z
LAST-MODIFIED:20251128T110107Z
UID:10004495-1764676800-1764698400@thaibloodcentre.redcross.or.th
SUMMARY:ศูนย์การค้า เอ็มโพเรียม []
DESCRIPTION:สถานที่เจาะ : ชั้น M ศูนย์การค้า ดิ เอ็มโพเรียม เชื่อมลานจอดรถอาคาร B \nที่อยู่ : 622 ถนนสุขุมวิท แขวงคลองตัน เขตคลองเตย กรุงเทพฯ 0 2269 1515
URL:https://thaibloodcentre.redcross.or.th/event/%e0%b8%a8%e0%b8%b9%e0%b8%99%e0%b8%a2%e0%b9%8c%e0%b8%81%e0%b8%b2%e0%b8%a3%e0%b8%84%e0%b9%89%e0%b8%b2-%e0%b9%80%e0%b8%ad%e0%b9%87%e0%b8%a1%e0%b9%82%e0%b8%9e%e0%b9%80%e0%b8%a3%e0%b8%b5%e0%b8%a2-273/
LOCATION:ศูนย์การค้า เอ็มโพเรียม\, เอ็มโพเรียม 622 ถ. สุขุมวิท แขวงคลองตัน เขตคลองเตย กรุงเทพมหานคร 10110
CATEGORIES:ปฏิทินตารางหน่วยเคลื่อนที่
END:VEVENT
BEGIN:VEVENT
DTSTART;TZID=Asia/Krasnoyarsk:20251202T120000
DTEND;TZID=Asia/Krasnoyarsk:20251202T180000
DTSTAMP:20260424T040029
CREATED:20251128T085722Z
LAST-MODIFIED:20251128T110108Z
UID:10004496-1764676800-1764698400@thaibloodcentre.redcross.or.th
SUMMARY:ศูนย์การค้าเดอะมอลล์ไลฟ์สโตร์ ท่าพระ []
DESCRIPTION:สถานที่เจาะ : ชั้น 1 (ติดลานจอดรถ) \nที่อยู่ : 99 ถนนรัชดาท่าพระตัดใหม่ แขวงบุคคโล เขตธนบุรี กรุงเทพฯ 0 2469-1000
URL:https://thaibloodcentre.redcross.or.th/event/%e0%b8%a8%e0%b8%b9%e0%b8%99%e0%b8%a2%e0%b9%8c%e0%b8%81%e0%b8%b2%e0%b8%a3%e0%b8%84%e0%b9%89%e0%b8%b2%e0%b9%80%e0%b8%94%e0%b8%ad%e0%b8%b0%e0%b8%a1%e0%b8%ad%e0%b8%a5%e0%b8%a5%e0%b9%8c%e0%b9%84-1110/
LOCATION:ศูนย์การค้าเดอะมอลล์ไลฟ์สโตร์ ท่าพระ\, เดอะมอลล์ไลฟ์สโตร์ ท่าพระ 129 ถ. รัชดาภิเษก แขวงบุคคโล เขตธนบุรี กรุงเทพมหานคร 10600
CATEGORIES:ปฏิทินตารางหน่วยเคลื่อนที่
END:VEVENT
BEGIN:VEVENT
DTSTART;TZID=Asia/Krasnoyarsk:20251202T130000
DTEND;TZID=Asia/Krasnoyarsk:20251202T150000
DTSTAMP:20260424T040029
CREATED:20251128T085846Z
LAST-MODIFIED:20251128T110139Z
UID:10004506-1764680400-1764687600@thaibloodcentre.redcross.or.th
SUMMARY:บริษัท สยามราช จำกัด (มหาชน) []
DESCRIPTION:สถานที่เจาะ : บริเวณข้างศาลพระภูมิด้านใน \nที่อยู่ : 289/9 ม. 10 ถ.รถรางสายเก่า ต.สำโรง  อ.พระประแดง จ.สมุทรปราการ 0 2743 5010-25
URL:https://thaibloodcentre.redcross.or.th/event/%e0%b8%9a%e0%b8%a3%e0%b8%b4%e0%b8%a9%e0%b8%b1%e0%b8%97-%e0%b8%aa%e0%b8%a2%e0%b8%b2%e0%b8%a1%e0%b8%a3%e0%b8%b2%e0%b8%8a-%e0%b8%88%e0%b8%b3%e0%b8%81%e0%b8%b1%e0%b8%94-%e0%b8%a1%e0%b8%ab%e0%b8%b2-4/
LOCATION:บริษัท สยามราช จำกัด (มหาชน)\, บริษัท สยามราช จำกัด (มหาชน) 329 ม.10 กุศลส่งสามัคคี ซ.1 ถ.รถรางสายเก่า ต.สำโรง อ.พระประแดง จ.สมุทรปราการ 10130
CATEGORIES:ปฏิทินตารางหน่วยเคลื่อนที่
END:VEVENT
BEGIN:VEVENT
DTSTART;TZID=Asia/Krasnoyarsk:20251203T073000
DTEND;TZID=Asia/Krasnoyarsk:20251203T193000
DTSTAMP:20260424T040029
CREATED:20251128T085903Z
LAST-MODIFIED:20251128T110152Z
UID:10004509-1764747000-1764790200@thaibloodcentre.redcross.or.th
SUMMARY:ศูนย์บริการโลหิตแห่งชาติ สภากาชาดไทย []
DESCRIPTION:ที่อยู่ : 1871 ถ. อังรีดูนังต์ แขวงปทุมวัน เขตปทุมวัน
URL:https://thaibloodcentre.redcross.or.th/event/%e0%b8%a8%e0%b8%b9%e0%b8%99%e0%b8%a2%e0%b9%8c%e0%b8%9a%e0%b8%a3%e0%b8%b4%e0%b8%81%e0%b8%b2%e0%b8%a3%e0%b9%82%e0%b8%a5%e0%b8%ab%e0%b8%b4%e0%b8%95%e0%b9%81%e0%b8%ab%e0%b9%88%e0%b8%87%e0%b8%8a-358/
LOCATION:ศูนย์บริการโลหิตแห่งชาติ สภากาชาดไทย\, ศูนย์บริการโลหิตแห่งชาติ สภากาชาดไทย 1871 ถ. อังรีดูนังต์ แขวงปทุมวัน เขตปทุมวัน กรุงเทพมหานคร 10330
CATEGORIES:ปฏิทินตารางหน่วยเคลื่อนที่
END:VEVENT
BEGIN:VEVENT
DTSTART;TZID=Asia/Krasnoyarsk:20251203T083000
DTEND;TZID=Asia/Krasnoyarsk:20251203T193000
DTSTAMP:20260424T040029
CREATED:20251128T090000Z
LAST-MODIFIED:20251128T110208Z
UID:10004515-1764750600-1764790200@thaibloodcentre.redcross.or.th
SUMMARY:สถานีกาชาด 11 วิเศษนิยม []
DESCRIPTION:สถานที่เจาะ : ชั้น 3 \nที่อยู่ : 33/3 ถนนเพชรเกษม แขวงบางหว้า เขตภาษีเจริญ กรุงเทพฯ 0633450711
URL:https://thaibloodcentre.redcross.or.th/event/%e0%b8%aa%e0%b8%96%e0%b8%b2%e0%b8%99%e0%b8%b5%e0%b8%81%e0%b8%b2%e0%b8%8a%e0%b8%b2%e0%b8%94-11-%e0%b8%a7%e0%b8%b4%e0%b9%80%e0%b8%a8%e0%b8%a9%e0%b8%99%e0%b8%b4%e0%b8%a2%e0%b8%a1-107/
LOCATION:สถานีกาชาด 11 วิเศษนิยม\, สถานีกาชาด 11 วิเศษนิยม 605 ถ.เพชรเกษม แขวงบางหว้า เขตภาษีเจริญ กรุงเทพมหานคร 10160
CATEGORIES:ปฏิทินตารางหน่วยเคลื่อนที่
END:VEVENT
BEGIN:VEVENT
DTSTART;TZID=Asia/Krasnoyarsk:20251203T090000
DTEND;TZID=Asia/Krasnoyarsk:20251203T150000
DTSTAMP:20260424T040029
CREATED:20251128T090006Z
LAST-MODIFIED:20251128T110208Z
UID:10004516-1764752400-1764774000@thaibloodcentre.redcross.or.th
SUMMARY:บ้านทรงไทย (ย่านวงศ์สว่าง) []
DESCRIPTION:สถานที่เจาะ : (พัก 12.30-13.00 น.) \nที่อยู่ : 1423 ถนนกรุงเทพ – นนทบุรี แขวงวงศ์สว่าง เขตบางซื่อ กรุงเทพฯ 0 2256 4300
URL:https://thaibloodcentre.redcross.or.th/event/%e0%b8%9a%e0%b9%89%e0%b8%b2%e0%b8%99%e0%b8%97%e0%b8%a3%e0%b8%87%e0%b9%84%e0%b8%97%e0%b8%a2-%e0%b8%a2%e0%b9%88%e0%b8%b2%e0%b8%99%e0%b8%a7%e0%b8%87%e0%b8%a8%e0%b9%8c%e0%b8%aa%e0%b8%a7%e0%b9%88-276/
LOCATION:บ้านทรงไทย (ย่านวงศ์สว่าง)\, หน่วยรับบริจาคโลหิต บ้านทรงไทย(ย่านวงศ์สว่าง) 1423 ถนนกรุงเทพ-นนทบุรี แขวงวงศ์สว่าง เขตบางซื่อ กรุงเทพมหานคร 10800
CATEGORIES:ปฏิทินตารางหน่วยเคลื่อนที่
END:VEVENT
BEGIN:VEVENT
DTSTART;TZID=Asia/Krasnoyarsk:20251203T090000
DTEND;TZID=Asia/Krasnoyarsk:20251203T150000
DTSTAMP:20260424T040029
CREATED:20251128T090019Z
LAST-MODIFIED:20251128T110210Z
UID:10004518-1764752400-1764774000@thaibloodcentre.redcross.or.th
SUMMARY:โรงพยาบาลกรุงเทพคริสเตียน []
DESCRIPTION:สถานที่เจาะ : ชั้น G อาคาร ซี.ซี.ที (พัก 12.00-13.00 น.) \nที่อยู่ : 124 ถนนสีลม แขวงสุริยวงศ์ เขตบางรัก กรุงเทพฯ 0 2265 9000
URL:https://thaibloodcentre.redcross.or.th/event/%e0%b9%82%e0%b8%a3%e0%b8%87%e0%b8%9e%e0%b8%a2%e0%b8%b2%e0%b8%9a%e0%b8%b2%e0%b8%a5%e0%b8%81%e0%b8%a3%e0%b8%b8%e0%b8%87%e0%b9%80%e0%b8%97%e0%b8%9e%e0%b8%84%e0%b8%a3%e0%b8%b4%e0%b8%aa%e0%b9%80%e0%b8%95/
LOCATION:โรงพยาบาลกรุงเทพคริสเตียน\, โรงพยาบาลกรุงเทพคริสเตียน 124 ถนนสีลม แขวงสุริยวงศ์ เขตบางรัก กรุงเทพมหานคร 10500
CATEGORIES:ปฏิทินตารางหน่วยเคลื่อนที่
END:VEVENT
BEGIN:VEVENT
DTSTART;TZID=Asia/Krasnoyarsk:20251203T090000
DTEND;TZID=Asia/Krasnoyarsk:20251203T150000
DTSTAMP:20260424T040029
CREATED:20251128T090149Z
LAST-MODIFIED:20251128T110221Z
UID:10004519-1764752400-1764774000@thaibloodcentre.redcross.or.th
SUMMARY:คณะวิทยาศาสตร์ มหาวิทยาลัยเกษตรศาสตร์ []
DESCRIPTION:สถานที่เจาะ : ด้านหน้าอาคาร 45 ปี (พัก 11.00-12.00 น.) \nที่อยู่ : ถนนพหลโยธิน แขวงลาดยาว เขตจตุจักร กรุงเทพฯ 0 2562 5555
URL:https://thaibloodcentre.redcross.or.th/event/%e0%b8%84%e0%b8%93%e0%b8%b0%e0%b8%a7%e0%b8%b4%e0%b8%97%e0%b8%a2%e0%b8%b2%e0%b8%a8%e0%b8%b2%e0%b8%aa%e0%b8%95%e0%b8%a3%e0%b9%8c-%e0%b8%a1%e0%b8%ab%e0%b8%b2%e0%b8%a7%e0%b8%b4%e0%b8%97%e0%b8%a2-2/
LOCATION:คณะวิทยาศาสตร์ มหาวิทยาลัยเกษตรศาสตร์\, คณะวิทยาศาสตร์ มหาวิทยาลัยเกษตรศาสตร์ 50 ถนนงามวงศ์วาน แขวงลาดยาว เขตจตุจักร กรุงเทพมหานคร 10900
CATEGORIES:ปฏิทินตารางหน่วยเคลื่อนที่
END:VEVENT
BEGIN:VEVENT
DTSTART;TZID=Asia/Krasnoyarsk:20251203T090000
DTEND;TZID=Asia/Krasnoyarsk:20251203T150000
DTSTAMP:20260424T040029
CREATED:20251128T090155Z
LAST-MODIFIED:20251128T110222Z
UID:10004520-1764752400-1764774000@thaibloodcentre.redcross.or.th
SUMMARY:ธนาคารพัฒนาวิสาหกิจขนาดกลางและขนาดย่อมแห่งประเทศไทย []
DESCRIPTION:สถานที่เจาะ : โถงชั้น1 ข้างบันไดเลื่อน (พัก 12.00-13.00 น.) \nที่อยู่ : 310 อาคาร SME BANK ทาวเวอร์ ถนนพหลโยธิน แขวงสามเสนใน เขตพญาไท กรุงเทพฯ 0 2265 4447
URL:https://thaibloodcentre.redcross.or.th/event/%e0%b8%98%e0%b8%99%e0%b8%b2%e0%b8%84%e0%b8%b2%e0%b8%a3%e0%b8%9e%e0%b8%b1%e0%b8%92%e0%b8%99%e0%b8%b2%e0%b8%a7%e0%b8%b4%e0%b8%aa%e0%b8%b2%e0%b8%ab%e0%b8%81%e0%b8%b4%e0%b8%88%e0%b8%82%e0%b8%99%e0%b8%b2-3/
LOCATION:ธนาคารพัฒนาวิสาหกิจขนาดกลางและขนาดย่อมแห่งประเทศไทย\, สำนักงานใหญ่ ธนาคารพัฒนาวิสาหกิจขนาดกลางและขนาดย่อมแห่งประเทศไทย 310 อาคาร SME Bank Tower ถนนพหลโยธิน แขวงสามเสนใน เขตพญาไท กทม. 10400
CATEGORIES:ปฏิทินตารางหน่วยเคลื่อนที่
END:VEVENT
END:VCALENDAR