BEGIN:VCALENDAR
VERSION:2.0
PRODID:-//เว็บไซต์ศูนย์บริการโลหิตแห่งชาติ - ECPv6.11.2.1//NONSGML v1.0//EN
CALSCALE:GREGORIAN
METHOD:PUBLISH
X-ORIGINAL-URL:https://thaibloodcentre.redcross.or.th
X-WR-CALDESC:Events for เว็บไซต์ศูนย์บริการโลหิตแห่งชาติ
REFRESH-INTERVAL;VALUE=DURATION:PT1H
X-Robots-Tag:noindex
X-PUBLISHED-TTL:PT1H
BEGIN:VTIMEZONE
TZID:Asia/Bangkok
BEGIN:STANDARD
TZOFFSETFROM:+0700
TZOFFSETTO:+0700
TZNAME:+07
DTSTART:20250101T000000
END:STANDARD
END:VTIMEZONE
BEGIN:VEVENT
DTSTART;TZID=Asia/Bangkok:20251020T180000
DTEND;TZID=Asia/Bangkok:20251020T180000
DTSTAMP:20260425T200023
CREATED:20251014T070006Z
LAST-MODIFIED:20251014T070006Z
UID:10003709-1760983200-1760983200@thaibloodcentre.redcross.or.th
SUMMARY:เอ็มโพเรียม [ศูนย์การค้า เอ็มโพเรียม]
DESCRIPTION:สถานที่เจาะ : 622 ถนนสุขุมวิท \nที่อยู่ : แขวงคลองตัน เขตคลองเตย กรุงเทพฯ 0 2269 1515
URL:https://thaibloodcentre.redcross.or.th/event/%e0%b9%80%e0%b8%ad%e0%b9%87%e0%b8%a1%e0%b9%82%e0%b8%9e%e0%b9%80%e0%b8%a3%e0%b8%b5%e0%b8%a2%e0%b8%a1-%e0%b8%a8%e0%b8%b9%e0%b8%99%e0%b8%a2%e0%b9%8c%e0%b8%81%e0%b8%b2%e0%b8%a3%e0%b8%84%e0%b9%89-4/
LOCATION:เอ็มโพเรียม\, 622 ถ. สุขุมวิท แขวงคลองตัน เขตคลองเตย กรุงเทพมหานคร 10110 0.5
CATEGORIES:ปฏิทินตารางหน่วยเคลื่อนที่
END:VEVENT
BEGIN:VEVENT
DTSTART;TZID=Asia/Bangkok:20251020T180000
DTEND;TZID=Asia/Bangkok:20251020T180000
DTSTAMP:20260425T200023
CREATED:20251014T070009Z
LAST-MODIFIED:20251014T070009Z
UID:10003710-1760983200-1760983200@thaibloodcentre.redcross.or.th
SUMMARY:เดอะมอลล์ไลฟ์สโตร์ ท่าพระ [ศูนย์การค้าเดอะมอลล์ไลฟ์สโตร์ ท่าพระ]
DESCRIPTION:สถานที่เจาะ : 99 ถนนรัชดาท่าพระตัดใหม่ \nที่อยู่ : แขวงบุคคโล เขตธนบุรี กรุงเทพฯ 0 2469-1000
URL:https://thaibloodcentre.redcross.or.th/event/%e0%b9%80%e0%b8%94%e0%b8%ad%e0%b8%b0%e0%b8%a1%e0%b8%ad%e0%b8%a5%e0%b8%a5%e0%b9%8c%e0%b9%84%e0%b8%a5%e0%b8%9f%e0%b9%8c%e0%b8%aa%e0%b9%82%e0%b8%95%e0%b8%a3%e0%b9%8c-%e0%b8%97%e0%b9%88%e0%b8%b2-4/
LOCATION:เดอะมอลล์ไลฟ์สโตร์ ท่าพระ\, 129 ถ. รัชดาภิเษก แขวงบุคคโล เขตธนบุรี กรุงเทพมหานคร 10600 0.5
CATEGORIES:ปฏิทินตารางหน่วยเคลื่อนที่
END:VEVENT
BEGIN:VEVENT
DTSTART;TZID=Asia/Bangkok:20251020T193000
DTEND;TZID=Asia/Bangkok:20251020T193000
DTSTAMP:20260425T200023
CREATED:20251014T065948Z
LAST-MODIFIED:20251014T065948Z
UID:10003705-1760988600-1760988600@thaibloodcentre.redcross.or.th
SUMMARY:ศูนย์บริการโลหิตแห่งชาติ สภากาชาดไทย [ศูนย์บริการโลหิตแห่งชาติ สภากาชาดไทย]
DESCRIPTION:สถานที่เจาะ : 1871 ถ. อังรีดูนังต์ แขวงปทุมวัน เขตปทุมวัน
URL:https://thaibloodcentre.redcross.or.th/event/%e0%b8%a8%e0%b8%b9%e0%b8%99%e0%b8%a2%e0%b9%8c%e0%b8%9a%e0%b8%a3%e0%b8%b4%e0%b8%81%e0%b8%b2%e0%b8%a3%e0%b9%82%e0%b8%a5%e0%b8%ab%e0%b8%b4%e0%b8%95%e0%b9%81%e0%b8%ab%e0%b9%88%e0%b8%87%e0%b8%8a-298/
LOCATION:ศูนย์บริการโลหิตแห่งชาติ สภากาชาดไทย\, ศูนย์บริการโลหิตแห่งชาติ สภากาชาดไทย 1871 ถ. อังรีดูนังต์ แขวงปทุมวัน เขตปทุมวัน กรุงเทพมหานคร 10330
CATEGORIES:ปฏิทินตารางหน่วยเคลื่อนที่
END:VEVENT
BEGIN:VEVENT
DTSTART;TZID=Asia/Bangkok:20251020T193000
DTEND;TZID=Asia/Bangkok:20251020T193000
DTSTAMP:20260425T200023
CREATED:20251014T070012Z
LAST-MODIFIED:20251014T070012Z
UID:10003711-1760988600-1760988600@thaibloodcentre.redcross.or.th
SUMMARY:สถานีกาชาดที่ 11 วิเศษนิยม สภากาชาดไทย [สถานีกาชาด 11 วิเศษนิยม]
DESCRIPTION:สถานที่เจาะ : 33/3 ถนนเพชรเกษม \nที่อยู่ : แขวงบางหว้า เขตภาษีเจริญ กรุงเทพฯ 0633450711
URL:https://thaibloodcentre.redcross.or.th/event/%e0%b8%aa%e0%b8%96%e0%b8%b2%e0%b8%99%e0%b8%b5%e0%b8%81%e0%b8%b2%e0%b8%8a%e0%b8%b2%e0%b8%94%e0%b8%97%e0%b8%b5%e0%b9%88-11-%e0%b8%a7%e0%b8%b4%e0%b9%80%e0%b8%a8%e0%b8%a9%e0%b8%99%e0%b8%b4%e0%b8%a2-4/
LOCATION:สถานีกาชาดที่ 11 วิเศษนิยม สภากาชาดไทย\, 605 ถ.เพชรเกษม แขวงบางหว้า เขตภาษีเจริญ กรุงเทพมหานคร 10160 0.35416666666667
CATEGORIES:ปฏิทินตารางหน่วยเคลื่อนที่
END:VEVENT
BEGIN:VEVENT
DTSTART;TZID=Asia/Bangkok:20251021T110000
DTEND;TZID=Asia/Bangkok:20251021T110000
DTSTAMP:20260425T200023
CREATED:20251014T071902Z
LAST-MODIFIED:20251014T071902Z
UID:10003734-1761044400-1761044400@thaibloodcentre.redcross.or.th
SUMMARY:บมจ. CPF(ประเทศไทย) [บริษัท ซีพีเอฟ (ประเทศไทย) จำกัด (มหาชน) โรงงานผลิตอาหารสัตว์บก]
DESCRIPTION:สถานที่เจาะ : 57 ม.1 ถ.บางนา-ตราด กม.21 \nที่อยู่ : ต.ศีรษะจรเข้ใหญ่ อ.บางเสาธง กรุงเทพฯ 0 2312 8333
URL:https://thaibloodcentre.redcross.or.th/event/%e0%b8%9a%e0%b8%a1%e0%b8%88-cpf%e0%b8%9b%e0%b8%a3%e0%b8%b0%e0%b9%80%e0%b8%97%e0%b8%a8%e0%b9%84%e0%b8%97%e0%b8%a2-%e0%b8%9a%e0%b8%a3%e0%b8%b4%e0%b8%a9%e0%b8%b1%e0%b8%97-%e0%b8%8b%e0%b8%b5%e0%b8%9e/
LOCATION:บมจ. CPF(ประเทศไทย)\, 57 ม.1 ถ.บางนา-ตราด กม.21 ต.ศีรษะจรเข้ใหญ่ อ.บางเสาธง จ.สมุทรปราการ 10540 0.375
CATEGORIES:ปฏิทินตารางหน่วยเคลื่อนที่
END:VEVENT
BEGIN:VEVENT
DTSTART;TZID=Asia/Bangkok:20251021T150000
DTEND;TZID=Asia/Bangkok:20251021T150000
DTSTAMP:20260425T200023
CREATED:20251014T071832Z
LAST-MODIFIED:20251014T071846Z
UID:10003728-1761058800-1761058800@thaibloodcentre.redcross.or.th
SUMMARY:หน่วยรับบริจาคโลหิต บ้านทรงไทย(ย่านวงศ์สว่าง) [บ้านทรงไทย (ย่านวงศ์สว่าง)]
DESCRIPTION:สถานที่เจาะ : 1423 ถนนกรุงเทพ – นนทบุรี \nที่อยู่ : แขวงวงศ์สว่าง เขตบางซื่อ กรุงเทพฯ 0 2256 4300
URL:https://thaibloodcentre.redcross.or.th/event/%e0%b8%ab%e0%b8%99%e0%b9%88%e0%b8%a7%e0%b8%a2%e0%b8%a3%e0%b8%b1%e0%b8%9a%e0%b8%9a%e0%b8%a3%e0%b8%b4%e0%b8%88%e0%b8%b2%e0%b8%84%e0%b9%82%e0%b8%a5%e0%b8%ab%e0%b8%b4%e0%b8%95-%e0%b8%9a%e0%b9%89-5/
LOCATION:หน่วยรับบริจาคโลหิต บ้านทรงไทย(ย่านวงศ์สว่าง)\, 1423 ถนนกรุงเทพ-นนทบุรี แขวงวงศ์สว่าง เขตบางซื่อ กรุงเทพมหานคร 10800 0.375
CATEGORIES:ปฏิทินตารางหน่วยเคลื่อนที่
END:VEVENT
BEGIN:VEVENT
DTSTART;TZID=Asia/Bangkok:20251021T150000
DTEND;TZID=Asia/Bangkok:20251021T150000
DTSTAMP:20260425T200023
CREATED:20251014T071835Z
LAST-MODIFIED:20251014T071847Z
UID:10003729-1761058800-1761058800@thaibloodcentre.redcross.or.th
SUMMARY:โรงพยาบาลเกษมราษฏร์ อินเตอร์เนชั่นแนล รัตนาธิเบศร์ [โรงพยาบาลเกษมราษฎร์ อินเตอร์เนชั่นแนล รัตนาธิเบศร์]
DESCRIPTION:สถานที่เจาะ : 60 ม. 6 ถ.ตลิ่งชัน-สุพรรณบุรี \nที่อยู่ : ต.เสาธงหิน อ.บางใหญ่ จ.นนทบุรี 1218 กด 2
URL:https://thaibloodcentre.redcross.or.th/event/%e0%b9%82%e0%b8%a3%e0%b8%87%e0%b8%9e%e0%b8%a2%e0%b8%b2%e0%b8%9a%e0%b8%b2%e0%b8%a5%e0%b9%80%e0%b8%81%e0%b8%a9%e0%b8%a1%e0%b8%a3%e0%b8%b2%e0%b8%a9%e0%b8%8f%e0%b8%a3%e0%b9%8c-%e0%b8%ad%e0%b8%b4%e0%b8%99/
LOCATION:โรงพยาบาลเกษมราษฏร์ อินเตอร์เนชั่นแนล รัตนาธิเบศร์\, 60 ม.6 ถ.กาญจนาภิเษก ต.เสาธงหิน อ.บางใหญ่ จ.นนทบุรี 11140 0.375
CATEGORIES:ปฏิทินตารางหน่วยเคลื่อนที่
END:VEVENT
BEGIN:VEVENT
DTSTART;TZID=Asia/Bangkok:20251021T150000
DTEND;TZID=Asia/Bangkok:20251021T150000
DTSTAMP:20260425T200023
CREATED:20251014T071837Z
LAST-MODIFIED:20251014T071849Z
UID:10003730-1761058800-1761058800@thaibloodcentre.redcross.or.th
SUMMARY:อาคารโนเบิล [บริษัท โนเบิล ดีเวลลอปเมนท์ จำกัด (มหาชน)]
DESCRIPTION:สถานที่เจาะ : 1035 อาคารโนเบิล ถนนเพลินจิต \nที่อยู่ : แขวงลุมพินี เขตปทุมวัน กรุงเทพฯ 0 2251 9955
URL:https://thaibloodcentre.redcross.or.th/event/%e0%b8%ad%e0%b8%b2%e0%b8%84%e0%b8%b2%e0%b8%a3%e0%b9%82%e0%b8%99%e0%b9%80%e0%b8%9a%e0%b8%b4%e0%b8%a5-%e0%b8%9a%e0%b8%a3%e0%b8%b4%e0%b8%a9%e0%b8%b1%e0%b8%97-%e0%b9%82%e0%b8%99%e0%b9%80%e0%b8%9a/
LOCATION:อาคารโนเบิล\, 1035 ถนนเพลินจิต แขวงลุมพินี เขตปทุมวัน กรุงเทพฯ 10330 0.375
CATEGORIES:ปฏิทินตารางหน่วยเคลื่อนที่
END:VEVENT
BEGIN:VEVENT
DTSTART;TZID=Asia/Bangkok:20251021T150000
DTEND;TZID=Asia/Bangkok:20251021T150000
DTSTAMP:20260425T200023
CREATED:20251014T071856Z
LAST-MODIFIED:20251014T071856Z
UID:10003732-1761058800-1761058800@thaibloodcentre.redcross.or.th
SUMMARY:โรงพยาบาลวิภาราม [โรงพยาบาลวิภาราม]
DESCRIPTION:สถานที่เจาะ : 2677 พัฒนาการ 51 \nที่อยู่ : แขวงสวนหลวง เขตสวนหลวง กรุงเทพฯ 0 2032 2550
URL:https://thaibloodcentre.redcross.or.th/event/%e0%b9%82%e0%b8%a3%e0%b8%87%e0%b8%9e%e0%b8%a2%e0%b8%b2%e0%b8%9a%e0%b8%b2%e0%b8%a5%e0%b8%a7%e0%b8%b4%e0%b8%a0%e0%b8%b2%e0%b8%a3%e0%b8%b2%e0%b8%a1-%e0%b9%82%e0%b8%a3%e0%b8%87%e0%b8%9e%e0%b8%a2%e0%b8%b2/
LOCATION:โรงพยาบาลวิภาราม\, โรงพยาบาลวิภาราม 2677 ถนนพัฒนาการ แขวง พัฒนาการ เขตสวนหลวง กรุงเทพมหานคร 10250
CATEGORIES:ปฏิทินตารางหน่วยเคลื่อนที่
END:VEVENT
BEGIN:VEVENT
DTSTART;TZID=Asia/Bangkok:20251021T150000
DTEND;TZID=Asia/Bangkok:20251021T150000
DTSTAMP:20260425T200023
CREATED:20251014T071859Z
LAST-MODIFIED:20251014T071859Z
UID:10003733-1761058800-1761058800@thaibloodcentre.redcross.or.th
SUMMARY:กรมการปกครอง [กรมการปกครอง กระทรวงมหาดไทย]
DESCRIPTION:สถานที่เจาะ : ถนนอัษฎางค์ \nที่อยู่ : แขวงวัดราชบพิช เขตพระนคร กรุงเทพฯ
URL:https://thaibloodcentre.redcross.or.th/event/%e0%b8%81%e0%b8%a3%e0%b8%a1%e0%b8%81%e0%b8%b2%e0%b8%a3%e0%b8%9b%e0%b8%81%e0%b8%84%e0%b8%a3%e0%b8%ad%e0%b8%87-%e0%b8%81%e0%b8%a3%e0%b8%a1%e0%b8%81%e0%b8%b2%e0%b8%a3%e0%b8%9b%e0%b8%81%e0%b8%84%e0%b8%a3/
LOCATION:กรมการปกครอง\, 3 ถนนราชบพิธ แขวงวัดราชบพิธ เขตพระนคร กรุงเทพมหานคร 10200 0.375
CATEGORIES:ปฏิทินตารางหน่วยเคลื่อนที่
END:VEVENT
BEGIN:VEVENT
DTSTART;TZID=Asia/Bangkok:20251021T150000
DTEND;TZID=Asia/Bangkok:20251021T150000
DTSTAMP:20260425T200023
CREATED:20251014T071904Z
LAST-MODIFIED:20251014T071904Z
UID:10003735-1761058800-1761058800@thaibloodcentre.redcross.or.th
SUMMARY:บริษัท ซีพีเอฟ(ประเทศไทย)จำกัด(มหาชน) [บริษัท ซีพีเอฟ (ประเทศไทย) จำกัด (มหาชน) สาขาโรงงานบางนา]
DESCRIPTION:สถานที่เจาะ : 111 บางนา-ตราด 20 \nที่อยู่ : แขวงบางนา เขตบางนา กรุงเทพฯ 0 2746 9731-8
URL:https://thaibloodcentre.redcross.or.th/event/%e0%b8%9a%e0%b8%a3%e0%b8%b4%e0%b8%a9%e0%b8%b1%e0%b8%97-%e0%b8%8b%e0%b8%b5%e0%b8%9e%e0%b8%b5%e0%b9%80%e0%b8%ad%e0%b8%9f%e0%b8%9b%e0%b8%a3%e0%b8%b0%e0%b9%80%e0%b8%97%e0%b8%a8%e0%b9%84%e0%b8%97%e0%b8%a2/
LOCATION:บริษัท ซีพีเอฟ(ประเทศไทย)จำกัด(มหาชน)\, MJ9G+9V7 ซอย บางนา-ตราด 20/1 แขวงบางนาใต้ เขตบางนา กรุงเทพมหานคร 10260 0.52083333333333
CATEGORIES:ปฏิทินตารางหน่วยเคลื่อนที่
END:VEVENT
BEGIN:VEVENT
DTSTART;TZID=Asia/Bangkok:20251021T150000
DTEND;TZID=Asia/Bangkok:20251021T150000
DTSTAMP:20260425T200023
CREATED:20251014T071907Z
LAST-MODIFIED:20251014T071907Z
UID:10003736-1761058800-1761058800@thaibloodcentre.redcross.or.th
SUMMARY:อาคารเพลินจิตทาวเวอร์ [บริษัท อลิอันซ์ อยุธยา ประกันชีวิต จำกัด (มหาชน)]
DESCRIPTION:สถานที่เจาะ : 898 อาคารเพลินจิตทาวเวอร์ชั้น 6 ถนนเพลินจิต \nที่อยู่ : แขวงลุมพินี เขตปทุมวัน กรุงเทพฯ 0 2305 7768
URL:https://thaibloodcentre.redcross.or.th/event/%e0%b8%ad%e0%b8%b2%e0%b8%84%e0%b8%b2%e0%b8%a3%e0%b9%80%e0%b8%9e%e0%b8%a5%e0%b8%b4%e0%b8%99%e0%b8%88%e0%b8%b4%e0%b8%95%e0%b8%97%e0%b8%b2%e0%b8%a7%e0%b9%80%e0%b8%a7%e0%b8%ad%e0%b8%a3%e0%b9%8c-%e0%b8%9a/
LOCATION:อาคารเพลินจิตทาวเวอร์\, 898 ชั้น7 ถนนเพลินจิต แขวงลุมพินี เขตปทุมวัน กรุงเทพมหานคร 10330 0.375
CATEGORIES:ปฏิทินตารางหน่วยเคลื่อนที่
END:VEVENT
BEGIN:VEVENT
DTSTART;TZID=Asia/Bangkok:20251021T150000
DTEND;TZID=Asia/Bangkok:20251021T150000
DTSTAMP:20260425T200023
CREATED:20251014T071916Z
LAST-MODIFIED:20251014T071916Z
UID:10003737-1761058800-1761058800@thaibloodcentre.redcross.or.th
SUMMARY:โรงพยาบาลพระรามเก้า [โรงพยาบาลพระรามเก้า]
DESCRIPTION:สถานที่เจาะ : 99 ซอย รพ.พระรามเก้า ถนนพระราม 9 \nที่อยู่ : แขวงห้วยขวาง เขตห้วยขวาง กรุงเทพฯ 1270 (สายด่วน)
URL:https://thaibloodcentre.redcross.or.th/event/%e0%b9%82%e0%b8%a3%e0%b8%87%e0%b8%9e%e0%b8%a2%e0%b8%b2%e0%b8%9a%e0%b8%b2%e0%b8%a5%e0%b8%9e%e0%b8%a3%e0%b8%b0%e0%b8%a3%e0%b8%b2%e0%b8%a1%e0%b9%80%e0%b8%81%e0%b9%89%e0%b8%b2-%e0%b9%82%e0%b8%a3%e0%b8%87/
LOCATION:โรงพยาบาลพระรามเก้า\, โรงพยาบาลพระรามเก้า 99 ถ.พระราม 9 แขวงบางกะปิ เขตห้วยขวาง กรุงเทพมหานคร 10310
CATEGORIES:ปฏิทินตารางหน่วยเคลื่อนที่
END:VEVENT
BEGIN:VEVENT
DTSTART;TZID=Asia/Bangkok:20251021T150000
DTEND;TZID=Asia/Bangkok:20251021T150000
DTSTAMP:20260425T200023
CREATED:20251014T071919Z
LAST-MODIFIED:20251014T071919Z
UID:10003738-1761058800-1761058800@thaibloodcentre.redcross.or.th
SUMMARY:โรงพยาบาลเกษมราษฎร์ ประชาชื่น [โรงพยาบาลเกษมราษฎร์ ประชาชื่น]
DESCRIPTION:สถานที่เจาะ : 950 ถนนประชาชื่น \nที่อยู่ : แขวงวงศ์สว่าง เขตบางซื่อ กรุงเทพฯ 0 2910 1600-45
URL:https://thaibloodcentre.redcross.or.th/event/%e0%b9%82%e0%b8%a3%e0%b8%87%e0%b8%9e%e0%b8%a2%e0%b8%b2%e0%b8%9a%e0%b8%b2%e0%b8%a5%e0%b9%80%e0%b8%81%e0%b8%a9%e0%b8%a1%e0%b8%a3%e0%b8%b2%e0%b8%a9%e0%b8%8e%e0%b8%a3%e0%b9%8c-%e0%b8%9b%e0%b8%a3-2/
LOCATION:โรงพยาบาลเกษมราษฎร์ ประชาชื่น\, โรงพยาบาลเกษมราษฎร์ ประชาชื่น 950 ถนนประชาชื่น แขวงวงศ์สว่าง เขตบางซื่อ กรุงเทพมหานคร 10800
CATEGORIES:ปฏิทินตารางหน่วยเคลื่อนที่
END:VEVENT
BEGIN:VEVENT
DTSTART;TZID=Asia/Bangkok:20251021T180000
DTEND;TZID=Asia/Bangkok:20251021T180000
DTSTAMP:20260425T200023
CREATED:20251014T071807Z
LAST-MODIFIED:20251014T071807Z
UID:10003722-1761069600-1761069600@thaibloodcentre.redcross.or.th
SUMMARY:เดอะมอลล์ไลฟ์สโตร์ บางแค [ศูนย์การค้าเดอะมอลล์ไลฟ์สโตร์ บางแค]
DESCRIPTION:สถานที่เจาะ : ถนนเพชรเกษม \nที่อยู่ : แขวงบางแคเหนือ เขตภาษีเจริญ กรุงเทพฯ 02 487 1221
URL:https://thaibloodcentre.redcross.or.th/event/%e0%b9%80%e0%b8%94%e0%b8%ad%e0%b8%b0%e0%b8%a1%e0%b8%ad%e0%b8%a5%e0%b8%a5%e0%b9%8c%e0%b9%84%e0%b8%a5%e0%b8%9f%e0%b9%8c%e0%b8%aa%e0%b9%82%e0%b8%95%e0%b8%a3%e0%b9%8c-%e0%b8%9a%e0%b8%b2%e0%b8%87-8/
LOCATION:เดอะมอลล์ไลฟ์สโตร์ บางแค\, 518 ถ.เพชรเกษม แขวงบางแคเหนือ เขตบางแค กรุงเทพมหานคร 10160 0.5
CATEGORIES:ปฏิทินตารางหน่วยเคลื่อนที่
END:VEVENT
BEGIN:VEVENT
DTSTART;TZID=Asia/Bangkok:20251021T180000
DTEND;TZID=Asia/Bangkok:20251021T180000
DTSTAMP:20260425T200023
CREATED:20251014T071810Z
LAST-MODIFIED:20251014T071810Z
UID:10003723-1761069600-1761069600@thaibloodcentre.redcross.or.th
SUMMARY:เดอะมอลล์ไลฟ์สโตร์ บางกะปิ [ศูนย์การค้าเดอะมอลล์ไลฟ์สโตร์ บางกะปิ]
DESCRIPTION:สถานที่เจาะ : ถนนลาดพร้าว \nที่อยู่ : แขวงคลองจั่น เขตบางกะปิ กรุงเทพฯ 0 2310 2278
URL:https://thaibloodcentre.redcross.or.th/event/%e0%b9%80%e0%b8%94%e0%b8%ad%e0%b8%b0%e0%b8%a1%e0%b8%ad%e0%b8%a5%e0%b8%a5%e0%b9%8c%e0%b9%84%e0%b8%a5%e0%b8%9f%e0%b9%8c%e0%b8%aa%e0%b9%82%e0%b8%95%e0%b8%a3%e0%b9%8c-%e0%b8%9a%e0%b8%b2%e0%b8%87-9/
LOCATION:เดอะมอลล์ไลฟ์สโตร์ บางกะปิ\, 3522 ถ. ลาดพร้าว แขวงคลองจั่น เขตบางกะปิ กรุงเทพมหานคร 10240 0.5
CATEGORIES:ปฏิทินตารางหน่วยเคลื่อนที่
END:VEVENT
BEGIN:VEVENT
DTSTART;TZID=Asia/Bangkok:20251021T180000
DTEND;TZID=Asia/Bangkok:20251021T180000
DTSTAMP:20260425T200023
CREATED:20251014T071812Z
LAST-MODIFIED:20251014T071812Z
UID:10003724-1761069600-1761069600@thaibloodcentre.redcross.or.th
SUMMARY:เดอะมอลล์ ไลฟ์สโตร์ งามวงศ์วาน [ศูนย์การค้าเดอะมอลล์ไลฟ์สโตร์ งามวงศ์วาน]
DESCRIPTION:สถานที่เจาะ : ถนนงามวงศ์วาน \nที่อยู่ : ต.บางเขน อ.เมือง จ.นนทบุรี 0 2555 1550
URL:https://thaibloodcentre.redcross.or.th/event/%e0%b9%80%e0%b8%94%e0%b8%ad%e0%b8%b0%e0%b8%a1%e0%b8%ad%e0%b8%a5%e0%b8%a5%e0%b9%8c-%e0%b9%84%e0%b8%a5%e0%b8%9f%e0%b9%8c%e0%b8%aa%e0%b9%82%e0%b8%95%e0%b8%a3%e0%b9%8c-%e0%b8%87%e0%b8%b2%e0%b8%a1-5/
LOCATION:เดอะมอลล์ ไลฟ์สโตร์ งามวงศ์วาน\, 430 ถนน งามวงศ์วาน ตำบลบางเขน อำเภอเมืองนนทบุรี นนทบุรี 11000 0.5
CATEGORIES:ปฏิทินตารางหน่วยเคลื่อนที่
END:VEVENT
BEGIN:VEVENT
DTSTART;TZID=Asia/Bangkok:20251021T180000
DTEND;TZID=Asia/Bangkok:20251021T180000
DTSTAMP:20260425T200023
CREATED:20251014T071816Z
LAST-MODIFIED:20251014T071816Z
UID:10003725-1761069600-1761069600@thaibloodcentre.redcross.or.th
SUMMARY:เอ็มโพเรียม [ศูนย์การค้า เอ็มโพเรียม]
DESCRIPTION:สถานที่เจาะ : 622 ถนนสุขุมวิท \nที่อยู่ : แขวงคลองตัน เขตคลองเตย กรุงเทพฯ 0 2269 1515
URL:https://thaibloodcentre.redcross.or.th/event/%e0%b9%80%e0%b8%ad%e0%b9%87%e0%b8%a1%e0%b9%82%e0%b8%9e%e0%b9%80%e0%b8%a3%e0%b8%b5%e0%b8%a2%e0%b8%a1-%e0%b8%a8%e0%b8%b9%e0%b8%99%e0%b8%a2%e0%b9%8c%e0%b8%81%e0%b8%b2%e0%b8%a3%e0%b8%84%e0%b9%89-5/
LOCATION:เอ็มโพเรียม\, 622 ถ. สุขุมวิท แขวงคลองตัน เขตคลองเตย กรุงเทพมหานคร 10110 0.5
CATEGORIES:ปฏิทินตารางหน่วยเคลื่อนที่
END:VEVENT
BEGIN:VEVENT
DTSTART;TZID=Asia/Bangkok:20251021T180000
DTEND;TZID=Asia/Bangkok:20251021T180000
DTSTAMP:20260425T200023
CREATED:20251014T071826Z
LAST-MODIFIED:20251014T071826Z
UID:10003726-1761069600-1761069600@thaibloodcentre.redcross.or.th
SUMMARY:เดอะมอลล์ไลฟ์สโตร์ ท่าพระ [ศูนย์การค้าเดอะมอลล์ไลฟ์สโตร์ ท่าพระ]
DESCRIPTION:สถานที่เจาะ : 99 ถนนรัชดาท่าพระตัดใหม่ \nที่อยู่ : แขวงบุคคโล เขตธนบุรี กรุงเทพฯ 0 2469-1000
URL:https://thaibloodcentre.redcross.or.th/event/%e0%b9%80%e0%b8%94%e0%b8%ad%e0%b8%b0%e0%b8%a1%e0%b8%ad%e0%b8%a5%e0%b8%a5%e0%b9%8c%e0%b9%84%e0%b8%a5%e0%b8%9f%e0%b9%8c%e0%b8%aa%e0%b9%82%e0%b8%95%e0%b8%a3%e0%b9%8c-%e0%b8%97%e0%b9%88%e0%b8%b2-5/
LOCATION:เดอะมอลล์ไลฟ์สโตร์ ท่าพระ\, 129 ถ. รัชดาภิเษก แขวงบุคคโล เขตธนบุรี กรุงเทพมหานคร 10600 0.5
CATEGORIES:ปฏิทินตารางหน่วยเคลื่อนที่
END:VEVENT
BEGIN:VEVENT
DTSTART;TZID=Asia/Bangkok:20251021T180000
DTEND;TZID=Asia/Bangkok:20251021T180000
DTSTAMP:20260425T200023
CREATED:20251014T071842Z
LAST-MODIFIED:20251014T071842Z
UID:10003731-1761069600-1761069600@thaibloodcentre.redcross.or.th
SUMMARY:เดอะมอลล์ไลฟ์สโตร์ ท่าพระ [ศูนย์การค้าเดอะมอลล์ไลฟ์สโตร์ ท่าพระ]
DESCRIPTION:สถานที่เจาะ : 99 ถนนรัชดาท่าพระตัดใหม่ \nที่อยู่ : แขวงบุคคโล เขตธนบุรี กรุงเทพฯ 0 2469-1000
URL:https://thaibloodcentre.redcross.or.th/event/%e0%b9%80%e0%b8%94%e0%b8%ad%e0%b8%b0%e0%b8%a1%e0%b8%ad%e0%b8%a5%e0%b8%a5%e0%b9%8c%e0%b9%84%e0%b8%a5%e0%b8%9f%e0%b9%8c%e0%b8%aa%e0%b9%82%e0%b8%95%e0%b8%a3%e0%b9%8c-%e0%b8%97%e0%b9%88%e0%b8%b2-6/
LOCATION:เดอะมอลล์ไลฟ์สโตร์ ท่าพระ\, 129 ถ. รัชดาภิเษก แขวงบุคคโล เขตธนบุรี กรุงเทพมหานคร 10600 0.5
CATEGORIES:ปฏิทินตารางหน่วยเคลื่อนที่
END:VEVENT
BEGIN:VEVENT
DTSTART;TZID=Asia/Bangkok:20251021T193000
DTEND;TZID=Asia/Bangkok:20251021T193000
DTSTAMP:20260425T200023
CREATED:20251014T071802Z
LAST-MODIFIED:20251014T071802Z
UID:10003721-1761075000-1761075000@thaibloodcentre.redcross.or.th
SUMMARY:ศูนย์บริการโลหิตแห่งชาติ สภากาชาดไทย [ศูนย์บริการโลหิตแห่งชาติ สภากาชาดไทย]
DESCRIPTION:สถานที่เจาะ : 1871 ถ. อังรีดูนังต์ แขวงปทุมวัน เขตปทุมวัน
URL:https://thaibloodcentre.redcross.or.th/event/%e0%b8%a8%e0%b8%b9%e0%b8%99%e0%b8%a2%e0%b9%8c%e0%b8%9a%e0%b8%a3%e0%b8%b4%e0%b8%81%e0%b8%b2%e0%b8%a3%e0%b9%82%e0%b8%a5%e0%b8%ab%e0%b8%b4%e0%b8%95%e0%b9%81%e0%b8%ab%e0%b9%88%e0%b8%87%e0%b8%8a-299/
LOCATION:ศูนย์บริการโลหิตแห่งชาติ สภากาชาดไทย\, ศูนย์บริการโลหิตแห่งชาติ สภากาชาดไทย 1871 ถ. อังรีดูนังต์ แขวงปทุมวัน เขตปทุมวัน กรุงเทพมหานคร 10330
CATEGORIES:ปฏิทินตารางหน่วยเคลื่อนที่
END:VEVENT
BEGIN:VEVENT
DTSTART;TZID=Asia/Bangkok:20251021T193000
DTEND;TZID=Asia/Bangkok:20251021T193000
DTSTAMP:20260425T200023
CREATED:20251014T071829Z
LAST-MODIFIED:20251014T071845Z
UID:10003727-1761075000-1761075000@thaibloodcentre.redcross.or.th
SUMMARY:สถานีกาชาดที่ 11 วิเศษนิยม สภากาชาดไทย [สถานีกาชาด 11 วิเศษนิยม]
DESCRIPTION:สถานที่เจาะ : 33/3 ถนนเพชรเกษม \nที่อยู่ : แขวงบางหว้า เขตภาษีเจริญ กรุงเทพฯ 0633450711
URL:https://thaibloodcentre.redcross.or.th/event/%e0%b8%aa%e0%b8%96%e0%b8%b2%e0%b8%99%e0%b8%b5%e0%b8%81%e0%b8%b2%e0%b8%8a%e0%b8%b2%e0%b8%94%e0%b8%97%e0%b8%b5%e0%b9%88-11-%e0%b8%a7%e0%b8%b4%e0%b9%80%e0%b8%a8%e0%b8%a9%e0%b8%99%e0%b8%b4%e0%b8%a2-5/
LOCATION:สถานีกาชาดที่ 11 วิเศษนิยม สภากาชาดไทย\, 605 ถ.เพชรเกษม แขวงบางหว้า เขตภาษีเจริญ กรุงเทพมหานคร 10160 0.35416666666667
CATEGORIES:ปฏิทินตารางหน่วยเคลื่อนที่
END:VEVENT
BEGIN:VEVENT
DTSTART;TZID=Asia/Bangkok:20251022T150000
DTEND;TZID=Asia/Bangkok:20251022T150000
DTSTAMP:20260425T200023
CREATED:20251014T071955Z
LAST-MODIFIED:20251014T071955Z
UID:10003746-1761145200-1761145200@thaibloodcentre.redcross.or.th
SUMMARY:หน่วยรับบริจาคโลหิต บ้านทรงไทย(ย่านวงศ์สว่าง) [บ้านทรงไทย (ย่านวงศ์สว่าง)]
DESCRIPTION:สถานที่เจาะ : 1423 ถนนกรุงเทพ – นนทบุรี \nที่อยู่ : แขวงวงศ์สว่าง เขตบางซื่อ กรุงเทพฯ 0 2256 4300
URL:https://thaibloodcentre.redcross.or.th/event/%e0%b8%ab%e0%b8%99%e0%b9%88%e0%b8%a7%e0%b8%a2%e0%b8%a3%e0%b8%b1%e0%b8%9a%e0%b8%9a%e0%b8%a3%e0%b8%b4%e0%b8%88%e0%b8%b2%e0%b8%84%e0%b9%82%e0%b8%a5%e0%b8%ab%e0%b8%b4%e0%b8%95-%e0%b8%9a%e0%b9%89-6/
LOCATION:หน่วยรับบริจาคโลหิต บ้านทรงไทย(ย่านวงศ์สว่าง)\, 1423 ถนนกรุงเทพ-นนทบุรี แขวงวงศ์สว่าง เขตบางซื่อ กรุงเทพมหานคร 10800 0.375
CATEGORIES:ปฏิทินตารางหน่วยเคลื่อนที่
END:VEVENT
BEGIN:VEVENT
DTSTART;TZID=Asia/Bangkok:20251022T150000
DTEND;TZID=Asia/Bangkok:20251022T150000
DTSTAMP:20260425T200023
CREATED:20251014T072004Z
LAST-MODIFIED:20251014T072004Z
UID:10003747-1761145200-1761145200@thaibloodcentre.redcross.or.th
SUMMARY:ธนาคารกรุงเทพ จำกัด (มหาชน) [ธนาคารกรุงเทพ จำกัด (มหาชน)]
DESCRIPTION:สถานที่เจาะ : 333 ถนนสีลม \nที่อยู่ : แขวงทุ่งมหาเมฆ เขตบางรัก กรุงเทพฯ 0 2230 1850
URL:https://thaibloodcentre.redcross.or.th/event/%e0%b8%98%e0%b8%99%e0%b8%b2%e0%b8%84%e0%b8%b2%e0%b8%a3%e0%b8%81%e0%b8%a3%e0%b8%b8%e0%b8%87%e0%b9%80%e0%b8%97%e0%b8%9e-%e0%b8%88%e0%b8%b3%e0%b8%81%e0%b8%b1%e0%b8%94-%e0%b8%a1%e0%b8%ab%e0%b8%b2-3/
LOCATION:ธนาคารกรุงเทพ จำกัด (มหาชน)\, ธนาคารกรุงเทพ จำกัด (มหาชน) 333 ถนนสีลม แขวงสีลม เขตบางรัก กรุงเทพฯ 10500
CATEGORIES:ปฏิทินตารางหน่วยเคลื่อนที่
END:VEVENT
BEGIN:VEVENT
DTSTART;TZID=Asia/Bangkok:20251022T150000
DTEND;TZID=Asia/Bangkok:20251022T150000
DTSTAMP:20260425T200023
CREATED:20251014T072007Z
LAST-MODIFIED:20251014T072007Z
UID:10003748-1761145200-1761145200@thaibloodcentre.redcross.or.th
SUMMARY:ธนาคารกรุงเทพ จำกัด (มหาชน) สำนักงานพระราม 3 [ธนาคารกรุงเทพ จำกัด (มหาชน) พระราม 3]
DESCRIPTION:สถานที่เจาะ : ถนนพระราม 3 \nที่อยู่ : เขตยานนาวา กรุงเทพฯ 0 2685 7827
URL:https://thaibloodcentre.redcross.or.th/event/%e0%b8%98%e0%b8%99%e0%b8%b2%e0%b8%84%e0%b8%b2%e0%b8%a3%e0%b8%81%e0%b8%a3%e0%b8%b8%e0%b8%87%e0%b9%80%e0%b8%97%e0%b8%9e-%e0%b8%88%e0%b8%b3%e0%b8%81%e0%b8%b1%e0%b8%94-%e0%b8%a1%e0%b8%ab%e0%b8%b2-4/
LOCATION:ธนาคารกรุงเทพ จำกัด (มหาชน) สำนักงานพระราม 3\, 2222 ถนนพระราม 3 แขวงช่องนนทรี เขตยานนาวา กรุงเทพมหานคร 10120 0.375
CATEGORIES:ปฏิทินตารางหน่วยเคลื่อนที่
END:VEVENT
BEGIN:VEVENT
DTSTART;TZID=Asia/Bangkok:20251022T150000
DTEND;TZID=Asia/Bangkok:20251022T150000
DTSTAMP:20260425T200023
CREATED:20251014T072009Z
LAST-MODIFIED:20251014T072009Z
UID:10003749-1761145200-1761145200@thaibloodcentre.redcross.or.th
SUMMARY:โรงพยาบาลเมืองสมุทร ปากน้ำ [โรงพยาบาลเมืองสมุทร ปากน้ำ]
DESCRIPTION:สถานที่เจาะ : 156 ถ.เทศบาล 12 \nที่อยู่ : ต.ปากน้ำ อ.เมือง จ.สมุทรปราการ 0 2175 7766-75
URL:https://thaibloodcentre.redcross.or.th/event/%e0%b9%82%e0%b8%a3%e0%b8%87%e0%b8%9e%e0%b8%a2%e0%b8%b2%e0%b8%9a%e0%b8%b2%e0%b8%a5%e0%b9%80%e0%b8%a1%e0%b8%b7%e0%b8%ad%e0%b8%87%e0%b8%aa%e0%b8%a1%e0%b8%b8%e0%b8%97%e0%b8%a3-%e0%b8%9b%e0%b8%b2-2/
LOCATION:โรงพยาบาลเมืองสมุทร ปากน้ำ\, โรงพยาบาลเมืองสมุทร ปากน้ำ 156 ถ.เทศบาล 12 ต.ปากน้ำ อ.เมืองสมุทรปราการ จ.สมุทรปราการ 10270
CATEGORIES:ปฏิทินตารางหน่วยเคลื่อนที่
END:VEVENT
BEGIN:VEVENT
DTSTART;TZID=Asia/Bangkok:20251022T150000
DTEND;TZID=Asia/Bangkok:20251022T150000
DTSTAMP:20260425T200023
CREATED:20251014T072012Z
LAST-MODIFIED:20251014T072012Z
UID:10003750-1761145200-1761145200@thaibloodcentre.redcross.or.th
SUMMARY:อาคาร เคเคพี ทาวเวอร์ [ธนาคารเกียรตินาคินภัทร จำกัด (มหาชน)]
DESCRIPTION:สถานที่เจาะ : 209 ถนนสุขุมวิท 21 (อโศก) \nที่อยู่ : แขวงคลองเตย เขตวัฒนา กรุงเทพฯ 0 2495 3450
URL:https://thaibloodcentre.redcross.or.th/event/%e0%b8%ad%e0%b8%b2%e0%b8%84%e0%b8%b2%e0%b8%a3-%e0%b9%80%e0%b8%84%e0%b9%80%e0%b8%84%e0%b8%9e%e0%b8%b5-%e0%b8%97%e0%b8%b2%e0%b8%a7%e0%b9%80%e0%b8%a7%e0%b8%ad%e0%b8%a3%e0%b9%8c-%e0%b8%98%e0%b8%99/
LOCATION:อาคาร เคเคพี ทาวเวอร์\, 209 ถนนสุขุมวิท 21 แขวงคลองเตยเหนือ เขตวัฒนา กรุงเทพมหานคร 10110 0.375
CATEGORIES:ปฏิทินตารางหน่วยเคลื่อนที่
END:VEVENT
BEGIN:VEVENT
DTSTART;TZID=Asia/Bangkok:20251022T150000
DTEND;TZID=Asia/Bangkok:20251022T150000
DTSTAMP:20260425T200023
CREATED:20251014T072014Z
LAST-MODIFIED:20251014T072014Z
UID:10003751-1761145200-1761145200@thaibloodcentre.redcross.or.th
SUMMARY:บริษัท เคซีอี อีเลคโทรนิคส์ จำกัด ( มหาชน ) [บริษัท เคซีอี อีเลคโทรนิคส์ จำกัด (มหาชน)]
DESCRIPTION:สถานที่เจาะ : 72-72/1-3 ซอยฉลองกรุง 31 \nที่อยู่ : แขวงลำปลาทิว เขตลาดกระบัง กรุงเทพฯ
URL:https://thaibloodcentre.redcross.or.th/event/%e0%b8%9a%e0%b8%a3%e0%b8%b4%e0%b8%a9%e0%b8%b1%e0%b8%97-%e0%b9%80%e0%b8%84%e0%b8%8b%e0%b8%b5%e0%b8%ad%e0%b8%b5-%e0%b8%ad%e0%b8%b5%e0%b9%80%e0%b8%a5%e0%b8%84%e0%b9%82%e0%b8%97%e0%b8%a3%e0%b8%99-2/
LOCATION:บริษัท เคซีอี อีเลคโทรนิคส์ จำกัด ( มหาชน )\, 72-72/1-3 ซอยฉลองกรุง 31 แขวงลำปลาทิว เขตลาดกระบัง กรุงเทพมหานคร 10520 0.375
CATEGORIES:ปฏิทินตารางหน่วยเคลื่อนที่
END:VEVENT
BEGIN:VEVENT
DTSTART;TZID=Asia/Bangkok:20251022T150000
DTEND;TZID=Asia/Bangkok:20251022T150000
DTSTAMP:20260425T200023
CREATED:20251014T072024Z
LAST-MODIFIED:20251014T072024Z
UID:10003752-1761145200-1761145200@thaibloodcentre.redcross.or.th
SUMMARY:บริษัท ไทยสมุทรประกันชีวิต จำกัด (มหาชน) [บริษัท ไทยสมุทรประกันชีวิต จำกัด (มหาชน)]
DESCRIPTION:สถานที่เจาะ : 170/74-83 ถนนรัชดาภิเษก \nที่อยู่ : แขวงคลองเตย เขตคลองเตย กรุงเทพฯ 0 2261 2300
URL:https://thaibloodcentre.redcross.or.th/event/%e0%b8%9a%e0%b8%a3%e0%b8%b4%e0%b8%a9%e0%b8%b1%e0%b8%97-%e0%b9%84%e0%b8%97%e0%b8%a2%e0%b8%aa%e0%b8%a1%e0%b8%b8%e0%b8%97%e0%b8%a3%e0%b8%9b%e0%b8%a3%e0%b8%b0%e0%b8%81%e0%b8%b1%e0%b8%99%e0%b8%8a-2/
LOCATION:บริษัท ไทยสมุทรประกันชีวิต จำกัด (มหาชน)\, บริษัท ไทยสมุทรประกันชีวิต จำกัด (มหาชน) 170/74-83 อาคารโอเชี่ยนทาวเวอร์ 1 ถนนรัชดาภิเษก แขวงคลองเตย เขตคลองเตย กรุงเทพมหานคร 10110
CATEGORIES:ปฏิทินตารางหน่วยเคลื่อนที่
END:VEVENT
BEGIN:VEVENT
DTSTART;TZID=Asia/Bangkok:20251022T150000
DTEND;TZID=Asia/Bangkok:20251022T150000
DTSTAMP:20260425T200023
CREATED:20251014T072028Z
LAST-MODIFIED:20251014T072028Z
UID:10003753-1761145200-1761145200@thaibloodcentre.redcross.or.th
SUMMARY:สินสาทร ทาวเวอร์ [นิติบุคคลอาคารชุดสินสาธรทาวเวอร์]
DESCRIPTION:สถานที่เจาะ : 77/33 ถนนกรุงธนบุรี \nที่อยู่ : แขวงคลองต้นไทร เขตคลองสาน กรุงเทพฯ 0 2440 0225-9
URL:https://thaibloodcentre.redcross.or.th/event/%e0%b8%aa%e0%b8%b4%e0%b8%99%e0%b8%aa%e0%b8%b2%e0%b8%97%e0%b8%a3-%e0%b8%97%e0%b8%b2%e0%b8%a7%e0%b9%80%e0%b8%a7%e0%b8%ad%e0%b8%a3%e0%b9%8c-%e0%b8%99%e0%b8%b4%e0%b8%95%e0%b8%b4%e0%b8%9a%e0%b8%b8/
LOCATION:สินสาทร ทาวเวอร์\, 77 ถนนกรุงธนบุรี แขวงคลองต้นไทร คลองสาน กรุงเทพมหานคร 10600 0.375
CATEGORIES:ปฏิทินตารางหน่วยเคลื่อนที่
END:VEVENT
END:VCALENDAR